{"text_format":"3","workbook":"xlsx","n_sheets":8,"sheets":["DEPARTAMENTAL","PROVINCIAL","DISTRITAL","EESS","RED DE SALUD AREQUIPA CAYLLOMA","Pob x Genero","PIRAMIDE","DATA"],"not_rendered":{"charts":1,"images":1,"defined_names":11,"pivot_tables":1},"read":"whole","date_system":"1900"}

{"sheet":"DEPARTAMENTAL","index":0,"n_rows":14,"n_cols":58,"rows_kept":14,"merged":[[5,37,5,39],[5,40,6,40],[5,41,6,41],[5,42,5,44],[5,45,6,45]]}
[]
[]
[]
["POBLACION ESTIMADA POR EDADES SIMPLES Y GRUPOS DE EDAD, SEGÚN DEPARTAMENTO. 2024"]
["* Actualizado con datos INEI"]
["POBLACION 2024",null,null,"POBLACION TOTAL, POR EDADS SIMPLES",{"$nulls":19},"POBLACIÓN TOTAL,  POR GRUPOS QUINQUEN ALES DE EDAD",{"$nulls":13},"EDADES ESPECIALES",null,null,"NACIMIENTOS VIVOS","POBLACION FEMENINA TOTAL","POBLACION FEMENINA",null,null,"GESTANTES  ESPERADAS"]
["UBIGEO","DEPARTAMENTO","Total","0",1,2,3,4,5,6,7,8,9,10,11,12,13,14,15,16,17,18,19,"20-24","25-29","30-34","35-39","40-44","45-49","50-54","55-59","60-64","65-69","70-74","75-79","80-84","85-+","28 DIAS","0-5 MESES","6-11 MESES",null,null,"10 - 14","15- 19","20- 49",null,null,"TOTAL","NIÑO","Adolescente","Joven","Adulto","Adulto Mayor",null,"Hombres","Mujeres","Nacimientos vivos","Gestantes Esperadas"]
["00","PERU",{"$f":"SUM(C9:C9)","v":{"v":1438610,"d":"1,438,610"}},{"v":11793,"d":"11,793"},{"v":11788,"d":"11,788"},{"v":11950,"d":"11,950"},{"v":14062,"d":"14,062"},{"v":15118,"d":"15,118"},{"v":20927,"d":"20,927"},{"v":24536,"d":"24,536"},{"v":24892,"d":"24,892"},{"v":24919,"d":"24,919"},{"v":23912,"d":"23,912"},{"v":23290,"d":"23,290"},{"v":23386,"d":"23,386"},{"v":24115,"d":"24,115"},{"v":23177,"d":"23,177"},{"v":21418,"d":"21,418"},{"v":21426,"d":"21,426"},{"v":21454,"d":"21,454"},{"v":21446,"d":"21,446"},{"v":21499,"d":"21,499"},{"v":21738,"d":"21,738"},{"v":112969,"d":"112,969"},{"v":129003,"d":"129,003"},{"v":128833,"d":"128,833"},{"v":118304,"d":"118,304"},{"v":109140,"d":"109,140"},{"v":98084,"d":"98,084"},{"v":81313,"d":"81,313"},{"v":68624,"d":"68,624"},{"v":54907,"d":"54,907"},{"v":44617,"d":"44,617"},{"v":32620,"d":"32,620"},{"v":23391,"d":"23,391"},{"v":15066,"d":"15,066"},{"v":14893,"d":"14,893"},{"v":1141,"d":"1,141"},{"v":7920,"d":"7,920"},{"v":7834,"d":"7,834"},{"v":22995,"d":"22,995"},{"v":741864,"d":"741,864"},{"v":57312,"d":"57,312"},{"v":53911,"d":"53,911"},{"v":350617,"d":"350,617"},{"v":37080,"d":"37,080"},null,{"$f":"C8","v":{"v":1438610,"d":"1,438,610"}},{"$f":"SUM(D8:O8)","v":{"v":230573,"d":"230,573"}},{"$f":"SUM(P8:U8)","v":{"v":133036,"d":"133,036"}},{"$f":"SUM(V8:Y8)","v":{"v":285209,"d":"285,209"}},{"$f":"SUM(Z8:AE8)","v":{"v":604298,"d":"604,298"}},{"$f":"SUM(AF8:AK8)","v":{"v":185494,"d":"185,494"}},null,{"$f":"SUM(BC9:BC9)","v":{"v":784832,"d":"784,832"}},{"$f":"SUM(BD9:BD9)","v":{"v":809259,"d":"809,259"}},{"$f":"SUM(BE9:BE9)","v":{"v":22995,"d":"22,995"}},{"$f":"SUM(BF9:BF9)","v":{"v":37080,"d":"37,080"}}]
["04","AREQUIPA",{"$f":"SUM(D9:AK9)","v":1438610},{"$f":"SUMIF('RED DE SALUD AREQUIPA CAYLLOMA'!$C$9:$C$236,DEPARTAMENTAL!$B9,'RED DE SALUD AREQUIPA CAYLLOMA'!J$9:J$236)","v":11793},{"$f":"SUMIF('RED DE SALUD AREQUIPA CAYLLOMA'!$C$9:$C$236,DEPARTAMENTAL!$B9,'RED DE SALUD AREQUIPA CAYLLOMA'!K$9:K$236)","v":11788},{"$f":"SUMIF('RED DE SALUD AREQUIPA CAYLLOMA'!$C$9:$C$236,DEPARTAMENTAL!$B9,'RED DE SALUD AREQUIPA CAYLLOMA'!L$9:L$236)","v":11950},{"$f":"SUMIF('RED DE SALUD AREQUIPA CAYLLOMA'!$C$9:$C$236,DEPARTAMENTAL!$B9,'RED DE SALUD AREQUIPA CAYLLOMA'!M$9:M$236)","v":14062},{"$f":"SUMIF('RED DE SALUD AREQUIPA CAYLLOMA'!$C$9:$C$236,DEPARTAMENTAL!$B9,'RED DE SALUD AREQUIPA CAYLLOMA'!N$9:N$236)","v":15118},{"$f":"SUMIF('RED DE SALUD AREQUIPA CAYLLOMA'!$C$9:$C$236,DEPARTAMENTAL!$B9,'RED DE SALUD AREQUIPA CAYLLOMA'!O$9:O$236)","v":20927},{"$f":"SUMIF('RED DE SALUD AREQUIPA CAYLLOMA'!$C$9:$C$236,DEPARTAMENTAL!$B9,'RED DE SALUD AREQUIPA CAYLLOMA'!P$9:P$236)","v":24536},{"$f":"SUMIF('RED DE SALUD AREQUIPA CAYLLOMA'!$C$9:$C$236,DEPARTAMENTAL!$B9,'RED DE SALUD AREQUIPA CAYLLOMA'!Q$9:Q$236)","v":24892},{"$f":"SUMIF('RED DE SALUD AREQUIPA CAYLLOMA'!$C$9:$C$236,DEPARTAMENTAL!$B9,'RED DE SALUD AREQUIPA CAYLLOMA'!R$9:R$236)","v":24919},{"$f":"SUMIF('RED DE SALUD AREQUIPA CAYLLOMA'!$C$9:$C$236,DEPARTAMENTAL!$B9,'RED DE SALUD AREQUIPA CAYLLOMA'!S$9:S$236)","v":23912},{"$f":"SUMIF('RED DE SALUD AREQUIPA CAYLLOMA'!$C$9:$C$236,DEPARTAMENTAL!$B9,'RED DE SALUD AREQUIPA CAYLLOMA'!T$9:T$236)","v":23290},{"$f":"SUMIF('RED DE SALUD AREQUIPA CAYLLOMA'!$C$9:$C$236,DEPARTAMENTAL!$B9,'RED DE SALUD AREQUIPA CAYLLOMA'!U$9:U$236)","v":23386},{"$f":"SUMIF('RED DE SALUD AREQUIPA CAYLLOMA'!$C$9:$C$236,DEPARTAMENTAL!$B9,'RED DE SALUD AREQUIPA CAYLLOMA'!V$9:V$236)","v":24115},{"$f":"SUMIF('RED DE SALUD AREQUIPA CAYLLOMA'!$C$9:$C$236,DEPARTAMENTAL!$B9,'RED DE SALUD AREQUIPA CAYLLOMA'!W$9:W$236)","v":23177},{"$f":"SUMIF('RED DE SALUD AREQUIPA CAYLLOMA'!$C$9:$C$236,DEPARTAMENTAL!$B9,'RED DE SALUD AREQUIPA CAYLLOMA'!X$9:X$236)","v":21418},{"$f":"SUMIF('RED DE SALUD AREQUIPA CAYLLOMA'!$C$9:$C$236,DEPARTAMENTAL!$B9,'RED DE SALUD AREQUIPA CAYLLOMA'!Y$9:Y$236)","v":21426},{"$f":"SUMIF('RED DE SALUD AREQUIPA CAYLLOMA'!$C$9:$C$236,DEPARTAMENTAL!$B9,'RED DE SALUD AREQUIPA CAYLLOMA'!Z$9:Z$236)","v":21454},{"$f":"SUMIF('RED DE SALUD AREQUIPA CAYLLOMA'!$C$9:$C$236,DEPARTAMENTAL!$B9,'RED DE SALUD AREQUIPA CAYLLOMA'!AA$9:AA$236)","v":21446},{"$f":"SUMIF('RED DE SALUD AREQUIPA CAYLLOMA'!$C$9:$C$236,DEPARTAMENTAL!$B9,'RED DE SALUD AREQUIPA CAYLLOMA'!AB$9:AB$236)","v":21499},{"$f":"SUMIF('RED DE SALUD AREQUIPA CAYLLOMA'!$C$9:$C$236,DEPARTAMENTAL!$B9,'RED DE SALUD AREQUIPA CAYLLOMA'!AC$9:AC$236)","v":21738},{"$f":"SUMIF('RED DE SALUD AREQUIPA CAYLLOMA'!$C$9:$C$236,DEPARTAMENTAL!$B9,'RED DE SALUD AREQUIPA CAYLLOMA'!AD$9:AD$236)","v":112969},{"$f":"SUMIF('RED DE SALUD AREQUIPA CAYLLOMA'!$C$9:$C$236,DEPARTAMENTAL!$B9,'RED DE SALUD AREQUIPA CAYLLOMA'!AE$9:AE$236)","v":129003},{"$f":"SUMIF('RED DE SALUD AREQUIPA CAYLLOMA'!$C$9:$C$236,DEPARTAMENTAL!$B9,'RED DE SALUD AREQUIPA CAYLLOMA'!AF$9:AF$236)","v":128833},{"$f":"SUMIF('RED DE SALUD AREQUIPA CAYLLOMA'!$C$9:$C$236,DEPARTAMENTAL!$B9,'RED DE SALUD AREQUIPA CAYLLOMA'!AG$9:AG$236)","v":118304},{"$f":"SUMIF('RED DE SALUD AREQUIPA CAYLLOMA'!$C$9:$C$236,DEPARTAMENTAL!$B9,'RED DE SALUD AREQUIPA CAYLLOMA'!AH$9:AH$236)","v":109140},{"$f":"SUMIF('RED DE SALUD AREQUIPA CAYLLOMA'!$C$9:$C$236,DEPARTAMENTAL!$B9,'RED DE SALUD AREQUIPA CAYLLOMA'!AI$9:AI$236)","v":98084},{"$f":"SUMIF('RED DE SALUD AREQUIPA CAYLLOMA'!$C$9:$C$236,DEPARTAMENTAL!$B9,'RED DE SALUD AREQUIPA CAYLLOMA'!AJ$9:AJ$236)","v":81313},{"$f":"SUMIF('RED DE SALUD AREQUIPA CAYLLOMA'!$C$9:$C$236,DEPARTAMENTAL!$B9,'RED DE SALUD AREQUIPA CAYLLOMA'!AK$9:AK$236)","v":68624},{"$f":"SUMIF('RED DE SALUD AREQUIPA CAYLLOMA'!$C$9:$C$236,DEPARTAMENTAL!$B9,'RED DE SALUD AREQUIPA CAYLLOMA'!AL$9:AL$236)","v":54907},{"$f":"SUMIF('RED DE SALUD AREQUIPA CAYLLOMA'!$C$9:$C$236,DEPARTAMENTAL!$B9,'RED DE SALUD AREQUIPA CAYLLOMA'!AM$9:AM$236)","v":44617},{"$f":"SUMIF('RED DE SALUD AREQUIPA CAYLLOMA'!$C$9:$C$236,DEPARTAMENTAL!$B9,'RED DE SALUD AREQUIPA CAYLLOMA'!AN$9:AN$236)","v":32620},{"$f":"SUMIF('RED DE SALUD AREQUIPA CAYLLOMA'!$C$9:$C$236,DEPARTAMENTAL!$B9,'RED DE SALUD AREQUIPA CAYLLOMA'!AO$9:AO$236)","v":23391},{"$f":"SUMIF('RED DE SALUD AREQUIPA CAYLLOMA'!$C$9:$C$236,DEPARTAMENTAL!$B9,'RED DE SALUD AREQUIPA CAYLLOMA'!AP$9:AP$236)","v":15066},{"$f":"SUMIF('RED DE SALUD AREQUIPA CAYLLOMA'!$C$9:$C$236,DEPARTAMENTAL!$B9,'RED DE SALUD AREQUIPA CAYLLOMA'!AQ$9:AQ$236)","v":14893},{"$f":"SUMIF('RED DE SALUD AREQUIPA CAYLLOMA'!$C$9:$C$236,DEPARTAMENTAL!$B9,'RED DE SALUD AREQUIPA CAYLLOMA'!AR$9:AR$236)","v":1141},{"$f":"SUMIF('RED DE SALUD AREQUIPA CAYLLOMA'!$C$9:$C$236,DEPARTAMENTAL!$B9,'RED DE SALUD AREQUIPA CAYLLOMA'!AS$9:AS$236)","v":7920},{"$f":"SUMIF('RED DE SALUD AREQUIPA CAYLLOMA'!$C$9:$C$236,DEPARTAMENTAL!$B9,'RED DE SALUD AREQUIPA CAYLLOMA'!AT$9:AT$236)","v":7834},{"$f":"SUMIF('RED DE SALUD AREQUIPA CAYLLOMA'!$C$9:$C$236,DEPARTAMENTAL!$B9,'RED DE SALUD AREQUIPA CAYLLOMA'!AU$9:AU$236)","v":{"v":22995,"d":"22,995"}},{"$f":"SUMIF('RED DE SALUD AREQUIPA CAYLLOMA'!$C$9:$C$236,DEPARTAMENTAL!$B9,'RED DE SALUD AREQUIPA CAYLLOMA'!AV$9:AV$236)","v":{"v":741864,"d":"741,864"}},{"$f":"SUMIF('RED DE SALUD AREQUIPA CAYLLOMA'!$C$9:$C$236,DEPARTAMENTAL!$B9,'RED DE SALUD AREQUIPA CAYLLOMA'!AW$9:AW$236)","v":57312},{"$f":"SUMIF('RED DE SALUD AREQUIPA CAYLLOMA'!$C$9:$C$236,DEPARTAMENTAL!$B9,'RED DE SALUD AREQUIPA CAYLLOMA'!AX$9:AX$236)","v":53911},{"$f":"SUMIF('RED DE SALUD AREQUIPA CAYLLOMA'!$C$9:$C$236,DEPARTAMENTAL!$B9,'RED DE SALUD AREQUIPA CAYLLOMA'!AY$9:AY$236)","v":350617},{"$f":"SUMIF('RED DE SALUD AREQUIPA CAYLLOMA'!$C$9:$C$236,DEPARTAMENTAL!$B9,'RED DE SALUD AREQUIPA CAYLLOMA'!AZ$9:AZ$236)","v":37080},null,{"$f":"C9","v":{"v":1438610,"d":"1,438,610"}},{"$f":"SUM(D9:O9)","v":{"v":230573,"d":"230,573"}},{"$f":"SUM(P9:U9)","v":{"v":133036,"d":"133,036"}},{"$f":"SUM(V9:Y9)","v":{"v":285209,"d":"285,209"}},{"$f":"SUM(Z9:AE9)","v":{"v":604298,"d":"604,298"}},{"$f":"SUM(AF9:AK9)","v":{"v":185494,"d":"185,494"}},null,{"$f":"SUMIF('Pob x Genero'!$C$9:$C$117,DEPARTAMENTAL!B9,'Pob x Genero'!$G$9:$G$117)","v":{"v":784832,"d":"784,832"}},{"$f":"SUMIF('Pob x Genero'!$C$9:$C$117,DEPARTAMENTAL!B9,'Pob x Genero'!$AT$9:$AT$117)","v":{"v":809259,"d":"809,259"}},{"$f":"AO9","v":{"v":22995,"d":"22,995"}},{"$f":"AT9","v":{"v":37080,"d":"37,080"}}]
[]
["NOTA: LA POBLACION ESTIMADA DE EDADES  SIMPLES Y GRUPOS DE EDAD DE DISTRITOS, CORRESPONDEN A CIFRAS REFERENCIALES HASTA OBTENER LAS CIFRAS DE LAS PROYECCIONES DEL INEI"]
["FUENTE: CENSO NACIONAL XI DE POBLACION Y VI DE VIVIENDA 2017/- BOLETIN DEMOGRAFICO Nº 26,37, 39 / RENIEC / Padrón Nominal/ CNV"]
["La población de 0-5 años corresponden al reporte de la poblacion del Padrón Nominal con corte al 31/12/2023 con ajuste en el grupo de edad de 0 años"]
["OFICINA DE GESTION DE LA INFORMACION - MINISTERIO DE SALUD"]

{"sheet":"PROVINCIAL","index":1,"n_rows":21,"n_cols":55,"rows_kept":21,"merged":[[5,39,5,41],[5,42,6,42],[5,43,6,43],[5,44,5,46],[5,47,6,47]]}
[]
[]
[]
["POBLACION ESTIMADA POR EDADES SIMPLES Y GRUPOS DE EDAD, SEGÚN DEPARTAMENTO y PROVINCIA. 2024"]
["* Actualizado con datos INEI"]
["POBLACION 2024",{"$nulls":4},"POBLACION TOTAL, POR EDADS SIMPLES",{"$nulls":19},"POBLACIÓN TOTAL,  POR GRUPOS QUINQUEN ALES DE EDAD",{"$nulls":13},"EDADES ESPECIALES",null,null,"NACIMIENTOS VIVOS","POBLACION FEMENINA TOTAL","POBLACION FEMENINA",null,null,"GESTANTES  ESPERADAS"]
["UBIGEO","DIRESA","DEPARTAMENTO","PROVINCIA","Total","0",1,2,3,4,5,6,7,8,9,10,11,12,13,14,15,16,17,18,19,"20-24","25-29","30-34","35-39","40-44","45-49","50-54","55-59","60-64","65-69","70-74","75-79","80-84","85-+","28 DIAS","0-5 MESES","6-11 MESES",null,null,"10 - 14","15- 19","20- 49",null,null,"TOTAL","NIÑO","Adolescente","Joven","Adulto","Adulto Mayor"]
["0000","PERU","PERU","PERU",{"$f":"SUM(E9:E16)","v":{"v":1438610,"d":"1,438,610"}},{"v":11793,"d":"11,793"},{"v":11788,"d":"11,788"},{"v":11950,"d":"11,950"},{"v":14062,"d":"14,062"},{"v":15118,"d":"15,118"},{"v":20927,"d":"20,927"},{"v":24536,"d":"24,536"},{"v":24892,"d":"24,892"},{"v":24919,"d":"24,919"},{"v":23912,"d":"23,912"},{"v":23290,"d":"23,290"},{"v":23386,"d":"23,386"},{"v":24115,"d":"24,115"},{"v":23177,"d":"23,177"},{"v":21418,"d":"21,418"},{"v":21426,"d":"21,426"},{"v":21454,"d":"21,454"},{"v":21446,"d":"21,446"},{"v":21499,"d":"21,499"},{"v":21738,"d":"21,738"},{"v":112969,"d":"112,969"},{"v":129003,"d":"129,003"},{"v":128833,"d":"128,833"},{"v":118304,"d":"118,304"},{"v":109140,"d":"109,140"},{"v":98084,"d":"98,084"},{"v":81313,"d":"81,313"},{"v":68624,"d":"68,624"},{"v":54907,"d":"54,907"},{"v":44617,"d":"44,617"},{"v":32620,"d":"32,620"},{"v":23391,"d":"23,391"},{"v":15066,"d":"15,066"},{"v":14893,"d":"14,893"},{"v":1141,"d":"1,141"},{"v":7920,"d":"7,920"},{"v":7834,"d":"7,834"},{"v":22995,"d":"22,995"},{"v":741864,"d":"741,864"},{"v":57312,"d":"57,312"},{"v":53911,"d":"53,911"},{"v":350617,"d":"350,617"},{"v":37080,"d":"37,080"},null,{"$f":"E8","v":{"v":1438610,"d":"1,438,610"}},{"$f":"SUM(F8:Q8)","v":{"v":230573,"d":"230,573"}},{"$f":"SUM(R8:W8)","v":{"v":133036,"d":"133,036"}},{"$f":"SUM(X8:AA8)","v":{"v":285209,"d":"285,209"}},{"$f":"SUM(AB8:AG8)","v":{"v":604298,"d":"604,298"}},{"$f":"SUM(AH8:AM8)","v":{"v":185494,"d":"185,494"}}]
["0401","AREQUIPA","AREQUIPA","AREQUIPA",{"$f":"SUM(F9:AM9)","v":1301340},{"$f":"SUMIF('RED DE SALUD AREQUIPA CAYLLOMA'!$D$9:$D$236,PROVINCIAL!$D9,'RED DE SALUD AREQUIPA CAYLLOMA'!J$9:J$236)","v":10365},{"$f":"SUMIF('RED DE SALUD AREQUIPA CAYLLOMA'!$D$9:$D$236,PROVINCIAL!$D9,'RED DE SALUD AREQUIPA CAYLLOMA'!K$9:K$236)","v":10306},{"$f":"SUMIF('RED DE SALUD AREQUIPA CAYLLOMA'!$D$9:$D$236,PROVINCIAL!$D9,'RED DE SALUD AREQUIPA CAYLLOMA'!L$9:L$236)","v":10504},{"$f":"SUMIF('RED DE SALUD AREQUIPA CAYLLOMA'!$D$9:$D$236,PROVINCIAL!$D9,'RED DE SALUD AREQUIPA CAYLLOMA'!M$9:M$236)","v":12444},{"$f":"SUMIF('RED DE SALUD AREQUIPA CAYLLOMA'!$D$9:$D$236,PROVINCIAL!$D9,'RED DE SALUD AREQUIPA CAYLLOMA'!N$9:N$236)","v":13631},{"$f":"SUMIF('RED DE SALUD AREQUIPA CAYLLOMA'!$D$9:$D$236,PROVINCIAL!$D9,'RED DE SALUD AREQUIPA CAYLLOMA'!O$9:O$236)","v":19002},{"$f":"SUMIF('RED DE SALUD AREQUIPA CAYLLOMA'!$D$9:$D$236,PROVINCIAL!$D9,'RED DE SALUD AREQUIPA CAYLLOMA'!P$9:P$236)","v":22416},{"$f":"SUMIF('RED DE SALUD AREQUIPA CAYLLOMA'!$D$9:$D$236,PROVINCIAL!$D9,'RED DE SALUD AREQUIPA CAYLLOMA'!Q$9:Q$236)","v":22622},{"$f":"SUMIF('RED DE SALUD AREQUIPA CAYLLOMA'!$D$9:$D$236,PROVINCIAL!$D9,'RED DE SALUD AREQUIPA CAYLLOMA'!R$9:R$236)","v":22889},{"$f":"SUMIF('RED DE SALUD AREQUIPA CAYLLOMA'!$D$9:$D$236,PROVINCIAL!$D9,'RED DE SALUD AREQUIPA CAYLLOMA'!S$9:S$236)","v":21853},{"$f":"SUMIF('RED DE SALUD AREQUIPA CAYLLOMA'!$D$9:$D$236,PROVINCIAL!$D9,'RED DE SALUD AREQUIPA CAYLLOMA'!T$9:T$236)","v":21241},{"$f":"SUMIF('RED DE SALUD AREQUIPA CAYLLOMA'!$D$9:$D$236,PROVINCIAL!$D9,'RED DE SALUD AREQUIPA CAYLLOMA'!U$9:U$236)","v":21206},{"$f":"SUMIF('RED DE SALUD AREQUIPA CAYLLOMA'!$D$9:$D$236,PROVINCIAL!$D9,'RED DE SALUD AREQUIPA CAYLLOMA'!V$9:V$236)","v":21892},{"$f":"SUMIF('RED DE SALUD AREQUIPA CAYLLOMA'!$D$9:$D$236,PROVINCIAL!$D9,'RED DE SALUD AREQUIPA CAYLLOMA'!W$9:W$236)","v":20998},{"$f":"SUMIF('RED DE SALUD AREQUIPA CAYLLOMA'!$D$9:$D$236,PROVINCIAL!$D9,'RED DE SALUD AREQUIPA CAYLLOMA'!X$9:X$236)","v":19313},{"$f":"SUMIF('RED DE SALUD AREQUIPA CAYLLOMA'!$D$9:$D$236,PROVINCIAL!$D9,'RED DE SALUD AREQUIPA CAYLLOMA'!Y$9:Y$236)","v":19378},{"$f":"SUMIF('RED DE SALUD AREQUIPA CAYLLOMA'!$D$9:$D$236,PROVINCIAL!$D9,'RED DE SALUD AREQUIPA CAYLLOMA'!Z$9:Z$236)","v":19135},{"$f":"SUMIF('RED DE SALUD AREQUIPA CAYLLOMA'!$D$9:$D$236,PROVINCIAL!$D9,'RED DE SALUD AREQUIPA CAYLLOMA'!AA$9:AA$236)","v":19175},{"$f":"SUMIF('RED DE SALUD AREQUIPA CAYLLOMA'!$D$9:$D$236,PROVINCIAL!$D9,'RED DE SALUD AREQUIPA CAYLLOMA'!AB$9:AB$236)","v":19345},{"$f":"SUMIF('RED DE SALUD AREQUIPA CAYLLOMA'!$D$9:$D$236,PROVINCIAL!$D9,'RED DE SALUD AREQUIPA CAYLLOMA'!AC$9:AC$236)","v":19667},{"$f":"SUMIF('RED DE SALUD AREQUIPA CAYLLOMA'!$D$9:$D$236,PROVINCIAL!$D9,'RED DE SALUD AREQUIPA CAYLLOMA'!AD$9:AD$236)","v":102430},{"$f":"SUMIF('RED DE SALUD AREQUIPA CAYLLOMA'!$D$9:$D$236,PROVINCIAL!$D9,'RED DE SALUD AREQUIPA CAYLLOMA'!AE$9:AE$236)","v":117148},{"$f":"SUMIF('RED DE SALUD AREQUIPA CAYLLOMA'!$D$9:$D$236,PROVINCIAL!$D9,'RED DE SALUD AREQUIPA CAYLLOMA'!AF$9:AF$236)","v":117308},{"$f":"SUMIF('RED DE SALUD AREQUIPA CAYLLOMA'!$D$9:$D$236,PROVINCIAL!$D9,'RED DE SALUD AREQUIPA CAYLLOMA'!AG$9:AG$236)","v":107114},{"$f":"SUMIF('RED DE SALUD AREQUIPA CAYLLOMA'!$D$9:$D$236,PROVINCIAL!$D9,'RED DE SALUD AREQUIPA CAYLLOMA'!AH$9:AH$236)","v":98892},{"$f":"SUMIF('RED DE SALUD AREQUIPA CAYLLOMA'!$D$9:$D$236,PROVINCIAL!$D9,'RED DE SALUD AREQUIPA CAYLLOMA'!AI$9:AI$236)","v":88635},{"$f":"SUMIF('RED DE SALUD AREQUIPA CAYLLOMA'!$D$9:$D$236,PROVINCIAL!$D9,'RED DE SALUD AREQUIPA CAYLLOMA'!AJ$9:AJ$236)","v":73539},{"$f":"SUMIF('RED DE SALUD AREQUIPA CAYLLOMA'!$D$9:$D$236,PROVINCIAL!$D9,'RED DE SALUD AREQUIPA CAYLLOMA'!AK$9:AK$236)","v":61652},{"$f":"SUMIF('RED DE SALUD AREQUIPA CAYLLOMA'!$D$9:$D$236,PROVINCIAL!$D9,'RED DE SALUD AREQUIPA CAYLLOMA'!AL$9:AL$236)","v":49485},{"$f":"SUMIF('RED DE SALUD AREQUIPA CAYLLOMA'!$D$9:$D$236,PROVINCIAL!$D9,'RED DE SALUD AREQUIPA CAYLLOMA'!AM$9:AM$236)","v":40274},{"$f":"SUMIF('RED DE SALUD AREQUIPA CAYLLOMA'!$D$9:$D$236,PROVINCIAL!$D9,'RED DE SALUD AREQUIPA CAYLLOMA'!AN$9:AN$236)","v":29432},{"$f":"SUMIF('RED DE SALUD AREQUIPA CAYLLOMA'!$D$9:$D$236,PROVINCIAL!$D9,'RED DE SALUD AREQUIPA CAYLLOMA'!AO$9:AO$236)","v":21060},{"$f":"SUMIF('RED DE SALUD AREQUIPA CAYLLOMA'!$D$9:$D$236,PROVINCIAL!$D9,'RED DE SALUD AREQUIPA CAYLLOMA'!AP$9:AP$236)","v":13563},{"$f":"SUMIF('RED DE SALUD AREQUIPA CAYLLOMA'!$D$9:$D$236,PROVINCIAL!$D9,'RED DE SALUD AREQUIPA CAYLLOMA'!AQ$9:AQ$236)","v":13426},{"$f":"SUMIF('RED DE SALUD AREQUIPA CAYLLOMA'!$D$9:$D$236,PROVINCIAL!$D9,'RED DE SALUD AREQUIPA CAYLLOMA'!AR$9:AR$236)","v":1036},{"$f":"SUMIF('RED DE SALUD AREQUIPA CAYLLOMA'!$D$9:$D$236,PROVINCIAL!$D9,'RED DE SALUD AREQUIPA CAYLLOMA'!AS$9:AS$236)","v":7021},{"$f":"SUMIF('RED DE SALUD AREQUIPA CAYLLOMA'!$D$9:$D$236,PROVINCIAL!$D9,'RED DE SALUD AREQUIPA CAYLLOMA'!AT$9:AT$236)","v":6947},{"$f":"SUMIF('RED DE SALUD AREQUIPA CAYLLOMA'!$D$9:$D$236,PROVINCIAL!$D9,'RED DE SALUD AREQUIPA CAYLLOMA'!AU$9:AU$236)","v":20150},{"$f":"SUMIF('RED DE SALUD AREQUIPA CAYLLOMA'!$D$9:$D$236,PROVINCIAL!$D9,'RED DE SALUD AREQUIPA CAYLLOMA'!AV$9:AV$236)","v":{"v":671337,"d":"671,337"}},{"$f":"SUMIF('RED DE SALUD AREQUIPA CAYLLOMA'!$D$9:$D$236,PROVINCIAL!$D9,'RED DE SALUD AREQUIPA CAYLLOMA'!AW$9:AW$236)","v":51875},{"$f":"SUMIF('RED DE SALUD AREQUIPA CAYLLOMA'!$D$9:$D$236,PROVINCIAL!$D9,'RED DE SALUD AREQUIPA CAYLLOMA'!AX$9:AX$236)","v":48463},{"$f":"SUMIF('RED DE SALUD AREQUIPA CAYLLOMA'!$D$9:$D$236,PROVINCIAL!$D9,'RED DE SALUD AREQUIPA CAYLLOMA'!AY$9:AY$236)","v":318028},{"$f":"SUMIF('RED DE SALUD AREQUIPA CAYLLOMA'!$D$9:$D$236,PROVINCIAL!$D9,'RED DE SALUD AREQUIPA CAYLLOMA'!AZ$9:AZ$236)","v":33127},null,{"$f":"E9","v":{"v":1301340,"d":"1,301,340"}},{"$f":"SUM(F9:Q9)","v":{"v":208479,"d":"208,479"}},{"$f":"SUM(R9:W9)","v":{"v":119891,"d":"119,891"}},{"$f":"SUM(X9:AA9)","v":{"v":258590,"d":"258,590"}},{"$f":"SUM(AB9:AG9)","v":{"v":547140,"d":"547,140"}},{"$f":"SUM(AH9:AM9)","v":{"v":167240,"d":"167,240"}}]
["0402","AREQUIPA","AREQUIPA","CAMANA",0,{"$f":"SUMIF('RED DE SALUD AREQUIPA CAYLLOMA'!$D$9:$D$236,PROVINCIAL!$D10,'RED DE SALUD AREQUIPA CAYLLOMA'!J$9:J$236)","v":0},{"$f":"SUMIF('RED DE SALUD AREQUIPA CAYLLOMA'!$D$9:$D$236,PROVINCIAL!$D10,'RED DE SALUD AREQUIPA CAYLLOMA'!K$9:K$236)","v":0},{"$f":"SUMIF('RED DE SALUD AREQUIPA CAYLLOMA'!$D$9:$D$236,PROVINCIAL!$D10,'RED DE SALUD AREQUIPA CAYLLOMA'!L$9:L$236)","v":0},{"$f":"SUMIF('RED DE SALUD AREQUIPA CAYLLOMA'!$D$9:$D$236,PROVINCIAL!$D10,'RED DE SALUD AREQUIPA CAYLLOMA'!M$9:M$236)","v":0},{"$f":"SUMIF('RED DE SALUD AREQUIPA CAYLLOMA'!$D$9:$D$236,PROVINCIAL!$D10,'RED DE SALUD AREQUIPA CAYLLOMA'!N$9:N$236)","v":0},{"$f":"SUMIF('RED DE SALUD AREQUIPA CAYLLOMA'!$D$9:$D$236,PROVINCIAL!$D10,'RED DE SALUD AREQUIPA CAYLLOMA'!O$9:O$236)","v":0},{"$f":"SUMIF('RED DE SALUD AREQUIPA CAYLLOMA'!$D$9:$D$236,PROVINCIAL!$D10,'RED DE SALUD AREQUIPA CAYLLOMA'!P$9:P$236)","v":0},{"$f":"SUMIF('RED DE SALUD AREQUIPA CAYLLOMA'!$D$9:$D$236,PROVINCIAL!$D10,'RED DE SALUD AREQUIPA CAYLLOMA'!Q$9:Q$236)","v":0},{"$f":"SUMIF('RED DE SALUD AREQUIPA CAYLLOMA'!$D$9:$D$236,PROVINCIAL!$D10,'RED DE SALUD AREQUIPA CAYLLOMA'!R$9:R$236)","v":0},{"$f":"SUMIF('RED DE SALUD AREQUIPA CAYLLOMA'!$D$9:$D$236,PROVINCIAL!$D10,'RED DE SALUD AREQUIPA CAYLLOMA'!S$9:S$236)","v":0},{"$f":"SUMIF('RED DE SALUD AREQUIPA CAYLLOMA'!$D$9:$D$236,PROVINCIAL!$D10,'RED DE SALUD AREQUIPA CAYLLOMA'!T$9:T$236)","v":0},{"$f":"SUMIF('RED DE SALUD AREQUIPA CAYLLOMA'!$D$9:$D$236,PROVINCIAL!$D10,'RED DE SALUD AREQUIPA CAYLLOMA'!U$9:U$236)","v":0},{"$f":"SUMIF('RED DE SALUD AREQUIPA CAYLLOMA'!$D$9:$D$236,PROVINCIAL!$D10,'RED DE SALUD AREQUIPA CAYLLOMA'!V$9:V$236)","v":0},{"$f":"SUMIF('RED DE SALUD AREQUIPA CAYLLOMA'!$D$9:$D$236,PROVINCIAL!$D10,'RED DE SALUD AREQUIPA CAYLLOMA'!W$9:W$236)","v":0},{"$f":"SUMIF('RED DE SALUD AREQUIPA CAYLLOMA'!$D$9:$D$236,PROVINCIAL!$D10,'RED DE SALUD AREQUIPA CAYLLOMA'!X$9:X$236)","v":0},{"$f":"SUMIF('RED DE SALUD AREQUIPA CAYLLOMA'!$D$9:$D$236,PROVINCIAL!$D10,'RED DE SALUD AREQUIPA CAYLLOMA'!Y$9:Y$236)","v":0},{"$f":"SUMIF('RED DE SALUD AREQUIPA CAYLLOMA'!$D$9:$D$236,PROVINCIAL!$D10,'RED DE SALUD AREQUIPA CAYLLOMA'!Z$9:Z$236)","v":0},{"$f":"SUMIF('RED DE SALUD AREQUIPA CAYLLOMA'!$D$9:$D$236,PROVINCIAL!$D10,'RED DE SALUD AREQUIPA CAYLLOMA'!AA$9:AA$236)","v":0},{"$f":"SUMIF('RED DE SALUD AREQUIPA CAYLLOMA'!$D$9:$D$236,PROVINCIAL!$D10,'RED DE SALUD AREQUIPA CAYLLOMA'!AB$9:AB$236)","v":0},{"$f":"SUMIF('RED DE SALUD AREQUIPA CAYLLOMA'!$D$9:$D$236,PROVINCIAL!$D10,'RED DE SALUD AREQUIPA CAYLLOMA'!AC$9:AC$236)","v":0},{"$f":"SUMIF('RED DE SALUD AREQUIPA CAYLLOMA'!$D$9:$D$236,PROVINCIAL!$D10,'RED DE SALUD AREQUIPA CAYLLOMA'!AD$9:AD$236)","v":0},{"$f":"SUMIF('RED DE SALUD AREQUIPA CAYLLOMA'!$D$9:$D$236,PROVINCIAL!$D10,'RED DE SALUD AREQUIPA CAYLLOMA'!AE$9:AE$236)","v":0},{"$f":"SUMIF('RED DE SALUD AREQUIPA CAYLLOMA'!$D$9:$D$236,PROVINCIAL!$D10,'RED DE SALUD AREQUIPA CAYLLOMA'!AF$9:AF$236)","v":0},{"$f":"SUMIF('RED DE SALUD AREQUIPA CAYLLOMA'!$D$9:$D$236,PROVINCIAL!$D10,'RED DE SALUD AREQUIPA CAYLLOMA'!AG$9:AG$236)","v":0},{"$f":"SUMIF('RED DE SALUD AREQUIPA CAYLLOMA'!$D$9:$D$236,PROVINCIAL!$D10,'RED DE SALUD AREQUIPA CAYLLOMA'!AH$9:AH$236)","v":0},{"$f":"SUMIF('RED DE SALUD AREQUIPA CAYLLOMA'!$D$9:$D$236,PROVINCIAL!$D10,'RED DE SALUD AREQUIPA CAYLLOMA'!AI$9:AI$236)","v":0},{"$f":"SUMIF('RED DE SALUD AREQUIPA CAYLLOMA'!$D$9:$D$236,PROVINCIAL!$D10,'RED DE SALUD AREQUIPA CAYLLOMA'!AJ$9:AJ$236)","v":0},{"$f":"SUMIF('RED DE SALUD AREQUIPA CAYLLOMA'!$D$9:$D$236,PROVINCIAL!$D10,'RED DE SALUD AREQUIPA CAYLLOMA'!AK$9:AK$236)","v":0},{"$f":"SUMIF('RED DE SALUD AREQUIPA CAYLLOMA'!$D$9:$D$236,PROVINCIAL!$D10,'RED DE SALUD AREQUIPA CAYLLOMA'!AL$9:AL$236)","v":0},{"$f":"SUMIF('RED DE SALUD AREQUIPA CAYLLOMA'!$D$9:$D$236,PROVINCIAL!$D10,'RED DE SALUD AREQUIPA CAYLLOMA'!AM$9:AM$236)","v":0},{"$f":"SUMIF('RED DE SALUD AREQUIPA CAYLLOMA'!$D$9:$D$236,PROVINCIAL!$D10,'RED DE SALUD AREQUIPA CAYLLOMA'!AN$9:AN$236)","v":0},{"$f":"SUMIF('RED DE SALUD AREQUIPA CAYLLOMA'!$D$9:$D$236,PROVINCIAL!$D10,'RED DE SALUD AREQUIPA CAYLLOMA'!AO$9:AO$236)","v":0},{"$f":"SUMIF('RED DE SALUD AREQUIPA CAYLLOMA'!$D$9:$D$236,PROVINCIAL!$D10,'RED DE SALUD AREQUIPA CAYLLOMA'!AP$9:AP$236)","v":0},{"$f":"SUMIF('RED DE SALUD AREQUIPA CAYLLOMA'!$D$9:$D$236,PROVINCIAL!$D10,'RED DE SALUD AREQUIPA CAYLLOMA'!AQ$9:AQ$236)","v":0},{"$f":"SUMIF('RED DE SALUD AREQUIPA CAYLLOMA'!$D$9:$D$236,PROVINCIAL!$D10,'RED DE SALUD AREQUIPA CAYLLOMA'!AR$9:AR$236)","v":0},{"$f":"SUMIF('RED DE SALUD AREQUIPA CAYLLOMA'!$D$9:$D$236,PROVINCIAL!$D10,'RED DE SALUD AREQUIPA CAYLLOMA'!AS$9:AS$236)","v":0},{"$f":"SUMIF('RED DE SALUD AREQUIPA CAYLLOMA'!$D$9:$D$236,PROVINCIAL!$D10,'RED DE SALUD AREQUIPA CAYLLOMA'!AT$9:AT$236)","v":0},{"$f":"SUMIF('RED DE SALUD AREQUIPA CAYLLOMA'!$D$9:$D$236,PROVINCIAL!$D10,'RED DE SALUD AREQUIPA CAYLLOMA'!AU$9:AU$236)","v":0},{"$f":"SUMIF('RED DE SALUD AREQUIPA CAYLLOMA'!$D$9:$D$236,PROVINCIAL!$D10,'RED DE SALUD AREQUIPA CAYLLOMA'!AV$9:AV$236)","v":0},{"$f":"SUMIF('RED DE SALUD AREQUIPA CAYLLOMA'!$D$9:$D$236,PROVINCIAL!$D10,'RED DE SALUD AREQUIPA CAYLLOMA'!AW$9:AW$236)","v":0},{"$f":"SUMIF('RED DE SALUD AREQUIPA CAYLLOMA'!$D$9:$D$236,PROVINCIAL!$D10,'RED DE SALUD AREQUIPA CAYLLOMA'!AX$9:AX$236)","v":0},{"$f":"SUMIF('RED DE SALUD AREQUIPA CAYLLOMA'!$D$9:$D$236,PROVINCIAL!$D10,'RED DE SALUD AREQUIPA CAYLLOMA'!AY$9:AY$236)","v":0},{"$f":"SUMIF('RED DE SALUD AREQUIPA CAYLLOMA'!$D$9:$D$236,PROVINCIAL!$D10,'RED DE SALUD AREQUIPA CAYLLOMA'!AZ$9:AZ$236)","v":0},null,0,0,0,0,0,0]
["0403","AREQUIPA","AREQUIPA","CARAVELI",0,{"$f":"SUMIF('RED DE SALUD AREQUIPA CAYLLOMA'!$D$9:$D$236,PROVINCIAL!$D11,'RED DE SALUD AREQUIPA CAYLLOMA'!J$9:J$236)","v":0},{"$f":"SUMIF('RED DE SALUD AREQUIPA CAYLLOMA'!$D$9:$D$236,PROVINCIAL!$D11,'RED DE SALUD AREQUIPA CAYLLOMA'!K$9:K$236)","v":0},{"$f":"SUMIF('RED DE SALUD AREQUIPA CAYLLOMA'!$D$9:$D$236,PROVINCIAL!$D11,'RED DE SALUD AREQUIPA CAYLLOMA'!L$9:L$236)","v":0},{"$f":"SUMIF('RED DE SALUD AREQUIPA CAYLLOMA'!$D$9:$D$236,PROVINCIAL!$D11,'RED DE SALUD AREQUIPA CAYLLOMA'!M$9:M$236)","v":0},{"$f":"SUMIF('RED DE SALUD AREQUIPA CAYLLOMA'!$D$9:$D$236,PROVINCIAL!$D11,'RED DE SALUD AREQUIPA CAYLLOMA'!N$9:N$236)","v":0},{"$f":"SUMIF('RED DE SALUD AREQUIPA CAYLLOMA'!$D$9:$D$236,PROVINCIAL!$D11,'RED DE SALUD AREQUIPA CAYLLOMA'!O$9:O$236)","v":0},{"$f":"SUMIF('RED DE SALUD AREQUIPA CAYLLOMA'!$D$9:$D$236,PROVINCIAL!$D11,'RED DE SALUD AREQUIPA CAYLLOMA'!P$9:P$236)","v":0},{"$f":"SUMIF('RED DE SALUD AREQUIPA CAYLLOMA'!$D$9:$D$236,PROVINCIAL!$D11,'RED DE SALUD AREQUIPA CAYLLOMA'!Q$9:Q$236)","v":0},{"$f":"SUMIF('RED DE SALUD AREQUIPA CAYLLOMA'!$D$9:$D$236,PROVINCIAL!$D11,'RED DE SALUD AREQUIPA CAYLLOMA'!R$9:R$236)","v":0},{"$f":"SUMIF('RED DE SALUD AREQUIPA CAYLLOMA'!$D$9:$D$236,PROVINCIAL!$D11,'RED DE SALUD AREQUIPA CAYLLOMA'!S$9:S$236)","v":0},{"$f":"SUMIF('RED DE SALUD AREQUIPA CAYLLOMA'!$D$9:$D$236,PROVINCIAL!$D11,'RED DE SALUD AREQUIPA CAYLLOMA'!T$9:T$236)","v":0},{"$f":"SUMIF('RED DE SALUD AREQUIPA CAYLLOMA'!$D$9:$D$236,PROVINCIAL!$D11,'RED DE SALUD AREQUIPA CAYLLOMA'!U$9:U$236)","v":0},{"$f":"SUMIF('RED DE SALUD AREQUIPA CAYLLOMA'!$D$9:$D$236,PROVINCIAL!$D11,'RED DE SALUD AREQUIPA CAYLLOMA'!V$9:V$236)","v":0},{"$f":"SUMIF('RED DE SALUD AREQUIPA CAYLLOMA'!$D$9:$D$236,PROVINCIAL!$D11,'RED DE SALUD AREQUIPA CAYLLOMA'!W$9:W$236)","v":0},{"$f":"SUMIF('RED DE SALUD AREQUIPA CAYLLOMA'!$D$9:$D$236,PROVINCIAL!$D11,'RED DE SALUD AREQUIPA CAYLLOMA'!X$9:X$236)","v":0},{"$f":"SUMIF('RED DE SALUD AREQUIPA CAYLLOMA'!$D$9:$D$236,PROVINCIAL!$D11,'RED DE SALUD AREQUIPA CAYLLOMA'!Y$9:Y$236)","v":0},{"$f":"SUMIF('RED DE SALUD AREQUIPA CAYLLOMA'!$D$9:$D$236,PROVINCIAL!$D11,'RED DE SALUD AREQUIPA CAYLLOMA'!Z$9:Z$236)","v":0},{"$f":"SUMIF('RED DE SALUD AREQUIPA CAYLLOMA'!$D$9:$D$236,PROVINCIAL!$D11,'RED DE SALUD AREQUIPA CAYLLOMA'!AA$9:AA$236)","v":0},{"$f":"SUMIF('RED DE SALUD AREQUIPA CAYLLOMA'!$D$9:$D$236,PROVINCIAL!$D11,'RED DE SALUD AREQUIPA CAYLLOMA'!AB$9:AB$236)","v":0},{"$f":"SUMIF('RED DE SALUD AREQUIPA CAYLLOMA'!$D$9:$D$236,PROVINCIAL!$D11,'RED DE SALUD AREQUIPA CAYLLOMA'!AC$9:AC$236)","v":0},{"$f":"SUMIF('RED DE SALUD AREQUIPA CAYLLOMA'!$D$9:$D$236,PROVINCIAL!$D11,'RED DE SALUD AREQUIPA CAYLLOMA'!AD$9:AD$236)","v":0},{"$f":"SUMIF('RED DE SALUD AREQUIPA CAYLLOMA'!$D$9:$D$236,PROVINCIAL!$D11,'RED DE SALUD AREQUIPA CAYLLOMA'!AE$9:AE$236)","v":0},{"$f":"SUMIF('RED DE SALUD AREQUIPA CAYLLOMA'!$D$9:$D$236,PROVINCIAL!$D11,'RED DE SALUD AREQUIPA CAYLLOMA'!AF$9:AF$236)","v":0},{"$f":"SUMIF('RED DE SALUD AREQUIPA CAYLLOMA'!$D$9:$D$236,PROVINCIAL!$D11,'RED DE SALUD AREQUIPA CAYLLOMA'!AG$9:AG$236)","v":0},{"$f":"SUMIF('RED DE SALUD AREQUIPA CAYLLOMA'!$D$9:$D$236,PROVINCIAL!$D11,'RED DE SALUD AREQUIPA CAYLLOMA'!AH$9:AH$236)","v":0},{"$f":"SUMIF('RED DE SALUD AREQUIPA CAYLLOMA'!$D$9:$D$236,PROVINCIAL!$D11,'RED DE SALUD AREQUIPA CAYLLOMA'!AI$9:AI$236)","v":0},{"$f":"SUMIF('RED DE SALUD AREQUIPA CAYLLOMA'!$D$9:$D$236,PROVINCIAL!$D11,'RED DE SALUD AREQUIPA CAYLLOMA'!AJ$9:AJ$236)","v":0},{"$f":"SUMIF('RED DE SALUD AREQUIPA CAYLLOMA'!$D$9:$D$236,PROVINCIAL!$D11,'RED DE SALUD AREQUIPA CAYLLOMA'!AK$9:AK$236)","v":0},{"$f":"SUMIF('RED DE SALUD AREQUIPA CAYLLOMA'!$D$9:$D$236,PROVINCIAL!$D11,'RED DE SALUD AREQUIPA CAYLLOMA'!AL$9:AL$236)","v":0},{"$f":"SUMIF('RED DE SALUD AREQUIPA CAYLLOMA'!$D$9:$D$236,PROVINCIAL!$D11,'RED DE SALUD AREQUIPA CAYLLOMA'!AM$9:AM$236)","v":0},{"$f":"SUMIF('RED DE SALUD AREQUIPA CAYLLOMA'!$D$9:$D$236,PROVINCIAL!$D11,'RED DE SALUD AREQUIPA CAYLLOMA'!AN$9:AN$236)","v":0},{"$f":"SUMIF('RED DE SALUD AREQUIPA CAYLLOMA'!$D$9:$D$236,PROVINCIAL!$D11,'RED DE SALUD AREQUIPA CAYLLOMA'!AO$9:AO$236)","v":0},{"$f":"SUMIF('RED DE SALUD AREQUIPA CAYLLOMA'!$D$9:$D$236,PROVINCIAL!$D11,'RED DE SALUD AREQUIPA CAYLLOMA'!AP$9:AP$236)","v":0},{"$f":"SUMIF('RED DE SALUD AREQUIPA CAYLLOMA'!$D$9:$D$236,PROVINCIAL!$D11,'RED DE SALUD AREQUIPA CAYLLOMA'!AQ$9:AQ$236)","v":0},{"$f":"SUMIF('RED DE SALUD AREQUIPA CAYLLOMA'!$D$9:$D$236,PROVINCIAL!$D11,'RED DE SALUD AREQUIPA CAYLLOMA'!AR$9:AR$236)","v":0},{"$f":"SUMIF('RED DE SALUD AREQUIPA CAYLLOMA'!$D$9:$D$236,PROVINCIAL!$D11,'RED DE SALUD AREQUIPA CAYLLOMA'!AS$9:AS$236)","v":0},{"$f":"SUMIF('RED DE SALUD AREQUIPA CAYLLOMA'!$D$9:$D$236,PROVINCIAL!$D11,'RED DE SALUD AREQUIPA CAYLLOMA'!AT$9:AT$236)","v":0},{"$f":"SUMIF('RED DE SALUD AREQUIPA CAYLLOMA'!$D$9:$D$236,PROVINCIAL!$D11,'RED DE SALUD AREQUIPA CAYLLOMA'!AU$9:AU$236)","v":0},{"$f":"SUMIF('RED DE SALUD AREQUIPA CAYLLOMA'!$D$9:$D$236,PROVINCIAL!$D11,'RED DE SALUD AREQUIPA CAYLLOMA'!AV$9:AV$236)","v":0},{"$f":"SUMIF('RED DE SALUD AREQUIPA CAYLLOMA'!$D$9:$D$236,PROVINCIAL!$D11,'RED DE SALUD AREQUIPA CAYLLOMA'!AW$9:AW$236)","v":0},{"$f":"SUMIF('RED DE SALUD AREQUIPA CAYLLOMA'!$D$9:$D$236,PROVINCIAL!$D11,'RED DE SALUD AREQUIPA CAYLLOMA'!AX$9:AX$236)","v":0},{"$f":"SUMIF('RED DE SALUD AREQUIPA CAYLLOMA'!$D$9:$D$236,PROVINCIAL!$D11,'RED DE SALUD AREQUIPA CAYLLOMA'!AY$9:AY$236)","v":0},{"$f":"SUMIF('RED DE SALUD AREQUIPA CAYLLOMA'!$D$9:$D$236,PROVINCIAL!$D11,'RED DE SALUD AREQUIPA CAYLLOMA'!AZ$9:AZ$236)","v":0},null,0,0,0,0,0,0]
["0404","AREQUIPA","AREQUIPA","CASTILLA",1719,{"$f":"SUMIF('RED DE SALUD AREQUIPA CAYLLOMA'!$D$9:$D$236,PROVINCIAL!$D12,'RED DE SALUD AREQUIPA CAYLLOMA'!J$9:J$236)","v":33},{"$f":"SUMIF('RED DE SALUD AREQUIPA CAYLLOMA'!$D$9:$D$236,PROVINCIAL!$D12,'RED DE SALUD AREQUIPA CAYLLOMA'!K$9:K$236)","v":25},{"$f":"SUMIF('RED DE SALUD AREQUIPA CAYLLOMA'!$D$9:$D$236,PROVINCIAL!$D12,'RED DE SALUD AREQUIPA CAYLLOMA'!L$9:L$236)","v":21},{"$f":"SUMIF('RED DE SALUD AREQUIPA CAYLLOMA'!$D$9:$D$236,PROVINCIAL!$D12,'RED DE SALUD AREQUIPA CAYLLOMA'!M$9:M$236)","v":26},{"$f":"SUMIF('RED DE SALUD AREQUIPA CAYLLOMA'!$D$9:$D$236,PROVINCIAL!$D12,'RED DE SALUD AREQUIPA CAYLLOMA'!N$9:N$236)","v":25},{"$f":"SUMIF('RED DE SALUD AREQUIPA CAYLLOMA'!$D$9:$D$236,PROVINCIAL!$D12,'RED DE SALUD AREQUIPA CAYLLOMA'!O$9:O$236)","v":17},{"$f":"SUMIF('RED DE SALUD AREQUIPA CAYLLOMA'!$D$9:$D$236,PROVINCIAL!$D12,'RED DE SALUD AREQUIPA CAYLLOMA'!P$9:P$236)","v":20},{"$f":"SUMIF('RED DE SALUD AREQUIPA CAYLLOMA'!$D$9:$D$236,PROVINCIAL!$D12,'RED DE SALUD AREQUIPA CAYLLOMA'!Q$9:Q$236)","v":22},{"$f":"SUMIF('RED DE SALUD AREQUIPA CAYLLOMA'!$D$9:$D$236,PROVINCIAL!$D12,'RED DE SALUD AREQUIPA CAYLLOMA'!R$9:R$236)","v":23},{"$f":"SUMIF('RED DE SALUD AREQUIPA CAYLLOMA'!$D$9:$D$236,PROVINCIAL!$D12,'RED DE SALUD AREQUIPA CAYLLOMA'!S$9:S$236)","v":22},{"$f":"SUMIF('RED DE SALUD AREQUIPA CAYLLOMA'!$D$9:$D$236,PROVINCIAL!$D12,'RED DE SALUD AREQUIPA CAYLLOMA'!T$9:T$236)","v":29},{"$f":"SUMIF('RED DE SALUD AREQUIPA CAYLLOMA'!$D$9:$D$236,PROVINCIAL!$D12,'RED DE SALUD AREQUIPA CAYLLOMA'!U$9:U$236)","v":28},{"$f":"SUMIF('RED DE SALUD AREQUIPA CAYLLOMA'!$D$9:$D$236,PROVINCIAL!$D12,'RED DE SALUD AREQUIPA CAYLLOMA'!V$9:V$236)","v":28},{"$f":"SUMIF('RED DE SALUD AREQUIPA CAYLLOMA'!$D$9:$D$236,PROVINCIAL!$D12,'RED DE SALUD AREQUIPA CAYLLOMA'!W$9:W$236)","v":29},{"$f":"SUMIF('RED DE SALUD AREQUIPA CAYLLOMA'!$D$9:$D$236,PROVINCIAL!$D12,'RED DE SALUD AREQUIPA CAYLLOMA'!X$9:X$236)","v":25},{"$f":"SUMIF('RED DE SALUD AREQUIPA CAYLLOMA'!$D$9:$D$236,PROVINCIAL!$D12,'RED DE SALUD AREQUIPA CAYLLOMA'!Y$9:Y$236)","v":32},{"$f":"SUMIF('RED DE SALUD AREQUIPA CAYLLOMA'!$D$9:$D$236,PROVINCIAL!$D12,'RED DE SALUD AREQUIPA CAYLLOMA'!Z$9:Z$236)","v":27},{"$f":"SUMIF('RED DE SALUD AREQUIPA CAYLLOMA'!$D$9:$D$236,PROVINCIAL!$D12,'RED DE SALUD AREQUIPA CAYLLOMA'!AA$9:AA$236)","v":27},{"$f":"SUMIF('RED DE SALUD AREQUIPA CAYLLOMA'!$D$9:$D$236,PROVINCIAL!$D12,'RED DE SALUD AREQUIPA CAYLLOMA'!AB$9:AB$236)","v":23},{"$f":"SUMIF('RED DE SALUD AREQUIPA CAYLLOMA'!$D$9:$D$236,PROVINCIAL!$D12,'RED DE SALUD AREQUIPA CAYLLOMA'!AC$9:AC$236)","v":23},{"$f":"SUMIF('RED DE SALUD AREQUIPA CAYLLOMA'!$D$9:$D$236,PROVINCIAL!$D12,'RED DE SALUD AREQUIPA CAYLLOMA'!AD$9:AD$236)","v":120},{"$f":"SUMIF('RED DE SALUD AREQUIPA CAYLLOMA'!$D$9:$D$236,PROVINCIAL!$D12,'RED DE SALUD AREQUIPA CAYLLOMA'!AE$9:AE$236)","v":113},{"$f":"SUMIF('RED DE SALUD AREQUIPA CAYLLOMA'!$D$9:$D$236,PROVINCIAL!$D12,'RED DE SALUD AREQUIPA CAYLLOMA'!AF$9:AF$236)","v":137},{"$f":"SUMIF('RED DE SALUD AREQUIPA CAYLLOMA'!$D$9:$D$236,PROVINCIAL!$D12,'RED DE SALUD AREQUIPA CAYLLOMA'!AG$9:AG$236)","v":127},{"$f":"SUMIF('RED DE SALUD AREQUIPA CAYLLOMA'!$D$9:$D$236,PROVINCIAL!$D12,'RED DE SALUD AREQUIPA CAYLLOMA'!AH$9:AH$236)","v":111},{"$f":"SUMIF('RED DE SALUD AREQUIPA CAYLLOMA'!$D$9:$D$236,PROVINCIAL!$D12,'RED DE SALUD AREQUIPA CAYLLOMA'!AI$9:AI$236)","v":110},{"$f":"SUMIF('RED DE SALUD AREQUIPA CAYLLOMA'!$D$9:$D$236,PROVINCIAL!$D12,'RED DE SALUD AREQUIPA CAYLLOMA'!AJ$9:AJ$236)","v":91},{"$f":"SUMIF('RED DE SALUD AREQUIPA CAYLLOMA'!$D$9:$D$236,PROVINCIAL!$D12,'RED DE SALUD AREQUIPA CAYLLOMA'!AK$9:AK$236)","v":91},{"$f":"SUMIF('RED DE SALUD AREQUIPA CAYLLOMA'!$D$9:$D$236,PROVINCIAL!$D12,'RED DE SALUD AREQUIPA CAYLLOMA'!AL$9:AL$236)","v":81},{"$f":"SUMIF('RED DE SALUD AREQUIPA CAYLLOMA'!$D$9:$D$236,PROVINCIAL!$D12,'RED DE SALUD AREQUIPA CAYLLOMA'!AM$9:AM$236)","v":66},{"$f":"SUMIF('RED DE SALUD AREQUIPA CAYLLOMA'!$D$9:$D$236,PROVINCIAL!$D12,'RED DE SALUD AREQUIPA CAYLLOMA'!AN$9:AN$236)","v":46},{"$f":"SUMIF('RED DE SALUD AREQUIPA CAYLLOMA'!$D$9:$D$236,PROVINCIAL!$D12,'RED DE SALUD AREQUIPA CAYLLOMA'!AO$9:AO$236)","v":46},{"$f":"SUMIF('RED DE SALUD AREQUIPA CAYLLOMA'!$D$9:$D$236,PROVINCIAL!$D12,'RED DE SALUD AREQUIPA CAYLLOMA'!AP$9:AP$236)","v":31},{"$f":"SUMIF('RED DE SALUD AREQUIPA CAYLLOMA'!$D$9:$D$236,PROVINCIAL!$D12,'RED DE SALUD AREQUIPA CAYLLOMA'!AQ$9:AQ$236)","v":44},{"$f":"SUMIF('RED DE SALUD AREQUIPA CAYLLOMA'!$D$9:$D$236,PROVINCIAL!$D12,'RED DE SALUD AREQUIPA CAYLLOMA'!AR$9:AR$236)","v":2},{"$f":"SUMIF('RED DE SALUD AREQUIPA CAYLLOMA'!$D$9:$D$236,PROVINCIAL!$D12,'RED DE SALUD AREQUIPA CAYLLOMA'!AS$9:AS$236)","v":23},{"$f":"SUMIF('RED DE SALUD AREQUIPA CAYLLOMA'!$D$9:$D$236,PROVINCIAL!$D12,'RED DE SALUD AREQUIPA CAYLLOMA'!AT$9:AT$236)","v":10},{"$f":"SUMIF('RED DE SALUD AREQUIPA CAYLLOMA'!$D$9:$D$236,PROVINCIAL!$D12,'RED DE SALUD AREQUIPA CAYLLOMA'!AU$9:AU$236)","v":56},{"$f":"SUMIF('RED DE SALUD AREQUIPA CAYLLOMA'!$D$9:$D$236,PROVINCIAL!$D12,'RED DE SALUD AREQUIPA CAYLLOMA'!AV$9:AV$236)","v":860},{"$f":"SUMIF('RED DE SALUD AREQUIPA CAYLLOMA'!$D$9:$D$236,PROVINCIAL!$D12,'RED DE SALUD AREQUIPA CAYLLOMA'!AW$9:AW$236)","v":79},{"$f":"SUMIF('RED DE SALUD AREQUIPA CAYLLOMA'!$D$9:$D$236,PROVINCIAL!$D12,'RED DE SALUD AREQUIPA CAYLLOMA'!AX$9:AX$236)","v":71},{"$f":"SUMIF('RED DE SALUD AREQUIPA CAYLLOMA'!$D$9:$D$236,PROVINCIAL!$D12,'RED DE SALUD AREQUIPA CAYLLOMA'!AY$9:AY$236)","v":323},{"$f":"SUMIF('RED DE SALUD AREQUIPA CAYLLOMA'!$D$9:$D$236,PROVINCIAL!$D12,'RED DE SALUD AREQUIPA CAYLLOMA'!AZ$9:AZ$236)","v":68},null,{"v":1719,"d":"1,719"},291,168,279,667,314]
["0405","AREQUIPA","AREQUIPA","CAYLLOMA",131822,{"$f":"SUMIF('RED DE SALUD AREQUIPA CAYLLOMA'!$D$9:$D$236,PROVINCIAL!$D13,'RED DE SALUD AREQUIPA CAYLLOMA'!J$9:J$236)","v":1351},{"$f":"SUMIF('RED DE SALUD AREQUIPA CAYLLOMA'!$D$9:$D$236,PROVINCIAL!$D13,'RED DE SALUD AREQUIPA CAYLLOMA'!K$9:K$236)","v":1419},{"$f":"SUMIF('RED DE SALUD AREQUIPA CAYLLOMA'!$D$9:$D$236,PROVINCIAL!$D13,'RED DE SALUD AREQUIPA CAYLLOMA'!L$9:L$236)","v":1377},{"$f":"SUMIF('RED DE SALUD AREQUIPA CAYLLOMA'!$D$9:$D$236,PROVINCIAL!$D13,'RED DE SALUD AREQUIPA CAYLLOMA'!M$9:M$236)","v":1551},{"$f":"SUMIF('RED DE SALUD AREQUIPA CAYLLOMA'!$D$9:$D$236,PROVINCIAL!$D13,'RED DE SALUD AREQUIPA CAYLLOMA'!N$9:N$236)","v":1416},{"$f":"SUMIF('RED DE SALUD AREQUIPA CAYLLOMA'!$D$9:$D$236,PROVINCIAL!$D13,'RED DE SALUD AREQUIPA CAYLLOMA'!O$9:O$236)","v":1855},{"$f":"SUMIF('RED DE SALUD AREQUIPA CAYLLOMA'!$D$9:$D$236,PROVINCIAL!$D13,'RED DE SALUD AREQUIPA CAYLLOMA'!P$9:P$236)","v":2045},{"$f":"SUMIF('RED DE SALUD AREQUIPA CAYLLOMA'!$D$9:$D$236,PROVINCIAL!$D13,'RED DE SALUD AREQUIPA CAYLLOMA'!Q$9:Q$236)","v":2190},{"$f":"SUMIF('RED DE SALUD AREQUIPA CAYLLOMA'!$D$9:$D$236,PROVINCIAL!$D13,'RED DE SALUD AREQUIPA CAYLLOMA'!R$9:R$236)","v":1944},{"$f":"SUMIF('RED DE SALUD AREQUIPA CAYLLOMA'!$D$9:$D$236,PROVINCIAL!$D13,'RED DE SALUD AREQUIPA CAYLLOMA'!S$9:S$236)","v":1980},{"$f":"SUMIF('RED DE SALUD AREQUIPA CAYLLOMA'!$D$9:$D$236,PROVINCIAL!$D13,'RED DE SALUD AREQUIPA CAYLLOMA'!T$9:T$236)","v":1962},{"$f":"SUMIF('RED DE SALUD AREQUIPA CAYLLOMA'!$D$9:$D$236,PROVINCIAL!$D13,'RED DE SALUD AREQUIPA CAYLLOMA'!U$9:U$236)","v":2091},{"$f":"SUMIF('RED DE SALUD AREQUIPA CAYLLOMA'!$D$9:$D$236,PROVINCIAL!$D13,'RED DE SALUD AREQUIPA CAYLLOMA'!V$9:V$236)","v":2139},{"$f":"SUMIF('RED DE SALUD AREQUIPA CAYLLOMA'!$D$9:$D$236,PROVINCIAL!$D13,'RED DE SALUD AREQUIPA CAYLLOMA'!W$9:W$236)","v":2075},{"$f":"SUMIF('RED DE SALUD AREQUIPA CAYLLOMA'!$D$9:$D$236,PROVINCIAL!$D13,'RED DE SALUD AREQUIPA CAYLLOMA'!X$9:X$236)","v":2017},{"$f":"SUMIF('RED DE SALUD AREQUIPA CAYLLOMA'!$D$9:$D$236,PROVINCIAL!$D13,'RED DE SALUD AREQUIPA CAYLLOMA'!Y$9:Y$236)","v":1933},{"$f":"SUMIF('RED DE SALUD AREQUIPA CAYLLOMA'!$D$9:$D$236,PROVINCIAL!$D13,'RED DE SALUD AREQUIPA CAYLLOMA'!Z$9:Z$236)","v":2217},{"$f":"SUMIF('RED DE SALUD AREQUIPA CAYLLOMA'!$D$9:$D$236,PROVINCIAL!$D13,'RED DE SALUD AREQUIPA CAYLLOMA'!AA$9:AA$236)","v":2172},{"$f":"SUMIF('RED DE SALUD AREQUIPA CAYLLOMA'!$D$9:$D$236,PROVINCIAL!$D13,'RED DE SALUD AREQUIPA CAYLLOMA'!AB$9:AB$236)","v":2062},{"$f":"SUMIF('RED DE SALUD AREQUIPA CAYLLOMA'!$D$9:$D$236,PROVINCIAL!$D13,'RED DE SALUD AREQUIPA CAYLLOMA'!AC$9:AC$236)","v":1977},{"$f":"SUMIF('RED DE SALUD AREQUIPA CAYLLOMA'!$D$9:$D$236,PROVINCIAL!$D13,'RED DE SALUD AREQUIPA CAYLLOMA'!AD$9:AD$236)","v":10087},{"$f":"SUMIF('RED DE SALUD AREQUIPA CAYLLOMA'!$D$9:$D$236,PROVINCIAL!$D13,'RED DE SALUD AREQUIPA CAYLLOMA'!AE$9:AE$236)","v":11424},{"$f":"SUMIF('RED DE SALUD AREQUIPA CAYLLOMA'!$D$9:$D$236,PROVINCIAL!$D13,'RED DE SALUD AREQUIPA CAYLLOMA'!AF$9:AF$236)","v":11097},{"$f":"SUMIF('RED DE SALUD AREQUIPA CAYLLOMA'!$D$9:$D$236,PROVINCIAL!$D13,'RED DE SALUD AREQUIPA CAYLLOMA'!AG$9:AG$236)","v":10796},{"$f":"SUMIF('RED DE SALUD AREQUIPA CAYLLOMA'!$D$9:$D$236,PROVINCIAL!$D13,'RED DE SALUD AREQUIPA CAYLLOMA'!AH$9:AH$236)","v":9906},{"$f":"SUMIF('RED DE SALUD AREQUIPA CAYLLOMA'!$D$9:$D$236,PROVINCIAL!$D13,'RED DE SALUD AREQUIPA CAYLLOMA'!AI$9:AI$236)","v":9106},{"$f":"SUMIF('RED DE SALUD AREQUIPA CAYLLOMA'!$D$9:$D$236,PROVINCIAL!$D13,'RED DE SALUD AREQUIPA CAYLLOMA'!AJ$9:AJ$236)","v":7496},{"$f":"SUMIF('RED DE SALUD AREQUIPA CAYLLOMA'!$D$9:$D$236,PROVINCIAL!$D13,'RED DE SALUD AREQUIPA CAYLLOMA'!AK$9:AK$236)","v":6671},{"$f":"SUMIF('RED DE SALUD AREQUIPA CAYLLOMA'!$D$9:$D$236,PROVINCIAL!$D13,'RED DE SALUD AREQUIPA CAYLLOMA'!AL$9:AL$236)","v":5201},{"$f":"SUMIF('RED DE SALUD AREQUIPA CAYLLOMA'!$D$9:$D$236,PROVINCIAL!$D13,'RED DE SALUD AREQUIPA CAYLLOMA'!AM$9:AM$236)","v":4153},{"$f":"SUMIF('RED DE SALUD AREQUIPA CAYLLOMA'!$D$9:$D$236,PROVINCIAL!$D13,'RED DE SALUD AREQUIPA CAYLLOMA'!AN$9:AN$236)","v":3068},{"$f":"SUMIF('RED DE SALUD AREQUIPA CAYLLOMA'!$D$9:$D$236,PROVINCIAL!$D13,'RED DE SALUD AREQUIPA CAYLLOMA'!AO$9:AO$236)","v":2235},{"$f":"SUMIF('RED DE SALUD AREQUIPA CAYLLOMA'!$D$9:$D$236,PROVINCIAL!$D13,'RED DE SALUD AREQUIPA CAYLLOMA'!AP$9:AP$236)","v":1430},{"$f":"SUMIF('RED DE SALUD AREQUIPA CAYLLOMA'!$D$9:$D$236,PROVINCIAL!$D13,'RED DE SALUD AREQUIPA CAYLLOMA'!AQ$9:AQ$236)","v":1379},{"$f":"SUMIF('RED DE SALUD AREQUIPA CAYLLOMA'!$D$9:$D$236,PROVINCIAL!$D13,'RED DE SALUD AREQUIPA CAYLLOMA'!AR$9:AR$236)","v":100},{"$f":"SUMIF('RED DE SALUD AREQUIPA CAYLLOMA'!$D$9:$D$236,PROVINCIAL!$D13,'RED DE SALUD AREQUIPA CAYLLOMA'!AS$9:AS$236)","v":853},{"$f":"SUMIF('RED DE SALUD AREQUIPA CAYLLOMA'!$D$9:$D$236,PROVINCIAL!$D13,'RED DE SALUD AREQUIPA CAYLLOMA'!AT$9:AT$236)","v":857},{"$f":"SUMIF('RED DE SALUD AREQUIPA CAYLLOMA'!$D$9:$D$236,PROVINCIAL!$D13,'RED DE SALUD AREQUIPA CAYLLOMA'!AU$9:AU$236)","v":2707},{"$f":"SUMIF('RED DE SALUD AREQUIPA CAYLLOMA'!$D$9:$D$236,PROVINCIAL!$D13,'RED DE SALUD AREQUIPA CAYLLOMA'!AV$9:AV$236)","v":{"v":67792,"d":"67,792"}},{"$f":"SUMIF('RED DE SALUD AREQUIPA CAYLLOMA'!$D$9:$D$236,PROVINCIAL!$D13,'RED DE SALUD AREQUIPA CAYLLOMA'!AW$9:AW$236)","v":5195},{"$f":"SUMIF('RED DE SALUD AREQUIPA CAYLLOMA'!$D$9:$D$236,PROVINCIAL!$D13,'RED DE SALUD AREQUIPA CAYLLOMA'!AX$9:AX$236)","v":5182},{"$f":"SUMIF('RED DE SALUD AREQUIPA CAYLLOMA'!$D$9:$D$236,PROVINCIAL!$D13,'RED DE SALUD AREQUIPA CAYLLOMA'!AY$9:AY$236)","v":31449},{"$f":"SUMIF('RED DE SALUD AREQUIPA CAYLLOMA'!$D$9:$D$236,PROVINCIAL!$D13,'RED DE SALUD AREQUIPA CAYLLOMA'!AZ$9:AZ$236)","v":3786},null,{"v":131822,"d":"131,822"},{"v":21181,"d":"21,181"},{"v":12553,"d":"12,553"},{"v":25550,"d":"25,550"},{"v":55072,"d":"55,072"},{"v":17466,"d":"17,466"}]
["0406","AREQUIPA","AREQUIPA","CONDESUYOS",2534,{"$f":"SUMIF('RED DE SALUD AREQUIPA CAYLLOMA'!$D$9:$D$236,PROVINCIAL!$D14,'RED DE SALUD AREQUIPA CAYLLOMA'!J$9:J$236)","v":29},{"$f":"SUMIF('RED DE SALUD AREQUIPA CAYLLOMA'!$D$9:$D$236,PROVINCIAL!$D14,'RED DE SALUD AREQUIPA CAYLLOMA'!K$9:K$236)","v":25},{"$f":"SUMIF('RED DE SALUD AREQUIPA CAYLLOMA'!$D$9:$D$236,PROVINCIAL!$D14,'RED DE SALUD AREQUIPA CAYLLOMA'!L$9:L$236)","v":35},{"$f":"SUMIF('RED DE SALUD AREQUIPA CAYLLOMA'!$D$9:$D$236,PROVINCIAL!$D14,'RED DE SALUD AREQUIPA CAYLLOMA'!M$9:M$236)","v":27},{"$f":"SUMIF('RED DE SALUD AREQUIPA CAYLLOMA'!$D$9:$D$236,PROVINCIAL!$D14,'RED DE SALUD AREQUIPA CAYLLOMA'!N$9:N$236)","v":30},{"$f":"SUMIF('RED DE SALUD AREQUIPA CAYLLOMA'!$D$9:$D$236,PROVINCIAL!$D14,'RED DE SALUD AREQUIPA CAYLLOMA'!O$9:O$236)","v":38},{"$f":"SUMIF('RED DE SALUD AREQUIPA CAYLLOMA'!$D$9:$D$236,PROVINCIAL!$D14,'RED DE SALUD AREQUIPA CAYLLOMA'!P$9:P$236)","v":42},{"$f":"SUMIF('RED DE SALUD AREQUIPA CAYLLOMA'!$D$9:$D$236,PROVINCIAL!$D14,'RED DE SALUD AREQUIPA CAYLLOMA'!Q$9:Q$236)","v":42},{"$f":"SUMIF('RED DE SALUD AREQUIPA CAYLLOMA'!$D$9:$D$236,PROVINCIAL!$D14,'RED DE SALUD AREQUIPA CAYLLOMA'!R$9:R$236)","v":44},{"$f":"SUMIF('RED DE SALUD AREQUIPA CAYLLOMA'!$D$9:$D$236,PROVINCIAL!$D14,'RED DE SALUD AREQUIPA CAYLLOMA'!S$9:S$236)","v":43},{"$f":"SUMIF('RED DE SALUD AREQUIPA CAYLLOMA'!$D$9:$D$236,PROVINCIAL!$D14,'RED DE SALUD AREQUIPA CAYLLOMA'!T$9:T$236)","v":45},{"$f":"SUMIF('RED DE SALUD AREQUIPA CAYLLOMA'!$D$9:$D$236,PROVINCIAL!$D14,'RED DE SALUD AREQUIPA CAYLLOMA'!U$9:U$236)","v":47},{"$f":"SUMIF('RED DE SALUD AREQUIPA CAYLLOMA'!$D$9:$D$236,PROVINCIAL!$D14,'RED DE SALUD AREQUIPA CAYLLOMA'!V$9:V$236)","v":42},{"$f":"SUMIF('RED DE SALUD AREQUIPA CAYLLOMA'!$D$9:$D$236,PROVINCIAL!$D14,'RED DE SALUD AREQUIPA CAYLLOMA'!W$9:W$236)","v":58},{"$f":"SUMIF('RED DE SALUD AREQUIPA CAYLLOMA'!$D$9:$D$236,PROVINCIAL!$D14,'RED DE SALUD AREQUIPA CAYLLOMA'!X$9:X$236)","v":47},{"$f":"SUMIF('RED DE SALUD AREQUIPA CAYLLOMA'!$D$9:$D$236,PROVINCIAL!$D14,'RED DE SALUD AREQUIPA CAYLLOMA'!Y$9:Y$236)","v":66},{"$f":"SUMIF('RED DE SALUD AREQUIPA CAYLLOMA'!$D$9:$D$236,PROVINCIAL!$D14,'RED DE SALUD AREQUIPA CAYLLOMA'!Z$9:Z$236)","v":61},{"$f":"SUMIF('RED DE SALUD AREQUIPA CAYLLOMA'!$D$9:$D$236,PROVINCIAL!$D14,'RED DE SALUD AREQUIPA CAYLLOMA'!AA$9:AA$236)","v":56},{"$f":"SUMIF('RED DE SALUD AREQUIPA CAYLLOMA'!$D$9:$D$236,PROVINCIAL!$D14,'RED DE SALUD AREQUIPA CAYLLOMA'!AB$9:AB$236)","v":54},{"$f":"SUMIF('RED DE SALUD AREQUIPA CAYLLOMA'!$D$9:$D$236,PROVINCIAL!$D14,'RED DE SALUD AREQUIPA CAYLLOMA'!AC$9:AC$236)","v":54},{"$f":"SUMIF('RED DE SALUD AREQUIPA CAYLLOMA'!$D$9:$D$236,PROVINCIAL!$D14,'RED DE SALUD AREQUIPA CAYLLOMA'!AD$9:AD$236)","v":253},{"$f":"SUMIF('RED DE SALUD AREQUIPA CAYLLOMA'!$D$9:$D$236,PROVINCIAL!$D14,'RED DE SALUD AREQUIPA CAYLLOMA'!AE$9:AE$236)","v":222},{"$f":"SUMIF('RED DE SALUD AREQUIPA CAYLLOMA'!$D$9:$D$236,PROVINCIAL!$D14,'RED DE SALUD AREQUIPA CAYLLOMA'!AF$9:AF$236)","v":194},{"$f":"SUMIF('RED DE SALUD AREQUIPA CAYLLOMA'!$D$9:$D$236,PROVINCIAL!$D14,'RED DE SALUD AREQUIPA CAYLLOMA'!AG$9:AG$236)","v":167},{"$f":"SUMIF('RED DE SALUD AREQUIPA CAYLLOMA'!$D$9:$D$236,PROVINCIAL!$D14,'RED DE SALUD AREQUIPA CAYLLOMA'!AH$9:AH$236)","v":142},{"$f":"SUMIF('RED DE SALUD AREQUIPA CAYLLOMA'!$D$9:$D$236,PROVINCIAL!$D14,'RED DE SALUD AREQUIPA CAYLLOMA'!AI$9:AI$236)","v":150},{"$f":"SUMIF('RED DE SALUD AREQUIPA CAYLLOMA'!$D$9:$D$236,PROVINCIAL!$D14,'RED DE SALUD AREQUIPA CAYLLOMA'!AJ$9:AJ$236)","v":107},{"$f":"SUMIF('RED DE SALUD AREQUIPA CAYLLOMA'!$D$9:$D$236,PROVINCIAL!$D14,'RED DE SALUD AREQUIPA CAYLLOMA'!AK$9:AK$236)","v":133},{"$f":"SUMIF('RED DE SALUD AREQUIPA CAYLLOMA'!$D$9:$D$236,PROVINCIAL!$D14,'RED DE SALUD AREQUIPA CAYLLOMA'!AL$9:AL$236)","v":84},{"$f":"SUMIF('RED DE SALUD AREQUIPA CAYLLOMA'!$D$9:$D$236,PROVINCIAL!$D14,'RED DE SALUD AREQUIPA CAYLLOMA'!AM$9:AM$236)","v":74},{"$f":"SUMIF('RED DE SALUD AREQUIPA CAYLLOMA'!$D$9:$D$236,PROVINCIAL!$D14,'RED DE SALUD AREQUIPA CAYLLOMA'!AN$9:AN$236)","v":43},{"$f":"SUMIF('RED DE SALUD AREQUIPA CAYLLOMA'!$D$9:$D$236,PROVINCIAL!$D14,'RED DE SALUD AREQUIPA CAYLLOMA'!AO$9:AO$236)","v":27},{"$f":"SUMIF('RED DE SALUD AREQUIPA CAYLLOMA'!$D$9:$D$236,PROVINCIAL!$D14,'RED DE SALUD AREQUIPA CAYLLOMA'!AP$9:AP$236)","v":26},{"$f":"SUMIF('RED DE SALUD AREQUIPA CAYLLOMA'!$D$9:$D$236,PROVINCIAL!$D14,'RED DE SALUD AREQUIPA CAYLLOMA'!AQ$9:AQ$236)","v":27},{"$f":"SUMIF('RED DE SALUD AREQUIPA CAYLLOMA'!$D$9:$D$236,PROVINCIAL!$D14,'RED DE SALUD AREQUIPA CAYLLOMA'!AR$9:AR$236)","v":2},{"$f":"SUMIF('RED DE SALUD AREQUIPA CAYLLOMA'!$D$9:$D$236,PROVINCIAL!$D14,'RED DE SALUD AREQUIPA CAYLLOMA'!AS$9:AS$236)","v":17},{"$f":"SUMIF('RED DE SALUD AREQUIPA CAYLLOMA'!$D$9:$D$236,PROVINCIAL!$D14,'RED DE SALUD AREQUIPA CAYLLOMA'!AT$9:AT$236)","v":12},{"$f":"SUMIF('RED DE SALUD AREQUIPA CAYLLOMA'!$D$9:$D$236,PROVINCIAL!$D14,'RED DE SALUD AREQUIPA CAYLLOMA'!AU$9:AU$236)","v":61},{"$f":"SUMIF('RED DE SALUD AREQUIPA CAYLLOMA'!$D$9:$D$236,PROVINCIAL!$D14,'RED DE SALUD AREQUIPA CAYLLOMA'!AV$9:AV$236)","v":{"v":1273,"d":"1,273"}},{"$f":"SUMIF('RED DE SALUD AREQUIPA CAYLLOMA'!$D$9:$D$236,PROVINCIAL!$D14,'RED DE SALUD AREQUIPA CAYLLOMA'!AW$9:AW$236)","v":125},{"$f":"SUMIF('RED DE SALUD AREQUIPA CAYLLOMA'!$D$9:$D$236,PROVINCIAL!$D14,'RED DE SALUD AREQUIPA CAYLLOMA'!AX$9:AX$236)","v":154},{"$f":"SUMIF('RED DE SALUD AREQUIPA CAYLLOMA'!$D$9:$D$236,PROVINCIAL!$D14,'RED DE SALUD AREQUIPA CAYLLOMA'!AY$9:AY$236)","v":544},{"$f":"SUMIF('RED DE SALUD AREQUIPA CAYLLOMA'!$D$9:$D$236,PROVINCIAL!$D14,'RED DE SALUD AREQUIPA CAYLLOMA'!AZ$9:AZ$236)","v":61},null,{"v":2534,"d":"2,534"},447,330,583,893,281]
["0407","AREQUIPA","AREQUIPA","ISLAY",1195,{"$f":"SUMIF('RED DE SALUD AREQUIPA CAYLLOMA'!$D$9:$D$236,PROVINCIAL!$D15,'RED DE SALUD AREQUIPA CAYLLOMA'!J$9:J$236)","v":15},{"$f":"SUMIF('RED DE SALUD AREQUIPA CAYLLOMA'!$D$9:$D$236,PROVINCIAL!$D15,'RED DE SALUD AREQUIPA CAYLLOMA'!K$9:K$236)","v":13},{"$f":"SUMIF('RED DE SALUD AREQUIPA CAYLLOMA'!$D$9:$D$236,PROVINCIAL!$D15,'RED DE SALUD AREQUIPA CAYLLOMA'!L$9:L$236)","v":13},{"$f":"SUMIF('RED DE SALUD AREQUIPA CAYLLOMA'!$D$9:$D$236,PROVINCIAL!$D15,'RED DE SALUD AREQUIPA CAYLLOMA'!M$9:M$236)","v":14},{"$f":"SUMIF('RED DE SALUD AREQUIPA CAYLLOMA'!$D$9:$D$236,PROVINCIAL!$D15,'RED DE SALUD AREQUIPA CAYLLOMA'!N$9:N$236)","v":16},{"$f":"SUMIF('RED DE SALUD AREQUIPA CAYLLOMA'!$D$9:$D$236,PROVINCIAL!$D15,'RED DE SALUD AREQUIPA CAYLLOMA'!O$9:O$236)","v":15},{"$f":"SUMIF('RED DE SALUD AREQUIPA CAYLLOMA'!$D$9:$D$236,PROVINCIAL!$D15,'RED DE SALUD AREQUIPA CAYLLOMA'!P$9:P$236)","v":13},{"$f":"SUMIF('RED DE SALUD AREQUIPA CAYLLOMA'!$D$9:$D$236,PROVINCIAL!$D15,'RED DE SALUD AREQUIPA CAYLLOMA'!Q$9:Q$236)","v":16},{"$f":"SUMIF('RED DE SALUD AREQUIPA CAYLLOMA'!$D$9:$D$236,PROVINCIAL!$D15,'RED DE SALUD AREQUIPA CAYLLOMA'!R$9:R$236)","v":19},{"$f":"SUMIF('RED DE SALUD AREQUIPA CAYLLOMA'!$D$9:$D$236,PROVINCIAL!$D15,'RED DE SALUD AREQUIPA CAYLLOMA'!S$9:S$236)","v":14},{"$f":"SUMIF('RED DE SALUD AREQUIPA CAYLLOMA'!$D$9:$D$236,PROVINCIAL!$D15,'RED DE SALUD AREQUIPA CAYLLOMA'!T$9:T$236)","v":13},{"$f":"SUMIF('RED DE SALUD AREQUIPA CAYLLOMA'!$D$9:$D$236,PROVINCIAL!$D15,'RED DE SALUD AREQUIPA CAYLLOMA'!U$9:U$236)","v":14},{"$f":"SUMIF('RED DE SALUD AREQUIPA CAYLLOMA'!$D$9:$D$236,PROVINCIAL!$D15,'RED DE SALUD AREQUIPA CAYLLOMA'!V$9:V$236)","v":14},{"$f":"SUMIF('RED DE SALUD AREQUIPA CAYLLOMA'!$D$9:$D$236,PROVINCIAL!$D15,'RED DE SALUD AREQUIPA CAYLLOMA'!W$9:W$236)","v":17},{"$f":"SUMIF('RED DE SALUD AREQUIPA CAYLLOMA'!$D$9:$D$236,PROVINCIAL!$D15,'RED DE SALUD AREQUIPA CAYLLOMA'!X$9:X$236)","v":16},{"$f":"SUMIF('RED DE SALUD AREQUIPA CAYLLOMA'!$D$9:$D$236,PROVINCIAL!$D15,'RED DE SALUD AREQUIPA CAYLLOMA'!Y$9:Y$236)","v":17},{"$f":"SUMIF('RED DE SALUD AREQUIPA CAYLLOMA'!$D$9:$D$236,PROVINCIAL!$D15,'RED DE SALUD AREQUIPA CAYLLOMA'!Z$9:Z$236)","v":14},{"$f":"SUMIF('RED DE SALUD AREQUIPA CAYLLOMA'!$D$9:$D$236,PROVINCIAL!$D15,'RED DE SALUD AREQUIPA CAYLLOMA'!AA$9:AA$236)","v":16},{"$f":"SUMIF('RED DE SALUD AREQUIPA CAYLLOMA'!$D$9:$D$236,PROVINCIAL!$D15,'RED DE SALUD AREQUIPA CAYLLOMA'!AB$9:AB$236)","v":15},{"$f":"SUMIF('RED DE SALUD AREQUIPA CAYLLOMA'!$D$9:$D$236,PROVINCIAL!$D15,'RED DE SALUD AREQUIPA CAYLLOMA'!AC$9:AC$236)","v":17},{"$f":"SUMIF('RED DE SALUD AREQUIPA CAYLLOMA'!$D$9:$D$236,PROVINCIAL!$D15,'RED DE SALUD AREQUIPA CAYLLOMA'!AD$9:AD$236)","v":79},{"$f":"SUMIF('RED DE SALUD AREQUIPA CAYLLOMA'!$D$9:$D$236,PROVINCIAL!$D15,'RED DE SALUD AREQUIPA CAYLLOMA'!AE$9:AE$236)","v":96},{"$f":"SUMIF('RED DE SALUD AREQUIPA CAYLLOMA'!$D$9:$D$236,PROVINCIAL!$D15,'RED DE SALUD AREQUIPA CAYLLOMA'!AF$9:AF$236)","v":97},{"$f":"SUMIF('RED DE SALUD AREQUIPA CAYLLOMA'!$D$9:$D$236,PROVINCIAL!$D15,'RED DE SALUD AREQUIPA CAYLLOMA'!AG$9:AG$236)","v":100},{"$f":"SUMIF('RED DE SALUD AREQUIPA CAYLLOMA'!$D$9:$D$236,PROVINCIAL!$D15,'RED DE SALUD AREQUIPA CAYLLOMA'!AH$9:AH$236)","v":89},{"$f":"SUMIF('RED DE SALUD AREQUIPA CAYLLOMA'!$D$9:$D$236,PROVINCIAL!$D15,'RED DE SALUD AREQUIPA CAYLLOMA'!AI$9:AI$236)","v":83},{"$f":"SUMIF('RED DE SALUD AREQUIPA CAYLLOMA'!$D$9:$D$236,PROVINCIAL!$D15,'RED DE SALUD AREQUIPA CAYLLOMA'!AJ$9:AJ$236)","v":80},{"$f":"SUMIF('RED DE SALUD AREQUIPA CAYLLOMA'!$D$9:$D$236,PROVINCIAL!$D15,'RED DE SALUD AREQUIPA CAYLLOMA'!AK$9:AK$236)","v":77},{"$f":"SUMIF('RED DE SALUD AREQUIPA CAYLLOMA'!$D$9:$D$236,PROVINCIAL!$D15,'RED DE SALUD AREQUIPA CAYLLOMA'!AL$9:AL$236)","v":56},{"$f":"SUMIF('RED DE SALUD AREQUIPA CAYLLOMA'!$D$9:$D$236,PROVINCIAL!$D15,'RED DE SALUD AREQUIPA CAYLLOMA'!AM$9:AM$236)","v":50},{"$f":"SUMIF('RED DE SALUD AREQUIPA CAYLLOMA'!$D$9:$D$236,PROVINCIAL!$D15,'RED DE SALUD AREQUIPA CAYLLOMA'!AN$9:AN$236)","v":31},{"$f":"SUMIF('RED DE SALUD AREQUIPA CAYLLOMA'!$D$9:$D$236,PROVINCIAL!$D15,'RED DE SALUD AREQUIPA CAYLLOMA'!AO$9:AO$236)","v":23},{"$f":"SUMIF('RED DE SALUD AREQUIPA CAYLLOMA'!$D$9:$D$236,PROVINCIAL!$D15,'RED DE SALUD AREQUIPA CAYLLOMA'!AP$9:AP$236)","v":16},{"$f":"SUMIF('RED DE SALUD AREQUIPA CAYLLOMA'!$D$9:$D$236,PROVINCIAL!$D15,'RED DE SALUD AREQUIPA CAYLLOMA'!AQ$9:AQ$236)","v":17},{"$f":"SUMIF('RED DE SALUD AREQUIPA CAYLLOMA'!$D$9:$D$236,PROVINCIAL!$D15,'RED DE SALUD AREQUIPA CAYLLOMA'!AR$9:AR$236)","v":1},{"$f":"SUMIF('RED DE SALUD AREQUIPA CAYLLOMA'!$D$9:$D$236,PROVINCIAL!$D15,'RED DE SALUD AREQUIPA CAYLLOMA'!AS$9:AS$236)","v":6},{"$f":"SUMIF('RED DE SALUD AREQUIPA CAYLLOMA'!$D$9:$D$236,PROVINCIAL!$D15,'RED DE SALUD AREQUIPA CAYLLOMA'!AT$9:AT$236)","v":8},{"$f":"SUMIF('RED DE SALUD AREQUIPA CAYLLOMA'!$D$9:$D$236,PROVINCIAL!$D15,'RED DE SALUD AREQUIPA CAYLLOMA'!AU$9:AU$236)","v":21},{"$f":"SUMIF('RED DE SALUD AREQUIPA CAYLLOMA'!$D$9:$D$236,PROVINCIAL!$D15,'RED DE SALUD AREQUIPA CAYLLOMA'!AV$9:AV$236)","v":602},{"$f":"SUMIF('RED DE SALUD AREQUIPA CAYLLOMA'!$D$9:$D$236,PROVINCIAL!$D15,'RED DE SALUD AREQUIPA CAYLLOMA'!AW$9:AW$236)","v":38},{"$f":"SUMIF('RED DE SALUD AREQUIPA CAYLLOMA'!$D$9:$D$236,PROVINCIAL!$D15,'RED DE SALUD AREQUIPA CAYLLOMA'!AX$9:AX$236)","v":41},{"$f":"SUMIF('RED DE SALUD AREQUIPA CAYLLOMA'!$D$9:$D$236,PROVINCIAL!$D15,'RED DE SALUD AREQUIPA CAYLLOMA'!AY$9:AY$236)","v":273},{"$f":"SUMIF('RED DE SALUD AREQUIPA CAYLLOMA'!$D$9:$D$236,PROVINCIAL!$D15,'RED DE SALUD AREQUIPA CAYLLOMA'!AZ$9:AZ$236)","v":38},null,{"v":1195,"d":"1,195"},175,94,207,526,193]
["0408","AREQUIPA","AREQUIPA","LA UNION",0,{"$f":"SUMIF('RED DE SALUD AREQUIPA CAYLLOMA'!$D$9:$D$236,PROVINCIAL!$D16,'RED DE SALUD AREQUIPA CAYLLOMA'!J$9:J$236)","v":0},{"$f":"SUMIF('RED DE SALUD AREQUIPA CAYLLOMA'!$D$9:$D$236,PROVINCIAL!$D16,'RED DE SALUD AREQUIPA CAYLLOMA'!K$9:K$236)","v":0},{"$f":"SUMIF('RED DE SALUD AREQUIPA CAYLLOMA'!$D$9:$D$236,PROVINCIAL!$D16,'RED DE SALUD AREQUIPA CAYLLOMA'!L$9:L$236)","v":0},{"$f":"SUMIF('RED DE SALUD AREQUIPA CAYLLOMA'!$D$9:$D$236,PROVINCIAL!$D16,'RED DE SALUD AREQUIPA CAYLLOMA'!M$9:M$236)","v":0},{"$f":"SUMIF('RED DE SALUD AREQUIPA CAYLLOMA'!$D$9:$D$236,PROVINCIAL!$D16,'RED DE SALUD AREQUIPA CAYLLOMA'!N$9:N$236)","v":0},{"$f":"SUMIF('RED DE SALUD AREQUIPA CAYLLOMA'!$D$9:$D$236,PROVINCIAL!$D16,'RED DE SALUD AREQUIPA CAYLLOMA'!O$9:O$236)","v":0},{"$f":"SUMIF('RED DE SALUD AREQUIPA CAYLLOMA'!$D$9:$D$236,PROVINCIAL!$D16,'RED DE SALUD AREQUIPA CAYLLOMA'!P$9:P$236)","v":0},{"$f":"SUMIF('RED DE SALUD AREQUIPA CAYLLOMA'!$D$9:$D$236,PROVINCIAL!$D16,'RED DE SALUD AREQUIPA CAYLLOMA'!Q$9:Q$236)","v":0},{"$f":"SUMIF('RED DE SALUD AREQUIPA CAYLLOMA'!$D$9:$D$236,PROVINCIAL!$D16,'RED DE SALUD AREQUIPA CAYLLOMA'!R$9:R$236)","v":0},{"$f":"SUMIF('RED DE SALUD AREQUIPA CAYLLOMA'!$D$9:$D$236,PROVINCIAL!$D16,'RED DE SALUD AREQUIPA CAYLLOMA'!S$9:S$236)","v":0},{"$f":"SUMIF('RED DE SALUD AREQUIPA CAYLLOMA'!$D$9:$D$236,PROVINCIAL!$D16,'RED DE SALUD AREQUIPA CAYLLOMA'!T$9:T$236)","v":0},{"$f":"SUMIF('RED DE SALUD AREQUIPA CAYLLOMA'!$D$9:$D$236,PROVINCIAL!$D16,'RED DE SALUD AREQUIPA CAYLLOMA'!U$9:U$236)","v":0},{"$f":"SUMIF('RED DE SALUD AREQUIPA CAYLLOMA'!$D$9:$D$236,PROVINCIAL!$D16,'RED DE SALUD AREQUIPA CAYLLOMA'!V$9:V$236)","v":0},{"$f":"SUMIF('RED DE SALUD AREQUIPA CAYLLOMA'!$D$9:$D$236,PROVINCIAL!$D16,'RED DE SALUD AREQUIPA CAYLLOMA'!W$9:W$236)","v":0},{"$f":"SUMIF('RED DE SALUD AREQUIPA CAYLLOMA'!$D$9:$D$236,PROVINCIAL!$D16,'RED DE SALUD AREQUIPA CAYLLOMA'!X$9:X$236)","v":0},{"$f":"SUMIF('RED DE SALUD AREQUIPA CAYLLOMA'!$D$9:$D$236,PROVINCIAL!$D16,'RED DE SALUD AREQUIPA CAYLLOMA'!Y$9:Y$236)","v":0},{"$f":"SUMIF('RED DE SALUD AREQUIPA CAYLLOMA'!$D$9:$D$236,PROVINCIAL!$D16,'RED DE SALUD AREQUIPA CAYLLOMA'!Z$9:Z$236)","v":0},{"$f":"SUMIF('RED DE SALUD AREQUIPA CAYLLOMA'!$D$9:$D$236,PROVINCIAL!$D16,'RED DE SALUD AREQUIPA CAYLLOMA'!AA$9:AA$236)","v":0},{"$f":"SUMIF('RED DE SALUD AREQUIPA CAYLLOMA'!$D$9:$D$236,PROVINCIAL!$D16,'RED DE SALUD AREQUIPA CAYLLOMA'!AB$9:AB$236)","v":0},{"$f":"SUMIF('RED DE SALUD AREQUIPA CAYLLOMA'!$D$9:$D$236,PROVINCIAL!$D16,'RED DE SALUD AREQUIPA CAYLLOMA'!AC$9:AC$236)","v":0},{"$f":"SUMIF('RED DE SALUD AREQUIPA CAYLLOMA'!$D$9:$D$236,PROVINCIAL!$D16,'RED DE SALUD AREQUIPA CAYLLOMA'!AD$9:AD$236)","v":0},{"$f":"SUMIF('RED DE SALUD AREQUIPA CAYLLOMA'!$D$9:$D$236,PROVINCIAL!$D16,'RED DE SALUD AREQUIPA CAYLLOMA'!AE$9:AE$236)","v":0},{"$f":"SUMIF('RED DE SALUD AREQUIPA CAYLLOMA'!$D$9:$D$236,PROVINCIAL!$D16,'RED DE SALUD AREQUIPA CAYLLOMA'!AF$9:AF$236)","v":0},{"$f":"SUMIF('RED DE SALUD AREQUIPA CAYLLOMA'!$D$9:$D$236,PROVINCIAL!$D16,'RED DE SALUD AREQUIPA CAYLLOMA'!AG$9:AG$236)","v":0},{"$f":"SUMIF('RED DE SALUD AREQUIPA CAYLLOMA'!$D$9:$D$236,PROVINCIAL!$D16,'RED DE SALUD AREQUIPA CAYLLOMA'!AH$9:AH$236)","v":0},{"$f":"SUMIF('RED DE SALUD AREQUIPA CAYLLOMA'!$D$9:$D$236,PROVINCIAL!$D16,'RED DE SALUD AREQUIPA CAYLLOMA'!AI$9:AI$236)","v":0},{"$f":"SUMIF('RED DE SALUD AREQUIPA CAYLLOMA'!$D$9:$D$236,PROVINCIAL!$D16,'RED DE SALUD AREQUIPA CAYLLOMA'!AJ$9:AJ$236)","v":0},{"$f":"SUMIF('RED DE SALUD AREQUIPA CAYLLOMA'!$D$9:$D$236,PROVINCIAL!$D16,'RED DE SALUD AREQUIPA CAYLLOMA'!AK$9:AK$236)","v":0},{"$f":"SUMIF('RED DE SALUD AREQUIPA CAYLLOMA'!$D$9:$D$236,PROVINCIAL!$D16,'RED DE SALUD AREQUIPA CAYLLOMA'!AL$9:AL$236)","v":0},{"$f":"SUMIF('RED DE SALUD AREQUIPA CAYLLOMA'!$D$9:$D$236,PROVINCIAL!$D16,'RED DE SALUD AREQUIPA CAYLLOMA'!AM$9:AM$236)","v":0},{"$f":"SUMIF('RED DE SALUD AREQUIPA CAYLLOMA'!$D$9:$D$236,PROVINCIAL!$D16,'RED DE SALUD AREQUIPA CAYLLOMA'!AN$9:AN$236)","v":0},{"$f":"SUMIF('RED DE SALUD AREQUIPA CAYLLOMA'!$D$9:$D$236,PROVINCIAL!$D16,'RED DE SALUD AREQUIPA CAYLLOMA'!AO$9:AO$236)","v":0},{"$f":"SUMIF('RED DE SALUD AREQUIPA CAYLLOMA'!$D$9:$D$236,PROVINCIAL!$D16,'RED DE SALUD AREQUIPA CAYLLOMA'!AP$9:AP$236)","v":0},{"$f":"SUMIF('RED DE SALUD AREQUIPA CAYLLOMA'!$D$9:$D$236,PROVINCIAL!$D16,'RED DE SALUD AREQUIPA CAYLLOMA'!AQ$9:AQ$236)","v":0},{"$f":"SUMIF('RED DE SALUD AREQUIPA CAYLLOMA'!$D$9:$D$236,PROVINCIAL!$D16,'RED DE SALUD AREQUIPA CAYLLOMA'!AR$9:AR$236)","v":0},{"$f":"SUMIF('RED DE SALUD AREQUIPA CAYLLOMA'!$D$9:$D$236,PROVINCIAL!$D16,'RED DE SALUD AREQUIPA CAYLLOMA'!AS$9:AS$236)","v":0},{"$f":"SUMIF('RED DE SALUD AREQUIPA CAYLLOMA'!$D$9:$D$236,PROVINCIAL!$D16,'RED DE SALUD AREQUIPA CAYLLOMA'!AT$9:AT$236)","v":0},{"$f":"SUMIF('RED DE SALUD AREQUIPA CAYLLOMA'!$D$9:$D$236,PROVINCIAL!$D16,'RED DE SALUD AREQUIPA CAYLLOMA'!AU$9:AU$236)","v":0},{"$f":"SUMIF('RED DE SALUD AREQUIPA CAYLLOMA'!$D$9:$D$236,PROVINCIAL!$D16,'RED DE SALUD AREQUIPA CAYLLOMA'!AV$9:AV$236)","v":0},{"$f":"SUMIF('RED DE SALUD AREQUIPA CAYLLOMA'!$D$9:$D$236,PROVINCIAL!$D16,'RED DE SALUD AREQUIPA CAYLLOMA'!AW$9:AW$236)","v":0},{"$f":"SUMIF('RED DE SALUD AREQUIPA CAYLLOMA'!$D$9:$D$236,PROVINCIAL!$D16,'RED DE SALUD AREQUIPA CAYLLOMA'!AX$9:AX$236)","v":0},{"$f":"SUMIF('RED DE SALUD AREQUIPA CAYLLOMA'!$D$9:$D$236,PROVINCIAL!$D16,'RED DE SALUD AREQUIPA CAYLLOMA'!AY$9:AY$236)","v":0},{"$f":"SUMIF('RED DE SALUD AREQUIPA CAYLLOMA'!$D$9:$D$236,PROVINCIAL!$D16,'RED DE SALUD AREQUIPA CAYLLOMA'!AZ$9:AZ$236)","v":0},null,0,0,0,0,0,0]
[]
["NOTA: LA POBLACION ESTIMADA DE EDADES  SIMPLES Y GRUPOS DE EDAD DE DISTRITOS, CORRESPONDEN A CIFRAS REFERENCIALES HASTA OBTENER LAS CIFRAS DE LAS PROYECCIONES DEL INEI"]
["FUENTE: CENSO NACIONAL XI DE POBLACION Y VI DE VIVIENDA 2017/- BOLETIN DEMOGRAFICO Nº 26,37, 39 / RENIEC / Padrón Nominal/ CNV"]
["La población de 0-5 años corresponden al reporte de la poblacion del Padrón Nominal con corte al 31/12/2023 con ajuste en el grupo de edad de 0 años"]
["OFICINA DE GESTION DE LA INFORMACION - MINISTERIO DE SALUD"]

{"sheet":"DISTRITAL","index":2,"n_rows":122,"n_cols":57,"rows_kept":122,"merged":[[5,40,5,42],[5,43,6,43],[5,44,6,44],[5,45,5,47],[5,48,6,48]]}
[]
[]
[]
["POBLACION ESTIMADA POR EDADES SIMPLES Y GRUPOS DE EDAD, SEGÚN DEPARTAMENTO, PROVINCIA Y DISTRITO. 2024"]
["* Actualizado con datos INEI"]
["POBLACION 2024",{"$nulls":5},"POBLACION TOTAL, POR EDADS SIMPLES",{"$nulls":19},"POBLACIÓN TOTAL,  POR GRUPOS QUINQUEN ALES DE EDAD",{"$nulls":13},"EDADES ESPECIALES",null,null,"NACIMIENTOS VIVOS","POBLACION FEMENINA TOTAL","POBLACION FEMENINA",null,null,"GESTANTES  ESPERADAS"]
["UBIGEO","DIRESA","DEPARTAMENTO","PROVINCIA","DISTRITO","Total","0",1,2,3,4,5,6,7,8,9,10,11,12,13,14,15,16,17,18,19,"20-24","25-29","30-34","35-39","40-44","45-49","50-54","55-59","60-64","65-69","70-74","75-79","80-84","85-+","28 DIAS","0-5 MESES","6-11 MESES",null,null,"10 - 14","15- 19","20- 49",{"$nulls":3},"TOTAL","NIÑO","Adolescente","Joven","Adulto","Adulto Mayor"]
["000000","PERU","PERU","PERU","PERU",{"$f":"SUM(F9:F117)","v":{"v":1594091,"d":"1,594,091"}},{"v":17582,"d":"17,582"},{"v":17584,"d":"17,584"},{"v":17595,"d":"17,595"},{"v":20559,"d":"20,559"},{"v":22083,"d":"22,083"},{"v":22837,"d":"22,837"},{"v":26471,"d":"26,471"},{"v":26959,"d":"26,959"},{"v":27070,"d":"27,070"},{"v":26055,"d":"26,055"},{"v":25314,"d":"25,314"},{"v":25751,"d":"25,751"},{"v":26392,"d":"26,392"},{"v":25372,"d":"25,372"},{"v":23695,"d":"23,695"},{"v":23769,"d":"23,769"},{"v":23977,"d":"23,977"},{"v":23863,"d":"23,863"},{"v":23424,"d":"23,424"},{"v":23557,"d":"23,557"},{"v":121848,"d":"121,848"},{"v":138442,"d":"138,442"},{"v":137846,"d":"137,846"},{"v":127608,"d":"127,608"},{"v":118255,"d":"118,255"},{"v":107124,"d":"107,124"},{"v":89802,"d":"89,802"},{"v":76209,"d":"76,209"},{"v":61196,"d":"61,196"},{"v":49581,"d":"49,581"},{"v":36235,"d":"36,235"},{"v":26050,"d":"26,050"},{"v":16960,"d":"16,960"},{"v":17026,"d":"17,026"},{"v":1236,"d":"1,236"},{"v":8823,"d":"8,823"},{"v":8759,"d":"8,759"},{"v":25610,"d":"25,610"},{"v":809259,"d":"809,259"},{"v":63041,"d":"63,041"},{"v":59690,"d":"59,690"},{"v":378691,"d":"378,691"},{"v":40721,"d":"40,721"},null,null,{"$f":"F8","v":{"v":1594091,"d":"1,594,091"}},{"$f":"SUM(G8:R8)","v":{"v":275860,"d":"275,860"}},{"$f":"SUM(S8:X8)","v":{"v":147068,"d":"147,068"}},{"$f":"SUM(Y8:AB8)","v":{"v":307271,"d":"307,271"}},{"$f":"SUM(AC8:AH8)","v":{"v":656844,"d":"656,844"}},{"$f":"SUM(AI8:AN8)","v":{"v":207048,"d":"207,048"}}]
["040101","AREQUIPA","AREQUIPA","AREQUIPA","AREQUIPA",{"$f":"SUM(G9:AN9)","v":{"v":56005,"d":"56,005"}},{"$f":"'Pob x Genero'!H9+'Pob x Genero'!AU9","v":555},{"$f":"'Pob x Genero'!I9+'Pob x Genero'!AV9","v":468},{"$f":"'Pob x Genero'!J9+'Pob x Genero'!AW9","v":486},{"$f":"'Pob x Genero'!K9+'Pob x Genero'!AX9","v":639},{"$f":"'Pob x Genero'!L9+'Pob x Genero'!AY9","v":730},{"$f":"'Pob x Genero'!M9+'Pob x Genero'!AZ9","v":816},{"$f":"'Pob x Genero'!N9+'Pob x Genero'!BA9","v":638},{"$f":"'Pob x Genero'!O9+'Pob x Genero'!BB9","v":688},{"$f":"'Pob x Genero'!P9+'Pob x Genero'!BC9","v":689},{"$f":"'Pob x Genero'!Q9+'Pob x Genero'!BD9","v":635},{"$f":"'Pob x Genero'!R9+'Pob x Genero'!BE9","v":631},{"$f":"'Pob x Genero'!S9+'Pob x Genero'!BF9","v":642},{"$f":"'Pob x Genero'!T9+'Pob x Genero'!BG9","v":648},{"$f":"'Pob x Genero'!U9+'Pob x Genero'!BH9","v":630},{"$f":"'Pob x Genero'!V9+'Pob x Genero'!BI9","v":613},{"$f":"'Pob x Genero'!W9+'Pob x Genero'!BJ9","v":616},{"$f":"'Pob x Genero'!X9+'Pob x Genero'!BK9","v":603},{"$f":"'Pob x Genero'!Y9+'Pob x Genero'!BL9","v":596},{"$f":"'Pob x Genero'!Z9+'Pob x Genero'!BM9","v":570},{"$f":"'Pob x Genero'!AA9+'Pob x Genero'!BN9","v":595},{"$f":"'Pob x Genero'!AB9+'Pob x Genero'!BO9","v":{"v":3349,"d":"3,349"}},{"$f":"'Pob x Genero'!AC9+'Pob x Genero'!BP9","v":{"v":3685,"d":"3,685"}},{"$f":"'Pob x Genero'!AD9+'Pob x Genero'!BQ9","v":{"v":3994,"d":"3,994"}},{"$f":"'Pob x Genero'!AE9+'Pob x Genero'!BR9","v":{"v":3717,"d":"3,717"}},{"$f":"'Pob x Genero'!AF9+'Pob x Genero'!BS9","v":{"v":3804,"d":"3,804"}},{"$f":"'Pob x Genero'!AG9+'Pob x Genero'!BT9","v":{"v":4016,"d":"4,016"}},{"$f":"'Pob x Genero'!AH9+'Pob x Genero'!BU9","v":{"v":3956,"d":"3,956"}},{"$f":"'Pob x Genero'!AI9+'Pob x Genero'!BV9","v":{"v":3803,"d":"3,803"}},{"$f":"'Pob x Genero'!AJ9+'Pob x Genero'!BW9","v":{"v":3486,"d":"3,486"}},{"$f":"'Pob x Genero'!AK9+'Pob x Genero'!BX9","v":{"v":2989,"d":"2,989"}},{"$f":"'Pob x Genero'!AL9+'Pob x Genero'!BY9","v":{"v":2343,"d":"2,343"}},{"$f":"'Pob x Genero'!AM9+'Pob x Genero'!BZ9","v":{"v":1745,"d":"1,745"}},{"$f":"'Pob x Genero'!AN9+'Pob x Genero'!CA9","v":{"v":1261,"d":"1,261"}},{"$f":"'Pob x Genero'!AO9+'Pob x Genero'!CB9","v":{"v":1369,"d":"1,369"}},{"$f":"'Pob x Genero'!AP9+'Pob x Genero'!CC9","v":35},{"$f":"'Pob x Genero'!AQ9+'Pob x Genero'!CD9","v":283},{"$f":"'Pob x Genero'!AR9+'Pob x Genero'!CE9","v":272},{"$f":"'Pob x Genero'!AS9+'Pob x Genero'!CF9","v":802},{"$f":"'Pob x Genero'!AT9","v":{"v":28454,"d":"28,454"}},{"$f":"SUM('Pob x Genero'!BE9:BI9)","v":{"v":1502,"d":"1,502"}},{"$f":"SUM('Pob x Genero'!BJ9:BN9)","v":{"v":1445,"d":"1,445"}},{"$f":"SUM('Pob x Genero'!BO9:BT9)","v":{"v":11187,"d":"11,187"}},{"$f":"'Pob x Genero'!CG9","v":{"v":1752,"d":"1,752"}},null,null,{"$f":"F9","v":{"v":56005,"d":"56,005"}},{"$f":"SUM(G9:R9)","v":{"v":7617,"d":"7,617"}},{"$f":"SUM(S9:X9)","v":{"v":3706,"d":"3,706"}},{"$f":"SUM(Y9:AB9)","v":{"v":8199,"d":"8,199"}},{"$f":"SUM(AC9:AH9)","v":{"v":23290,"d":"23,290"}},{"$f":"SUM(AI9:AN9)","v":{"v":13193,"d":"13,193"}}]
["040102","AREQUIPA","AREQUIPA","AREQUIPA","ALTO SELVA ALEGRE",{"v":92580,"d":"92,580"},{"$f":"'Pob x Genero'!H10+'Pob x Genero'!AU10","v":879},{"$f":"'Pob x Genero'!I10+'Pob x Genero'!AV10","v":810},{"$f":"'Pob x Genero'!J10+'Pob x Genero'!AW10","v":{"v":1005,"d":"1,005"}},{"$f":"'Pob x Genero'!K10+'Pob x Genero'!AX10","v":{"v":1281,"d":"1,281"}},{"$f":"'Pob x Genero'!L10+'Pob x Genero'!AY10","v":{"v":1319,"d":"1,319"}},{"$f":"'Pob x Genero'!M10+'Pob x Genero'!AZ10","v":{"v":1402,"d":"1,402"}},{"$f":"'Pob x Genero'!N10+'Pob x Genero'!BA10","v":{"v":1531,"d":"1,531"}},{"$f":"'Pob x Genero'!O10+'Pob x Genero'!BB10","v":{"v":1585,"d":"1,585"}},{"$f":"'Pob x Genero'!P10+'Pob x Genero'!BC10","v":{"v":1570,"d":"1,570"}},{"$f":"'Pob x Genero'!Q10+'Pob x Genero'!BD10","v":{"v":1494,"d":"1,494"}},{"$f":"'Pob x Genero'!R10+'Pob x Genero'!BE10","v":{"v":1464,"d":"1,464"}},{"$f":"'Pob x Genero'!S10+'Pob x Genero'!BF10","v":{"v":1484,"d":"1,484"}},{"$f":"'Pob x Genero'!T10+'Pob x Genero'!BG10","v":{"v":1486,"d":"1,486"}},{"$f":"'Pob x Genero'!U10+'Pob x Genero'!BH10","v":{"v":1472,"d":"1,472"}},{"$f":"'Pob x Genero'!V10+'Pob x Genero'!BI10","v":{"v":1391,"d":"1,391"}},{"$f":"'Pob x Genero'!W10+'Pob x Genero'!BJ10","v":{"v":1277,"d":"1,277"}},{"$f":"'Pob x Genero'!X10+'Pob x Genero'!BK10","v":{"v":1341,"d":"1,341"}},{"$f":"'Pob x Genero'!Y10+'Pob x Genero'!BL10","v":{"v":1311,"d":"1,311"}},{"$f":"'Pob x Genero'!Z10+'Pob x Genero'!BM10","v":{"v":1236,"d":"1,236"}},{"$f":"'Pob x Genero'!AA10+'Pob x Genero'!BN10","v":{"v":1375,"d":"1,375"}},{"$f":"'Pob x Genero'!AB10+'Pob x Genero'!BO10","v":{"v":7392,"d":"7,392"}},{"$f":"'Pob x Genero'!AC10+'Pob x Genero'!BP10","v":{"v":8867,"d":"8,867"}},{"$f":"'Pob x Genero'!AD10+'Pob x Genero'!BQ10","v":{"v":8611,"d":"8,611"}},{"$f":"'Pob x Genero'!AE10+'Pob x Genero'!BR10","v":{"v":7400,"d":"7,400"}},{"$f":"'Pob x Genero'!AF10+'Pob x Genero'!BS10","v":{"v":6642,"d":"6,642"}},{"$f":"'Pob x Genero'!AG10+'Pob x Genero'!BT10","v":{"v":5831,"d":"5,831"}},{"$f":"'Pob x Genero'!AH10+'Pob x Genero'!BU10","v":{"v":5134,"d":"5,134"}},{"$f":"'Pob x Genero'!AI10+'Pob x Genero'!BV10","v":{"v":4544,"d":"4,544"}},{"$f":"'Pob x Genero'!AJ10+'Pob x Genero'!BW10","v":{"v":3827,"d":"3,827"}},{"$f":"'Pob x Genero'!AK10+'Pob x Genero'!BX10","v":{"v":2796,"d":"2,796"}},{"$f":"'Pob x Genero'!AL10+'Pob x Genero'!BY10","v":{"v":1830,"d":"1,830"}},{"$f":"'Pob x Genero'!AM10+'Pob x Genero'!BZ10","v":{"v":1232,"d":"1,232"}},{"$f":"'Pob x Genero'!AN10+'Pob x Genero'!CA10","v":837},{"$f":"'Pob x Genero'!AO10+'Pob x Genero'!CB10","v":924},{"$f":"'Pob x Genero'!AP10+'Pob x Genero'!CC10","v":71},{"$f":"'Pob x Genero'!AQ10+'Pob x Genero'!CD10","v":497},{"$f":"'Pob x Genero'!AR10+'Pob x Genero'!CE10","v":382},{"$f":"'Pob x Genero'!AS10+'Pob x Genero'!CF10","v":{"v":1262,"d":"1,262"}},{"$f":"'Pob x Genero'!AT10","v":{"v":47028,"d":"47,028"}},{"$f":"SUM('Pob x Genero'!BE10:BI10)","v":{"v":3537,"d":"3,537"}},{"$f":"SUM('Pob x Genero'!BJ10:BN10)","v":{"v":3215,"d":"3,215"}},{"$f":"SUM('Pob x Genero'!BO10:BT10)","v":{"v":22515,"d":"22,515"}},{"$f":"'Pob x Genero'!CG10","v":{"v":2425,"d":"2,425"}},null,null,{"v":92580,"d":"92,580"},{"v":15824,"d":"15,824"},{"v":8278,"d":"8,278"},{"v":18870,"d":"18,870"},{"v":38162,"d":"38,162"},{"v":11446,"d":"11,446"}]
["040103","AREQUIPA","AREQUIPA","AREQUIPA","CAYMA",{"v":110215,"d":"110,215"},{"$f":"'Pob x Genero'!H11+'Pob x Genero'!AU11","v":{"v":1238,"d":"1,238"}},{"$f":"'Pob x Genero'!I11+'Pob x Genero'!AV11","v":{"v":1318,"d":"1,318"}},{"$f":"'Pob x Genero'!J11+'Pob x Genero'!AW11","v":{"v":1231,"d":"1,231"}},{"$f":"'Pob x Genero'!K11+'Pob x Genero'!AX11","v":{"v":1444,"d":"1,444"}},{"$f":"'Pob x Genero'!L11+'Pob x Genero'!AY11","v":{"v":1659,"d":"1,659"}},{"$f":"'Pob x Genero'!M11+'Pob x Genero'!AZ11","v":{"v":1680,"d":"1,680"}},{"$f":"'Pob x Genero'!N11+'Pob x Genero'!BA11","v":{"v":2014,"d":"2,014"}},{"$f":"'Pob x Genero'!O11+'Pob x Genero'!BB11","v":{"v":1976,"d":"1,976"}},{"$f":"'Pob x Genero'!P11+'Pob x Genero'!BC11","v":{"v":1958,"d":"1,958"}},{"$f":"'Pob x Genero'!Q11+'Pob x Genero'!BD11","v":{"v":1848,"d":"1,848"}},{"$f":"'Pob x Genero'!R11+'Pob x Genero'!BE11","v":{"v":1796,"d":"1,796"}},{"$f":"'Pob x Genero'!S11+'Pob x Genero'!BF11","v":{"v":1796,"d":"1,796"}},{"$f":"'Pob x Genero'!T11+'Pob x Genero'!BG11","v":{"v":1928,"d":"1,928"}},{"$f":"'Pob x Genero'!U11+'Pob x Genero'!BH11","v":{"v":1776,"d":"1,776"}},{"$f":"'Pob x Genero'!V11+'Pob x Genero'!BI11","v":{"v":1622,"d":"1,622"}},{"$f":"'Pob x Genero'!W11+'Pob x Genero'!BJ11","v":{"v":1683,"d":"1,683"}},{"$f":"'Pob x Genero'!X11+'Pob x Genero'!BK11","v":{"v":1514,"d":"1,514"}},{"$f":"'Pob x Genero'!Y11+'Pob x Genero'!BL11","v":{"v":1593,"d":"1,593"}},{"$f":"'Pob x Genero'!Z11+'Pob x Genero'!BM11","v":{"v":1611,"d":"1,611"}},{"$f":"'Pob x Genero'!AA11+'Pob x Genero'!BN11","v":{"v":1576,"d":"1,576"}},{"$f":"'Pob x Genero'!AB11+'Pob x Genero'!BO11","v":{"v":8557,"d":"8,557"}},{"$f":"'Pob x Genero'!AC11+'Pob x Genero'!BP11","v":{"v":9966,"d":"9,966"}},{"$f":"'Pob x Genero'!AD11+'Pob x Genero'!BQ11","v":{"v":10456,"d":"10,456"}},{"$f":"'Pob x Genero'!AE11+'Pob x Genero'!BR11","v":{"v":9262,"d":"9,262"}},{"$f":"'Pob x Genero'!AF11+'Pob x Genero'!BS11","v":{"v":7997,"d":"7,997"}},{"$f":"'Pob x Genero'!AG11+'Pob x Genero'!BT11","v":{"v":6977,"d":"6,977"}},{"$f":"'Pob x Genero'!AH11+'Pob x Genero'!BU11","v":{"v":5827,"d":"5,827"}},{"$f":"'Pob x Genero'!AI11+'Pob x Genero'!BV11","v":{"v":4929,"d":"4,929"}},{"$f":"'Pob x Genero'!AJ11+'Pob x Genero'!BW11","v":{"v":4058,"d":"4,058"}},{"$f":"'Pob x Genero'!AK11+'Pob x Genero'!BX11","v":{"v":3214,"d":"3,214"}},{"$f":"'Pob x Genero'!AL11+'Pob x Genero'!BY11","v":{"v":2256,"d":"2,256"}},{"$f":"'Pob x Genero'!AM11+'Pob x Genero'!BZ11","v":{"v":1587,"d":"1,587"}},{"$f":"'Pob x Genero'!AN11+'Pob x Genero'!CA11","v":908},{"$f":"'Pob x Genero'!AO11+'Pob x Genero'!CB11","v":960},{"$f":"'Pob x Genero'!AP11+'Pob x Genero'!CC11","v":90},{"$f":"'Pob x Genero'!AQ11+'Pob x Genero'!CD11","v":614},{"$f":"'Pob x Genero'!AR11+'Pob x Genero'!CE11","v":624},{"$f":"'Pob x Genero'!AS11+'Pob x Genero'!CF11","v":{"v":1712,"d":"1,712"}},{"$f":"'Pob x Genero'!AT11","v":{"v":55953,"d":"55,953"}},{"$f":"SUM('Pob x Genero'!BE11:BI11)","v":{"v":4378,"d":"4,378"}},{"$f":"SUM('Pob x Genero'!BJ11:BN11)","v":{"v":3920,"d":"3,920"}},{"$f":"SUM('Pob x Genero'!BO11:BT11)","v":{"v":26733,"d":"26,733"}},{"$f":"'Pob x Genero'!CG11","v":{"v":2625,"d":"2,625"}},null,null,{"v":110215,"d":"110,215"},{"v":19958,"d":"19,958"},{"v":10116,"d":"10,116"},{"v":21710,"d":"21,710"},{"v":45448,"d":"45,448"},{"v":12983,"d":"12,983"}]
["040104","AREQUIPA","AREQUIPA","AREQUIPA","CERRO COLORADO",{"v":244282,"d":"244,282"},{"$f":"'Pob x Genero'!H12+'Pob x Genero'!AU12","v":{"v":2414,"d":"2,414"}},{"$f":"'Pob x Genero'!I12+'Pob x Genero'!AV12","v":{"v":2457,"d":"2,457"}},{"$f":"'Pob x Genero'!J12+'Pob x Genero'!AW12","v":{"v":2630,"d":"2,630"}},{"$f":"'Pob x Genero'!K12+'Pob x Genero'!AX12","v":{"v":3040,"d":"3,040"}},{"$f":"'Pob x Genero'!L12+'Pob x Genero'!AY12","v":{"v":3353,"d":"3,353"}},{"$f":"'Pob x Genero'!M12+'Pob x Genero'!AZ12","v":{"v":3274,"d":"3,274"}},{"$f":"'Pob x Genero'!N12+'Pob x Genero'!BA12","v":{"v":4625,"d":"4,625"}},{"$f":"'Pob x Genero'!O12+'Pob x Genero'!BB12","v":{"v":4624,"d":"4,624"}},{"$f":"'Pob x Genero'!P12+'Pob x Genero'!BC12","v":{"v":5029,"d":"5,029"}},{"$f":"'Pob x Genero'!Q12+'Pob x Genero'!BD12","v":{"v":4810,"d":"4,810"}},{"$f":"'Pob x Genero'!R12+'Pob x Genero'!BE12","v":{"v":4504,"d":"4,504"}},{"$f":"'Pob x Genero'!S12+'Pob x Genero'!BF12","v":{"v":4463,"d":"4,463"}},{"$f":"'Pob x Genero'!T12+'Pob x Genero'!BG12","v":{"v":4515,"d":"4,515"}},{"$f":"'Pob x Genero'!U12+'Pob x Genero'!BH12","v":{"v":4298,"d":"4,298"}},{"$f":"'Pob x Genero'!V12+'Pob x Genero'!BI12","v":{"v":3846,"d":"3,846"}},{"$f":"'Pob x Genero'!W12+'Pob x Genero'!BJ12","v":{"v":3957,"d":"3,957"}},{"$f":"'Pob x Genero'!X12+'Pob x Genero'!BK12","v":{"v":3801,"d":"3,801"}},{"$f":"'Pob x Genero'!Y12+'Pob x Genero'!BL12","v":{"v":3934,"d":"3,934"}},{"$f":"'Pob x Genero'!Z12+'Pob x Genero'!BM12","v":{"v":3881,"d":"3,881"}},{"$f":"'Pob x Genero'!AA12+'Pob x Genero'!BN12","v":{"v":4018,"d":"4,018"}},{"$f":"'Pob x Genero'!AB12+'Pob x Genero'!BO12","v":{"v":20686,"d":"20,686"}},{"$f":"'Pob x Genero'!AC12+'Pob x Genero'!BP12","v":{"v":22865,"d":"22,865"}},{"$f":"'Pob x Genero'!AD12+'Pob x Genero'!BQ12","v":{"v":22605,"d":"22,605"}},{"$f":"'Pob x Genero'!AE12+'Pob x Genero'!BR12","v":{"v":20399,"d":"20,399"}},{"$f":"'Pob x Genero'!AF12+'Pob x Genero'!BS12","v":{"v":18823,"d":"18,823"}},{"$f":"'Pob x Genero'!AG12+'Pob x Genero'!BT12","v":{"v":15912,"d":"15,912"}},{"$f":"'Pob x Genero'!AH12+'Pob x Genero'!BU12","v":{"v":12386,"d":"12,386"}},{"$f":"'Pob x Genero'!AI12+'Pob x Genero'!BV12","v":{"v":9778,"d":"9,778"}},{"$f":"'Pob x Genero'!AJ12+'Pob x Genero'!BW12","v":{"v":7086,"d":"7,086"}},{"$f":"'Pob x Genero'!AK12+'Pob x Genero'!BX12","v":{"v":5729,"d":"5,729"}},{"$f":"'Pob x Genero'!AL12+'Pob x Genero'!BY12","v":{"v":4267,"d":"4,267"}},{"$f":"'Pob x Genero'!AM12+'Pob x Genero'!BZ12","v":{"v":2790,"d":"2,790"}},{"$f":"'Pob x Genero'!AN12+'Pob x Genero'!CA12","v":{"v":1803,"d":"1,803"}},{"$f":"'Pob x Genero'!AO12+'Pob x Genero'!CB12","v":{"v":1680,"d":"1,680"}},{"$f":"'Pob x Genero'!AP12+'Pob x Genero'!CC12","v":197},{"$f":"'Pob x Genero'!AQ12+'Pob x Genero'!CD12","v":{"v":1317,"d":"1,317"}},{"$f":"'Pob x Genero'!AR12+'Pob x Genero'!CE12","v":{"v":1097,"d":"1,097"}},{"$f":"'Pob x Genero'!AS12+'Pob x Genero'!CF12","v":{"v":3684,"d":"3,684"}},{"$f":"'Pob x Genero'!AT12","v":{"v":124587,"d":"124,587"}},{"$f":"SUM('Pob x Genero'!BE12:BI12)","v":{"v":10700,"d":"10,700"}},{"$f":"SUM('Pob x Genero'!BJ12:BN12)","v":{"v":9762,"d":"9,762"}},{"$f":"SUM('Pob x Genero'!BO12:BT12)","v":{"v":61774,"d":"61,774"}},{"$f":"'Pob x Genero'!CG12","v":{"v":6609,"d":"6,609"}},null,null,{"v":244282,"d":"244,282"},{"v":45223,"d":"45,223"},{"v":24351,"d":"24,351"},{"v":51450,"d":"51,450"},{"v":99903,"d":"99,903"},{"v":23355,"d":"23,355"}]
["040105","AREQUIPA","AREQUIPA","AREQUIPA","CHARACATO",{"v":18293,"d":"18,293"},{"$f":"'Pob x Genero'!H13+'Pob x Genero'!AU13","v":167},{"$f":"'Pob x Genero'!I13+'Pob x Genero'!AV13","v":194},{"$f":"'Pob x Genero'!J13+'Pob x Genero'!AW13","v":165},{"$f":"'Pob x Genero'!K13+'Pob x Genero'!AX13","v":194},{"$f":"'Pob x Genero'!L13+'Pob x Genero'!AY13","v":213},{"$f":"'Pob x Genero'!M13+'Pob x Genero'!AZ13","v":200},{"$f":"'Pob x Genero'!N13+'Pob x Genero'!BA13","v":376},{"$f":"'Pob x Genero'!O13+'Pob x Genero'!BB13","v":334},{"$f":"'Pob x Genero'!P13+'Pob x Genero'!BC13","v":280},{"$f":"'Pob x Genero'!Q13+'Pob x Genero'!BD13","v":288},{"$f":"'Pob x Genero'!R13+'Pob x Genero'!BE13","v":299},{"$f":"'Pob x Genero'!S13+'Pob x Genero'!BF13","v":294},{"$f":"'Pob x Genero'!T13+'Pob x Genero'!BG13","v":326},{"$f":"'Pob x Genero'!U13+'Pob x Genero'!BH13","v":309},{"$f":"'Pob x Genero'!V13+'Pob x Genero'!BI13","v":267},{"$f":"'Pob x Genero'!W13+'Pob x Genero'!BJ13","v":268},{"$f":"'Pob x Genero'!X13+'Pob x Genero'!BK13","v":272},{"$f":"'Pob x Genero'!Y13+'Pob x Genero'!BL13","v":243},{"$f":"'Pob x Genero'!Z13+'Pob x Genero'!BM13","v":270},{"$f":"'Pob x Genero'!AA13+'Pob x Genero'!BN13","v":333},{"$f":"'Pob x Genero'!AB13+'Pob x Genero'!BO13","v":{"v":1444,"d":"1,444"}},{"$f":"'Pob x Genero'!AC13+'Pob x Genero'!BP13","v":{"v":1500,"d":"1,500"}},{"$f":"'Pob x Genero'!AD13+'Pob x Genero'!BQ13","v":{"v":1517,"d":"1,517"}},{"$f":"'Pob x Genero'!AE13+'Pob x Genero'!BR13","v":{"v":1525,"d":"1,525"}},{"$f":"'Pob x Genero'!AF13+'Pob x Genero'!BS13","v":{"v":1502,"d":"1,502"}},{"$f":"'Pob x Genero'!AG13+'Pob x Genero'!BT13","v":{"v":1326,"d":"1,326"}},{"$f":"'Pob x Genero'!AH13+'Pob x Genero'!BU13","v":{"v":1031,"d":"1,031"}},{"$f":"'Pob x Genero'!AI13+'Pob x Genero'!BV13","v":859},{"$f":"'Pob x Genero'!AJ13+'Pob x Genero'!BW13","v":655},{"$f":"'Pob x Genero'!AK13+'Pob x Genero'!BX13","v":568},{"$f":"'Pob x Genero'!AL13+'Pob x Genero'!BY13","v":406},{"$f":"'Pob x Genero'!AM13+'Pob x Genero'!BZ13","v":307},{"$f":"'Pob x Genero'!AN13+'Pob x Genero'!CA13","v":198},{"$f":"'Pob x Genero'!AO13+'Pob x Genero'!CB13","v":163},{"$f":"'Pob x Genero'!AP13+'Pob x Genero'!CC13","v":6},{"$f":"'Pob x Genero'!AQ13+'Pob x Genero'!CD13","v":71},{"$f":"'Pob x Genero'!AR13+'Pob x Genero'!CE13","v":96},{"$f":"'Pob x Genero'!AS13+'Pob x Genero'!CF13","v":227},{"$f":"'Pob x Genero'!AT13","v":{"v":9281,"d":"9,281"}},{"$f":"SUM('Pob x Genero'!BE13:BI13)","v":733},{"$f":"SUM('Pob x Genero'!BJ13:BN13)","v":689},{"$f":"SUM('Pob x Genero'!BO13:BT13)","v":{"v":4466,"d":"4,466"}},{"$f":"'Pob x Genero'!CG13","v":369},null,null,{"v":18293,"d":"18,293"},{"v":3004,"d":"3,004"},{"v":1685,"d":"1,685"},{"v":3547,"d":"3,547"},{"v":7760,"d":"7,760"},{"v":2297,"d":"2,297"}]
["040106","AREQUIPA","AREQUIPA","AREQUIPA","CHIGUATA",{"v":3387,"d":"3,387"},{"$f":"'Pob x Genero'!H14+'Pob x Genero'!AU14","v":54},{"$f":"'Pob x Genero'!I14+'Pob x Genero'!AV14","v":49},{"$f":"'Pob x Genero'!J14+'Pob x Genero'!AW14","v":53},{"$f":"'Pob x Genero'!K14+'Pob x Genero'!AX14","v":69},{"$f":"'Pob x Genero'!L14+'Pob x Genero'!AY14","v":60},{"$f":"'Pob x Genero'!M14+'Pob x Genero'!AZ14","v":46},{"$f":"'Pob x Genero'!N14+'Pob x Genero'!BA14","v":48},{"$f":"'Pob x Genero'!O14+'Pob x Genero'!BB14","v":57},{"$f":"'Pob x Genero'!P14+'Pob x Genero'!BC14","v":53},{"$f":"'Pob x Genero'!Q14+'Pob x Genero'!BD14","v":49},{"$f":"'Pob x Genero'!R14+'Pob x Genero'!BE14","v":42},{"$f":"'Pob x Genero'!S14+'Pob x Genero'!BF14","v":57},{"$f":"'Pob x Genero'!T14+'Pob x Genero'!BG14","v":40},{"$f":"'Pob x Genero'!U14+'Pob x Genero'!BH14","v":35},{"$f":"'Pob x Genero'!V14+'Pob x Genero'!BI14","v":46},{"$f":"'Pob x Genero'!W14+'Pob x Genero'!BJ14","v":48},{"$f":"'Pob x Genero'!X14+'Pob x Genero'!BK14","v":26},{"$f":"'Pob x Genero'!Y14+'Pob x Genero'!BL14","v":41},{"$f":"'Pob x Genero'!Z14+'Pob x Genero'!BM14","v":42},{"$f":"'Pob x Genero'!AA14+'Pob x Genero'!BN14","v":40},{"$f":"'Pob x Genero'!AB14+'Pob x Genero'!BO14","v":235},{"$f":"'Pob x Genero'!AC14+'Pob x Genero'!BP14","v":269},{"$f":"'Pob x Genero'!AD14+'Pob x Genero'!BQ14","v":305},{"$f":"'Pob x Genero'!AE14+'Pob x Genero'!BR14","v":273},{"$f":"'Pob x Genero'!AF14+'Pob x Genero'!BS14","v":238},{"$f":"'Pob x Genero'!AG14+'Pob x Genero'!BT14","v":215},{"$f":"'Pob x Genero'!AH14+'Pob x Genero'!BU14","v":197},{"$f":"'Pob x Genero'!AI14+'Pob x Genero'!BV14","v":169},{"$f":"'Pob x Genero'!AJ14+'Pob x Genero'!BW14","v":129},{"$f":"'Pob x Genero'!AK14+'Pob x Genero'!BX14","v":133},{"$f":"'Pob x Genero'!AL14+'Pob x Genero'!BY14","v":105},{"$f":"'Pob x Genero'!AM14+'Pob x Genero'!BZ14","v":65},{"$f":"'Pob x Genero'!AN14+'Pob x Genero'!CA14","v":48},{"$f":"'Pob x Genero'!AO14+'Pob x Genero'!CB14","v":51},{"$f":"'Pob x Genero'!AP14+'Pob x Genero'!CC14","v":8},{"$f":"'Pob x Genero'!AQ14+'Pob x Genero'!CD14","v":22},{"$f":"'Pob x Genero'!AR14+'Pob x Genero'!CE14","v":32},{"$f":"'Pob x Genero'!AS14+'Pob x Genero'!CF14","v":83},{"$f":"'Pob x Genero'!AT14","v":{"v":1707,"d":"1,707"}},{"$f":"SUM('Pob x Genero'!BE14:BI14)","v":105},{"$f":"SUM('Pob x Genero'!BJ14:BN14)","v":96},{"$f":"SUM('Pob x Genero'!BO14:BT14)","v":798},{"$f":"'Pob x Genero'!CG14","v":170},null,null,{"v":3387,"d":"3,387"},637,236,586,{"v":1397,"d":"1,397"},531]
["040107","AREQUIPA","AREQUIPA","AREQUIPA","JACOBO HUNTER",{"v":54617,"d":"54,617"},{"$f":"'Pob x Genero'!H15+'Pob x Genero'!AU15","v":557},{"$f":"'Pob x Genero'!I15+'Pob x Genero'!AV15","v":584},{"$f":"'Pob x Genero'!J15+'Pob x Genero'!AW15","v":590},{"$f":"'Pob x Genero'!K15+'Pob x Genero'!AX15","v":709},{"$f":"'Pob x Genero'!L15+'Pob x Genero'!AY15","v":747},{"$f":"'Pob x Genero'!M15+'Pob x Genero'!AZ15","v":770},{"$f":"'Pob x Genero'!N15+'Pob x Genero'!BA15","v":992},{"$f":"'Pob x Genero'!O15+'Pob x Genero'!BB15","v":960},{"$f":"'Pob x Genero'!P15+'Pob x Genero'!BC15","v":942},{"$f":"'Pob x Genero'!Q15+'Pob x Genero'!BD15","v":915},{"$f":"'Pob x Genero'!R15+'Pob x Genero'!BE15","v":863},{"$f":"'Pob x Genero'!S15+'Pob x Genero'!BF15","v":847},{"$f":"'Pob x Genero'!T15+'Pob x Genero'!BG15","v":931},{"$f":"'Pob x Genero'!U15+'Pob x Genero'!BH15","v":914},{"$f":"'Pob x Genero'!V15+'Pob x Genero'!BI15","v":767},{"$f":"'Pob x Genero'!W15+'Pob x Genero'!BJ15","v":786},{"$f":"'Pob x Genero'!X15+'Pob x Genero'!BK15","v":819},{"$f":"'Pob x Genero'!Y15+'Pob x Genero'!BL15","v":826},{"$f":"'Pob x Genero'!Z15+'Pob x Genero'!BM15","v":748},{"$f":"'Pob x Genero'!AA15+'Pob x Genero'!BN15","v":753},{"$f":"'Pob x Genero'!AB15+'Pob x Genero'!BO15","v":{"v":4209,"d":"4,209"}},{"$f":"'Pob x Genero'!AC15+'Pob x Genero'!BP15","v":{"v":4773,"d":"4,773"}},{"$f":"'Pob x Genero'!AD15+'Pob x Genero'!BQ15","v":{"v":4586,"d":"4,586"}},{"$f":"'Pob x Genero'!AE15+'Pob x Genero'!BR15","v":{"v":4493,"d":"4,493"}},{"$f":"'Pob x Genero'!AF15+'Pob x Genero'!BS15","v":{"v":4207,"d":"4,207"}},{"$f":"'Pob x Genero'!AG15+'Pob x Genero'!BT15","v":{"v":3783,"d":"3,783"}},{"$f":"'Pob x Genero'!AH15+'Pob x Genero'!BU15","v":{"v":3132,"d":"3,132"}},{"$f":"'Pob x Genero'!AI15+'Pob x Genero'!BV15","v":{"v":2598,"d":"2,598"}},{"$f":"'Pob x Genero'!AJ15+'Pob x Genero'!BW15","v":{"v":2013,"d":"2,013"}},{"$f":"'Pob x Genero'!AK15+'Pob x Genero'!BX15","v":{"v":1678,"d":"1,678"}},{"$f":"'Pob x Genero'!AL15+'Pob x Genero'!BY15","v":{"v":1184,"d":"1,184"}},{"$f":"'Pob x Genero'!AM15+'Pob x Genero'!BZ15","v":878},{"$f":"'Pob x Genero'!AN15+'Pob x Genero'!CA15","v":531},{"$f":"'Pob x Genero'!AO15+'Pob x Genero'!CB15","v":532},{"$f":"'Pob x Genero'!AP15+'Pob x Genero'!CC15","v":38},{"$f":"'Pob x Genero'!AQ15+'Pob x Genero'!CD15","v":284},{"$f":"'Pob x Genero'!AR15+'Pob x Genero'!CE15","v":273},{"$f":"'Pob x Genero'!AS15+'Pob x Genero'!CF15","v":759},{"$f":"'Pob x Genero'!AT15","v":{"v":27727,"d":"27,727"}},{"$f":"SUM('Pob x Genero'!BE15:BI15)","v":{"v":2145,"d":"2,145"}},{"$f":"SUM('Pob x Genero'!BJ15:BN15)","v":{"v":2010,"d":"2,010"}},{"$f":"SUM('Pob x Genero'!BO15:BT15)","v":{"v":12987,"d":"12,987"}},{"$f":"'Pob x Genero'!CG15","v":{"v":1397,"d":"1,397"}},null,null,{"v":54617,"d":"54,617"},{"v":9476,"d":"9,476"},{"v":5043,"d":"5,043"},{"v":10483,"d":"10,483"},{"v":22799,"d":"22,799"},{"v":6816,"d":"6,816"}]
["040108","AREQUIPA","AREQUIPA","AREQUIPA","LA JOYA",{"v":42239,"d":"42,239"},{"$f":"'Pob x Genero'!H16+'Pob x Genero'!AU16","v":546},{"$f":"'Pob x Genero'!I16+'Pob x Genero'!AV16","v":591},{"$f":"'Pob x Genero'!J16+'Pob x Genero'!AW16","v":598},{"$f":"'Pob x Genero'!K16+'Pob x Genero'!AX16","v":620},{"$f":"'Pob x Genero'!L16+'Pob x Genero'!AY16","v":598},{"$f":"'Pob x Genero'!M16+'Pob x Genero'!AZ16","v":649},{"$f":"'Pob x Genero'!N16+'Pob x Genero'!BA16","v":737},{"$f":"'Pob x Genero'!O16+'Pob x Genero'!BB16","v":672},{"$f":"'Pob x Genero'!P16+'Pob x Genero'!BC16","v":796},{"$f":"'Pob x Genero'!Q16+'Pob x Genero'!BD16","v":818},{"$f":"'Pob x Genero'!R16+'Pob x Genero'!BE16","v":779},{"$f":"'Pob x Genero'!S16+'Pob x Genero'!BF16","v":731},{"$f":"'Pob x Genero'!T16+'Pob x Genero'!BG16","v":773},{"$f":"'Pob x Genero'!U16+'Pob x Genero'!BH16","v":727},{"$f":"'Pob x Genero'!V16+'Pob x Genero'!BI16","v":741},{"$f":"'Pob x Genero'!W16+'Pob x Genero'!BJ16","v":719},{"$f":"'Pob x Genero'!X16+'Pob x Genero'!BK16","v":748},{"$f":"'Pob x Genero'!Y16+'Pob x Genero'!BL16","v":736},{"$f":"'Pob x Genero'!Z16+'Pob x Genero'!BM16","v":763},{"$f":"'Pob x Genero'!AA16+'Pob x Genero'!BN16","v":742},{"$f":"'Pob x Genero'!AB16+'Pob x Genero'!BO16","v":{"v":3597,"d":"3,597"}},{"$f":"'Pob x Genero'!AC16+'Pob x Genero'!BP16","v":{"v":4029,"d":"4,029"}},{"$f":"'Pob x Genero'!AD16+'Pob x Genero'!BQ16","v":{"v":3594,"d":"3,594"}},{"$f":"'Pob x Genero'!AE16+'Pob x Genero'!BR16","v":{"v":3431,"d":"3,431"}},{"$f":"'Pob x Genero'!AF16+'Pob x Genero'!BS16","v":{"v":2858,"d":"2,858"}},{"$f":"'Pob x Genero'!AG16+'Pob x Genero'!BT16","v":{"v":2667,"d":"2,667"}},{"$f":"'Pob x Genero'!AH16+'Pob x Genero'!BU16","v":{"v":2018,"d":"2,018"}},{"$f":"'Pob x Genero'!AI16+'Pob x Genero'!BV16","v":{"v":1705,"d":"1,705"}},{"$f":"'Pob x Genero'!AJ16+'Pob x Genero'!BW16","v":{"v":1325,"d":"1,325"}},{"$f":"'Pob x Genero'!AK16+'Pob x Genero'!BX16","v":{"v":1102,"d":"1,102"}},{"$f":"'Pob x Genero'!AL16+'Pob x Genero'!BY16","v":685},{"$f":"'Pob x Genero'!AM16+'Pob x Genero'!BZ16","v":519},{"$f":"'Pob x Genero'!AN16+'Pob x Genero'!CA16","v":330},{"$f":"'Pob x Genero'!AO16+'Pob x Genero'!CB16","v":295},{"$f":"'Pob x Genero'!AP16+'Pob x Genero'!CC16","v":35},{"$f":"'Pob x Genero'!AQ16+'Pob x Genero'!CD16","v":228},{"$f":"'Pob x Genero'!AR16+'Pob x Genero'!CE16","v":318},{"$f":"'Pob x Genero'!AS16+'Pob x Genero'!CF16","v":808},{"$f":"'Pob x Genero'!AT16","v":{"v":21473,"d":"21,473"}},{"$f":"SUM('Pob x Genero'!BE16:BI16)","v":{"v":1946,"d":"1,946"}},{"$f":"SUM('Pob x Genero'!BJ16:BN16)","v":{"v":1904,"d":"1,904"}},{"$f":"SUM('Pob x Genero'!BO16:BT16)","v":{"v":10279,"d":"10,279"}},{"$f":"'Pob x Genero'!CG16","v":{"v":1115,"d":"1,115"}},null,null,{"v":42239,"d":"42,239"},{"v":8135,"d":"8,135"},{"v":4444,"d":"4,444"},{"v":9131,"d":"9,131"},{"v":16273,"d":"16,273"},{"v":4256,"d":"4,256"}]
["040109","AREQUIPA","AREQUIPA","AREQUIPA","MARIANO MELGAR",{"v":68358,"d":"68,358"},{"$f":"'Pob x Genero'!H17+'Pob x Genero'!AU17","v":776},{"$f":"'Pob x Genero'!I17+'Pob x Genero'!AV17","v":788},{"$f":"'Pob x Genero'!J17+'Pob x Genero'!AW17","v":739},{"$f":"'Pob x Genero'!K17+'Pob x Genero'!AX17","v":821},{"$f":"'Pob x Genero'!L17+'Pob x Genero'!AY17","v":890},{"$f":"'Pob x Genero'!M17+'Pob x Genero'!AZ17","v":924},{"$f":"'Pob x Genero'!N17+'Pob x Genero'!BA17","v":{"v":1096,"d":"1,096"}},{"$f":"'Pob x Genero'!O17+'Pob x Genero'!BB17","v":{"v":1069,"d":"1,069"}},{"$f":"'Pob x Genero'!P17+'Pob x Genero'!BC17","v":{"v":1120,"d":"1,120"}},{"$f":"'Pob x Genero'!Q17+'Pob x Genero'!BD17","v":{"v":1094,"d":"1,094"}},{"$f":"'Pob x Genero'!R17+'Pob x Genero'!BE17","v":{"v":1021,"d":"1,021"}},{"$f":"'Pob x Genero'!S17+'Pob x Genero'!BF17","v":{"v":1050,"d":"1,050"}},{"$f":"'Pob x Genero'!T17+'Pob x Genero'!BG17","v":{"v":1073,"d":"1,073"}},{"$f":"'Pob x Genero'!U17+'Pob x Genero'!BH17","v":{"v":1060,"d":"1,060"}},{"$f":"'Pob x Genero'!V17+'Pob x Genero'!BI17","v":{"v":1030,"d":"1,030"}},{"$f":"'Pob x Genero'!W17+'Pob x Genero'!BJ17","v":{"v":1001,"d":"1,001"}},{"$f":"'Pob x Genero'!X17+'Pob x Genero'!BK17","v":{"v":1012,"d":"1,012"}},{"$f":"'Pob x Genero'!Y17+'Pob x Genero'!BL17","v":943},{"$f":"'Pob x Genero'!Z17+'Pob x Genero'!BM17","v":960},{"$f":"'Pob x Genero'!AA17+'Pob x Genero'!BN17","v":{"v":1010,"d":"1,010"}},{"$f":"'Pob x Genero'!AB17+'Pob x Genero'!BO17","v":{"v":5163,"d":"5,163"}},{"$f":"'Pob x Genero'!AC17+'Pob x Genero'!BP17","v":{"v":5932,"d":"5,932"}},{"$f":"'Pob x Genero'!AD17+'Pob x Genero'!BQ17","v":{"v":5914,"d":"5,914"}},{"$f":"'Pob x Genero'!AE17+'Pob x Genero'!BR17","v":{"v":5218,"d":"5,218"}},{"$f":"'Pob x Genero'!AF17+'Pob x Genero'!BS17","v":{"v":5001,"d":"5,001"}},{"$f":"'Pob x Genero'!AG17+'Pob x Genero'!BT17","v":{"v":4688,"d":"4,688"}},{"$f":"'Pob x Genero'!AH17+'Pob x Genero'!BU17","v":{"v":4064,"d":"4,064"}},{"$f":"'Pob x Genero'!AI17+'Pob x Genero'!BV17","v":{"v":3458,"d":"3,458"}},{"$f":"'Pob x Genero'!AJ17+'Pob x Genero'!BW17","v":{"v":2839,"d":"2,839"}},{"$f":"'Pob x Genero'!AK17+'Pob x Genero'!BX17","v":{"v":2263,"d":"2,263"}},{"$f":"'Pob x Genero'!AL17+'Pob x Genero'!BY17","v":{"v":1652,"d":"1,652"}},{"$f":"'Pob x Genero'!AM17+'Pob x Genero'!BZ17","v":{"v":1126,"d":"1,126"}},{"$f":"'Pob x Genero'!AN17+'Pob x Genero'!CA17","v":756},{"$f":"'Pob x Genero'!AO17+'Pob x Genero'!CB17","v":807},{"$f":"'Pob x Genero'!AP17+'Pob x Genero'!CC17","v":68},{"$f":"'Pob x Genero'!AQ17+'Pob x Genero'!CD17","v":400},{"$f":"'Pob x Genero'!AR17+'Pob x Genero'!CE17","v":376},{"$f":"'Pob x Genero'!AS17+'Pob x Genero'!CF17","v":{"v":1066,"d":"1,066"}},{"$f":"'Pob x Genero'!AT17","v":{"v":34681,"d":"34,681"}},{"$f":"SUM('Pob x Genero'!BE17:BI17)","v":{"v":2604,"d":"2,604"}},{"$f":"SUM('Pob x Genero'!BJ17:BN17)","v":{"v":2479,"d":"2,479"}},{"$f":"SUM('Pob x Genero'!BO17:BT17)","v":{"v":15978,"d":"15,978"}},{"$f":"'Pob x Genero'!CG17","v":{"v":1715,"d":"1,715"}},null,null,{"v":68358,"d":"68,358"},{"v":11388,"d":"11,388"},{"v":6119,"d":"6,119"},{"v":13065,"d":"13,065"},{"v":28343,"d":"28,343"},{"v":9443,"d":"9,443"}]
["040110","AREQUIPA","AREQUIPA","AREQUIPA","MIRAFLORES",{"v":67421,"d":"67,421"},{"$f":"'Pob x Genero'!H18+'Pob x Genero'!AU18","v":694},{"$f":"'Pob x Genero'!I18+'Pob x Genero'!AV18","v":728},{"$f":"'Pob x Genero'!J18+'Pob x Genero'!AW18","v":655},{"$f":"'Pob x Genero'!K18+'Pob x Genero'!AX18","v":774},{"$f":"'Pob x Genero'!L18+'Pob x Genero'!AY18","v":898},{"$f":"'Pob x Genero'!M18+'Pob x Genero'!AZ18","v":{"v":1015,"d":"1,015"}},{"$f":"'Pob x Genero'!N18+'Pob x Genero'!BA18","v":{"v":1027,"d":"1,027"}},{"$f":"'Pob x Genero'!O18+'Pob x Genero'!BB18","v":{"v":1065,"d":"1,065"}},{"$f":"'Pob x Genero'!P18+'Pob x Genero'!BC18","v":{"v":1130,"d":"1,130"}},{"$f":"'Pob x Genero'!Q18+'Pob x Genero'!BD18","v":991},{"$f":"'Pob x Genero'!R18+'Pob x Genero'!BE18","v":{"v":1029,"d":"1,029"}},{"$f":"'Pob x Genero'!S18+'Pob x Genero'!BF18","v":988},{"$f":"'Pob x Genero'!T18+'Pob x Genero'!BG18","v":985},{"$f":"'Pob x Genero'!U18+'Pob x Genero'!BH18","v":984},{"$f":"'Pob x Genero'!V18+'Pob x Genero'!BI18","v":938},{"$f":"'Pob x Genero'!W18+'Pob x Genero'!BJ18","v":862},{"$f":"'Pob x Genero'!X18+'Pob x Genero'!BK18","v":927},{"$f":"'Pob x Genero'!Y18+'Pob x Genero'!BL18","v":885},{"$f":"'Pob x Genero'!Z18+'Pob x Genero'!BM18","v":908},{"$f":"'Pob x Genero'!AA18+'Pob x Genero'!BN18","v":977},{"$f":"'Pob x Genero'!AB18+'Pob x Genero'!BO18","v":{"v":5186,"d":"5,186"}},{"$f":"'Pob x Genero'!AC18+'Pob x Genero'!BP18","v":{"v":5886,"d":"5,886"}},{"$f":"'Pob x Genero'!AD18+'Pob x Genero'!BQ18","v":{"v":5814,"d":"5,814"}},{"$f":"'Pob x Genero'!AE18+'Pob x Genero'!BR18","v":{"v":5236,"d":"5,236"}},{"$f":"'Pob x Genero'!AF18+'Pob x Genero'!BS18","v":{"v":5156,"d":"5,156"}},{"$f":"'Pob x Genero'!AG18+'Pob x Genero'!BT18","v":{"v":4800,"d":"4,800"}},{"$f":"'Pob x Genero'!AH18+'Pob x Genero'!BU18","v":{"v":4136,"d":"4,136"}},{"$f":"'Pob x Genero'!AI18+'Pob x Genero'!BV18","v":{"v":3414,"d":"3,414"}},{"$f":"'Pob x Genero'!AJ18+'Pob x Genero'!BW18","v":{"v":2817,"d":"2,817"}},{"$f":"'Pob x Genero'!AK18+'Pob x Genero'!BX18","v":{"v":2187,"d":"2,187"}},{"$f":"'Pob x Genero'!AL18+'Pob x Genero'!BY18","v":{"v":1591,"d":"1,591"}},{"$f":"'Pob x Genero'!AM18+'Pob x Genero'!BZ18","v":{"v":1136,"d":"1,136"}},{"$f":"'Pob x Genero'!AN18+'Pob x Genero'!CA18","v":760},{"$f":"'Pob x Genero'!AO18+'Pob x Genero'!CB18","v":842},{"$f":"'Pob x Genero'!AP18+'Pob x Genero'!CC18","v":47},{"$f":"'Pob x Genero'!AQ18+'Pob x Genero'!CD18","v":330},{"$f":"'Pob x Genero'!AR18+'Pob x Genero'!CE18","v":364},{"$f":"'Pob x Genero'!AS18+'Pob x Genero'!CF18","v":{"v":1004,"d":"1,004"}},{"$f":"'Pob x Genero'!AT18","v":{"v":34188,"d":"34,188"}},{"$f":"SUM('Pob x Genero'!BE18:BI18)","v":{"v":2487,"d":"2,487"}},{"$f":"SUM('Pob x Genero'!BJ18:BN18)","v":{"v":2342,"d":"2,342"}},{"$f":"SUM('Pob x Genero'!BO18:BT18)","v":{"v":16033,"d":"16,033"}},{"$f":"'Pob x Genero'!CG18","v":{"v":1709,"d":"1,709"}},null,null,{"v":67421,"d":"67,421"},{"v":10994,"d":"10,994"},{"v":5581,"d":"5,581"},{"v":12957,"d":"12,957"},{"v":28556,"d":"28,556"},{"v":9333,"d":"9,333"}]
["040111","AREQUIPA","AREQUIPA","AREQUIPA","MOLLEBAYA",{"v":8012,"d":"8,012"},{"$f":"'Pob x Genero'!H19+'Pob x Genero'!AU19","v":70},{"$f":"'Pob x Genero'!I19+'Pob x Genero'!AV19","v":79},{"$f":"'Pob x Genero'!J19+'Pob x Genero'!AW19","v":61},{"$f":"'Pob x Genero'!K19+'Pob x Genero'!AX19","v":72},{"$f":"'Pob x Genero'!L19+'Pob x Genero'!AY19","v":64},{"$f":"'Pob x Genero'!M19+'Pob x Genero'!AZ19","v":69},{"$f":"'Pob x Genero'!N19+'Pob x Genero'!BA19","v":114},{"$f":"'Pob x Genero'!O19+'Pob x Genero'!BB19","v":173},{"$f":"'Pob x Genero'!P19+'Pob x Genero'!BC19","v":163},{"$f":"'Pob x Genero'!Q19+'Pob x Genero'!BD19","v":134},{"$f":"'Pob x Genero'!R19+'Pob x Genero'!BE19","v":126},{"$f":"'Pob x Genero'!S19+'Pob x Genero'!BF19","v":129},{"$f":"'Pob x Genero'!T19+'Pob x Genero'!BG19","v":103},{"$f":"'Pob x Genero'!U19+'Pob x Genero'!BH19","v":111},{"$f":"'Pob x Genero'!V19+'Pob x Genero'!BI19","v":125},{"$f":"'Pob x Genero'!W19+'Pob x Genero'!BJ19","v":124},{"$f":"'Pob x Genero'!X19+'Pob x Genero'!BK19","v":121},{"$f":"'Pob x Genero'!Y19+'Pob x Genero'!BL19","v":111},{"$f":"'Pob x Genero'!Z19+'Pob x Genero'!BM19","v":125},{"$f":"'Pob x Genero'!AA19+'Pob x Genero'!BN19","v":84},{"$f":"'Pob x Genero'!AB19+'Pob x Genero'!BO19","v":496},{"$f":"'Pob x Genero'!AC19+'Pob x Genero'!BP19","v":702},{"$f":"'Pob x Genero'!AD19+'Pob x Genero'!BQ19","v":884},{"$f":"'Pob x Genero'!AE19+'Pob x Genero'!BR19","v":783},{"$f":"'Pob x Genero'!AF19+'Pob x Genero'!BS19","v":677},{"$f":"'Pob x Genero'!AG19+'Pob x Genero'!BT19","v":624},{"$f":"'Pob x Genero'!AH19+'Pob x Genero'!BU19","v":366},{"$f":"'Pob x Genero'!AI19+'Pob x Genero'!BV19","v":355},{"$f":"'Pob x Genero'!AJ19+'Pob x Genero'!BW19","v":309},{"$f":"'Pob x Genero'!AK19+'Pob x Genero'!BX19","v":234},{"$f":"'Pob x Genero'!AL19+'Pob x Genero'!BY19","v":177},{"$f":"'Pob x Genero'!AM19+'Pob x Genero'!BZ19","v":122},{"$f":"'Pob x Genero'!AN19+'Pob x Genero'!CA19","v":62},{"$f":"'Pob x Genero'!AO19+'Pob x Genero'!CB19","v":63},{"$f":"'Pob x Genero'!AP19+'Pob x Genero'!CC19","v":2},{"$f":"'Pob x Genero'!AQ19+'Pob x Genero'!CD19","v":36},{"$f":"'Pob x Genero'!AR19+'Pob x Genero'!CE19","v":34},{"$f":"'Pob x Genero'!AS19+'Pob x Genero'!CF19","v":103},{"$f":"'Pob x Genero'!AT19","v":{"v":4067,"d":"4,067"}},{"$f":"SUM('Pob x Genero'!BE19:BI19)","v":299},{"$f":"SUM('Pob x Genero'!BJ19:BN19)","v":280},{"$f":"SUM('Pob x Genero'!BO19:BT19)","v":{"v":2163,"d":"2,163"}},{"$f":"'Pob x Genero'!CG19","v":177},null,null,{"v":8012,"d":"8,012"},{"v":1254,"d":"1,254"},695,{"v":1407,"d":"1,407"},{"v":3689,"d":"3,689"},967]
["040112","AREQUIPA","AREQUIPA","AREQUIPA","PAUCARPATA",{"v":140772,"d":"140,772"},{"$f":"'Pob x Genero'!H20+'Pob x Genero'!AU20","v":{"v":1631,"d":"1,631"}},{"$f":"'Pob x Genero'!I20+'Pob x Genero'!AV20","v":{"v":1696,"d":"1,696"}},{"$f":"'Pob x Genero'!J20+'Pob x Genero'!AW20","v":{"v":1564,"d":"1,564"}},{"$f":"'Pob x Genero'!K20+'Pob x Genero'!AX20","v":{"v":1765,"d":"1,765"}},{"$f":"'Pob x Genero'!L20+'Pob x Genero'!AY20","v":{"v":2112,"d":"2,112"}},{"$f":"'Pob x Genero'!M20+'Pob x Genero'!AZ20","v":{"v":2240,"d":"2,240"}},{"$f":"'Pob x Genero'!N20+'Pob x Genero'!BA20","v":{"v":2387,"d":"2,387"}},{"$f":"'Pob x Genero'!O20+'Pob x Genero'!BB20","v":{"v":2464,"d":"2,464"}},{"$f":"'Pob x Genero'!P20+'Pob x Genero'!BC20","v":{"v":2393,"d":"2,393"}},{"$f":"'Pob x Genero'!Q20+'Pob x Genero'!BD20","v":{"v":2325,"d":"2,325"}},{"$f":"'Pob x Genero'!R20+'Pob x Genero'!BE20","v":{"v":2296,"d":"2,296"}},{"$f":"'Pob x Genero'!S20+'Pob x Genero'!BF20","v":{"v":2311,"d":"2,311"}},{"$f":"'Pob x Genero'!T20+'Pob x Genero'!BG20","v":{"v":2378,"d":"2,378"}},{"$f":"'Pob x Genero'!U20+'Pob x Genero'!BH20","v":{"v":2337,"d":"2,337"}},{"$f":"'Pob x Genero'!V20+'Pob x Genero'!BI20","v":{"v":2157,"d":"2,157"}},{"$f":"'Pob x Genero'!W20+'Pob x Genero'!BJ20","v":{"v":2153,"d":"2,153"}},{"$f":"'Pob x Genero'!X20+'Pob x Genero'!BK20","v":{"v":2184,"d":"2,184"}},{"$f":"'Pob x Genero'!Y20+'Pob x Genero'!BL20","v":{"v":2083,"d":"2,083"}},{"$f":"'Pob x Genero'!Z20+'Pob x Genero'!BM20","v":{"v":2075,"d":"2,075"}},{"$f":"'Pob x Genero'!AA20+'Pob x Genero'!BN20","v":{"v":2078,"d":"2,078"}},{"$f":"'Pob x Genero'!AB20+'Pob x Genero'!BO20","v":{"v":10701,"d":"10,701"}},{"$f":"'Pob x Genero'!AC20+'Pob x Genero'!BP20","v":{"v":11915,"d":"11,915"}},{"$f":"'Pob x Genero'!AD20+'Pob x Genero'!BQ20","v":{"v":11683,"d":"11,683"}},{"$f":"'Pob x Genero'!AE20+'Pob x Genero'!BR20","v":{"v":10943,"d":"10,943"}},{"$f":"'Pob x Genero'!AF20+'Pob x Genero'!BS20","v":{"v":10729,"d":"10,729"}},{"$f":"'Pob x Genero'!AG20+'Pob x Genero'!BT20","v":{"v":9925,"d":"9,925"}},{"$f":"'Pob x Genero'!AH20+'Pob x Genero'!BU20","v":{"v":8298,"d":"8,298"}},{"$f":"'Pob x Genero'!AI20+'Pob x Genero'!BV20","v":{"v":6379,"d":"6,379"}},{"$f":"'Pob x Genero'!AJ20+'Pob x Genero'!BW20","v":{"v":4826,"d":"4,826"}},{"$f":"'Pob x Genero'!AK20+'Pob x Genero'!BX20","v":{"v":4095,"d":"4,095"}},{"$f":"'Pob x Genero'!AL20+'Pob x Genero'!BY20","v":{"v":3161,"d":"3,161"}},{"$f":"'Pob x Genero'!AM20+'Pob x Genero'!BZ20","v":{"v":2486,"d":"2,486"}},{"$f":"'Pob x Genero'!AN20+'Pob x Genero'!CA20","v":{"v":1566,"d":"1,566"}},{"$f":"'Pob x Genero'!AO20+'Pob x Genero'!CB20","v":{"v":1436,"d":"1,436"}},{"$f":"'Pob x Genero'!AP20+'Pob x Genero'!CC20","v":104},{"$f":"'Pob x Genero'!AQ20+'Pob x Genero'!CD20","v":793},{"$f":"'Pob x Genero'!AR20+'Pob x Genero'!CE20","v":838},{"$f":"'Pob x Genero'!AS20+'Pob x Genero'!CF20","v":{"v":2163,"d":"2,163"}},{"$f":"'Pob x Genero'!AT20","v":{"v":71362,"d":"71,362"}},{"$f":"SUM('Pob x Genero'!BE20:BI20)","v":{"v":5684,"d":"5,684"}},{"$f":"SUM('Pob x Genero'!BJ20:BN20)","v":{"v":5356,"d":"5,356"}},{"$f":"SUM('Pob x Genero'!BO20:BT20)","v":{"v":32861,"d":"32,861"}},{"$f":"'Pob x Genero'!CG20","v":{"v":3488,"d":"3,488"}},null,null,{"v":140772,"d":"140,772"},{"v":25184,"d":"25,184"},{"v":13292,"d":"13,292"},{"v":26769,"d":"26,769"},{"v":57957,"d":"57,957"},{"v":17570,"d":"17,570"}]
["040113","AREQUIPA","AREQUIPA","AREQUIPA","POCSI",471,{"$f":"'Pob x Genero'!H21+'Pob x Genero'!AU21","v":9},{"$f":"'Pob x Genero'!I21+'Pob x Genero'!AV21","v":5},{"$f":"'Pob x Genero'!J21+'Pob x Genero'!AW21","v":2},{"$f":"'Pob x Genero'!K21+'Pob x Genero'!AX21","v":9},{"$f":"'Pob x Genero'!L21+'Pob x Genero'!AY21","v":10},{"$f":"'Pob x Genero'!M21+'Pob x Genero'!AZ21","v":6},{"$f":"'Pob x Genero'!N21+'Pob x Genero'!BA21","v":2},{"$f":"'Pob x Genero'!O21+'Pob x Genero'!BB21","v":2},{"$f":"'Pob x Genero'!P21+'Pob x Genero'!BC21","v":2},{"$f":"'Pob x Genero'!Q21+'Pob x Genero'!BD21","v":2},{"$f":"'Pob x Genero'!R21+'Pob x Genero'!BE21","v":3},{"$f":"'Pob x Genero'!S21+'Pob x Genero'!BF21","v":2},{"$f":"'Pob x Genero'!T21+'Pob x Genero'!BG21","v":3},{"$f":"'Pob x Genero'!U21+'Pob x Genero'!BH21","v":5},{"$f":"'Pob x Genero'!V21+'Pob x Genero'!BI21","v":3},{"$f":"'Pob x Genero'!W21+'Pob x Genero'!BJ21","v":3},{"$f":"'Pob x Genero'!X21+'Pob x Genero'!BK21","v":3},{"$f":"'Pob x Genero'!Y21+'Pob x Genero'!BL21","v":3},{"$f":"'Pob x Genero'!Z21+'Pob x Genero'!BM21","v":5},{"$f":"'Pob x Genero'!AA21+'Pob x Genero'!BN21","v":4},{"$f":"'Pob x Genero'!AB21+'Pob x Genero'!BO21","v":24},{"$f":"'Pob x Genero'!AC21+'Pob x Genero'!BP21","v":40},{"$f":"'Pob x Genero'!AD21+'Pob x Genero'!BQ21","v":44},{"$f":"'Pob x Genero'!AE21+'Pob x Genero'!BR21","v":34},{"$f":"'Pob x Genero'!AF21+'Pob x Genero'!BS21","v":37},{"$f":"'Pob x Genero'!AG21+'Pob x Genero'!BT21","v":39},{"$f":"'Pob x Genero'!AH21+'Pob x Genero'!BU21","v":34},{"$f":"'Pob x Genero'!AI21+'Pob x Genero'!BV21","v":30},{"$f":"'Pob x Genero'!AJ21+'Pob x Genero'!BW21","v":28},{"$f":"'Pob x Genero'!AK21+'Pob x Genero'!BX21","v":21},{"$f":"'Pob x Genero'!AL21+'Pob x Genero'!BY21","v":17},{"$f":"'Pob x Genero'!AM21+'Pob x Genero'!BZ21","v":14},{"$f":"'Pob x Genero'!AN21+'Pob x Genero'!CA21","v":15},{"$f":"'Pob x Genero'!AO21+'Pob x Genero'!CB21","v":11},{"$f":"'Pob x Genero'!AP21+'Pob x Genero'!CC21","v":0},{"$f":"'Pob x Genero'!AQ21+'Pob x Genero'!CD21","v":3},{"$f":"'Pob x Genero'!AR21+'Pob x Genero'!CE21","v":6},{"$f":"'Pob x Genero'!AS21+'Pob x Genero'!CF21","v":12},{"$f":"'Pob x Genero'!AT21","v":234},{"$f":"SUM('Pob x Genero'!BE21:BI21)","v":7},{"$f":"SUM('Pob x Genero'!BJ21:BN21)","v":7},{"$f":"SUM('Pob x Genero'!BO21:BT21)","v":106},{"$f":"'Pob x Genero'!CG21","v":10},null,null,471,54,20,73,218,106]
["040114","AREQUIPA","AREQUIPA","AREQUIPA","POLOBAYA",798,{"$f":"'Pob x Genero'!H22+'Pob x Genero'!AU22","v":10},{"$f":"'Pob x Genero'!I22+'Pob x Genero'!AV22","v":14},{"$f":"'Pob x Genero'!J22+'Pob x Genero'!AW22","v":11},{"$f":"'Pob x Genero'!K22+'Pob x Genero'!AX22","v":17},{"$f":"'Pob x Genero'!L22+'Pob x Genero'!AY22","v":7},{"$f":"'Pob x Genero'!M22+'Pob x Genero'!AZ22","v":12},{"$f":"'Pob x Genero'!N22+'Pob x Genero'!BA22","v":3},{"$f":"'Pob x Genero'!O22+'Pob x Genero'!BB22","v":5},{"$f":"'Pob x Genero'!P22+'Pob x Genero'!BC22","v":6},{"$f":"'Pob x Genero'!Q22+'Pob x Genero'!BD22","v":9},{"$f":"'Pob x Genero'!R22+'Pob x Genero'!BE22","v":9},{"$f":"'Pob x Genero'!S22+'Pob x Genero'!BF22","v":9},{"$f":"'Pob x Genero'!T22+'Pob x Genero'!BG22","v":9},{"$f":"'Pob x Genero'!U22+'Pob x Genero'!BH22","v":8},{"$f":"'Pob x Genero'!V22+'Pob x Genero'!BI22","v":9},{"$f":"'Pob x Genero'!W22+'Pob x Genero'!BJ22","v":7},{"$f":"'Pob x Genero'!X22+'Pob x Genero'!BK22","v":8},{"$f":"'Pob x Genero'!Y22+'Pob x Genero'!BL22","v":5},{"$f":"'Pob x Genero'!Z22+'Pob x Genero'!BM22","v":7},{"$f":"'Pob x Genero'!AA22+'Pob x Genero'!BN22","v":16},{"$f":"'Pob x Genero'!AB22+'Pob x Genero'!BO22","v":52},{"$f":"'Pob x Genero'!AC22+'Pob x Genero'!BP22","v":64},{"$f":"'Pob x Genero'!AD22+'Pob x Genero'!BQ22","v":65},{"$f":"'Pob x Genero'!AE22+'Pob x Genero'!BR22","v":56},{"$f":"'Pob x Genero'!AF22+'Pob x Genero'!BS22","v":52},{"$f":"'Pob x Genero'!AG22+'Pob x Genero'!BT22","v":47},{"$f":"'Pob x Genero'!AH22+'Pob x Genero'!BU22","v":47},{"$f":"'Pob x Genero'!AI22+'Pob x Genero'!BV22","v":60},{"$f":"'Pob x Genero'!AJ22+'Pob x Genero'!BW22","v":51},{"$f":"'Pob x Genero'!AK22+'Pob x Genero'!BX22","v":45},{"$f":"'Pob x Genero'!AL22+'Pob x Genero'!BY22","v":31},{"$f":"'Pob x Genero'!AM22+'Pob x Genero'!BZ22","v":15},{"$f":"'Pob x Genero'!AN22+'Pob x Genero'!CA22","v":16},{"$f":"'Pob x Genero'!AO22+'Pob x Genero'!CB22","v":16},{"$f":"'Pob x Genero'!AP22+'Pob x Genero'!CC22","v":0},{"$f":"'Pob x Genero'!AQ22+'Pob x Genero'!CD22","v":6},{"$f":"'Pob x Genero'!AR22+'Pob x Genero'!CE22","v":4},{"$f":"'Pob x Genero'!AS22+'Pob x Genero'!CF22","v":22},{"$f":"'Pob x Genero'!AT22","v":398},{"$f":"SUM('Pob x Genero'!BE22:BI22)","v":21},{"$f":"SUM('Pob x Genero'!BJ22:BN22)","v":20},{"$f":"SUM('Pob x Genero'!BO22:BT22)","v":166},{"$f":"'Pob x Genero'!CG22","v":28},null,null,798,112,46,139,327,174]
["040115","AREQUIPA","AREQUIPA","AREQUIPA","QUEQUEÑA",{"v":7974,"d":"7,974"},{"$f":"'Pob x Genero'!H23+'Pob x Genero'!AU23","v":42},{"$f":"'Pob x Genero'!I23+'Pob x Genero'!AV23","v":44},{"$f":"'Pob x Genero'!J23+'Pob x Genero'!AW23","v":53},{"$f":"'Pob x Genero'!K23+'Pob x Genero'!AX23","v":41},{"$f":"'Pob x Genero'!L23+'Pob x Genero'!AY23","v":34},{"$f":"'Pob x Genero'!M23+'Pob x Genero'!AZ23","v":33},{"$f":"'Pob x Genero'!N23+'Pob x Genero'!BA23","v":111},{"$f":"'Pob x Genero'!O23+'Pob x Genero'!BB23","v":108},{"$f":"'Pob x Genero'!P23+'Pob x Genero'!BC23","v":67},{"$f":"'Pob x Genero'!Q23+'Pob x Genero'!BD23","v":94},{"$f":"'Pob x Genero'!R23+'Pob x Genero'!BE23","v":111},{"$f":"'Pob x Genero'!S23+'Pob x Genero'!BF23","v":86},{"$f":"'Pob x Genero'!T23+'Pob x Genero'!BG23","v":98},{"$f":"'Pob x Genero'!U23+'Pob x Genero'!BH23","v":76},{"$f":"'Pob x Genero'!V23+'Pob x Genero'!BI23","v":85},{"$f":"'Pob x Genero'!W23+'Pob x Genero'!BJ23","v":95},{"$f":"'Pob x Genero'!X23+'Pob x Genero'!BK23","v":86},{"$f":"'Pob x Genero'!Y23+'Pob x Genero'!BL23","v":89},{"$f":"'Pob x Genero'!Z23+'Pob x Genero'!BM23","v":110},{"$f":"'Pob x Genero'!AA23+'Pob x Genero'!BN23","v":86},{"$f":"'Pob x Genero'!AB23+'Pob x Genero'!BO23","v":389},{"$f":"'Pob x Genero'!AC23+'Pob x Genero'!BP23","v":582},{"$f":"'Pob x Genero'!AD23+'Pob x Genero'!BQ23","v":830},{"$f":"'Pob x Genero'!AE23+'Pob x Genero'!BR23","v":911},{"$f":"'Pob x Genero'!AF23+'Pob x Genero'!BS23","v":688},{"$f":"'Pob x Genero'!AG23+'Pob x Genero'!BT23","v":655},{"$f":"'Pob x Genero'!AH23+'Pob x Genero'!BU23","v":599},{"$f":"'Pob x Genero'!AI23+'Pob x Genero'!BV23","v":483},{"$f":"'Pob x Genero'!AJ23+'Pob x Genero'!BW23","v":417},{"$f":"'Pob x Genero'!AK23+'Pob x Genero'!BX23","v":286},{"$f":"'Pob x Genero'!AL23+'Pob x Genero'!BY23","v":210},{"$f":"'Pob x Genero'!AM23+'Pob x Genero'!BZ23","v":173},{"$f":"'Pob x Genero'!AN23+'Pob x Genero'!CA23","v":101},{"$f":"'Pob x Genero'!AO23+'Pob x Genero'!CB23","v":101},{"$f":"'Pob x Genero'!AP23+'Pob x Genero'!CC23","v":3},{"$f":"'Pob x Genero'!AQ23+'Pob x Genero'!CD23","v":17},{"$f":"'Pob x Genero'!AR23+'Pob x Genero'!CE23","v":25},{"$f":"'Pob x Genero'!AS23+'Pob x Genero'!CF23","v":91},{"$f":"'Pob x Genero'!AT23","v":{"v":4054,"d":"4,054"}},{"$f":"SUM('Pob x Genero'!BE23:BI23)","v":218},{"$f":"SUM('Pob x Genero'!BJ23:BN23)","v":237},{"$f":"SUM('Pob x Genero'!BO23:BT23)","v":{"v":2143,"d":"2,143"}},{"$f":"'Pob x Genero'!CG23","v":132},null,null,{"v":7974,"d":"7,974"},824,529,{"v":1167,"d":"1,167"},{"v":4166,"d":"4,166"},{"v":1288,"d":"1,288"}]
["040116","AREQUIPA","AREQUIPA","AREQUIPA","SABANDIA",{"v":4963,"d":"4,963"},{"$f":"'Pob x Genero'!H24+'Pob x Genero'!AU24","v":84},{"$f":"'Pob x Genero'!I24+'Pob x Genero'!AV24","v":79},{"$f":"'Pob x Genero'!J24+'Pob x Genero'!AW24","v":102},{"$f":"'Pob x Genero'!K24+'Pob x Genero'!AX24","v":94},{"$f":"'Pob x Genero'!L24+'Pob x Genero'!AY24","v":97},{"$f":"'Pob x Genero'!M24+'Pob x Genero'!AZ24","v":87},{"$f":"'Pob x Genero'!N24+'Pob x Genero'!BA24","v":75},{"$f":"'Pob x Genero'!O24+'Pob x Genero'!BB24","v":71},{"$f":"'Pob x Genero'!P24+'Pob x Genero'!BC24","v":88},{"$f":"'Pob x Genero'!Q24+'Pob x Genero'!BD24","v":65},{"$f":"'Pob x Genero'!R24+'Pob x Genero'!BE24","v":68},{"$f":"'Pob x Genero'!S24+'Pob x Genero'!BF24","v":75},{"$f":"'Pob x Genero'!T24+'Pob x Genero'!BG24","v":81},{"$f":"'Pob x Genero'!U24+'Pob x Genero'!BH24","v":64},{"$f":"'Pob x Genero'!V24+'Pob x Genero'!BI24","v":62},{"$f":"'Pob x Genero'!W24+'Pob x Genero'!BJ24","v":69},{"$f":"'Pob x Genero'!X24+'Pob x Genero'!BK24","v":64},{"$f":"'Pob x Genero'!Y24+'Pob x Genero'!BL24","v":59},{"$f":"'Pob x Genero'!Z24+'Pob x Genero'!BM24","v":64},{"$f":"'Pob x Genero'!AA24+'Pob x Genero'!BN24","v":59},{"$f":"'Pob x Genero'!AB24+'Pob x Genero'!BO24","v":340},{"$f":"'Pob x Genero'!AC24+'Pob x Genero'!BP24","v":406},{"$f":"'Pob x Genero'!AD24+'Pob x Genero'!BQ24","v":370},{"$f":"'Pob x Genero'!AE24+'Pob x Genero'!BR24","v":414},{"$f":"'Pob x Genero'!AF24+'Pob x Genero'!BS24","v":374},{"$f":"'Pob x Genero'!AG24+'Pob x Genero'!BT24","v":343},{"$f":"'Pob x Genero'!AH24+'Pob x Genero'!BU24","v":278},{"$f":"'Pob x Genero'!AI24+'Pob x Genero'!BV24","v":221},{"$f":"'Pob x Genero'!AJ24+'Pob x Genero'!BW24","v":175},{"$f":"'Pob x Genero'!AK24+'Pob x Genero'!BX24","v":157},{"$f":"'Pob x Genero'!AL24+'Pob x Genero'!BY24","v":141},{"$f":"'Pob x Genero'!AM24+'Pob x Genero'!BZ24","v":97},{"$f":"'Pob x Genero'!AN24+'Pob x Genero'!CA24","v":79},{"$f":"'Pob x Genero'!AO24+'Pob x Genero'!CB24","v":61},{"$f":"'Pob x Genero'!AP24+'Pob x Genero'!CC24","v":5},{"$f":"'Pob x Genero'!AQ24+'Pob x Genero'!CD24","v":42},{"$f":"'Pob x Genero'!AR24+'Pob x Genero'!CE24","v":42},{"$f":"'Pob x Genero'!AS24+'Pob x Genero'!CF24","v":148},{"$f":"'Pob x Genero'!AT24","v":{"v":2516,"d":"2,516"}},{"$f":"SUM('Pob x Genero'!BE24:BI24)","v":173},{"$f":"SUM('Pob x Genero'!BJ24:BN24)","v":159},{"$f":"SUM('Pob x Genero'!BO24:BT24)","v":{"v":1145,"d":"1,145"}},{"$f":"'Pob x Genero'!CG24","v":198},null,null,{"v":4963,"d":"4,963"},985,399,869,{"v":2000,"d":"2,000"},710]
["040117","AREQUIPA","AREQUIPA","AREQUIPA","SACHACA",{"v":29929,"d":"29,929"},{"$f":"'Pob x Genero'!H25+'Pob x Genero'!AU25","v":367},{"$f":"'Pob x Genero'!I25+'Pob x Genero'!AV25","v":342},{"$f":"'Pob x Genero'!J25+'Pob x Genero'!AW25","v":368},{"$f":"'Pob x Genero'!K25+'Pob x Genero'!AX25","v":446},{"$f":"'Pob x Genero'!L25+'Pob x Genero'!AY25","v":450},{"$f":"'Pob x Genero'!M25+'Pob x Genero'!AZ25","v":509},{"$f":"'Pob x Genero'!N25+'Pob x Genero'!BA25","v":509},{"$f":"'Pob x Genero'!O25+'Pob x Genero'!BB25","v":526},{"$f":"'Pob x Genero'!P25+'Pob x Genero'!BC25","v":500},{"$f":"'Pob x Genero'!Q25+'Pob x Genero'!BD25","v":470},{"$f":"'Pob x Genero'!R25+'Pob x Genero'!BE25","v":436},{"$f":"'Pob x Genero'!S25+'Pob x Genero'!BF25","v":464},{"$f":"'Pob x Genero'!T25+'Pob x Genero'!BG25","v":496},{"$f":"'Pob x Genero'!U25+'Pob x Genero'!BH25","v":464},{"$f":"'Pob x Genero'!V25+'Pob x Genero'!BI25","v":461},{"$f":"'Pob x Genero'!W25+'Pob x Genero'!BJ25","v":446},{"$f":"'Pob x Genero'!X25+'Pob x Genero'!BK25","v":424},{"$f":"'Pob x Genero'!Y25+'Pob x Genero'!BL25","v":444},{"$f":"'Pob x Genero'!Z25+'Pob x Genero'!BM25","v":429},{"$f":"'Pob x Genero'!AA25+'Pob x Genero'!BN25","v":437},{"$f":"'Pob x Genero'!AB25+'Pob x Genero'!BO25","v":{"v":2286,"d":"2,286"}},{"$f":"'Pob x Genero'!AC25+'Pob x Genero'!BP25","v":{"v":2359,"d":"2,359"}},{"$f":"'Pob x Genero'!AD25+'Pob x Genero'!BQ25","v":{"v":2437,"d":"2,437"}},{"$f":"'Pob x Genero'!AE25+'Pob x Genero'!BR25","v":{"v":2258,"d":"2,258"}},{"$f":"'Pob x Genero'!AF25+'Pob x Genero'!BS25","v":{"v":2211,"d":"2,211"}},{"$f":"'Pob x Genero'!AG25+'Pob x Genero'!BT25","v":{"v":2010,"d":"2,010"}},{"$f":"'Pob x Genero'!AH25+'Pob x Genero'!BU25","v":{"v":1680,"d":"1,680"}},{"$f":"'Pob x Genero'!AI25+'Pob x Genero'!BV25","v":{"v":1427,"d":"1,427"}},{"$f":"'Pob x Genero'!AJ25+'Pob x Genero'!BW25","v":{"v":1182,"d":"1,182"}},{"$f":"'Pob x Genero'!AK25+'Pob x Genero'!BX25","v":{"v":1056,"d":"1,056"}},{"$f":"'Pob x Genero'!AL25+'Pob x Genero'!BY25","v":774},{"$f":"'Pob x Genero'!AM25+'Pob x Genero'!BZ25","v":564},{"$f":"'Pob x Genero'!AN25+'Pob x Genero'!CA25","v":354},{"$f":"'Pob x Genero'!AO25+'Pob x Genero'!CB25","v":343},{"$f":"'Pob x Genero'!AP25+'Pob x Genero'!CC25","v":21},{"$f":"'Pob x Genero'!AQ25+'Pob x Genero'!CD25","v":171},{"$f":"'Pob x Genero'!AR25+'Pob x Genero'!CE25","v":196},{"$f":"'Pob x Genero'!AS25+'Pob x Genero'!CF25","v":512},{"$f":"'Pob x Genero'!AT25","v":{"v":15229,"d":"15,229"}},{"$f":"SUM('Pob x Genero'!BE25:BI25)","v":{"v":1137,"d":"1,137"}},{"$f":"SUM('Pob x Genero'!BJ25:BN25)","v":{"v":1114,"d":"1,114"}},{"$f":"SUM('Pob x Genero'!BO25:BT25)","v":{"v":6824,"d":"6,824"}},{"$f":"'Pob x Genero'!CG25","v":662},null,null,{"v":29929,"d":"29,929"},{"v":5387,"d":"5,387"},{"v":2735,"d":"2,735"},{"v":5511,"d":"5,511"},{"v":12023,"d":"12,023"},{"v":4273,"d":"4,273"}]
["040118","AREQUIPA","AREQUIPA","AREQUIPA","SAN JUAN DE SIGUAS",552,{"$f":"'Pob x Genero'!H26+'Pob x Genero'!AU26","v":8},{"$f":"'Pob x Genero'!I26+'Pob x Genero'!AV26","v":8},{"$f":"'Pob x Genero'!J26+'Pob x Genero'!AW26","v":10},{"$f":"'Pob x Genero'!K26+'Pob x Genero'!AX26","v":9},{"$f":"'Pob x Genero'!L26+'Pob x Genero'!AY26","v":6},{"$f":"'Pob x Genero'!M26+'Pob x Genero'!AZ26","v":16},{"$f":"'Pob x Genero'!N26+'Pob x Genero'!BA26","v":4},{"$f":"'Pob x Genero'!O26+'Pob x Genero'!BB26","v":7},{"$f":"'Pob x Genero'!P26+'Pob x Genero'!BC26","v":4},{"$f":"'Pob x Genero'!Q26+'Pob x Genero'!BD26","v":5},{"$f":"'Pob x Genero'!R26+'Pob x Genero'!BE26","v":9},{"$f":"'Pob x Genero'!S26+'Pob x Genero'!BF26","v":8},{"$f":"'Pob x Genero'!T26+'Pob x Genero'!BG26","v":10},{"$f":"'Pob x Genero'!U26+'Pob x Genero'!BH26","v":4},{"$f":"'Pob x Genero'!V26+'Pob x Genero'!BI26","v":5},{"$f":"'Pob x Genero'!W26+'Pob x Genero'!BJ26","v":4},{"$f":"'Pob x Genero'!X26+'Pob x Genero'!BK26","v":11},{"$f":"'Pob x Genero'!Y26+'Pob x Genero'!BL26","v":5},{"$f":"'Pob x Genero'!Z26+'Pob x Genero'!BM26","v":7},{"$f":"'Pob x Genero'!AA26+'Pob x Genero'!BN26","v":4},{"$f":"'Pob x Genero'!AB26+'Pob x Genero'!BO26","v":38},{"$f":"'Pob x Genero'!AC26+'Pob x Genero'!BP26","v":42},{"$f":"'Pob x Genero'!AD26+'Pob x Genero'!BQ26","v":45},{"$f":"'Pob x Genero'!AE26+'Pob x Genero'!BR26","v":36},{"$f":"'Pob x Genero'!AF26+'Pob x Genero'!BS26","v":41},{"$f":"'Pob x Genero'!AG26+'Pob x Genero'!BT26","v":30},{"$f":"'Pob x Genero'!AH26+'Pob x Genero'!BU26","v":42},{"$f":"'Pob x Genero'!AI26+'Pob x Genero'!BV26","v":38},{"$f":"'Pob x Genero'!AJ26+'Pob x Genero'!BW26","v":27},{"$f":"'Pob x Genero'!AK26+'Pob x Genero'!BX26","v":28},{"$f":"'Pob x Genero'!AL26+'Pob x Genero'!BY26","v":17},{"$f":"'Pob x Genero'!AM26+'Pob x Genero'!BZ26","v":11},{"$f":"'Pob x Genero'!AN26+'Pob x Genero'!CA26","v":5},{"$f":"'Pob x Genero'!AO26+'Pob x Genero'!CB26","v":8},{"$f":"'Pob x Genero'!AP26+'Pob x Genero'!CC26","v":1},{"$f":"'Pob x Genero'!AQ26+'Pob x Genero'!CD26","v":5},{"$f":"'Pob x Genero'!AR26+'Pob x Genero'!CE26","v":3},{"$f":"'Pob x Genero'!AS26+'Pob x Genero'!CF26","v":15},{"$f":"'Pob x Genero'!AT26","v":274},{"$f":"SUM('Pob x Genero'!BE26:BI26)","v":21},{"$f":"SUM('Pob x Genero'!BJ26:BN26)","v":15},{"$f":"SUM('Pob x Genero'!BO26:BT26)","v":115},{"$f":"'Pob x Genero'!CG26","v":42},null,null,552,94,39,91,232,96]
["040119","AREQUIPA","AREQUIPA","AREQUIPA","SAN JUAN DE TARUCANI",{"v":1280,"d":"1,280"},{"$f":"'Pob x Genero'!H27+'Pob x Genero'!AU27","v":22},{"$f":"'Pob x Genero'!I27+'Pob x Genero'!AV27","v":28},{"$f":"'Pob x Genero'!J27+'Pob x Genero'!AW27","v":17},{"$f":"'Pob x Genero'!K27+'Pob x Genero'!AX27","v":25},{"$f":"'Pob x Genero'!L27+'Pob x Genero'!AY27","v":23},{"$f":"'Pob x Genero'!M27+'Pob x Genero'!AZ27","v":29},{"$f":"'Pob x Genero'!N27+'Pob x Genero'!BA27","v":7},{"$f":"'Pob x Genero'!O27+'Pob x Genero'!BB27","v":10},{"$f":"'Pob x Genero'!P27+'Pob x Genero'!BC27","v":9},{"$f":"'Pob x Genero'!Q27+'Pob x Genero'!BD27","v":11},{"$f":"'Pob x Genero'!R27+'Pob x Genero'!BE27","v":11},{"$f":"'Pob x Genero'!S27+'Pob x Genero'!BF27","v":10},{"$f":"'Pob x Genero'!T27+'Pob x Genero'!BG27","v":7},{"$f":"'Pob x Genero'!U27+'Pob x Genero'!BH27","v":16},{"$f":"'Pob x Genero'!V27+'Pob x Genero'!BI27","v":8},{"$f":"'Pob x Genero'!W27+'Pob x Genero'!BJ27","v":14},{"$f":"'Pob x Genero'!X27+'Pob x Genero'!BK27","v":8},{"$f":"'Pob x Genero'!Y27+'Pob x Genero'!BL27","v":15},{"$f":"'Pob x Genero'!Z27+'Pob x Genero'!BM27","v":12},{"$f":"'Pob x Genero'!AA27+'Pob x Genero'!BN27","v":12},{"$f":"'Pob x Genero'!AB27+'Pob x Genero'!BO27","v":68},{"$f":"'Pob x Genero'!AC27+'Pob x Genero'!BP27","v":95},{"$f":"'Pob x Genero'!AD27+'Pob x Genero'!BQ27","v":97},{"$f":"'Pob x Genero'!AE27+'Pob x Genero'!BR27","v":110},{"$f":"'Pob x Genero'!AF27+'Pob x Genero'!BS27","v":122},{"$f":"'Pob x Genero'!AG27+'Pob x Genero'!BT27","v":98},{"$f":"'Pob x Genero'!AH27+'Pob x Genero'!BU27","v":85},{"$f":"'Pob x Genero'!AI27+'Pob x Genero'!BV27","v":87},{"$f":"'Pob x Genero'!AJ27+'Pob x Genero'!BW27","v":65},{"$f":"'Pob x Genero'!AK27+'Pob x Genero'!BX27","v":51},{"$f":"'Pob x Genero'!AL27+'Pob x Genero'!BY27","v":35},{"$f":"'Pob x Genero'!AM27+'Pob x Genero'!BZ27","v":27},{"$f":"'Pob x Genero'!AN27+'Pob x Genero'!CA27","v":24},{"$f":"'Pob x Genero'!AO27+'Pob x Genero'!CB27","v":22},{"$f":"'Pob x Genero'!AP27+'Pob x Genero'!CC27","v":0},{"$f":"'Pob x Genero'!AQ27+'Pob x Genero'!CD27","v":6},{"$f":"'Pob x Genero'!AR27+'Pob x Genero'!CE27","v":16},{"$f":"'Pob x Genero'!AS27+'Pob x Genero'!CF27","v":30},{"$f":"'Pob x Genero'!AT27","v":647},{"$f":"SUM('Pob x Genero'!BE27:BI27)","v":24},{"$f":"SUM('Pob x Genero'!BJ27:BN27)","v":30},{"$f":"SUM('Pob x Genero'!BO27:BT27)","v":315},{"$f":"'Pob x Genero'!CG27","v":46},null,null,{"v":1280,"d":"1,280"},202,68,187,599,224]
["040120","AREQUIPA","AREQUIPA","AREQUIPA","SANTA ISABEL DE SIGUAS",639,{"$f":"'Pob x Genero'!H28+'Pob x Genero'!AU28","v":5},{"$f":"'Pob x Genero'!I28+'Pob x Genero'!AV28","v":4},{"$f":"'Pob x Genero'!J28+'Pob x Genero'!AW28","v":4},{"$f":"'Pob x Genero'!K28+'Pob x Genero'!AX28","v":13},{"$f":"'Pob x Genero'!L28+'Pob x Genero'!AY28","v":6},{"$f":"'Pob x Genero'!M28+'Pob x Genero'!AZ28","v":8},{"$f":"'Pob x Genero'!N28+'Pob x Genero'!BA28","v":9},{"$f":"'Pob x Genero'!O28+'Pob x Genero'!BB28","v":10},{"$f":"'Pob x Genero'!P28+'Pob x Genero'!BC28","v":8},{"$f":"'Pob x Genero'!Q28+'Pob x Genero'!BD28","v":7},{"$f":"'Pob x Genero'!R28+'Pob x Genero'!BE28","v":8},{"$f":"'Pob x Genero'!S28+'Pob x Genero'!BF28","v":10},{"$f":"'Pob x Genero'!T28+'Pob x Genero'!BG28","v":9},{"$f":"'Pob x Genero'!U28+'Pob x Genero'!BH28","v":9},{"$f":"'Pob x Genero'!V28+'Pob x Genero'!BI28","v":6},{"$f":"'Pob x Genero'!W28+'Pob x Genero'!BJ28","v":9},{"$f":"'Pob x Genero'!X28+'Pob x Genero'!BK28","v":9},{"$f":"'Pob x Genero'!Y28+'Pob x Genero'!BL28","v":14},{"$f":"'Pob x Genero'!Z28+'Pob x Genero'!BM28","v":7},{"$f":"'Pob x Genero'!AA28+'Pob x Genero'!BN28","v":7},{"$f":"'Pob x Genero'!AB28+'Pob x Genero'!BO28","v":52},{"$f":"'Pob x Genero'!AC28+'Pob x Genero'!BP28","v":48},{"$f":"'Pob x Genero'!AD28+'Pob x Genero'!BQ28","v":52},{"$f":"'Pob x Genero'!AE28+'Pob x Genero'!BR28","v":35},{"$f":"'Pob x Genero'!AF28+'Pob x Genero'!BS28","v":35},{"$f":"'Pob x Genero'!AG28+'Pob x Genero'!BT28","v":43},{"$f":"'Pob x Genero'!AH28+'Pob x Genero'!BU28","v":47},{"$f":"'Pob x Genero'!AI28+'Pob x Genero'!BV28","v":38},{"$f":"'Pob x Genero'!AJ28+'Pob x Genero'!BW28","v":36},{"$f":"'Pob x Genero'!AK28+'Pob x Genero'!BX28","v":30},{"$f":"'Pob x Genero'!AL28+'Pob x Genero'!BY28","v":19},{"$f":"'Pob x Genero'!AM28+'Pob x Genero'!BZ28","v":16},{"$f":"'Pob x Genero'!AN28+'Pob x Genero'!CA28","v":14},{"$f":"'Pob x Genero'!AO28+'Pob x Genero'!CB28","v":12},{"$f":"'Pob x Genero'!AP28+'Pob x Genero'!CC28","v":0},{"$f":"'Pob x Genero'!AQ28+'Pob x Genero'!CD28","v":2},{"$f":"'Pob x Genero'!AR28+'Pob x Genero'!CE28","v":3},{"$f":"'Pob x Genero'!AS28+'Pob x Genero'!CF28","v":8},{"$f":"'Pob x Genero'!AT28","v":318},{"$f":"SUM('Pob x Genero'!BE28:BI28)","v":27},{"$f":"SUM('Pob x Genero'!BJ28:BN28)","v":21},{"$f":"SUM('Pob x Genero'!BO28:BT28)","v":132},{"$f":"'Pob x Genero'!CG28","v":13},null,null,639,92,56,114,250,127]
["040121","AREQUIPA","AREQUIPA","AREQUIPA","SANTA RITA DE SIGUAS",{"v":8403,"d":"8,403"},{"$f":"'Pob x Genero'!H29+'Pob x Genero'!AU29","v":100},{"$f":"'Pob x Genero'!I29+'Pob x Genero'!AV29","v":91},{"$f":"'Pob x Genero'!J29+'Pob x Genero'!AW29","v":111},{"$f":"'Pob x Genero'!K29+'Pob x Genero'!AX29","v":107},{"$f":"'Pob x Genero'!L29+'Pob x Genero'!AY29","v":98},{"$f":"'Pob x Genero'!M29+'Pob x Genero'!AZ29","v":102},{"$f":"'Pob x Genero'!N29+'Pob x Genero'!BA29","v":164},{"$f":"'Pob x Genero'!O29+'Pob x Genero'!BB29","v":175},{"$f":"'Pob x Genero'!P29+'Pob x Genero'!BC29","v":141},{"$f":"'Pob x Genero'!Q29+'Pob x Genero'!BD29","v":137},{"$f":"'Pob x Genero'!R29+'Pob x Genero'!BE29","v":168},{"$f":"'Pob x Genero'!S29+'Pob x Genero'!BF29","v":140},{"$f":"'Pob x Genero'!T29+'Pob x Genero'!BG29","v":151},{"$f":"'Pob x Genero'!U29+'Pob x Genero'!BH29","v":156},{"$f":"'Pob x Genero'!V29+'Pob x Genero'!BI29","v":126},{"$f":"'Pob x Genero'!W29+'Pob x Genero'!BJ29","v":150},{"$f":"'Pob x Genero'!X29+'Pob x Genero'!BK29","v":120},{"$f":"'Pob x Genero'!Y29+'Pob x Genero'!BL29","v":121},{"$f":"'Pob x Genero'!Z29+'Pob x Genero'!BM29","v":130},{"$f":"'Pob x Genero'!AA29+'Pob x Genero'!BN29","v":151},{"$f":"'Pob x Genero'!AB29+'Pob x Genero'!BO29","v":703},{"$f":"'Pob x Genero'!AC29+'Pob x Genero'!BP29","v":890},{"$f":"'Pob x Genero'!AD29+'Pob x Genero'!BQ29","v":910},{"$f":"'Pob x Genero'!AE29+'Pob x Genero'!BR29","v":810},{"$f":"'Pob x Genero'!AF29+'Pob x Genero'!BS29","v":655},{"$f":"'Pob x Genero'!AG29+'Pob x Genero'!BT29","v":472},{"$f":"'Pob x Genero'!AH29+'Pob x Genero'!BU29","v":354},{"$f":"'Pob x Genero'!AI29+'Pob x Genero'!BV29","v":319},{"$f":"'Pob x Genero'!AJ29+'Pob x Genero'!BW29","v":249},{"$f":"'Pob x Genero'!AK29+'Pob x Genero'!BX29","v":143},{"$f":"'Pob x Genero'!AL29+'Pob x Genero'!BY29","v":110},{"$f":"'Pob x Genero'!AM29+'Pob x Genero'!BZ29","v":72},{"$f":"'Pob x Genero'!AN29+'Pob x Genero'!CA29","v":43},{"$f":"'Pob x Genero'!AO29+'Pob x Genero'!CB29","v":34},{"$f":"'Pob x Genero'!AP29+'Pob x Genero'!CC29","v":2},{"$f":"'Pob x Genero'!AQ29+'Pob x Genero'!CD29","v":52},{"$f":"'Pob x Genero'!AR29+'Pob x Genero'!CE29","v":48},{"$f":"'Pob x Genero'!AS29+'Pob x Genero'!CF29","v":168},{"$f":"'Pob x Genero'!AT29","v":{"v":4271,"d":"4,271"}},{"$f":"SUM('Pob x Genero'!BE29:BI29)","v":374},{"$f":"SUM('Pob x Genero'!BJ29:BN29)","v":344},{"$f":"SUM('Pob x Genero'!BO29:BT29)","v":{"v":2240,"d":"2,240"}},{"$f":"'Pob x Genero'!CG29","v":244},null,null,{"v":8403,"d":"8,403"},{"v":1534,"d":"1,534"},824,{"v":1874,"d":"1,874"},{"v":3520,"d":"3,520"},651]
["040122","AREQUIPA","AREQUIPA","AREQUIPA","SOCABAYA",{"v":86938,"d":"86,938"},{"$f":"'Pob x Genero'!H30+'Pob x Genero'!AU30","v":720},{"$f":"'Pob x Genero'!I30+'Pob x Genero'!AV30","v":625},{"$f":"'Pob x Genero'!J30+'Pob x Genero'!AW30","v":761},{"$f":"'Pob x Genero'!K30+'Pob x Genero'!AX30","v":922},{"$f":"'Pob x Genero'!L30+'Pob x Genero'!AY30","v":{"v":1093,"d":"1,093"}},{"$f":"'Pob x Genero'!M30+'Pob x Genero'!AZ30","v":{"v":1116,"d":"1,116"}},{"$f":"'Pob x Genero'!N30+'Pob x Genero'!BA30","v":{"v":1401,"d":"1,401"}},{"$f":"'Pob x Genero'!O30+'Pob x Genero'!BB30","v":{"v":1468,"d":"1,468"}},{"$f":"'Pob x Genero'!P30+'Pob x Genero'!BC30","v":{"v":1478,"d":"1,478"}},{"$f":"'Pob x Genero'!Q30+'Pob x Genero'!BD30","v":{"v":1484,"d":"1,484"}},{"$f":"'Pob x Genero'!R30+'Pob x Genero'!BE30","v":{"v":1338,"d":"1,338"}},{"$f":"'Pob x Genero'!S30+'Pob x Genero'!BF30","v":{"v":1456,"d":"1,456"}},{"$f":"'Pob x Genero'!T30+'Pob x Genero'!BG30","v":{"v":1461,"d":"1,461"}},{"$f":"'Pob x Genero'!U30+'Pob x Genero'!BH30","v":{"v":1461,"d":"1,461"}},{"$f":"'Pob x Genero'!V30+'Pob x Genero'!BI30","v":{"v":1299,"d":"1,299"}},{"$f":"'Pob x Genero'!W30+'Pob x Genero'!BJ30","v":{"v":1294,"d":"1,294"}},{"$f":"'Pob x Genero'!X30+'Pob x Genero'!BK30","v":{"v":1393,"d":"1,393"}},{"$f":"'Pob x Genero'!Y30+'Pob x Genero'!BL30","v":{"v":1296,"d":"1,296"}},{"$f":"'Pob x Genero'!Z30+'Pob x Genero'!BM30","v":{"v":1369,"d":"1,369"}},{"$f":"'Pob x Genero'!AA30+'Pob x Genero'!BN30","v":{"v":1376,"d":"1,376"}},{"$f":"'Pob x Genero'!AB30+'Pob x Genero'!BO30","v":{"v":7186,"d":"7,186"}},{"$f":"'Pob x Genero'!AC30+'Pob x Genero'!BP30","v":{"v":7891,"d":"7,891"}},{"$f":"'Pob x Genero'!AD30+'Pob x Genero'!BQ30","v":{"v":7486,"d":"7,486"}},{"$f":"'Pob x Genero'!AE30+'Pob x Genero'!BR30","v":{"v":6877,"d":"6,877"}},{"$f":"'Pob x Genero'!AF30+'Pob x Genero'!BS30","v":{"v":6557,"d":"6,557"}},{"$f":"'Pob x Genero'!AG30+'Pob x Genero'!BT30","v":{"v":5974,"d":"5,974"}},{"$f":"'Pob x Genero'!AH30+'Pob x Genero'!BU30","v":{"v":4848,"d":"4,848"}},{"$f":"'Pob x Genero'!AI30+'Pob x Genero'!BV30","v":{"v":4144,"d":"4,144"}},{"$f":"'Pob x Genero'!AJ30+'Pob x Genero'!BW30","v":{"v":3413,"d":"3,413"}},{"$f":"'Pob x Genero'!AK30+'Pob x Genero'!BX30","v":{"v":2900,"d":"2,900"}},{"$f":"'Pob x Genero'!AL30+'Pob x Genero'!BY30","v":{"v":1930,"d":"1,930"}},{"$f":"'Pob x Genero'!AM30+'Pob x Genero'!BZ30","v":{"v":1357,"d":"1,357"}},{"$f":"'Pob x Genero'!AN30+'Pob x Genero'!CA30","v":803},{"$f":"'Pob x Genero'!AO30+'Pob x Genero'!CB30","v":761},{"$f":"'Pob x Genero'!AP30+'Pob x Genero'!CC30","v":60},{"$f":"'Pob x Genero'!AQ30+'Pob x Genero'!CD30","v":336},{"$f":"'Pob x Genero'!AR30+'Pob x Genero'!CE30","v":384},{"$f":"'Pob x Genero'!AS30+'Pob x Genero'!CF30","v":{"v":1155,"d":"1,155"}},{"$f":"'Pob x Genero'!AT30","v":{"v":44141,"d":"44,141"}},{"$f":"SUM('Pob x Genero'!BE30:BI30)","v":{"v":3568,"d":"3,568"}},{"$f":"SUM('Pob x Genero'!BJ30:BN30)","v":{"v":3359,"d":"3,359"}},{"$f":"SUM('Pob x Genero'!BO30:BT30)","v":{"v":21030,"d":"21,030"}},{"$f":"'Pob x Genero'!CG30","v":{"v":1443,"d":"1,443"}},null,null,{"v":86938,"d":"86,938"},{"v":13862,"d":"13,862"},{"v":8204,"d":"8,204"},{"v":17822,"d":"17,822"},{"v":35886,"d":"35,886"},{"v":11164,"d":"11,164"}]
["040123","AREQUIPA","AREQUIPA","AREQUIPA","TIABAYA",{"v":18168,"d":"18,168"},{"$f":"'Pob x Genero'!H31+'Pob x Genero'!AU31","v":270},{"$f":"'Pob x Genero'!I31+'Pob x Genero'!AV31","v":248},{"$f":"'Pob x Genero'!J31+'Pob x Genero'!AW31","v":232},{"$f":"'Pob x Genero'!K31+'Pob x Genero'!AX31","v":296},{"$f":"'Pob x Genero'!L31+'Pob x Genero'!AY31","v":274},{"$f":"'Pob x Genero'!M31+'Pob x Genero'!AZ31","v":299},{"$f":"'Pob x Genero'!N31+'Pob x Genero'!BA31","v":294},{"$f":"'Pob x Genero'!O31+'Pob x Genero'!BB31","v":358},{"$f":"'Pob x Genero'!P31+'Pob x Genero'!BC31","v":287},{"$f":"'Pob x Genero'!Q31+'Pob x Genero'!BD31","v":279},{"$f":"'Pob x Genero'!R31+'Pob x Genero'!BE31","v":250},{"$f":"'Pob x Genero'!S31+'Pob x Genero'!BF31","v":279},{"$f":"'Pob x Genero'!T31+'Pob x Genero'!BG31","v":280},{"$f":"'Pob x Genero'!U31+'Pob x Genero'!BH31","v":281},{"$f":"'Pob x Genero'!V31+'Pob x Genero'!BI31","v":272},{"$f":"'Pob x Genero'!W31+'Pob x Genero'!BJ31","v":246},{"$f":"'Pob x Genero'!X31+'Pob x Genero'!BK31","v":238},{"$f":"'Pob x Genero'!Y31+'Pob x Genero'!BL31","v":272},{"$f":"'Pob x Genero'!Z31+'Pob x Genero'!BM31","v":228},{"$f":"'Pob x Genero'!AA31+'Pob x Genero'!BN31","v":258},{"$f":"'Pob x Genero'!AB31+'Pob x Genero'!BO31","v":{"v":1371,"d":"1,371"}},{"$f":"'Pob x Genero'!AC31+'Pob x Genero'!BP31","v":{"v":1645,"d":"1,645"}},{"$f":"'Pob x Genero'!AD31+'Pob x Genero'!BQ31","v":{"v":1629,"d":"1,629"}},{"$f":"'Pob x Genero'!AE31+'Pob x Genero'!BR31","v":{"v":1513,"d":"1,513"}},{"$f":"'Pob x Genero'!AF31+'Pob x Genero'!BS31","v":{"v":1385,"d":"1,385"}},{"$f":"'Pob x Genero'!AG31+'Pob x Genero'!BT31","v":{"v":1184,"d":"1,184"}},{"$f":"'Pob x Genero'!AH31+'Pob x Genero'!BU31","v":945},{"$f":"'Pob x Genero'!AI31+'Pob x Genero'!BV31","v":828},{"$f":"'Pob x Genero'!AJ31+'Pob x Genero'!BW31","v":646},{"$f":"'Pob x Genero'!AK31+'Pob x Genero'!BX31","v":522},{"$f":"'Pob x Genero'!AL31+'Pob x Genero'!BY31","v":387},{"$f":"'Pob x Genero'!AM31+'Pob x Genero'!BZ31","v":294},{"$f":"'Pob x Genero'!AN31+'Pob x Genero'!CA31","v":186},{"$f":"'Pob x Genero'!AO31+'Pob x Genero'!CB31","v":192},{"$f":"'Pob x Genero'!AP31+'Pob x Genero'!CC31","v":19},{"$f":"'Pob x Genero'!AQ31+'Pob x Genero'!CD31","v":121},{"$f":"'Pob x Genero'!AR31+'Pob x Genero'!CE31","v":149},{"$f":"'Pob x Genero'!AS31+'Pob x Genero'!CF31","v":366},{"$f":"'Pob x Genero'!AT31","v":{"v":9176,"d":"9,176"}},{"$f":"SUM('Pob x Genero'!BE31:BI31)","v":684},{"$f":"SUM('Pob x Genero'!BJ31:BN31)","v":648},{"$f":"SUM('Pob x Genero'!BO31:BT31)","v":{"v":4253,"d":"4,253"}},{"$f":"'Pob x Genero'!CG31","v":694},null,null,{"v":18168,"d":"18,168"},{"v":3366,"d":"3,366"},{"v":1589,"d":"1,589"},{"v":3502,"d":"3,502"},{"v":7484,"d":"7,484"},{"v":2227,"d":"2,227"}]
["040124","AREQUIPA","AREQUIPA","AREQUIPA","UCHUMAYO",{"v":17940,"d":"17,940"},{"$f":"'Pob x Genero'!H32+'Pob x Genero'!AU32","v":220},{"$f":"'Pob x Genero'!I32+'Pob x Genero'!AV32","v":227},{"$f":"'Pob x Genero'!J32+'Pob x Genero'!AW32","v":195},{"$f":"'Pob x Genero'!K32+'Pob x Genero'!AX32","v":250},{"$f":"'Pob x Genero'!L32+'Pob x Genero'!AY32","v":258},{"$f":"'Pob x Genero'!M32+'Pob x Genero'!AZ32","v":265},{"$f":"'Pob x Genero'!N32+'Pob x Genero'!BA32","v":304},{"$f":"'Pob x Genero'!O32+'Pob x Genero'!BB32","v":294},{"$f":"'Pob x Genero'!P32+'Pob x Genero'!BC32","v":276},{"$f":"'Pob x Genero'!Q32+'Pob x Genero'!BD32","v":259},{"$f":"'Pob x Genero'!R32+'Pob x Genero'!BE32","v":266},{"$f":"'Pob x Genero'!S32+'Pob x Genero'!BF32","v":278},{"$f":"'Pob x Genero'!T32+'Pob x Genero'!BG32","v":286},{"$f":"'Pob x Genero'!U32+'Pob x Genero'!BH32","v":261},{"$f":"'Pob x Genero'!V32+'Pob x Genero'!BI32","v":225},{"$f":"'Pob x Genero'!W32+'Pob x Genero'!BJ32","v":239},{"$f":"'Pob x Genero'!X32+'Pob x Genero'!BK32","v":240},{"$f":"'Pob x Genero'!Y32+'Pob x Genero'!BL32","v":231},{"$f":"'Pob x Genero'!Z32+'Pob x Genero'!BM32","v":251},{"$f":"'Pob x Genero'!AA32+'Pob x Genero'!BN32","v":244},{"$f":"'Pob x Genero'!AB32+'Pob x Genero'!BO32","v":{"v":1199,"d":"1,199"}},{"$f":"'Pob x Genero'!AC32+'Pob x Genero'!BP32","v":{"v":1650,"d":"1,650"}},{"$f":"'Pob x Genero'!AD32+'Pob x Genero'!BQ32","v":{"v":1673,"d":"1,673"}},{"$f":"'Pob x Genero'!AE32+'Pob x Genero'!BR32","v":{"v":1680,"d":"1,680"}},{"$f":"'Pob x Genero'!AF32+'Pob x Genero'!BS32","v":{"v":1556,"d":"1,556"}},{"$f":"'Pob x Genero'!AG32+'Pob x Genero'!BT32","v":{"v":1279,"d":"1,279"}},{"$f":"'Pob x Genero'!AH32+'Pob x Genero'!BU32","v":989},{"$f":"'Pob x Genero'!AI32+'Pob x Genero'!BV32","v":838},{"$f":"'Pob x Genero'!AJ32+'Pob x Genero'!BW32","v":661},{"$f":"'Pob x Genero'!AK32+'Pob x Genero'!BX32","v":541},{"$f":"'Pob x Genero'!AL32+'Pob x Genero'!BY32","v":338},{"$f":"'Pob x Genero'!AM32+'Pob x Genero'!BZ32","v":232},{"$f":"'Pob x Genero'!AN32+'Pob x Genero'!CA32","v":140},{"$f":"'Pob x Genero'!AO32+'Pob x Genero'!CB32","v":95},{"$f":"'Pob x Genero'!AP32+'Pob x Genero'!CC32","v":18},{"$f":"'Pob x Genero'!AQ32+'Pob x Genero'!CD32","v":122},{"$f":"'Pob x Genero'!AR32+'Pob x Genero'!CE32","v":98},{"$f":"'Pob x Genero'!AS32+'Pob x Genero'!CF32","v":280},{"$f":"'Pob x Genero'!AT32","v":{"v":9060,"d":"9,060"}},{"$f":"SUM('Pob x Genero'!BE32:BI32)","v":697},{"$f":"SUM('Pob x Genero'!BJ32:BN32)","v":626},{"$f":"SUM('Pob x Genero'!BO32:BT32)","v":{"v":4401,"d":"4,401"}},{"$f":"'Pob x Genero'!CG32","v":503},null,null,{"v":17940,"d":"17,940"},{"v":3092,"d":"3,092"},{"v":1482,"d":"1,482"},{"v":3344,"d":"3,344"},{"v":8015,"d":"8,015"},{"v":2007,"d":"2,007"}]
["040125","AREQUIPA","AREQUIPA","AREQUIPA","VITOR",{"v":5084,"d":"5,084"},{"$f":"'Pob x Genero'!H33+'Pob x Genero'!AU33","v":53},{"$f":"'Pob x Genero'!I33+'Pob x Genero'!AV33","v":33},{"$f":"'Pob x Genero'!J33+'Pob x Genero'!AW33","v":38},{"$f":"'Pob x Genero'!K33+'Pob x Genero'!AX33","v":36},{"$f":"'Pob x Genero'!L33+'Pob x Genero'!AY33","v":34},{"$f":"'Pob x Genero'!M33+'Pob x Genero'!AZ33","v":45},{"$f":"'Pob x Genero'!N33+'Pob x Genero'!BA33","v":60},{"$f":"'Pob x Genero'!O33+'Pob x Genero'!BB33","v":87},{"$f":"'Pob x Genero'!P33+'Pob x Genero'!BC33","v":70},{"$f":"'Pob x Genero'!Q33+'Pob x Genero'!BD33","v":76},{"$f":"'Pob x Genero'!R33+'Pob x Genero'!BE33","v":58},{"$f":"'Pob x Genero'!S33+'Pob x Genero'!BF33","v":84},{"$f":"'Pob x Genero'!T33+'Pob x Genero'!BG33","v":92},{"$f":"'Pob x Genero'!U33+'Pob x Genero'!BH33","v":85},{"$f":"'Pob x Genero'!V33+'Pob x Genero'!BI33","v":72},{"$f":"'Pob x Genero'!W33+'Pob x Genero'!BJ33","v":89},{"$f":"'Pob x Genero'!X33+'Pob x Genero'!BK33","v":85},{"$f":"'Pob x Genero'!Y33+'Pob x Genero'!BL33","v":94},{"$f":"'Pob x Genero'!Z33+'Pob x Genero'!BM33","v":92},{"$f":"'Pob x Genero'!AA33+'Pob x Genero'!BN33","v":89},{"$f":"'Pob x Genero'!AB33+'Pob x Genero'!BO33","v":412},{"$f":"'Pob x Genero'!AC33+'Pob x Genero'!BP33","v":463},{"$f":"'Pob x Genero'!AD33+'Pob x Genero'!BQ33","v":435},{"$f":"'Pob x Genero'!AE33+'Pob x Genero'!BR33","v":428},{"$f":"'Pob x Genero'!AF33+'Pob x Genero'!BS33","v":368},{"$f":"'Pob x Genero'!AG33+'Pob x Genero'!BT33","v":309},{"$f":"'Pob x Genero'!AH33+'Pob x Genero'!BU33","v":274},{"$f":"'Pob x Genero'!AI33+'Pob x Genero'!BV33","v":272},{"$f":"'Pob x Genero'!AJ33+'Pob x Genero'!BW33","v":229},{"$f":"'Pob x Genero'!AK33+'Pob x Genero'!BX33","v":190},{"$f":"'Pob x Genero'!AL33+'Pob x Genero'!BY33","v":130},{"$f":"'Pob x Genero'!AM33+'Pob x Genero'!BZ33","v":78},{"$f":"'Pob x Genero'!AN33+'Pob x Genero'!CA33","v":63},{"$f":"'Pob x Genero'!AO33+'Pob x Genero'!CB33","v":61},{"$f":"'Pob x Genero'!AP33+'Pob x Genero'!CC33","v":0},{"$f":"'Pob x Genero'!AQ33+'Pob x Genero'!CD33","v":25},{"$f":"'Pob x Genero'!AR33+'Pob x Genero'!CE33","v":28},{"$f":"'Pob x Genero'!AS33+'Pob x Genero'!CF33","v":71},{"$f":"'Pob x Genero'!AT33","v":{"v":2578,"d":"2,578"}},{"$f":"SUM('Pob x Genero'!BE33:BI33)","v":211},{"$f":"SUM('Pob x Genero'!BJ33:BN33)","v":236},{"$f":"SUM('Pob x Genero'!BO33:BT33)","v":{"v":1238,"d":"1,238"}},{"$f":"'Pob x Genero'!CG33","v":93},null,null,{"v":5084,"d":"5,084"},674,517,{"v":1056,"d":"1,056"},{"v":2086,"d":"2,086"},751]
["040126","AREQUIPA","AREQUIPA","AREQUIPA","YANAHUARA",{"v":28122,"d":"28,122"},{"$f":"'Pob x Genero'!H34+'Pob x Genero'!AU34","v":227},{"$f":"'Pob x Genero'!I34+'Pob x Genero'!AV34","v":218},{"$f":"'Pob x Genero'!J34+'Pob x Genero'!AW34","v":301},{"$f":"'Pob x Genero'!K34+'Pob x Genero'!AX34","v":392},{"$f":"'Pob x Genero'!L34+'Pob x Genero'!AY34","v":419},{"$f":"'Pob x Genero'!M34+'Pob x Genero'!AZ34","v":359},{"$f":"'Pob x Genero'!N34+'Pob x Genero'!BA34","v":382},{"$f":"'Pob x Genero'!O34+'Pob x Genero'!BB34","v":366},{"$f":"'Pob x Genero'!P34+'Pob x Genero'!BC34","v":398},{"$f":"'Pob x Genero'!Q34+'Pob x Genero'!BD34","v":410},{"$f":"'Pob x Genero'!R34+'Pob x Genero'!BE34","v":374},{"$f":"'Pob x Genero'!S34+'Pob x Genero'!BF34","v":377},{"$f":"'Pob x Genero'!T34+'Pob x Genero'!BG34","v":359},{"$f":"'Pob x Genero'!U34+'Pob x Genero'!BH34","v":370},{"$f":"'Pob x Genero'!V34+'Pob x Genero'!BI34","v":323},{"$f":"'Pob x Genero'!W34+'Pob x Genero'!BJ34","v":305},{"$f":"'Pob x Genero'!X34+'Pob x Genero'!BK34","v":336},{"$f":"'Pob x Genero'!Y34+'Pob x Genero'!BL34","v":303},{"$f":"'Pob x Genero'!Z34+'Pob x Genero'!BM34","v":338},{"$f":"'Pob x Genero'!AA34+'Pob x Genero'!BN34","v":354},{"$f":"'Pob x Genero'!AB34+'Pob x Genero'!BO34","v":{"v":1658,"d":"1,658"}},{"$f":"'Pob x Genero'!AC34+'Pob x Genero'!BP34","v":{"v":1944,"d":"1,944"}},{"$f":"'Pob x Genero'!AD34+'Pob x Genero'!BQ34","v":{"v":2076,"d":"2,076"}},{"$f":"'Pob x Genero'!AE34+'Pob x Genero'!BR34","v":{"v":1987,"d":"1,987"}},{"$f":"'Pob x Genero'!AF34+'Pob x Genero'!BS34","v":{"v":1993,"d":"1,993"}},{"$f":"'Pob x Genero'!AG34+'Pob x Genero'!BT34","v":{"v":2063,"d":"2,063"}},{"$f":"'Pob x Genero'!AH34+'Pob x Genero'!BU34","v":{"v":1859,"d":"1,859"}},{"$f":"'Pob x Genero'!AI34+'Pob x Genero'!BV34","v":{"v":1664,"d":"1,664"}},{"$f":"'Pob x Genero'!AJ34+'Pob x Genero'!BW34","v":{"v":1525,"d":"1,525"}},{"$f":"'Pob x Genero'!AK34+'Pob x Genero'!BX34","v":{"v":1319,"d":"1,319"}},{"$f":"'Pob x Genero'!AL34+'Pob x Genero'!BY34","v":{"v":1063,"d":"1,063"}},{"$f":"'Pob x Genero'!AM34+'Pob x Genero'!BZ34","v":819},{"$f":"'Pob x Genero'!AN34+'Pob x Genero'!CA34","v":580},{"$f":"'Pob x Genero'!AO34+'Pob x Genero'!CB34","v":661},{"$f":"'Pob x Genero'!AP34+'Pob x Genero'!CC34","v":19},{"$f":"'Pob x Genero'!AQ34+'Pob x Genero'!CD34","v":141},{"$f":"'Pob x Genero'!AR34+'Pob x Genero'!CE34","v":86},{"$f":"'Pob x Genero'!AS34+'Pob x Genero'!CF34","v":379},{"$f":"'Pob x Genero'!AT34","v":{"v":14334,"d":"14,334"}},{"$f":"SUM('Pob x Genero'!BE34:BI34)","v":820},{"$f":"SUM('Pob x Genero'!BJ34:BN34)","v":752},{"$f":"SUM('Pob x Genero'!BO34:BT34)","v":{"v":5992,"d":"5,992"}},{"$f":"'Pob x Genero'!CG34","v":557},null,null,{"v":28122,"d":"28,122"},{"v":4223,"d":"4,223"},{"v":1996,"d":"1,996"},{"v":4294,"d":"4,294"},{"v":11642,"d":"11,642"},{"v":5967,"d":"5,967"}]
["040127","AREQUIPA","AREQUIPA","AREQUIPA","YARABAMBA",{"v":1794,"d":"1,794"},{"$f":"'Pob x Genero'!H35+'Pob x Genero'!AU35","v":49},{"$f":"'Pob x Genero'!I35+'Pob x Genero'!AV35","v":40},{"$f":"'Pob x Genero'!J35+'Pob x Genero'!AW35","v":31},{"$f":"'Pob x Genero'!K35+'Pob x Genero'!AX35","v":34},{"$f":"'Pob x Genero'!L35+'Pob x Genero'!AY35","v":23},{"$f":"'Pob x Genero'!M35+'Pob x Genero'!AZ35","v":24},{"$f":"'Pob x Genero'!N35+'Pob x Genero'!BA35","v":15},{"$f":"'Pob x Genero'!O35+'Pob x Genero'!BB35","v":20},{"$f":"'Pob x Genero'!P35+'Pob x Genero'!BC35","v":16},{"$f":"'Pob x Genero'!Q35+'Pob x Genero'!BD35","v":13},{"$f":"'Pob x Genero'!R35+'Pob x Genero'!BE35","v":19},{"$f":"'Pob x Genero'!S35+'Pob x Genero'!BF35","v":16},{"$f":"'Pob x Genero'!T35+'Pob x Genero'!BG35","v":15},{"$f":"'Pob x Genero'!U35+'Pob x Genero'!BH35","v":13},{"$f":"'Pob x Genero'!V35+'Pob x Genero'!BI35","v":12},{"$f":"'Pob x Genero'!W35+'Pob x Genero'!BJ35","v":17},{"$f":"'Pob x Genero'!X35+'Pob x Genero'!BK35","v":15},{"$f":"'Pob x Genero'!Y35+'Pob x Genero'!BL35","v":15},{"$f":"'Pob x Genero'!Z35+'Pob x Genero'!BM35","v":25},{"$f":"'Pob x Genero'!AA35+'Pob x Genero'!BN35","v":19},{"$f":"'Pob x Genero'!AB35+'Pob x Genero'!BO35","v":113},{"$f":"'Pob x Genero'!AC35+'Pob x Genero'!BP35","v":163},{"$f":"'Pob x Genero'!AD35+'Pob x Genero'!BQ35","v":191},{"$f":"'Pob x Genero'!AE35+'Pob x Genero'!BR35","v":157},{"$f":"'Pob x Genero'!AF35+'Pob x Genero'!BS35","v":146},{"$f":"'Pob x Genero'!AG35+'Pob x Genero'!BT35","v":150},{"$f":"'Pob x Genero'!AH35+'Pob x Genero'!BU35","v":107},{"$f":"'Pob x Genero'!AI35+'Pob x Genero'!BV35","v":94},{"$f":"'Pob x Genero'!AJ35+'Pob x Genero'!BW35","v":75},{"$f":"'Pob x Genero'!AK35+'Pob x Genero'!BX35","v":55},{"$f":"'Pob x Genero'!AL35+'Pob x Genero'!BY35","v":46},{"$f":"'Pob x Genero'!AM35+'Pob x Genero'!BZ35","v":26},{"$f":"'Pob x Genero'!AN35+'Pob x Genero'!CA35","v":18},{"$f":"'Pob x Genero'!AO35+'Pob x Genero'!CB35","v":22},{"$f":"'Pob x Genero'!AP35+'Pob x Genero'!CC35","v":6},{"$f":"'Pob x Genero'!AQ35+'Pob x Genero'!CD35","v":20},{"$f":"'Pob x Genero'!AR35+'Pob x Genero'!CE35","v":29},{"$f":"'Pob x Genero'!AS35+'Pob x Genero'!CF35","v":66},{"$f":"'Pob x Genero'!AT35","v":899},{"$f":"SUM('Pob x Genero'!BE35:BI35)","v":41},{"$f":"SUM('Pob x Genero'!BJ35:BN35)","v":44},{"$f":"SUM('Pob x Genero'!BO35:BT35)","v":445},{"$f":"'Pob x Genero'!CG35","v":74},null,null,{"v":1794,"d":"1,794"},300,87,320,845,242]
["040128","AREQUIPA","AREQUIPA","AREQUIPA","YURA",{"v":46147,"d":"46,147"},{"$f":"'Pob x Genero'!H36+'Pob x Genero'!AU36","v":585},{"$f":"'Pob x Genero'!I36+'Pob x Genero'!AV36","v":592},{"$f":"'Pob x Genero'!J36+'Pob x Genero'!AW36","v":605},{"$f":"'Pob x Genero'!K36+'Pob x Genero'!AX36","v":766},{"$f":"'Pob x Genero'!L36+'Pob x Genero'!AY36","v":871},{"$f":"'Pob x Genero'!M36+'Pob x Genero'!AZ36","v":914},{"$f":"'Pob x Genero'!N36+'Pob x Genero'!BA36","v":983},{"$f":"'Pob x Genero'!O36+'Pob x Genero'!BB36","v":915},{"$f":"'Pob x Genero'!P36+'Pob x Genero'!BC36","v":911},{"$f":"'Pob x Genero'!Q36+'Pob x Genero'!BD36","v":800},{"$f":"'Pob x Genero'!R36+'Pob x Genero'!BE36","v":844},{"$f":"'Pob x Genero'!S36+'Pob x Genero'!BF36","v":793},{"$f":"'Pob x Genero'!T36+'Pob x Genero'!BG36","v":867},{"$f":"'Pob x Genero'!U36+'Pob x Genero'!BH36","v":805},{"$f":"'Pob x Genero'!V36+'Pob x Genero'!BI36","v":697},{"$f":"'Pob x Genero'!W36+'Pob x Genero'!BJ36","v":714},{"$f":"'Pob x Genero'!X36+'Pob x Genero'!BK36","v":642},{"$f":"'Pob x Genero'!Y36+'Pob x Genero'!BL36","v":726},{"$f":"'Pob x Genero'!Z36+'Pob x Genero'!BM36","v":802},{"$f":"'Pob x Genero'!AA36+'Pob x Genero'!BN36","v":733},{"$f":"'Pob x Genero'!AB36+'Pob x Genero'!BO36","v":{"v":3858,"d":"3,858"}},{"$f":"'Pob x Genero'!AC36+'Pob x Genero'!BP36","v":{"v":4599,"d":"4,599"}},{"$f":"'Pob x Genero'!AD36+'Pob x Genero'!BQ36","v":{"v":4636,"d":"4,636"}},{"$f":"'Pob x Genero'!AE36+'Pob x Genero'!BR36","v":{"v":3969,"d":"3,969"}},{"$f":"'Pob x Genero'!AF36+'Pob x Genero'!BS36","v":{"v":3191,"d":"3,191"}},{"$f":"'Pob x Genero'!AG36+'Pob x Genero'!BT36","v":{"v":2666,"d":"2,666"}},{"$f":"'Pob x Genero'!AH36+'Pob x Genero'!BU36","v":{"v":2098,"d":"2,098"}},{"$f":"'Pob x Genero'!AI36+'Pob x Genero'!BV36","v":{"v":1725,"d":"1,725"}},{"$f":"'Pob x Genero'!AJ36+'Pob x Genero'!BW36","v":{"v":1277,"d":"1,277"}},{"$f":"'Pob x Genero'!AK36+'Pob x Genero'!BX36","v":{"v":1044,"d":"1,044"}},{"$f":"'Pob x Genero'!AL36+'Pob x Genero'!BY36","v":664},{"$f":"'Pob x Genero'!AM36+'Pob x Genero'!BZ36","v":422},{"$f":"'Pob x Genero'!AN36+'Pob x Genero'!CA36","v":230},{"$f":"'Pob x Genero'!AO36+'Pob x Genero'!CB36","v":203},{"$f":"'Pob x Genero'!AP36+'Pob x Genero'!CC36","v":56},{"$f":"'Pob x Genero'!AQ36+'Pob x Genero'!CD36","v":270},{"$f":"'Pob x Genero'!AR36+'Pob x Genero'!CE36","v":315},{"$f":"'Pob x Genero'!AS36+'Pob x Genero'!CF36","v":844},{"$f":"'Pob x Genero'!AT36","v":{"v":23439,"d":"23,439"}},{"$f":"SUM('Pob x Genero'!BE36:BI36)","v":{"v":1992,"d":"1,992"}},{"$f":"SUM('Pob x Genero'!BJ36:BN36)","v":{"v":1829,"d":"1,829"}},{"$f":"SUM('Pob x Genero'!BO36:BT36)","v":{"v":11768,"d":"11,768"}},{"$f":"'Pob x Genero'!CG36","v":{"v":1195,"d":"1,195"}},null,null,{"v":46147,"d":"46,147"},{"v":9579,"d":"9,579"},{"v":4451,"d":"4,451"},{"v":9992,"d":"9,992"},{"v":18285,"d":"18,285"},{"v":3840,"d":"3,840"}]
["040129","AREQUIPA","AREQUIPA","AREQUIPA","JOSE LUIS BUSTAMANTE Y RIVERO",{"v":85718,"d":"85,718"},{"$f":"'Pob x Genero'!H37+'Pob x Genero'!AU37","v":745},{"$f":"'Pob x Genero'!I37+'Pob x Genero'!AV37","v":757},{"$f":"'Pob x Genero'!J37+'Pob x Genero'!AW37","v":725},{"$f":"'Pob x Genero'!K37+'Pob x Genero'!AX37","v":908},{"$f":"'Pob x Genero'!L37+'Pob x Genero'!AY37","v":{"v":1043,"d":"1,043"}},{"$f":"'Pob x Genero'!M37+'Pob x Genero'!AZ37","v":{"v":1009,"d":"1,009"}},{"$f":"'Pob x Genero'!N37+'Pob x Genero'!BA37","v":{"v":1245,"d":"1,245"}},{"$f":"'Pob x Genero'!O37+'Pob x Genero'!BB37","v":{"v":1300,"d":"1,300"}},{"$f":"'Pob x Genero'!P37+'Pob x Genero'!BC37","v":{"v":1332,"d":"1,332"}},{"$f":"'Pob x Genero'!Q37+'Pob x Genero'!BD37","v":{"v":1263,"d":"1,263"}},{"$f":"'Pob x Genero'!R37+'Pob x Genero'!BE37","v":{"v":1239,"d":"1,239"}},{"$f":"'Pob x Genero'!S37+'Pob x Genero'!BF37","v":{"v":1240,"d":"1,240"}},{"$f":"'Pob x Genero'!T37+'Pob x Genero'!BG37","v":{"v":1329,"d":"1,329"}},{"$f":"'Pob x Genero'!U37+'Pob x Genero'!BH37","v":{"v":1182,"d":"1,182"}},{"$f":"'Pob x Genero'!V37+'Pob x Genero'!BI37","v":{"v":1164,"d":"1,164"}},{"$f":"'Pob x Genero'!W37+'Pob x Genero'!BJ37","v":{"v":1167,"d":"1,167"}},{"$f":"'Pob x Genero'!X37+'Pob x Genero'!BK37","v":{"v":1164,"d":"1,164"}},{"$f":"'Pob x Genero'!Y37+'Pob x Genero'!BL37","v":{"v":1193,"d":"1,193"}},{"$f":"'Pob x Genero'!Z37+'Pob x Genero'!BM37","v":{"v":1170,"d":"1,170"}},{"$f":"'Pob x Genero'!AA37+'Pob x Genero'!BN37","v":{"v":1216,"d":"1,216"}},{"$f":"'Pob x Genero'!AB37+'Pob x Genero'!BO37","v":{"v":6484,"d":"6,484"}},{"$f":"'Pob x Genero'!AC37+'Pob x Genero'!BP37","v":{"v":7240,"d":"7,240"}},{"$f":"'Pob x Genero'!AD37+'Pob x Genero'!BQ37","v":{"v":7391,"d":"7,391"}},{"$f":"'Pob x Genero'!AE37+'Pob x Genero'!BR37","v":{"v":6697,"d":"6,697"}},{"$f":"'Pob x Genero'!AF37+'Pob x Genero'!BS37","v":{"v":6535,"d":"6,535"}},{"$f":"'Pob x Genero'!AG37+'Pob x Genero'!BT37","v":{"v":5973,"d":"5,973"}},{"$f":"'Pob x Genero'!AH37+'Pob x Genero'!BU37","v":{"v":5075,"d":"5,075"}},{"$f":"'Pob x Genero'!AI37+'Pob x Genero'!BV37","v":{"v":4289,"d":"4,289"}},{"$f":"'Pob x Genero'!AJ37+'Pob x Genero'!BW37","v":{"v":3626,"d":"3,626"}},{"$f":"'Pob x Genero'!AK37+'Pob x Genero'!BX37","v":{"v":3049,"d":"3,049"}},{"$f":"'Pob x Genero'!AL37+'Pob x Genero'!BY37","v":{"v":2550,"d":"2,550"}},{"$f":"'Pob x Genero'!AM37+'Pob x Genero'!BZ37","v":{"v":1958,"d":"1,958"}},{"$f":"'Pob x Genero'!AN37+'Pob x Genero'!CA37","v":{"v":1270,"d":"1,270"}},{"$f":"'Pob x Genero'!AO37+'Pob x Genero'!CB37","v":{"v":1190,"d":"1,190"}},{"$f":"'Pob x Genero'!AP37+'Pob x Genero'!CC37","v":54},{"$f":"'Pob x Genero'!AQ37+'Pob x Genero'!CD37","v":381},{"$f":"'Pob x Genero'!AR37+'Pob x Genero'!CE37","v":364},{"$f":"'Pob x Genero'!AS37+'Pob x Genero'!CF37","v":965},{"$f":"'Pob x Genero'!AT37","v":{"v":43563,"d":"43,563"}},{"$f":"SUM('Pob x Genero'!BE37:BI37)","v":{"v":3019,"d":"3,019"}},{"$f":"SUM('Pob x Genero'!BJ37:BN37)","v":{"v":2963,"d":"2,963"}},{"$f":"SUM('Pob x Genero'!BO37:BT37)","v":{"v":20015,"d":"20,015"}},{"$f":"'Pob x Genero'!CG37","v":{"v":1691,"d":"1,691"}},null,null,{"v":85718,"d":"85,718"},{"v":12806,"d":"12,806"},{"v":7199,"d":"7,199"},{"v":16110,"d":"16,110"},{"v":35960,"d":"35,960"},{"v":13643,"d":"13,643"}]
["040201","AREQUIPA","AREQUIPA","CAMANA","CAMANA",{"v":13589,"d":"13,589"},{"$f":"'Pob x Genero'!H38+'Pob x Genero'!AU38","v":138},{"$f":"'Pob x Genero'!I38+'Pob x Genero'!AV38","v":81},{"$f":"'Pob x Genero'!J38+'Pob x Genero'!AW38","v":30},{"$f":"'Pob x Genero'!K38+'Pob x Genero'!AX38","v":13},{"$f":"'Pob x Genero'!L38+'Pob x Genero'!AY38","v":80},{"$f":"'Pob x Genero'!M38+'Pob x Genero'!AZ38","v":81},{"$f":"'Pob x Genero'!N38+'Pob x Genero'!BA38","v":210},{"$f":"'Pob x Genero'!O38+'Pob x Genero'!BB38","v":237},{"$f":"'Pob x Genero'!P38+'Pob x Genero'!BC38","v":245},{"$f":"'Pob x Genero'!Q38+'Pob x Genero'!BD38","v":205},{"$f":"'Pob x Genero'!R38+'Pob x Genero'!BE38","v":229},{"$f":"'Pob x Genero'!S38+'Pob x Genero'!BF38","v":224},{"$f":"'Pob x Genero'!T38+'Pob x Genero'!BG38","v":230},{"$f":"'Pob x Genero'!U38+'Pob x Genero'!BH38","v":246},{"$f":"'Pob x Genero'!V38+'Pob x Genero'!BI38","v":239},{"$f":"'Pob x Genero'!W38+'Pob x Genero'!BJ38","v":259},{"$f":"'Pob x Genero'!X38+'Pob x Genero'!BK38","v":224},{"$f":"'Pob x Genero'!Y38+'Pob x Genero'!BL38","v":247},{"$f":"'Pob x Genero'!Z38+'Pob x Genero'!BM38","v":220},{"$f":"'Pob x Genero'!AA38+'Pob x Genero'!BN38","v":230},{"$f":"'Pob x Genero'!AB38+'Pob x Genero'!BO38","v":{"v":1163,"d":"1,163"}},{"$f":"'Pob x Genero'!AC38+'Pob x Genero'!BP38","v":{"v":1154,"d":"1,154"}},{"$f":"'Pob x Genero'!AD38+'Pob x Genero'!BQ38","v":{"v":1105,"d":"1,105"}},{"$f":"'Pob x Genero'!AE38+'Pob x Genero'!BR38","v":921},{"$f":"'Pob x Genero'!AF38+'Pob x Genero'!BS38","v":863},{"$f":"'Pob x Genero'!AG38+'Pob x Genero'!BT38","v":898},{"$f":"'Pob x Genero'!AH38+'Pob x Genero'!BU38","v":849},{"$f":"'Pob x Genero'!AI38+'Pob x Genero'!BV38","v":747},{"$f":"'Pob x Genero'!AJ38+'Pob x Genero'!BW38","v":689},{"$f":"'Pob x Genero'!AK38+'Pob x Genero'!BX38","v":512},{"$f":"'Pob x Genero'!AL38+'Pob x Genero'!BY38","v":380},{"$f":"'Pob x Genero'!AM38+'Pob x Genero'!BZ38","v":270},{"$f":"'Pob x Genero'!AN38+'Pob x Genero'!CA38","v":195},{"$f":"'Pob x Genero'!AO38+'Pob x Genero'!CB38","v":175},{"$f":"'Pob x Genero'!AP38+'Pob x Genero'!CC38","v":12},{"$f":"'Pob x Genero'!AQ38+'Pob x Genero'!CD38","v":81},{"$f":"'Pob x Genero'!AR38+'Pob x Genero'!CE38","v":57},{"$f":"'Pob x Genero'!AS38+'Pob x Genero'!CF38","v":200},{"$f":"'Pob x Genero'!AT38","v":{"v":6878,"d":"6,878"}},{"$f":"SUM('Pob x Genero'!BE38:BI38)","v":570},{"$f":"SUM('Pob x Genero'!BJ38:BN38)","v":610},{"$f":"SUM('Pob x Genero'!BO38:BT38)","v":{"v":3042,"d":"3,042"}},{"$f":"'Pob x Genero'!CG38","v":225},null,null,{"v":13589,"d":"13,589"},{"v":1773,"d":"1,773"},{"v":1445,"d":"1,445"},{"v":2767,"d":"2,767"},{"v":5383,"d":"5,383"},{"v":2221,"d":"2,221"}]
["040202","AREQUIPA","AREQUIPA","CAMANA","JOSE MARIA QUIMPER",{"v":5306,"d":"5,306"},{"$f":"'Pob x Genero'!H39+'Pob x Genero'!AU39","v":82},{"$f":"'Pob x Genero'!I39+'Pob x Genero'!AV39","v":66},{"$f":"'Pob x Genero'!J39+'Pob x Genero'!AW39","v":46},{"$f":"'Pob x Genero'!K39+'Pob x Genero'!AX39","v":77},{"$f":"'Pob x Genero'!L39+'Pob x Genero'!AY39","v":80},{"$f":"'Pob x Genero'!M39+'Pob x Genero'!AZ39","v":88},{"$f":"'Pob x Genero'!N39+'Pob x Genero'!BA39","v":80},{"$f":"'Pob x Genero'!O39+'Pob x Genero'!BB39","v":115},{"$f":"'Pob x Genero'!P39+'Pob x Genero'!BC39","v":108},{"$f":"'Pob x Genero'!Q39+'Pob x Genero'!BD39","v":73},{"$f":"'Pob x Genero'!R39+'Pob x Genero'!BE39","v":70},{"$f":"'Pob x Genero'!S39+'Pob x Genero'!BF39","v":97},{"$f":"'Pob x Genero'!T39+'Pob x Genero'!BG39","v":95},{"$f":"'Pob x Genero'!U39+'Pob x Genero'!BH39","v":79},{"$f":"'Pob x Genero'!V39+'Pob x Genero'!BI39","v":78},{"$f":"'Pob x Genero'!W39+'Pob x Genero'!BJ39","v":80},{"$f":"'Pob x Genero'!X39+'Pob x Genero'!BK39","v":80},{"$f":"'Pob x Genero'!Y39+'Pob x Genero'!BL39","v":65},{"$f":"'Pob x Genero'!Z39+'Pob x Genero'!BM39","v":72},{"$f":"'Pob x Genero'!AA39+'Pob x Genero'!BN39","v":67},{"$f":"'Pob x Genero'!AB39+'Pob x Genero'!BO39","v":347},{"$f":"'Pob x Genero'!AC39+'Pob x Genero'!BP39","v":463},{"$f":"'Pob x Genero'!AD39+'Pob x Genero'!BQ39","v":430},{"$f":"'Pob x Genero'!AE39+'Pob x Genero'!BR39","v":424},{"$f":"'Pob x Genero'!AF39+'Pob x Genero'!BS39","v":363},{"$f":"'Pob x Genero'!AG39+'Pob x Genero'!BT39","v":322},{"$f":"'Pob x Genero'!AH39+'Pob x Genero'!BU39","v":279},{"$f":"'Pob x Genero'!AI39+'Pob x Genero'!BV39","v":283},{"$f":"'Pob x Genero'!AJ39+'Pob x Genero'!BW39","v":265},{"$f":"'Pob x Genero'!AK39+'Pob x Genero'!BX39","v":222},{"$f":"'Pob x Genero'!AL39+'Pob x Genero'!BY39","v":126},{"$f":"'Pob x Genero'!AM39+'Pob x Genero'!BZ39","v":82},{"$f":"'Pob x Genero'!AN39+'Pob x Genero'!CA39","v":54},{"$f":"'Pob x Genero'!AO39+'Pob x Genero'!CB39","v":48},{"$f":"'Pob x Genero'!AP39+'Pob x Genero'!CC39","v":5},{"$f":"'Pob x Genero'!AQ39+'Pob x Genero'!CD39","v":43},{"$f":"'Pob x Genero'!AR39+'Pob x Genero'!CE39","v":39},{"$f":"'Pob x Genero'!AS39+'Pob x Genero'!CF39","v":103},{"$f":"'Pob x Genero'!AT39","v":{"v":2689,"d":"2,689"}},{"$f":"SUM('Pob x Genero'!BE39:BI39)","v":218},{"$f":"SUM('Pob x Genero'!BJ39:BN39)","v":194},{"$f":"SUM('Pob x Genero'!BO39:BT39)","v":{"v":1205,"d":"1,205"}},{"$f":"'Pob x Genero'!CG39","v":110},null,null,{"v":5306,"d":"5,306"},982,477,949,{"v":2101,"d":"2,101"},797]
["040203","AREQUIPA","AREQUIPA","CAMANA","MARIANO NICOLAS VALCARCEL",{"v":8909,"d":"8,909"},{"$f":"'Pob x Genero'!H40+'Pob x Genero'!AU40","v":136},{"$f":"'Pob x Genero'!I40+'Pob x Genero'!AV40","v":150},{"$f":"'Pob x Genero'!J40+'Pob x Genero'!AW40","v":176},{"$f":"'Pob x Genero'!K40+'Pob x Genero'!AX40","v":162},{"$f":"'Pob x Genero'!L40+'Pob x Genero'!AY40","v":214},{"$f":"'Pob x Genero'!M40+'Pob x Genero'!AZ40","v":276},{"$f":"'Pob x Genero'!N40+'Pob x Genero'!BA40","v":162},{"$f":"'Pob x Genero'!O40+'Pob x Genero'!BB40","v":126},{"$f":"'Pob x Genero'!P40+'Pob x Genero'!BC40","v":103},{"$f":"'Pob x Genero'!Q40+'Pob x Genero'!BD40","v":140},{"$f":"'Pob x Genero'!R40+'Pob x Genero'!BE40","v":127},{"$f":"'Pob x Genero'!S40+'Pob x Genero'!BF40","v":169},{"$f":"'Pob x Genero'!T40+'Pob x Genero'!BG40","v":163},{"$f":"'Pob x Genero'!U40+'Pob x Genero'!BH40","v":131},{"$f":"'Pob x Genero'!V40+'Pob x Genero'!BI40","v":126},{"$f":"'Pob x Genero'!W40+'Pob x Genero'!BJ40","v":97},{"$f":"'Pob x Genero'!X40+'Pob x Genero'!BK40","v":101},{"$f":"'Pob x Genero'!Y40+'Pob x Genero'!BL40","v":94},{"$f":"'Pob x Genero'!Z40+'Pob x Genero'!BM40","v":73},{"$f":"'Pob x Genero'!AA40+'Pob x Genero'!BN40","v":43},{"$f":"'Pob x Genero'!AB40+'Pob x Genero'!BO40","v":348},{"$f":"'Pob x Genero'!AC40+'Pob x Genero'!BP40","v":647},{"$f":"'Pob x Genero'!AD40+'Pob x Genero'!BQ40","v":{"v":1056,"d":"1,056"}},{"$f":"'Pob x Genero'!AE40+'Pob x Genero'!BR40","v":{"v":1018,"d":"1,018"}},{"$f":"'Pob x Genero'!AF40+'Pob x Genero'!BS40","v":775},{"$f":"'Pob x Genero'!AG40+'Pob x Genero'!BT40","v":656},{"$f":"'Pob x Genero'!AH40+'Pob x Genero'!BU40","v":529},{"$f":"'Pob x Genero'!AI40+'Pob x Genero'!BV40","v":492},{"$f":"'Pob x Genero'!AJ40+'Pob x Genero'!BW40","v":283},{"$f":"'Pob x Genero'!AK40+'Pob x Genero'!BX40","v":174},{"$f":"'Pob x Genero'!AL40+'Pob x Genero'!BY40","v":77},{"$f":"'Pob x Genero'!AM40+'Pob x Genero'!BZ40","v":37},{"$f":"'Pob x Genero'!AN40+'Pob x Genero'!CA40","v":32},{"$f":"'Pob x Genero'!AO40+'Pob x Genero'!CB40","v":16},{"$f":"'Pob x Genero'!AP40+'Pob x Genero'!CC40","v":9},{"$f":"'Pob x Genero'!AQ40+'Pob x Genero'!CD40","v":76},{"$f":"'Pob x Genero'!AR40+'Pob x Genero'!CE40","v":60},{"$f":"'Pob x Genero'!AS40+'Pob x Genero'!CF40","v":236},{"$f":"'Pob x Genero'!AT40","v":{"v":4488,"d":"4,488"}},{"$f":"SUM('Pob x Genero'!BE40:BI40)","v":413},{"$f":"SUM('Pob x Genero'!BJ40:BN40)","v":215},{"$f":"SUM('Pob x Genero'!BO40:BT40)","v":{"v":2426,"d":"2,426"}},{"$f":"'Pob x Genero'!CG40","v":201},null,null,{"v":8909,"d":"8,909"},{"v":1941,"d":"1,941"},712,{"v":1111,"d":"1,111"},{"v":4526,"d":"4,526"},619]
["040204","AREQUIPA","AREQUIPA","CAMANA","MARISCAL CACERES",{"v":7394,"d":"7,394"},{"$f":"'Pob x Genero'!H41+'Pob x Genero'!AU41","v":106},{"$f":"'Pob x Genero'!I41+'Pob x Genero'!AV41","v":79},{"$f":"'Pob x Genero'!J41+'Pob x Genero'!AW41","v":76},{"$f":"'Pob x Genero'!K41+'Pob x Genero'!AX41","v":108},{"$f":"'Pob x Genero'!L41+'Pob x Genero'!AY41","v":94},{"$f":"'Pob x Genero'!M41+'Pob x Genero'!AZ41","v":104},{"$f":"'Pob x Genero'!N41+'Pob x Genero'!BA41","v":106},{"$f":"'Pob x Genero'!O41+'Pob x Genero'!BB41","v":107},{"$f":"'Pob x Genero'!P41+'Pob x Genero'!BC41","v":118},{"$f":"'Pob x Genero'!Q41+'Pob x Genero'!BD41","v":107},{"$f":"'Pob x Genero'!R41+'Pob x Genero'!BE41","v":103},{"$f":"'Pob x Genero'!S41+'Pob x Genero'!BF41","v":113},{"$f":"'Pob x Genero'!T41+'Pob x Genero'!BG41","v":101},{"$f":"'Pob x Genero'!U41+'Pob x Genero'!BH41","v":102},{"$f":"'Pob x Genero'!V41+'Pob x Genero'!BI41","v":107},{"$f":"'Pob x Genero'!W41+'Pob x Genero'!BJ41","v":108},{"$f":"'Pob x Genero'!X41+'Pob x Genero'!BK41","v":106},{"$f":"'Pob x Genero'!Y41+'Pob x Genero'!BL41","v":113},{"$f":"'Pob x Genero'!Z41+'Pob x Genero'!BM41","v":114},{"$f":"'Pob x Genero'!AA41+'Pob x Genero'!BN41","v":97},{"$f":"'Pob x Genero'!AB41+'Pob x Genero'!BO41","v":463},{"$f":"'Pob x Genero'!AC41+'Pob x Genero'!BP41","v":681},{"$f":"'Pob x Genero'!AD41+'Pob x Genero'!BQ41","v":632},{"$f":"'Pob x Genero'!AE41+'Pob x Genero'!BR41","v":622},{"$f":"'Pob x Genero'!AF41+'Pob x Genero'!BS41","v":567},{"$f":"'Pob x Genero'!AG41+'Pob x Genero'!BT41","v":541},{"$f":"'Pob x Genero'!AH41+'Pob x Genero'!BU41","v":483},{"$f":"'Pob x Genero'!AI41+'Pob x Genero'!BV41","v":388},{"$f":"'Pob x Genero'!AJ41+'Pob x Genero'!BW41","v":320},{"$f":"'Pob x Genero'!AK41+'Pob x Genero'!BX41","v":252},{"$f":"'Pob x Genero'!AL41+'Pob x Genero'!BY41","v":162},{"$f":"'Pob x Genero'!AM41+'Pob x Genero'!BZ41","v":91},{"$f":"'Pob x Genero'!AN41+'Pob x Genero'!CA41","v":67},{"$f":"'Pob x Genero'!AO41+'Pob x Genero'!CB41","v":56},{"$f":"'Pob x Genero'!AP41+'Pob x Genero'!CC41","v":7},{"$f":"'Pob x Genero'!AQ41+'Pob x Genero'!CD41","v":53},{"$f":"'Pob x Genero'!AR41+'Pob x Genero'!CE41","v":53},{"$f":"'Pob x Genero'!AS41+'Pob x Genero'!CF41","v":125},{"$f":"'Pob x Genero'!AT41","v":{"v":3743,"d":"3,743"}},{"$f":"SUM('Pob x Genero'!BE41:BI41)","v":250},{"$f":"SUM('Pob x Genero'!BJ41:BN41)","v":277},{"$f":"SUM('Pob x Genero'!BO41:BT41)","v":{"v":1821,"d":"1,821"}},{"$f":"'Pob x Genero'!CG41","v":282},null,null,{"v":7394,"d":"7,394"},{"v":1221,"d":"1,221"},637,{"v":1355,"d":"1,355"},{"v":3233,"d":"3,233"},948]
["040205","AREQUIPA","AREQUIPA","CAMANA","NICOLAS DE PIEROLA",{"v":8512,"d":"8,512"},{"$f":"'Pob x Genero'!H42+'Pob x Genero'!AU42","v":95},{"$f":"'Pob x Genero'!I42+'Pob x Genero'!AV42","v":91},{"$f":"'Pob x Genero'!J42+'Pob x Genero'!AW42","v":82},{"$f":"'Pob x Genero'!K42+'Pob x Genero'!AX42","v":120},{"$f":"'Pob x Genero'!L42+'Pob x Genero'!AY42","v":108},{"$f":"'Pob x Genero'!M42+'Pob x Genero'!AZ42","v":133},{"$f":"'Pob x Genero'!N42+'Pob x Genero'!BA42","v":124},{"$f":"'Pob x Genero'!O42+'Pob x Genero'!BB42","v":161},{"$f":"'Pob x Genero'!P42+'Pob x Genero'!BC42","v":147},{"$f":"'Pob x Genero'!Q42+'Pob x Genero'!BD42","v":138},{"$f":"'Pob x Genero'!R42+'Pob x Genero'!BE42","v":147},{"$f":"'Pob x Genero'!S42+'Pob x Genero'!BF42","v":146},{"$f":"'Pob x Genero'!T42+'Pob x Genero'!BG42","v":149},{"$f":"'Pob x Genero'!U42+'Pob x Genero'!BH42","v":153},{"$f":"'Pob x Genero'!V42+'Pob x Genero'!BI42","v":127},{"$f":"'Pob x Genero'!W42+'Pob x Genero'!BJ42","v":129},{"$f":"'Pob x Genero'!X42+'Pob x Genero'!BK42","v":138},{"$f":"'Pob x Genero'!Y42+'Pob x Genero'!BL42","v":126},{"$f":"'Pob x Genero'!Z42+'Pob x Genero'!BM42","v":134},{"$f":"'Pob x Genero'!AA42+'Pob x Genero'!BN42","v":127},{"$f":"'Pob x Genero'!AB42+'Pob x Genero'!BO42","v":588},{"$f":"'Pob x Genero'!AC42+'Pob x Genero'!BP42","v":673},{"$f":"'Pob x Genero'!AD42+'Pob x Genero'!BQ42","v":695},{"$f":"'Pob x Genero'!AE42+'Pob x Genero'!BR42","v":671},{"$f":"'Pob x Genero'!AF42+'Pob x Genero'!BS42","v":604},{"$f":"'Pob x Genero'!AG42+'Pob x Genero'!BT42","v":560},{"$f":"'Pob x Genero'!AH42+'Pob x Genero'!BU42","v":514},{"$f":"'Pob x Genero'!AI42+'Pob x Genero'!BV42","v":461},{"$f":"'Pob x Genero'!AJ42+'Pob x Genero'!BW42","v":386},{"$f":"'Pob x Genero'!AK42+'Pob x Genero'!BX42","v":289},{"$f":"'Pob x Genero'!AL42+'Pob x Genero'!BY42","v":201},{"$f":"'Pob x Genero'!AM42+'Pob x Genero'!BZ42","v":140},{"$f":"'Pob x Genero'!AN42+'Pob x Genero'!CA42","v":82},{"$f":"'Pob x Genero'!AO42+'Pob x Genero'!CB42","v":73},{"$f":"'Pob x Genero'!AP42+'Pob x Genero'!CC42","v":7},{"$f":"'Pob x Genero'!AQ42+'Pob x Genero'!CD42","v":43},{"$f":"'Pob x Genero'!AR42+'Pob x Genero'!CE42","v":52},{"$f":"'Pob x Genero'!AS42+'Pob x Genero'!CF42","v":134},{"$f":"'Pob x Genero'!AT42","v":{"v":4313,"d":"4,313"}},{"$f":"SUM('Pob x Genero'!BE42:BI42)","v":349},{"$f":"SUM('Pob x Genero'!BJ42:BN42)","v":320},{"$f":"SUM('Pob x Genero'!BO42:BT42)","v":{"v":1978,"d":"1,978"}},{"$f":"'Pob x Genero'!CG42","v":232},null,null,{"v":8512,"d":"8,512"},{"v":1492,"d":"1,492"},822,{"v":1522,"d":"1,522"},{"v":3505,"d":"3,505"},{"v":1171,"d":"1,171"}]
["040206","AREQUIPA","AREQUIPA","CAMANA","OCOÑA",{"v":4330,"d":"4,330"},{"$f":"'Pob x Genero'!H43+'Pob x Genero'!AU43","v":54},{"$f":"'Pob x Genero'!I43+'Pob x Genero'!AV43","v":41},{"$f":"'Pob x Genero'!J43+'Pob x Genero'!AW43","v":44},{"$f":"'Pob x Genero'!K43+'Pob x Genero'!AX43","v":66},{"$f":"'Pob x Genero'!L43+'Pob x Genero'!AY43","v":59},{"$f":"'Pob x Genero'!M43+'Pob x Genero'!AZ43","v":54},{"$f":"'Pob x Genero'!N43+'Pob x Genero'!BA43","v":66},{"$f":"'Pob x Genero'!O43+'Pob x Genero'!BB43","v":71},{"$f":"'Pob x Genero'!P43+'Pob x Genero'!BC43","v":61},{"$f":"'Pob x Genero'!Q43+'Pob x Genero'!BD43","v":49},{"$f":"'Pob x Genero'!R43+'Pob x Genero'!BE43","v":61},{"$f":"'Pob x Genero'!S43+'Pob x Genero'!BF43","v":58},{"$f":"'Pob x Genero'!T43+'Pob x Genero'!BG43","v":52},{"$f":"'Pob x Genero'!U43+'Pob x Genero'!BH43","v":57},{"$f":"'Pob x Genero'!V43+'Pob x Genero'!BI43","v":63},{"$f":"'Pob x Genero'!W43+'Pob x Genero'!BJ43","v":69},{"$f":"'Pob x Genero'!X43+'Pob x Genero'!BK43","v":63},{"$f":"'Pob x Genero'!Y43+'Pob x Genero'!BL43","v":84},{"$f":"'Pob x Genero'!Z43+'Pob x Genero'!BM43","v":56},{"$f":"'Pob x Genero'!AA43+'Pob x Genero'!BN43","v":53},{"$f":"'Pob x Genero'!AB43+'Pob x Genero'!BO43","v":265},{"$f":"'Pob x Genero'!AC43+'Pob x Genero'!BP43","v":348},{"$f":"'Pob x Genero'!AD43+'Pob x Genero'!BQ43","v":280},{"$f":"'Pob x Genero'!AE43+'Pob x Genero'!BR43","v":313},{"$f":"'Pob x Genero'!AF43+'Pob x Genero'!BS43","v":317},{"$f":"'Pob x Genero'!AG43+'Pob x Genero'!BT43","v":285},{"$f":"'Pob x Genero'!AH43+'Pob x Genero'!BU43","v":294},{"$f":"'Pob x Genero'!AI43+'Pob x Genero'!BV43","v":266},{"$f":"'Pob x Genero'!AJ43+'Pob x Genero'!BW43","v":244},{"$f":"'Pob x Genero'!AK43+'Pob x Genero'!BX43","v":188},{"$f":"'Pob x Genero'!AL43+'Pob x Genero'!BY43","v":147},{"$f":"'Pob x Genero'!AM43+'Pob x Genero'!BZ43","v":85},{"$f":"'Pob x Genero'!AN43+'Pob x Genero'!CA43","v":59},{"$f":"'Pob x Genero'!AO43+'Pob x Genero'!CB43","v":58},{"$f":"'Pob x Genero'!AP43+'Pob x Genero'!CC43","v":3},{"$f":"'Pob x Genero'!AQ43+'Pob x Genero'!CD43","v":25},{"$f":"'Pob x Genero'!AR43+'Pob x Genero'!CE43","v":29},{"$f":"'Pob x Genero'!AS43+'Pob x Genero'!CF43","v":91},{"$f":"'Pob x Genero'!AT43","v":{"v":2196,"d":"2,196"}},{"$f":"SUM('Pob x Genero'!BE43:BI43)","v":152},{"$f":"SUM('Pob x Genero'!BJ43:BN43)","v":172},{"$f":"SUM('Pob x Genero'!BO43:BT43)","v":952},{"$f":"'Pob x Genero'!CG43","v":92},null,null,{"v":4330,"d":"4,330"},684,388,722,{"v":1755,"d":"1,755"},781]
["040207","AREQUIPA","AREQUIPA","CAMANA","QUILCA",{"v":1250,"d":"1,250"},{"$f":"'Pob x Genero'!H44+'Pob x Genero'!AU44","v":17},{"$f":"'Pob x Genero'!I44+'Pob x Genero'!AV44","v":17},{"$f":"'Pob x Genero'!J44+'Pob x Genero'!AW44","v":15},{"$f":"'Pob x Genero'!K44+'Pob x Genero'!AX44","v":11},{"$f":"'Pob x Genero'!L44+'Pob x Genero'!AY44","v":13},{"$f":"'Pob x Genero'!M44+'Pob x Genero'!AZ44","v":15},{"$f":"'Pob x Genero'!N44+'Pob x Genero'!BA44","v":21},{"$f":"'Pob x Genero'!O44+'Pob x Genero'!BB44","v":16},{"$f":"'Pob x Genero'!P44+'Pob x Genero'!BC44","v":11},{"$f":"'Pob x Genero'!Q44+'Pob x Genero'!BD44","v":19},{"$f":"'Pob x Genero'!R44+'Pob x Genero'!BE44","v":16},{"$f":"'Pob x Genero'!S44+'Pob x Genero'!BF44","v":17},{"$f":"'Pob x Genero'!T44+'Pob x Genero'!BG44","v":12},{"$f":"'Pob x Genero'!U44+'Pob x Genero'!BH44","v":18},{"$f":"'Pob x Genero'!V44+'Pob x Genero'!BI44","v":21},{"$f":"'Pob x Genero'!W44+'Pob x Genero'!BJ44","v":16},{"$f":"'Pob x Genero'!X44+'Pob x Genero'!BK44","v":18},{"$f":"'Pob x Genero'!Y44+'Pob x Genero'!BL44","v":18},{"$f":"'Pob x Genero'!Z44+'Pob x Genero'!BM44","v":10},{"$f":"'Pob x Genero'!AA44+'Pob x Genero'!BN44","v":16},{"$f":"'Pob x Genero'!AB44+'Pob x Genero'!BO44","v":65},{"$f":"'Pob x Genero'!AC44+'Pob x Genero'!BP44","v":93},{"$f":"'Pob x Genero'!AD44+'Pob x Genero'!BQ44","v":111},{"$f":"'Pob x Genero'!AE44+'Pob x Genero'!BR44","v":114},{"$f":"'Pob x Genero'!AF44+'Pob x Genero'!BS44","v":97},{"$f":"'Pob x Genero'!AG44+'Pob x Genero'!BT44","v":89},{"$f":"'Pob x Genero'!AH44+'Pob x Genero'!BU44","v":83},{"$f":"'Pob x Genero'!AI44+'Pob x Genero'!BV44","v":66},{"$f":"'Pob x Genero'!AJ44+'Pob x Genero'!BW44","v":81},{"$f":"'Pob x Genero'!AK44+'Pob x Genero'!BX44","v":45},{"$f":"'Pob x Genero'!AL44+'Pob x Genero'!BY44","v":37},{"$f":"'Pob x Genero'!AM44+'Pob x Genero'!BZ44","v":24},{"$f":"'Pob x Genero'!AN44+'Pob x Genero'!CA44","v":14},{"$f":"'Pob x Genero'!AO44+'Pob x Genero'!CB44","v":14},{"$f":"'Pob x Genero'!AP44+'Pob x Genero'!CC44","v":1},{"$f":"'Pob x Genero'!AQ44+'Pob x Genero'!CD44","v":12},{"$f":"'Pob x Genero'!AR44+'Pob x Genero'!CE44","v":5},{"$f":"'Pob x Genero'!AS44+'Pob x Genero'!CF44","v":31},{"$f":"'Pob x Genero'!AT44","v":623},{"$f":"SUM('Pob x Genero'!BE44:BI44)","v":48},{"$f":"SUM('Pob x Genero'!BJ44:BN44)","v":43},{"$f":"SUM('Pob x Genero'!BO44:BT44)","v":296},{"$f":"'Pob x Genero'!CG44","v":38},null,null,{"v":1250,"d":"1,250"},188,103,184,560,215]
["040208","AREQUIPA","AREQUIPA","CAMANA","SAMUEL PASTOR",{"v":17615,"d":"17,615"},{"$f":"'Pob x Genero'!H45+'Pob x Genero'!AU45","v":236},{"$f":"'Pob x Genero'!I45+'Pob x Genero'!AV45","v":257},{"$f":"'Pob x Genero'!J45+'Pob x Genero'!AW45","v":244},{"$f":"'Pob x Genero'!K45+'Pob x Genero'!AX45","v":307},{"$f":"'Pob x Genero'!L45+'Pob x Genero'!AY45","v":322},{"$f":"'Pob x Genero'!M45+'Pob x Genero'!AZ45","v":331},{"$f":"'Pob x Genero'!N45+'Pob x Genero'!BA45","v":328},{"$f":"'Pob x Genero'!O45+'Pob x Genero'!BB45","v":320},{"$f":"'Pob x Genero'!P45+'Pob x Genero'!BC45","v":319},{"$f":"'Pob x Genero'!Q45+'Pob x Genero'!BD45","v":294},{"$f":"'Pob x Genero'!R45+'Pob x Genero'!BE45","v":282},{"$f":"'Pob x Genero'!S45+'Pob x Genero'!BF45","v":335},{"$f":"'Pob x Genero'!T45+'Pob x Genero'!BG45","v":316},{"$f":"'Pob x Genero'!U45+'Pob x Genero'!BH45","v":280},{"$f":"'Pob x Genero'!V45+'Pob x Genero'!BI45","v":287},{"$f":"'Pob x Genero'!W45+'Pob x Genero'!BJ45","v":283},{"$f":"'Pob x Genero'!X45+'Pob x Genero'!BK45","v":287},{"$f":"'Pob x Genero'!Y45+'Pob x Genero'!BL45","v":281},{"$f":"'Pob x Genero'!Z45+'Pob x Genero'!BM45","v":285},{"$f":"'Pob x Genero'!AA45+'Pob x Genero'!BN45","v":263},{"$f":"'Pob x Genero'!AB45+'Pob x Genero'!BO45","v":{"v":1357,"d":"1,357"}},{"$f":"'Pob x Genero'!AC45+'Pob x Genero'!BP45","v":{"v":1538,"d":"1,538"}},{"$f":"'Pob x Genero'!AD45+'Pob x Genero'!BQ45","v":{"v":1451,"d":"1,451"}},{"$f":"'Pob x Genero'!AE45+'Pob x Genero'!BR45","v":{"v":1405,"d":"1,405"}},{"$f":"'Pob x Genero'!AF45+'Pob x Genero'!BS45","v":{"v":1225,"d":"1,225"}},{"$f":"'Pob x Genero'!AG45+'Pob x Genero'!BT45","v":{"v":1128,"d":"1,128"}},{"$f":"'Pob x Genero'!AH45+'Pob x Genero'!BU45","v":994},{"$f":"'Pob x Genero'!AI45+'Pob x Genero'!BV45","v":813},{"$f":"'Pob x Genero'!AJ45+'Pob x Genero'!BW45","v":664},{"$f":"'Pob x Genero'!AK45+'Pob x Genero'!BX45","v":461},{"$f":"'Pob x Genero'!AL45+'Pob x Genero'!BY45","v":292},{"$f":"'Pob x Genero'!AM45+'Pob x Genero'!BZ45","v":192},{"$f":"'Pob x Genero'!AN45+'Pob x Genero'!CA45","v":117},{"$f":"'Pob x Genero'!AO45+'Pob x Genero'!CB45","v":121},{"$f":"'Pob x Genero'!AP45+'Pob x Genero'!CC45","v":10},{"$f":"'Pob x Genero'!AQ45+'Pob x Genero'!CD45","v":108},{"$f":"'Pob x Genero'!AR45+'Pob x Genero'!CE45","v":128},{"$f":"'Pob x Genero'!AS45+'Pob x Genero'!CF45","v":376},{"$f":"'Pob x Genero'!AT45","v":{"v":8951,"d":"8,951"}},{"$f":"SUM('Pob x Genero'!BE45:BI45)","v":751},{"$f":"SUM('Pob x Genero'!BJ45:BN45)","v":693},{"$f":"SUM('Pob x Genero'!BO45:BT45)","v":{"v":4161,"d":"4,161"}},{"$f":"'Pob x Genero'!CG45","v":486},null,null,{"v":17615,"d":"17,615"},{"v":3575,"d":"3,575"},{"v":1734,"d":"1,734"},{"v":3443,"d":"3,443"},{"v":7016,"d":"7,016"},{"v":1847,"d":"1,847"}]
["040301","AREQUIPA","AREQUIPA","CARAVELI","CARAVELI",{"v":4806,"d":"4,806"},{"$f":"'Pob x Genero'!H46+'Pob x Genero'!AU46","v":90},{"$f":"'Pob x Genero'!I46+'Pob x Genero'!AV46","v":85},{"$f":"'Pob x Genero'!J46+'Pob x Genero'!AW46","v":74},{"$f":"'Pob x Genero'!K46+'Pob x Genero'!AX46","v":68},{"$f":"'Pob x Genero'!L46+'Pob x Genero'!AY46","v":70},{"$f":"'Pob x Genero'!M46+'Pob x Genero'!AZ46","v":83},{"$f":"'Pob x Genero'!N46+'Pob x Genero'!BA46","v":84},{"$f":"'Pob x Genero'!O46+'Pob x Genero'!BB46","v":79},{"$f":"'Pob x Genero'!P46+'Pob x Genero'!BC46","v":63},{"$f":"'Pob x Genero'!Q46+'Pob x Genero'!BD46","v":62},{"$f":"'Pob x Genero'!R46+'Pob x Genero'!BE46","v":73},{"$f":"'Pob x Genero'!S46+'Pob x Genero'!BF46","v":50},{"$f":"'Pob x Genero'!T46+'Pob x Genero'!BG46","v":79},{"$f":"'Pob x Genero'!U46+'Pob x Genero'!BH46","v":71},{"$f":"'Pob x Genero'!V46+'Pob x Genero'!BI46","v":65},{"$f":"'Pob x Genero'!W46+'Pob x Genero'!BJ46","v":76},{"$f":"'Pob x Genero'!X46+'Pob x Genero'!BK46","v":91},{"$f":"'Pob x Genero'!Y46+'Pob x Genero'!BL46","v":78},{"$f":"'Pob x Genero'!Z46+'Pob x Genero'!BM46","v":97},{"$f":"'Pob x Genero'!AA46+'Pob x Genero'!BN46","v":90},{"$f":"'Pob x Genero'!AB46+'Pob x Genero'!BO46","v":422},{"$f":"'Pob x Genero'!AC46+'Pob x Genero'!BP46","v":458},{"$f":"'Pob x Genero'!AD46+'Pob x Genero'!BQ46","v":382},{"$f":"'Pob x Genero'!AE46+'Pob x Genero'!BR46","v":339},{"$f":"'Pob x Genero'!AF46+'Pob x Genero'!BS46","v":278},{"$f":"'Pob x Genero'!AG46+'Pob x Genero'!BT46","v":287},{"$f":"'Pob x Genero'!AH46+'Pob x Genero'!BU46","v":277},{"$f":"'Pob x Genero'!AI46+'Pob x Genero'!BV46","v":211},{"$f":"'Pob x Genero'!AJ46+'Pob x Genero'!BW46","v":174},{"$f":"'Pob x Genero'!AK46+'Pob x Genero'!BX46","v":141},{"$f":"'Pob x Genero'!AL46+'Pob x Genero'!BY46","v":93},{"$f":"'Pob x Genero'!AM46+'Pob x Genero'!BZ46","v":74},{"$f":"'Pob x Genero'!AN46+'Pob x Genero'!CA46","v":69},{"$f":"'Pob x Genero'!AO46+'Pob x Genero'!CB46","v":73},{"$f":"'Pob x Genero'!AP46+'Pob x Genero'!CC46","v":6},{"$f":"'Pob x Genero'!AQ46+'Pob x Genero'!CD46","v":42},{"$f":"'Pob x Genero'!AR46+'Pob x Genero'!CE46","v":48},{"$f":"'Pob x Genero'!AS46+'Pob x Genero'!CF46","v":111},{"$f":"'Pob x Genero'!AT46","v":{"v":2434,"d":"2,434"}},{"$f":"SUM('Pob x Genero'!BE46:BI46)","v":169},{"$f":"SUM('Pob x Genero'!BJ46:BN46)","v":219},{"$f":"SUM('Pob x Genero'!BO46:BT46)","v":{"v":1127,"d":"1,127"}},{"$f":"'Pob x Genero'!CG46","v":137},null,null,{"v":4806,"d":"4,806"},881,460,{"v":1067,"d":"1,067"},{"v":1774,"d":"1,774"},624]
["040302","AREQUIPA","AREQUIPA","CARAVELI","ACARI",{"v":5873,"d":"5,873"},{"$f":"'Pob x Genero'!H47+'Pob x Genero'!AU47","v":56},{"$f":"'Pob x Genero'!I47+'Pob x Genero'!AV47","v":63},{"$f":"'Pob x Genero'!J47+'Pob x Genero'!AW47","v":54},{"$f":"'Pob x Genero'!K47+'Pob x Genero'!AX47","v":59},{"$f":"'Pob x Genero'!L47+'Pob x Genero'!AY47","v":57},{"$f":"'Pob x Genero'!M47+'Pob x Genero'!AZ47","v":74},{"$f":"'Pob x Genero'!N47+'Pob x Genero'!BA47","v":79},{"$f":"'Pob x Genero'!O47+'Pob x Genero'!BB47","v":102},{"$f":"'Pob x Genero'!P47+'Pob x Genero'!BC47","v":78},{"$f":"'Pob x Genero'!Q47+'Pob x Genero'!BD47","v":101},{"$f":"'Pob x Genero'!R47+'Pob x Genero'!BE47","v":110},{"$f":"'Pob x Genero'!S47+'Pob x Genero'!BF47","v":111},{"$f":"'Pob x Genero'!T47+'Pob x Genero'!BG47","v":125},{"$f":"'Pob x Genero'!U47+'Pob x Genero'!BH47","v":120},{"$f":"'Pob x Genero'!V47+'Pob x Genero'!BI47","v":100},{"$f":"'Pob x Genero'!W47+'Pob x Genero'!BJ47","v":111},{"$f":"'Pob x Genero'!X47+'Pob x Genero'!BK47","v":119},{"$f":"'Pob x Genero'!Y47+'Pob x Genero'!BL47","v":115},{"$f":"'Pob x Genero'!Z47+'Pob x Genero'!BM47","v":92},{"$f":"'Pob x Genero'!AA47+'Pob x Genero'!BN47","v":74},{"$f":"'Pob x Genero'!AB47+'Pob x Genero'!BO47","v":399},{"$f":"'Pob x Genero'!AC47+'Pob x Genero'!BP47","v":386},{"$f":"'Pob x Genero'!AD47+'Pob x Genero'!BQ47","v":350},{"$f":"'Pob x Genero'!AE47+'Pob x Genero'!BR47","v":406},{"$f":"'Pob x Genero'!AF47+'Pob x Genero'!BS47","v":372},{"$f":"'Pob x Genero'!AG47+'Pob x Genero'!BT47","v":385},{"$f":"'Pob x Genero'!AH47+'Pob x Genero'!BU47","v":365},{"$f":"'Pob x Genero'!AI47+'Pob x Genero'!BV47","v":321},{"$f":"'Pob x Genero'!AJ47+'Pob x Genero'!BW47","v":284},{"$f":"'Pob x Genero'!AK47+'Pob x Genero'!BX47","v":230},{"$f":"'Pob x Genero'!AL47+'Pob x Genero'!BY47","v":199},{"$f":"'Pob x Genero'!AM47+'Pob x Genero'!BZ47","v":170},{"$f":"'Pob x Genero'!AN47+'Pob x Genero'!CA47","v":88},{"$f":"'Pob x Genero'!AO47+'Pob x Genero'!CB47","v":118},{"$f":"'Pob x Genero'!AP47+'Pob x Genero'!CC47","v":4},{"$f":"'Pob x Genero'!AQ47+'Pob x Genero'!CD47","v":31},{"$f":"'Pob x Genero'!AR47+'Pob x Genero'!CE47","v":25},{"$f":"'Pob x Genero'!AS47+'Pob x Genero'!CF47","v":86},{"$f":"'Pob x Genero'!AT47","v":{"v":2995,"d":"2,995"}},{"$f":"SUM('Pob x Genero'!BE47:BI47)","v":287},{"$f":"SUM('Pob x Genero'!BJ47:BN47)","v":257},{"$f":"SUM('Pob x Genero'!BO47:BT47)","v":{"v":1212,"d":"1,212"}},{"$f":"'Pob x Genero'!CG47","v":174},null,null,{"v":5873,"d":"5,873"},944,690,951,{"v":2199,"d":"2,199"},{"v":1089,"d":"1,089"}]
["040303","AREQUIPA","AREQUIPA","CARAVELI","ATICO",{"v":6346,"d":"6,346"},{"$f":"'Pob x Genero'!H48+'Pob x Genero'!AU48","v":83},{"$f":"'Pob x Genero'!I48+'Pob x Genero'!AV48","v":76},{"$f":"'Pob x Genero'!J48+'Pob x Genero'!AW48","v":55},{"$f":"'Pob x Genero'!K48+'Pob x Genero'!AX48","v":79},{"$f":"'Pob x Genero'!L48+'Pob x Genero'!AY48","v":67},{"$f":"'Pob x Genero'!M48+'Pob x Genero'!AZ48","v":81},{"$f":"'Pob x Genero'!N48+'Pob x Genero'!BA48","v":118},{"$f":"'Pob x Genero'!O48+'Pob x Genero'!BB48","v":92},{"$f":"'Pob x Genero'!P48+'Pob x Genero'!BC48","v":98},{"$f":"'Pob x Genero'!Q48+'Pob x Genero'!BD48","v":98},{"$f":"'Pob x Genero'!R48+'Pob x Genero'!BE48","v":112},{"$f":"'Pob x Genero'!S48+'Pob x Genero'!BF48","v":118},{"$f":"'Pob x Genero'!T48+'Pob x Genero'!BG48","v":98},{"$f":"'Pob x Genero'!U48+'Pob x Genero'!BH48","v":104},{"$f":"'Pob x Genero'!V48+'Pob x Genero'!BI48","v":121},{"$f":"'Pob x Genero'!W48+'Pob x Genero'!BJ48","v":107},{"$f":"'Pob x Genero'!X48+'Pob x Genero'!BK48","v":115},{"$f":"'Pob x Genero'!Y48+'Pob x Genero'!BL48","v":102},{"$f":"'Pob x Genero'!Z48+'Pob x Genero'!BM48","v":105},{"$f":"'Pob x Genero'!AA48+'Pob x Genero'!BN48","v":85},{"$f":"'Pob x Genero'!AB48+'Pob x Genero'!BO48","v":402},{"$f":"'Pob x Genero'!AC48+'Pob x Genero'!BP48","v":501},{"$f":"'Pob x Genero'!AD48+'Pob x Genero'!BQ48","v":560},{"$f":"'Pob x Genero'!AE48+'Pob x Genero'!BR48","v":535},{"$f":"'Pob x Genero'!AF48+'Pob x Genero'!BS48","v":470},{"$f":"'Pob x Genero'!AG48+'Pob x Genero'!BT48","v":468},{"$f":"'Pob x Genero'!AH48+'Pob x Genero'!BU48","v":403},{"$f":"'Pob x Genero'!AI48+'Pob x Genero'!BV48","v":323},{"$f":"'Pob x Genero'!AJ48+'Pob x Genero'!BW48","v":234},{"$f":"'Pob x Genero'!AK48+'Pob x Genero'!BX48","v":210},{"$f":"'Pob x Genero'!AL48+'Pob x Genero'!BY48","v":122},{"$f":"'Pob x Genero'!AM48+'Pob x Genero'!BZ48","v":100},{"$f":"'Pob x Genero'!AN48+'Pob x Genero'!CA48","v":61},{"$f":"'Pob x Genero'!AO48+'Pob x Genero'!CB48","v":43},{"$f":"'Pob x Genero'!AP48+'Pob x Genero'!CC48","v":4},{"$f":"'Pob x Genero'!AQ48+'Pob x Genero'!CD48","v":37},{"$f":"'Pob x Genero'!AR48+'Pob x Genero'!CE48","v":46},{"$f":"'Pob x Genero'!AS48+'Pob x Genero'!CF48","v":102},{"$f":"'Pob x Genero'!AT48","v":{"v":3220,"d":"3,220"}},{"$f":"SUM('Pob x Genero'!BE48:BI48)","v":273},{"$f":"SUM('Pob x Genero'!BJ48:BN48)","v":258},{"$f":"SUM('Pob x Genero'!BO48:BT48)","v":{"v":1518,"d":"1,518"}},{"$f":"'Pob x Genero'!CG48","v":184},null,null,{"v":6346,"d":"6,346"},{"v":1077,"d":"1,077"},647,{"v":1093,"d":"1,093"},{"v":2759,"d":"2,759"},770]
["040304","AREQUIPA","AREQUIPA","CARAVELI","ATIQUIPA",589,{"$f":"'Pob x Genero'!H49+'Pob x Genero'!AU49","v":10},{"$f":"'Pob x Genero'!I49+'Pob x Genero'!AV49","v":11},{"$f":"'Pob x Genero'!J49+'Pob x Genero'!AW49","v":6},{"$f":"'Pob x Genero'!K49+'Pob x Genero'!AX49","v":11},{"$f":"'Pob x Genero'!L49+'Pob x Genero'!AY49","v":12},{"$f":"'Pob x Genero'!M49+'Pob x Genero'!AZ49","v":12},{"$f":"'Pob x Genero'!N49+'Pob x Genero'!BA49","v":3},{"$f":"'Pob x Genero'!O49+'Pob x Genero'!BB49","v":6},{"$f":"'Pob x Genero'!P49+'Pob x Genero'!BC49","v":9},{"$f":"'Pob x Genero'!Q49+'Pob x Genero'!BD49","v":10},{"$f":"'Pob x Genero'!R49+'Pob x Genero'!BE49","v":8},{"$f":"'Pob x Genero'!S49+'Pob x Genero'!BF49","v":8},{"$f":"'Pob x Genero'!T49+'Pob x Genero'!BG49","v":11},{"$f":"'Pob x Genero'!U49+'Pob x Genero'!BH49","v":11},{"$f":"'Pob x Genero'!V49+'Pob x Genero'!BI49","v":5},{"$f":"'Pob x Genero'!W49+'Pob x Genero'!BJ49","v":7},{"$f":"'Pob x Genero'!X49+'Pob x Genero'!BK49","v":9},{"$f":"'Pob x Genero'!Y49+'Pob x Genero'!BL49","v":7},{"$f":"'Pob x Genero'!Z49+'Pob x Genero'!BM49","v":9},{"$f":"'Pob x Genero'!AA49+'Pob x Genero'!BN49","v":5},{"$f":"'Pob x Genero'!AB49+'Pob x Genero'!BO49","v":37},{"$f":"'Pob x Genero'!AC49+'Pob x Genero'!BP49","v":61},{"$f":"'Pob x Genero'!AD49+'Pob x Genero'!BQ49","v":50},{"$f":"'Pob x Genero'!AE49+'Pob x Genero'!BR49","v":43},{"$f":"'Pob x Genero'!AF49+'Pob x Genero'!BS49","v":48},{"$f":"'Pob x Genero'!AG49+'Pob x Genero'!BT49","v":25},{"$f":"'Pob x Genero'!AH49+'Pob x Genero'!BU49","v":34},{"$f":"'Pob x Genero'!AI49+'Pob x Genero'!BV49","v":33},{"$f":"'Pob x Genero'!AJ49+'Pob x Genero'!BW49","v":30},{"$f":"'Pob x Genero'!AK49+'Pob x Genero'!BX49","v":14},{"$f":"'Pob x Genero'!AL49+'Pob x Genero'!BY49","v":20},{"$f":"'Pob x Genero'!AM49+'Pob x Genero'!BZ49","v":10},{"$f":"'Pob x Genero'!AN49+'Pob x Genero'!CA49","v":7},{"$f":"'Pob x Genero'!AO49+'Pob x Genero'!CB49","v":7},{"$f":"'Pob x Genero'!AP49+'Pob x Genero'!CC49","v":0},{"$f":"'Pob x Genero'!AQ49+'Pob x Genero'!CD49","v":7},{"$f":"'Pob x Genero'!AR49+'Pob x Genero'!CE49","v":3},{"$f":"'Pob x Genero'!AS49+'Pob x Genero'!CF49","v":16},{"$f":"'Pob x Genero'!AT49","v":299},{"$f":"SUM('Pob x Genero'!BE49:BI49)","v":25},{"$f":"SUM('Pob x Genero'!BJ49:BN49)","v":22},{"$f":"SUM('Pob x Genero'!BO49:BT49)","v":133},{"$f":"'Pob x Genero'!CG49","v":22},null,null,589,106,50,112,233,88]
["040305","AREQUIPA","AREQUIPA","CARAVELI","BELLA UNION",{"v":3180,"d":"3,180"},{"$f":"'Pob x Genero'!H50+'Pob x Genero'!AU50","v":44},{"$f":"'Pob x Genero'!I50+'Pob x Genero'!AV50","v":45},{"$f":"'Pob x Genero'!J50+'Pob x Genero'!AW50","v":46},{"$f":"'Pob x Genero'!K50+'Pob x Genero'!AX50","v":41},{"$f":"'Pob x Genero'!L50+'Pob x Genero'!AY50","v":37},{"$f":"'Pob x Genero'!M50+'Pob x Genero'!AZ50","v":33},{"$f":"'Pob x Genero'!N50+'Pob x Genero'!BA50","v":55},{"$f":"'Pob x Genero'!O50+'Pob x Genero'!BB50","v":46},{"$f":"'Pob x Genero'!P50+'Pob x Genero'!BC50","v":48},{"$f":"'Pob x Genero'!Q50+'Pob x Genero'!BD50","v":43},{"$f":"'Pob x Genero'!R50+'Pob x Genero'!BE50","v":30},{"$f":"'Pob x Genero'!S50+'Pob x Genero'!BF50","v":45},{"$f":"'Pob x Genero'!T50+'Pob x Genero'!BG50","v":55},{"$f":"'Pob x Genero'!U50+'Pob x Genero'!BH50","v":42},{"$f":"'Pob x Genero'!V50+'Pob x Genero'!BI50","v":38},{"$f":"'Pob x Genero'!W50+'Pob x Genero'!BJ50","v":48},{"$f":"'Pob x Genero'!X50+'Pob x Genero'!BK50","v":66},{"$f":"'Pob x Genero'!Y50+'Pob x Genero'!BL50","v":46},{"$f":"'Pob x Genero'!Z50+'Pob x Genero'!BM50","v":48},{"$f":"'Pob x Genero'!AA50+'Pob x Genero'!BN50","v":50},{"$f":"'Pob x Genero'!AB50+'Pob x Genero'!BO50","v":217},{"$f":"'Pob x Genero'!AC50+'Pob x Genero'!BP50","v":265},{"$f":"'Pob x Genero'!AD50+'Pob x Genero'!BQ50","v":239},{"$f":"'Pob x Genero'!AE50+'Pob x Genero'!BR50","v":266},{"$f":"'Pob x Genero'!AF50+'Pob x Genero'!BS50","v":244},{"$f":"'Pob x Genero'!AG50+'Pob x Genero'!BT50","v":240},{"$f":"'Pob x Genero'!AH50+'Pob x Genero'!BU50","v":181},{"$f":"'Pob x Genero'!AI50+'Pob x Genero'!BV50","v":163},{"$f":"'Pob x Genero'!AJ50+'Pob x Genero'!BW50","v":135},{"$f":"'Pob x Genero'!AK50+'Pob x Genero'!BX50","v":93},{"$f":"'Pob x Genero'!AL50+'Pob x Genero'!BY50","v":88},{"$f":"'Pob x Genero'!AM50+'Pob x Genero'!BZ50","v":65},{"$f":"'Pob x Genero'!AN50+'Pob x Genero'!CA50","v":39},{"$f":"'Pob x Genero'!AO50+'Pob x Genero'!CB50","v":39},{"$f":"'Pob x Genero'!AP50+'Pob x Genero'!CC50","v":2},{"$f":"'Pob x Genero'!AQ50+'Pob x Genero'!CD50","v":15},{"$f":"'Pob x Genero'!AR50+'Pob x Genero'!CE50","v":29},{"$f":"'Pob x Genero'!AS50+'Pob x Genero'!CF50","v":70},{"$f":"'Pob x Genero'!AT50","v":{"v":1596,"d":"1,596"}},{"$f":"SUM('Pob x Genero'!BE50:BI50)","v":104},{"$f":"SUM('Pob x Genero'!BJ50:BN50)","v":140},{"$f":"SUM('Pob x Genero'!BO50:BT50)","v":763},{"$f":"'Pob x Genero'!CG50","v":123},null,null,{"v":3180,"d":"3,180"},513,295,580,{"v":1333,"d":"1,333"},459]
["040306","AREQUIPA","AREQUIPA","CARAVELI","CAHUACHO",915,{"$f":"'Pob x Genero'!H51+'Pob x Genero'!AU51","v":16},{"$f":"'Pob x Genero'!I51+'Pob x Genero'!AV51","v":9},{"$f":"'Pob x Genero'!J51+'Pob x Genero'!AW51","v":34},{"$f":"'Pob x Genero'!K51+'Pob x Genero'!AX51","v":9},{"$f":"'Pob x Genero'!L51+'Pob x Genero'!AY51","v":6},{"$f":"'Pob x Genero'!M51+'Pob x Genero'!AZ51","v":7},{"$f":"'Pob x Genero'!N51+'Pob x Genero'!BA51","v":7},{"$f":"'Pob x Genero'!O51+'Pob x Genero'!BB51","v":7},{"$f":"'Pob x Genero'!P51+'Pob x Genero'!BC51","v":18},{"$f":"'Pob x Genero'!Q51+'Pob x Genero'!BD51","v":13},{"$f":"'Pob x Genero'!R51+'Pob x Genero'!BE51","v":9},{"$f":"'Pob x Genero'!S51+'Pob x Genero'!BF51","v":13},{"$f":"'Pob x Genero'!T51+'Pob x Genero'!BG51","v":19},{"$f":"'Pob x Genero'!U51+'Pob x Genero'!BH51","v":17},{"$f":"'Pob x Genero'!V51+'Pob x Genero'!BI51","v":16},{"$f":"'Pob x Genero'!W51+'Pob x Genero'!BJ51","v":16},{"$f":"'Pob x Genero'!X51+'Pob x Genero'!BK51","v":11},{"$f":"'Pob x Genero'!Y51+'Pob x Genero'!BL51","v":15},{"$f":"'Pob x Genero'!Z51+'Pob x Genero'!BM51","v":16},{"$f":"'Pob x Genero'!AA51+'Pob x Genero'!BN51","v":17},{"$f":"'Pob x Genero'!AB51+'Pob x Genero'!BO51","v":49},{"$f":"'Pob x Genero'!AC51+'Pob x Genero'!BP51","v":66},{"$f":"'Pob x Genero'!AD51+'Pob x Genero'!BQ51","v":55},{"$f":"'Pob x Genero'!AE51+'Pob x Genero'!BR51","v":52},{"$f":"'Pob x Genero'!AF51+'Pob x Genero'!BS51","v":61},{"$f":"'Pob x Genero'!AG51+'Pob x Genero'!BT51","v":49},{"$f":"'Pob x Genero'!AH51+'Pob x Genero'!BU51","v":54},{"$f":"'Pob x Genero'!AI51+'Pob x Genero'!BV51","v":46},{"$f":"'Pob x Genero'!AJ51+'Pob x Genero'!BW51","v":36},{"$f":"'Pob x Genero'!AK51+'Pob x Genero'!BX51","v":39},{"$f":"'Pob x Genero'!AL51+'Pob x Genero'!BY51","v":36},{"$f":"'Pob x Genero'!AM51+'Pob x Genero'!BZ51","v":30},{"$f":"'Pob x Genero'!AN51+'Pob x Genero'!CA51","v":28},{"$f":"'Pob x Genero'!AO51+'Pob x Genero'!CB51","v":39},{"$f":"'Pob x Genero'!AP51+'Pob x Genero'!CC51","v":1},{"$f":"'Pob x Genero'!AQ51+'Pob x Genero'!CD51","v":11},{"$f":"'Pob x Genero'!AR51+'Pob x Genero'!CE51","v":5},{"$f":"'Pob x Genero'!AS51+'Pob x Genero'!CF51","v":59},{"$f":"'Pob x Genero'!AT51","v":461},{"$f":"SUM('Pob x Genero'!BE51:BI51)","v":41},{"$f":"SUM('Pob x Genero'!BJ51:BN51)","v":41},{"$f":"SUM('Pob x Genero'!BO51:BT51)","v":159},{"$f":"'Pob x Genero'!CG51","v":233},null,null,915,148,94,148,317,208]
["040307","AREQUIPA","AREQUIPA","CARAVELI","CHALA",{"v":10962,"d":"10,962"},{"$f":"'Pob x Genero'!H52+'Pob x Genero'!AU52","v":177},{"$f":"'Pob x Genero'!I52+'Pob x Genero'!AV52","v":179},{"$f":"'Pob x Genero'!J52+'Pob x Genero'!AW52","v":155},{"$f":"'Pob x Genero'!K52+'Pob x Genero'!AX52","v":188},{"$f":"'Pob x Genero'!L52+'Pob x Genero'!AY52","v":171},{"$f":"'Pob x Genero'!M52+'Pob x Genero'!AZ52","v":161},{"$f":"'Pob x Genero'!N52+'Pob x Genero'!BA52","v":230},{"$f":"'Pob x Genero'!O52+'Pob x Genero'!BB52","v":236},{"$f":"'Pob x Genero'!P52+'Pob x Genero'!BC52","v":266},{"$f":"'Pob x Genero'!Q52+'Pob x Genero'!BD52","v":228},{"$f":"'Pob x Genero'!R52+'Pob x Genero'!BE52","v":226},{"$f":"'Pob x Genero'!S52+'Pob x Genero'!BF52","v":211},{"$f":"'Pob x Genero'!T52+'Pob x Genero'!BG52","v":191},{"$f":"'Pob x Genero'!U52+'Pob x Genero'!BH52","v":192},{"$f":"'Pob x Genero'!V52+'Pob x Genero'!BI52","v":194},{"$f":"'Pob x Genero'!W52+'Pob x Genero'!BJ52","v":208},{"$f":"'Pob x Genero'!X52+'Pob x Genero'!BK52","v":213},{"$f":"'Pob x Genero'!Y52+'Pob x Genero'!BL52","v":192},{"$f":"'Pob x Genero'!Z52+'Pob x Genero'!BM52","v":160},{"$f":"'Pob x Genero'!AA52+'Pob x Genero'!BN52","v":164},{"$f":"'Pob x Genero'!AB52+'Pob x Genero'!BO52","v":750},{"$f":"'Pob x Genero'!AC52+'Pob x Genero'!BP52","v":856},{"$f":"'Pob x Genero'!AD52+'Pob x Genero'!BQ52","v":950},{"$f":"'Pob x Genero'!AE52+'Pob x Genero'!BR52","v":{"v":1009,"d":"1,009"}},{"$f":"'Pob x Genero'!AF52+'Pob x Genero'!BS52","v":806},{"$f":"'Pob x Genero'!AG52+'Pob x Genero'!BT52","v":695},{"$f":"'Pob x Genero'!AH52+'Pob x Genero'!BU52","v":555},{"$f":"'Pob x Genero'!AI52+'Pob x Genero'!BV52","v":439},{"$f":"'Pob x Genero'!AJ52+'Pob x Genero'!BW52","v":341},{"$f":"'Pob x Genero'!AK52+'Pob x Genero'!BX52","v":255},{"$f":"'Pob x Genero'!AL52+'Pob x Genero'!BY52","v":152},{"$f":"'Pob x Genero'!AM52+'Pob x Genero'!BZ52","v":87},{"$f":"'Pob x Genero'!AN52+'Pob x Genero'!CA52","v":59},{"$f":"'Pob x Genero'!AO52+'Pob x Genero'!CB52","v":66},{"$f":"'Pob x Genero'!AP52+'Pob x Genero'!CC52","v":6},{"$f":"'Pob x Genero'!AQ52+'Pob x Genero'!CD52","v":97},{"$f":"'Pob x Genero'!AR52+'Pob x Genero'!CE52","v":80},{"$f":"'Pob x Genero'!AS52+'Pob x Genero'!CF52","v":255},{"$f":"'Pob x Genero'!AT52","v":{"v":5560,"d":"5,560"}},{"$f":"SUM('Pob x Genero'!BE52:BI52)","v":480},{"$f":"SUM('Pob x Genero'!BJ52:BN52)","v":482},{"$f":"SUM('Pob x Genero'!BO52:BT52)","v":{"v":2747,"d":"2,747"}},{"$f":"'Pob x Genero'!CG52","v":362},null,null,{"v":10962,"d":"10,962"},{"v":2428,"d":"2,428"},{"v":1190,"d":"1,190"},{"v":1930,"d":"1,930"},{"v":4454,"d":"4,454"},960]
["040308","AREQUIPA","AREQUIPA","CARAVELI","CHAPARRA",{"v":3571,"d":"3,571"},{"$f":"'Pob x Genero'!H53+'Pob x Genero'!AU53","v":44},{"$f":"'Pob x Genero'!I53+'Pob x Genero'!AV53","v":54},{"$f":"'Pob x Genero'!J53+'Pob x Genero'!AW53","v":46},{"$f":"'Pob x Genero'!K53+'Pob x Genero'!AX53","v":60},{"$f":"'Pob x Genero'!L53+'Pob x Genero'!AY53","v":80},{"$f":"'Pob x Genero'!M53+'Pob x Genero'!AZ53","v":49},{"$f":"'Pob x Genero'!N53+'Pob x Genero'!BA53","v":51},{"$f":"'Pob x Genero'!O53+'Pob x Genero'!BB53","v":52},{"$f":"'Pob x Genero'!P53+'Pob x Genero'!BC53","v":45},{"$f":"'Pob x Genero'!Q53+'Pob x Genero'!BD53","v":55},{"$f":"'Pob x Genero'!R53+'Pob x Genero'!BE53","v":55},{"$f":"'Pob x Genero'!S53+'Pob x Genero'!BF53","v":79},{"$f":"'Pob x Genero'!T53+'Pob x Genero'!BG53","v":67},{"$f":"'Pob x Genero'!U53+'Pob x Genero'!BH53","v":61},{"$f":"'Pob x Genero'!V53+'Pob x Genero'!BI53","v":67},{"$f":"'Pob x Genero'!W53+'Pob x Genero'!BJ53","v":71},{"$f":"'Pob x Genero'!X53+'Pob x Genero'!BK53","v":61},{"$f":"'Pob x Genero'!Y53+'Pob x Genero'!BL53","v":66},{"$f":"'Pob x Genero'!Z53+'Pob x Genero'!BM53","v":45},{"$f":"'Pob x Genero'!AA53+'Pob x Genero'!BN53","v":40},{"$f":"'Pob x Genero'!AB53+'Pob x Genero'!BO53","v":190},{"$f":"'Pob x Genero'!AC53+'Pob x Genero'!BP53","v":207},{"$f":"'Pob x Genero'!AD53+'Pob x Genero'!BQ53","v":321},{"$f":"'Pob x Genero'!AE53+'Pob x Genero'!BR53","v":344},{"$f":"'Pob x Genero'!AF53+'Pob x Genero'!BS53","v":320},{"$f":"'Pob x Genero'!AG53+'Pob x Genero'!BT53","v":252},{"$f":"'Pob x Genero'!AH53+'Pob x Genero'!BU53","v":210},{"$f":"'Pob x Genero'!AI53+'Pob x Genero'!BV53","v":212},{"$f":"'Pob x Genero'!AJ53+'Pob x Genero'!BW53","v":107},{"$f":"'Pob x Genero'!AK53+'Pob x Genero'!BX53","v":88},{"$f":"'Pob x Genero'!AL53+'Pob x Genero'!BY53","v":76},{"$f":"'Pob x Genero'!AM53+'Pob x Genero'!BZ53","v":30},{"$f":"'Pob x Genero'!AN53+'Pob x Genero'!CA53","v":31},{"$f":"'Pob x Genero'!AO53+'Pob x Genero'!CB53","v":35},{"$f":"'Pob x Genero'!AP53+'Pob x Genero'!CC53","v":3},{"$f":"'Pob x Genero'!AQ53+'Pob x Genero'!CD53","v":12},{"$f":"'Pob x Genero'!AR53+'Pob x Genero'!CE53","v":32},{"$f":"'Pob x Genero'!AS53+'Pob x Genero'!CF53","v":69},{"$f":"'Pob x Genero'!AT53","v":{"v":1790,"d":"1,790"}},{"$f":"SUM('Pob x Genero'!BE53:BI53)","v":193},{"$f":"SUM('Pob x Genero'!BJ53:BN53)","v":179},{"$f":"SUM('Pob x Genero'!BO53:BT53)","v":776},{"$f":"'Pob x Genero'!CG53","v":95},null,null,{"v":3571,"d":"3,571"},670,393,482,{"v":1659,"d":"1,659"},367]
["040309","AREQUIPA","AREQUIPA","CARAVELI","HUANUHUANU",{"v":3261,"d":"3,261"},{"$f":"'Pob x Genero'!H54+'Pob x Genero'!AU54","v":43},{"$f":"'Pob x Genero'!I54+'Pob x Genero'!AV54","v":45},{"$f":"'Pob x Genero'!J54+'Pob x Genero'!AW54","v":43},{"$f":"'Pob x Genero'!K54+'Pob x Genero'!AX54","v":53},{"$f":"'Pob x Genero'!L54+'Pob x Genero'!AY54","v":31},{"$f":"'Pob x Genero'!M54+'Pob x Genero'!AZ54","v":41},{"$f":"'Pob x Genero'!N54+'Pob x Genero'!BA54","v":41},{"$f":"'Pob x Genero'!O54+'Pob x Genero'!BB54","v":48},{"$f":"'Pob x Genero'!P54+'Pob x Genero'!BC54","v":40},{"$f":"'Pob x Genero'!Q54+'Pob x Genero'!BD54","v":53},{"$f":"'Pob x Genero'!R54+'Pob x Genero'!BE54","v":46},{"$f":"'Pob x Genero'!S54+'Pob x Genero'!BF54","v":66},{"$f":"'Pob x Genero'!T54+'Pob x Genero'!BG54","v":66},{"$f":"'Pob x Genero'!U54+'Pob x Genero'!BH54","v":85},{"$f":"'Pob x Genero'!V54+'Pob x Genero'!BI54","v":74},{"$f":"'Pob x Genero'!W54+'Pob x Genero'!BJ54","v":56},{"$f":"'Pob x Genero'!X54+'Pob x Genero'!BK54","v":58},{"$f":"'Pob x Genero'!Y54+'Pob x Genero'!BL54","v":51},{"$f":"'Pob x Genero'!Z54+'Pob x Genero'!BM54","v":44},{"$f":"'Pob x Genero'!AA54+'Pob x Genero'!BN54","v":44},{"$f":"'Pob x Genero'!AB54+'Pob x Genero'!BO54","v":183},{"$f":"'Pob x Genero'!AC54+'Pob x Genero'!BP54","v":258},{"$f":"'Pob x Genero'!AD54+'Pob x Genero'!BQ54","v":353},{"$f":"'Pob x Genero'!AE54+'Pob x Genero'!BR54","v":325},{"$f":"'Pob x Genero'!AF54+'Pob x Genero'!BS54","v":244},{"$f":"'Pob x Genero'!AG54+'Pob x Genero'!BT54","v":254},{"$f":"'Pob x Genero'!AH54+'Pob x Genero'!BU54","v":202},{"$f":"'Pob x Genero'!AI54+'Pob x Genero'!BV54","v":146},{"$f":"'Pob x Genero'!AJ54+'Pob x Genero'!BW54","v":114},{"$f":"'Pob x Genero'!AK54+'Pob x Genero'!BX54","v":65},{"$f":"'Pob x Genero'!AL54+'Pob x Genero'!BY54","v":35},{"$f":"'Pob x Genero'!AM54+'Pob x Genero'!BZ54","v":11},{"$f":"'Pob x Genero'!AN54+'Pob x Genero'!CA54","v":15},{"$f":"'Pob x Genero'!AO54+'Pob x Genero'!CB54","v":28},{"$f":"'Pob x Genero'!AP54+'Pob x Genero'!CC54","v":2},{"$f":"'Pob x Genero'!AQ54+'Pob x Genero'!CD54","v":16},{"$f":"'Pob x Genero'!AR54+'Pob x Genero'!CE54","v":27},{"$f":"'Pob x Genero'!AS54+'Pob x Genero'!CF54","v":59},{"$f":"'Pob x Genero'!AT54","v":{"v":1623,"d":"1,623"}},{"$f":"SUM('Pob x Genero'!BE54:BI54)","v":201},{"$f":"SUM('Pob x Genero'!BJ54:BN54)","v":135},{"$f":"SUM('Pob x Genero'!BO54:BT54)","v":776},{"$f":"'Pob x Genero'!CG54","v":103},null,null,{"v":3261,"d":"3,261"},550,390,529,{"v":1524,"d":"1,524"},268]
["040310","AREQUIPA","AREQUIPA","CARAVELI","JAQUI",{"v":1738,"d":"1,738"},{"$f":"'Pob x Genero'!H55+'Pob x Genero'!AU55","v":23},{"$f":"'Pob x Genero'!I55+'Pob x Genero'!AV55","v":17},{"$f":"'Pob x Genero'!J55+'Pob x Genero'!AW55","v":19},{"$f":"'Pob x Genero'!K55+'Pob x Genero'!AX55","v":28},{"$f":"'Pob x Genero'!L55+'Pob x Genero'!AY55","v":20},{"$f":"'Pob x Genero'!M55+'Pob x Genero'!AZ55","v":17},{"$f":"'Pob x Genero'!N55+'Pob x Genero'!BA55","v":27},{"$f":"'Pob x Genero'!O55+'Pob x Genero'!BB55","v":27},{"$f":"'Pob x Genero'!P55+'Pob x Genero'!BC55","v":27},{"$f":"'Pob x Genero'!Q55+'Pob x Genero'!BD55","v":21},{"$f":"'Pob x Genero'!R55+'Pob x Genero'!BE55","v":24},{"$f":"'Pob x Genero'!S55+'Pob x Genero'!BF55","v":46},{"$f":"'Pob x Genero'!T55+'Pob x Genero'!BG55","v":44},{"$f":"'Pob x Genero'!U55+'Pob x Genero'!BH55","v":29},{"$f":"'Pob x Genero'!V55+'Pob x Genero'!BI55","v":28},{"$f":"'Pob x Genero'!W55+'Pob x Genero'!BJ55","v":36},{"$f":"'Pob x Genero'!X55+'Pob x Genero'!BK55","v":31},{"$f":"'Pob x Genero'!Y55+'Pob x Genero'!BL55","v":29},{"$f":"'Pob x Genero'!Z55+'Pob x Genero'!BM55","v":28},{"$f":"'Pob x Genero'!AA55+'Pob x Genero'!BN55","v":21},{"$f":"'Pob x Genero'!AB55+'Pob x Genero'!BO55","v":101},{"$f":"'Pob x Genero'!AC55+'Pob x Genero'!BP55","v":140},{"$f":"'Pob x Genero'!AD55+'Pob x Genero'!BQ55","v":116},{"$f":"'Pob x Genero'!AE55+'Pob x Genero'!BR55","v":98},{"$f":"'Pob x Genero'!AF55+'Pob x Genero'!BS55","v":109},{"$f":"'Pob x Genero'!AG55+'Pob x Genero'!BT55","v":118},{"$f":"'Pob x Genero'!AH55+'Pob x Genero'!BU55","v":114},{"$f":"'Pob x Genero'!AI55+'Pob x Genero'!BV55","v":107},{"$f":"'Pob x Genero'!AJ55+'Pob x Genero'!BW55","v":95},{"$f":"'Pob x Genero'!AK55+'Pob x Genero'!BX55","v":77},{"$f":"'Pob x Genero'!AL55+'Pob x Genero'!BY55","v":44},{"$f":"'Pob x Genero'!AM55+'Pob x Genero'!BZ55","v":28},{"$f":"'Pob x Genero'!AN55+'Pob x Genero'!CA55","v":24},{"$f":"'Pob x Genero'!AO55+'Pob x Genero'!CB55","v":25},{"$f":"'Pob x Genero'!AP55+'Pob x Genero'!CC55","v":1},{"$f":"'Pob x Genero'!AQ55+'Pob x Genero'!CD55","v":10},{"$f":"'Pob x Genero'!AR55+'Pob x Genero'!CE55","v":13},{"$f":"'Pob x Genero'!AS55+'Pob x Genero'!CF55","v":29},{"$f":"'Pob x Genero'!AT55","v":880},{"$f":"SUM('Pob x Genero'!BE55:BI55)","v":88},{"$f":"SUM('Pob x Genero'!BJ55:BN55)","v":79},{"$f":"SUM('Pob x Genero'!BO55:BT55)","v":344},{"$f":"'Pob x Genero'!CG55","v":54},null,null,{"v":1738,"d":"1,738"},296,197,290,662,293]
["040311","AREQUIPA","AREQUIPA","CARAVELI","LOMAS",{"v":1637,"d":"1,637"},{"$f":"'Pob x Genero'!H56+'Pob x Genero'!AU56","v":23},{"$f":"'Pob x Genero'!I56+'Pob x Genero'!AV56","v":27},{"$f":"'Pob x Genero'!J56+'Pob x Genero'!AW56","v":21},{"$f":"'Pob x Genero'!K56+'Pob x Genero'!AX56","v":17},{"$f":"'Pob x Genero'!L56+'Pob x Genero'!AY56","v":13},{"$f":"'Pob x Genero'!M56+'Pob x Genero'!AZ56","v":27},{"$f":"'Pob x Genero'!N56+'Pob x Genero'!BA56","v":24},{"$f":"'Pob x Genero'!O56+'Pob x Genero'!BB56","v":19},{"$f":"'Pob x Genero'!P56+'Pob x Genero'!BC56","v":25},{"$f":"'Pob x Genero'!Q56+'Pob x Genero'!BD56","v":33},{"$f":"'Pob x Genero'!R56+'Pob x Genero'!BE56","v":24},{"$f":"'Pob x Genero'!S56+'Pob x Genero'!BF56","v":27},{"$f":"'Pob x Genero'!T56+'Pob x Genero'!BG56","v":21},{"$f":"'Pob x Genero'!U56+'Pob x Genero'!BH56","v":26},{"$f":"'Pob x Genero'!V56+'Pob x Genero'!BI56","v":20},{"$f":"'Pob x Genero'!W56+'Pob x Genero'!BJ56","v":23},{"$f":"'Pob x Genero'!X56+'Pob x Genero'!BK56","v":24},{"$f":"'Pob x Genero'!Y56+'Pob x Genero'!BL56","v":20},{"$f":"'Pob x Genero'!Z56+'Pob x Genero'!BM56","v":17},{"$f":"'Pob x Genero'!AA56+'Pob x Genero'!BN56","v":17},{"$f":"'Pob x Genero'!AB56+'Pob x Genero'!BO56","v":118},{"$f":"'Pob x Genero'!AC56+'Pob x Genero'!BP56","v":139},{"$f":"'Pob x Genero'!AD56+'Pob x Genero'!BQ56","v":140},{"$f":"'Pob x Genero'!AE56+'Pob x Genero'!BR56","v":136},{"$f":"'Pob x Genero'!AF56+'Pob x Genero'!BS56","v":130},{"$f":"'Pob x Genero'!AG56+'Pob x Genero'!BT56","v":127},{"$f":"'Pob x Genero'!AH56+'Pob x Genero'!BU56","v":97},{"$f":"'Pob x Genero'!AI56+'Pob x Genero'!BV56","v":94},{"$f":"'Pob x Genero'!AJ56+'Pob x Genero'!BW56","v":82},{"$f":"'Pob x Genero'!AK56+'Pob x Genero'!BX56","v":49},{"$f":"'Pob x Genero'!AL56+'Pob x Genero'!BY56","v":35},{"$f":"'Pob x Genero'!AM56+'Pob x Genero'!BZ56","v":24},{"$f":"'Pob x Genero'!AN56+'Pob x Genero'!CA56","v":9},{"$f":"'Pob x Genero'!AO56+'Pob x Genero'!CB56","v":9},{"$f":"'Pob x Genero'!AP56+'Pob x Genero'!CC56","v":0},{"$f":"'Pob x Genero'!AQ56+'Pob x Genero'!CD56","v":10},{"$f":"'Pob x Genero'!AR56+'Pob x Genero'!CE56","v":13},{"$f":"'Pob x Genero'!AS56+'Pob x Genero'!CF56","v":35},{"$f":"'Pob x Genero'!AT56","v":825},{"$f":"SUM('Pob x Genero'!BE56:BI56)","v":59},{"$f":"SUM('Pob x Genero'!BJ56:BN56)","v":55},{"$f":"SUM('Pob x Genero'!BO56:BT56)","v":396},{"$f":"'Pob x Genero'!CG56","v":41},null,null,{"v":1637,"d":"1,637"},280,134,291,724,208]
["040312","AREQUIPA","AREQUIPA","CARAVELI","QUICACHA",{"v":2126,"d":"2,126"},{"$f":"'Pob x Genero'!H57+'Pob x Genero'!AU57","v":27},{"$f":"'Pob x Genero'!I57+'Pob x Genero'!AV57","v":29},{"$f":"'Pob x Genero'!J57+'Pob x Genero'!AW57","v":22},{"$f":"'Pob x Genero'!K57+'Pob x Genero'!AX57","v":42},{"$f":"'Pob x Genero'!L57+'Pob x Genero'!AY57","v":16},{"$f":"'Pob x Genero'!M57+'Pob x Genero'!AZ57","v":27},{"$f":"'Pob x Genero'!N57+'Pob x Genero'!BA57","v":40},{"$f":"'Pob x Genero'!O57+'Pob x Genero'!BB57","v":36},{"$f":"'Pob x Genero'!P57+'Pob x Genero'!BC57","v":32},{"$f":"'Pob x Genero'!Q57+'Pob x Genero'!BD57","v":37},{"$f":"'Pob x Genero'!R57+'Pob x Genero'!BE57","v":45},{"$f":"'Pob x Genero'!S57+'Pob x Genero'!BF57","v":48},{"$f":"'Pob x Genero'!T57+'Pob x Genero'!BG57","v":43},{"$f":"'Pob x Genero'!U57+'Pob x Genero'!BH57","v":49},{"$f":"'Pob x Genero'!V57+'Pob x Genero'!BI57","v":35},{"$f":"'Pob x Genero'!W57+'Pob x Genero'!BJ57","v":48},{"$f":"'Pob x Genero'!X57+'Pob x Genero'!BK57","v":45},{"$f":"'Pob x Genero'!Y57+'Pob x Genero'!BL57","v":45},{"$f":"'Pob x Genero'!Z57+'Pob x Genero'!BM57","v":32},{"$f":"'Pob x Genero'!AA57+'Pob x Genero'!BN57","v":38},{"$f":"'Pob x Genero'!AB57+'Pob x Genero'!BO57","v":165},{"$f":"'Pob x Genero'!AC57+'Pob x Genero'!BP57","v":149},{"$f":"'Pob x Genero'!AD57+'Pob x Genero'!BQ57","v":150},{"$f":"'Pob x Genero'!AE57+'Pob x Genero'!BR57","v":155},{"$f":"'Pob x Genero'!AF57+'Pob x Genero'!BS57","v":124},{"$f":"'Pob x Genero'!AG57+'Pob x Genero'!BT57","v":128},{"$f":"'Pob x Genero'!AH57+'Pob x Genero'!BU57","v":112},{"$f":"'Pob x Genero'!AI57+'Pob x Genero'!BV57","v":102},{"$f":"'Pob x Genero'!AJ57+'Pob x Genero'!BW57","v":83},{"$f":"'Pob x Genero'!AK57+'Pob x Genero'!BX57","v":70},{"$f":"'Pob x Genero'!AL57+'Pob x Genero'!BY57","v":46},{"$f":"'Pob x Genero'!AM57+'Pob x Genero'!BZ57","v":34},{"$f":"'Pob x Genero'!AN57+'Pob x Genero'!CA57","v":26},{"$f":"'Pob x Genero'!AO57+'Pob x Genero'!CB57","v":46},{"$f":"'Pob x Genero'!AP57+'Pob x Genero'!CC57","v":2},{"$f":"'Pob x Genero'!AQ57+'Pob x Genero'!CD57","v":17},{"$f":"'Pob x Genero'!AR57+'Pob x Genero'!CE57","v":10},{"$f":"'Pob x Genero'!AS57+'Pob x Genero'!CF57","v":39},{"$f":"'Pob x Genero'!AT57","v":{"v":1077,"d":"1,077"}},{"$f":"SUM('Pob x Genero'!BE57:BI57)","v":132},{"$f":"SUM('Pob x Genero'!BJ57:BN57)","v":105},{"$f":"SUM('Pob x Genero'!BO57:BT57)","v":425},{"$f":"'Pob x Genero'!CG57","v":67},null,null,{"v":2126,"d":"2,126"},401,265,384,771,305]
["040313","AREQUIPA","AREQUIPA","CARAVELI","YAUCA",{"v":2396,"d":"2,396"},{"$f":"'Pob x Genero'!H58+'Pob x Genero'!AU58","v":31},{"$f":"'Pob x Genero'!I58+'Pob x Genero'!AV58","v":30},{"$f":"'Pob x Genero'!J58+'Pob x Genero'!AW58","v":16},{"$f":"'Pob x Genero'!K58+'Pob x Genero'!AX58","v":21},{"$f":"'Pob x Genero'!L58+'Pob x Genero'!AY58","v":14},{"$f":"'Pob x Genero'!M58+'Pob x Genero'!AZ58","v":22},{"$f":"'Pob x Genero'!N58+'Pob x Genero'!BA58","v":35},{"$f":"'Pob x Genero'!O58+'Pob x Genero'!BB58","v":39},{"$f":"'Pob x Genero'!P58+'Pob x Genero'!BC58","v":38},{"$f":"'Pob x Genero'!Q58+'Pob x Genero'!BD58","v":51},{"$f":"'Pob x Genero'!R58+'Pob x Genero'!BE58","v":43},{"$f":"'Pob x Genero'!S58+'Pob x Genero'!BF58","v":44},{"$f":"'Pob x Genero'!T58+'Pob x Genero'!BG58","v":42},{"$f":"'Pob x Genero'!U58+'Pob x Genero'!BH58","v":34},{"$f":"'Pob x Genero'!V58+'Pob x Genero'!BI58","v":47},{"$f":"'Pob x Genero'!W58+'Pob x Genero'!BJ58","v":35},{"$f":"'Pob x Genero'!X58+'Pob x Genero'!BK58","v":40},{"$f":"'Pob x Genero'!Y58+'Pob x Genero'!BL58","v":30},{"$f":"'Pob x Genero'!Z58+'Pob x Genero'!BM58","v":24},{"$f":"'Pob x Genero'!AA58+'Pob x Genero'!BN58","v":29},{"$f":"'Pob x Genero'!AB58+'Pob x Genero'!BO58","v":153},{"$f":"'Pob x Genero'!AC58+'Pob x Genero'!BP58","v":198},{"$f":"'Pob x Genero'!AD58+'Pob x Genero'!BQ58","v":156},{"$f":"'Pob x Genero'!AE58+'Pob x Genero'!BR58","v":148},{"$f":"'Pob x Genero'!AF58+'Pob x Genero'!BS58","v":167},{"$f":"'Pob x Genero'!AG58+'Pob x Genero'!BT58","v":163},{"$f":"'Pob x Genero'!AH58+'Pob x Genero'!BU58","v":146},{"$f":"'Pob x Genero'!AI58+'Pob x Genero'!BV58","v":166},{"$f":"'Pob x Genero'!AJ58+'Pob x Genero'!BW58","v":145},{"$f":"'Pob x Genero'!AK58+'Pob x Genero'!BX58","v":93},{"$f":"'Pob x Genero'!AL58+'Pob x Genero'!BY58","v":75},{"$f":"'Pob x Genero'!AM58+'Pob x Genero'!BZ58","v":50},{"$f":"'Pob x Genero'!AN58+'Pob x Genero'!CA58","v":28},{"$f":"'Pob x Genero'!AO58+'Pob x Genero'!CB58","v":43},{"$f":"'Pob x Genero'!AP58+'Pob x Genero'!CC58","v":1},{"$f":"'Pob x Genero'!AQ58+'Pob x Genero'!CD58","v":16},{"$f":"'Pob x Genero'!AR58+'Pob x Genero'!CE58","v":15},{"$f":"'Pob x Genero'!AS58+'Pob x Genero'!CF58","v":39},{"$f":"'Pob x Genero'!AT58","v":{"v":1213,"d":"1,213"}},{"$f":"SUM('Pob x Genero'!BE58:BI58)","v":116},{"$f":"SUM('Pob x Genero'!BJ58:BN58)","v":70},{"$f":"SUM('Pob x Genero'!BO58:BT58)","v":529},{"$f":"'Pob x Genero'!CG58","v":46},null,null,{"v":2396,"d":"2,396"},384,228,404,946,434]
["040401","AREQUIPA","AREQUIPA","CASTILLA","APLAO",{"v":9465,"d":"9,465"},{"$f":"'Pob x Genero'!H59+'Pob x Genero'!AU59","v":118},{"$f":"'Pob x Genero'!I59+'Pob x Genero'!AV59","v":113},{"$f":"'Pob x Genero'!J59+'Pob x Genero'!AW59","v":117},{"$f":"'Pob x Genero'!K59+'Pob x Genero'!AX59","v":146},{"$f":"'Pob x Genero'!L59+'Pob x Genero'!AY59","v":125},{"$f":"'Pob x Genero'!M59+'Pob x Genero'!AZ59","v":133},{"$f":"'Pob x Genero'!N59+'Pob x Genero'!BA59","v":130},{"$f":"'Pob x Genero'!O59+'Pob x Genero'!BB59","v":129},{"$f":"'Pob x Genero'!P59+'Pob x Genero'!BC59","v":135},{"$f":"'Pob x Genero'!Q59+'Pob x Genero'!BD59","v":118},{"$f":"'Pob x Genero'!R59+'Pob x Genero'!BE59","v":144},{"$f":"'Pob x Genero'!S59+'Pob x Genero'!BF59","v":164},{"$f":"'Pob x Genero'!T59+'Pob x Genero'!BG59","v":200},{"$f":"'Pob x Genero'!U59+'Pob x Genero'!BH59","v":154},{"$f":"'Pob x Genero'!V59+'Pob x Genero'!BI59","v":152},{"$f":"'Pob x Genero'!W59+'Pob x Genero'!BJ59","v":131},{"$f":"'Pob x Genero'!X59+'Pob x Genero'!BK59","v":180},{"$f":"'Pob x Genero'!Y59+'Pob x Genero'!BL59","v":174},{"$f":"'Pob x Genero'!Z59+'Pob x Genero'!BM59","v":145},{"$f":"'Pob x Genero'!AA59+'Pob x Genero'!BN59","v":147},{"$f":"'Pob x Genero'!AB59+'Pob x Genero'!BO59","v":706},{"$f":"'Pob x Genero'!AC59+'Pob x Genero'!BP59","v":789},{"$f":"'Pob x Genero'!AD59+'Pob x Genero'!BQ59","v":716},{"$f":"'Pob x Genero'!AE59+'Pob x Genero'!BR59","v":657},{"$f":"'Pob x Genero'!AF59+'Pob x Genero'!BS59","v":609},{"$f":"'Pob x Genero'!AG59+'Pob x Genero'!BT59","v":620},{"$f":"'Pob x Genero'!AH59+'Pob x Genero'!BU59","v":563},{"$f":"'Pob x Genero'!AI59+'Pob x Genero'!BV59","v":538},{"$f":"'Pob x Genero'!AJ59+'Pob x Genero'!BW59","v":402},{"$f":"'Pob x Genero'!AK59+'Pob x Genero'!BX59","v":345},{"$f":"'Pob x Genero'!AL59+'Pob x Genero'!BY59","v":253},{"$f":"'Pob x Genero'!AM59+'Pob x Genero'!BZ59","v":189},{"$f":"'Pob x Genero'!AN59+'Pob x Genero'!CA59","v":104},{"$f":"'Pob x Genero'!AO59+'Pob x Genero'!CB59","v":119},{"$f":"'Pob x Genero'!AP59+'Pob x Genero'!CC59","v":14},{"$f":"'Pob x Genero'!AQ59+'Pob x Genero'!CD59","v":55},{"$f":"'Pob x Genero'!AR59+'Pob x Genero'!CE59","v":63},{"$f":"'Pob x Genero'!AS59+'Pob x Genero'!CF59","v":140},{"$f":"'Pob x Genero'!AT59","v":{"v":4789,"d":"4,789"}},{"$f":"SUM('Pob x Genero'!BE59:BI59)","v":394},{"$f":"SUM('Pob x Genero'!BJ59:BN59)","v":415},{"$f":"SUM('Pob x Genero'!BO59:BT59)","v":{"v":2134,"d":"2,134"}},{"$f":"'Pob x Genero'!CG59","v":241},null,null,{"v":9465,"d":"9,465"},{"v":1572,"d":"1,572"},991,{"v":1787,"d":"1,787"},{"v":3703,"d":"3,703"},{"v":1412,"d":"1,412"}]
["040402","AREQUIPA","AREQUIPA","CASTILLA","ANDAGUA",928,{"$f":"'Pob x Genero'!H60+'Pob x Genero'!AU60","v":11},{"$f":"'Pob x Genero'!I60+'Pob x Genero'!AV60","v":10},{"$f":"'Pob x Genero'!J60+'Pob x Genero'!AW60","v":9},{"$f":"'Pob x Genero'!K60+'Pob x Genero'!AX60","v":13},{"$f":"'Pob x Genero'!L60+'Pob x Genero'!AY60","v":9},{"$f":"'Pob x Genero'!M60+'Pob x Genero'!AZ60","v":8},{"$f":"'Pob x Genero'!N60+'Pob x Genero'!BA60","v":13},{"$f":"'Pob x Genero'!O60+'Pob x Genero'!BB60","v":13},{"$f":"'Pob x Genero'!P60+'Pob x Genero'!BC60","v":9},{"$f":"'Pob x Genero'!Q60+'Pob x Genero'!BD60","v":14},{"$f":"'Pob x Genero'!R60+'Pob x Genero'!BE60","v":14},{"$f":"'Pob x Genero'!S60+'Pob x Genero'!BF60","v":13},{"$f":"'Pob x Genero'!T60+'Pob x Genero'!BG60","v":13},{"$f":"'Pob x Genero'!U60+'Pob x Genero'!BH60","v":19},{"$f":"'Pob x Genero'!V60+'Pob x Genero'!BI60","v":12},{"$f":"'Pob x Genero'!W60+'Pob x Genero'!BJ60","v":8},{"$f":"'Pob x Genero'!X60+'Pob x Genero'!BK60","v":19},{"$f":"'Pob x Genero'!Y60+'Pob x Genero'!BL60","v":13},{"$f":"'Pob x Genero'!Z60+'Pob x Genero'!BM60","v":13},{"$f":"'Pob x Genero'!AA60+'Pob x Genero'!BN60","v":8},{"$f":"'Pob x Genero'!AB60+'Pob x Genero'!BO60","v":78},{"$f":"'Pob x Genero'!AC60+'Pob x Genero'!BP60","v":56},{"$f":"'Pob x Genero'!AD60+'Pob x Genero'!BQ60","v":53},{"$f":"'Pob x Genero'!AE60+'Pob x Genero'!BR60","v":55},{"$f":"'Pob x Genero'!AF60+'Pob x Genero'!BS60","v":61},{"$f":"'Pob x Genero'!AG60+'Pob x Genero'!BT60","v":61},{"$f":"'Pob x Genero'!AH60+'Pob x Genero'!BU60","v":60},{"$f":"'Pob x Genero'!AI60+'Pob x Genero'!BV60","v":53},{"$f":"'Pob x Genero'!AJ60+'Pob x Genero'!BW60","v":52},{"$f":"'Pob x Genero'!AK60+'Pob x Genero'!BX60","v":43},{"$f":"'Pob x Genero'!AL60+'Pob x Genero'!BY60","v":38},{"$f":"'Pob x Genero'!AM60+'Pob x Genero'!BZ60","v":33},{"$f":"'Pob x Genero'!AN60+'Pob x Genero'!CA60","v":17},{"$f":"'Pob x Genero'!AO60+'Pob x Genero'!CB60","v":27},{"$f":"'Pob x Genero'!AP60+'Pob x Genero'!CC60","v":0},{"$f":"'Pob x Genero'!AQ60+'Pob x Genero'!CD60","v":5},{"$f":"'Pob x Genero'!AR60+'Pob x Genero'!CE60","v":6},{"$f":"'Pob x Genero'!AS60+'Pob x Genero'!CF60","v":22},{"$f":"'Pob x Genero'!AT60","v":466},{"$f":"SUM('Pob x Genero'!BE60:BI60)","v":38},{"$f":"SUM('Pob x Genero'!BJ60:BN60)","v":30},{"$f":"SUM('Pob x Genero'!BO60:BT60)","v":173},{"$f":"'Pob x Genero'!CG60","v":21},null,null,928,136,84,155,343,210]
["040403","AREQUIPA","AREQUIPA","CASTILLA","AYO",284,{"$f":"'Pob x Genero'!H61+'Pob x Genero'!AU61","v":4},{"$f":"'Pob x Genero'!I61+'Pob x Genero'!AV61","v":2},{"$f":"'Pob x Genero'!J61+'Pob x Genero'!AW61","v":6},{"$f":"'Pob x Genero'!K61+'Pob x Genero'!AX61","v":3},{"$f":"'Pob x Genero'!L61+'Pob x Genero'!AY61","v":3},{"$f":"'Pob x Genero'!M61+'Pob x Genero'!AZ61","v":5},{"$f":"'Pob x Genero'!N61+'Pob x Genero'!BA61","v":2},{"$f":"'Pob x Genero'!O61+'Pob x Genero'!BB61","v":2},{"$f":"'Pob x Genero'!P61+'Pob x Genero'!BC61","v":2},{"$f":"'Pob x Genero'!Q61+'Pob x Genero'!BD61","v":1},{"$f":"'Pob x Genero'!R61+'Pob x Genero'!BE61","v":0},{"$f":"'Pob x Genero'!S61+'Pob x Genero'!BF61","v":4},{"$f":"'Pob x Genero'!T61+'Pob x Genero'!BG61","v":1},{"$f":"'Pob x Genero'!U61+'Pob x Genero'!BH61","v":2},{"$f":"'Pob x Genero'!V61+'Pob x Genero'!BI61","v":2},{"$f":"'Pob x Genero'!W61+'Pob x Genero'!BJ61","v":1},{"$f":"'Pob x Genero'!X61+'Pob x Genero'!BK61","v":3},{"$f":"'Pob x Genero'!Y61+'Pob x Genero'!BL61","v":3},{"$f":"'Pob x Genero'!Z61+'Pob x Genero'!BM61","v":1},{"$f":"'Pob x Genero'!AA61+'Pob x Genero'!BN61","v":2},{"$f":"'Pob x Genero'!AB61+'Pob x Genero'!BO61","v":6},{"$f":"'Pob x Genero'!AC61+'Pob x Genero'!BP61","v":12},{"$f":"'Pob x Genero'!AD61+'Pob x Genero'!BQ61","v":17},{"$f":"'Pob x Genero'!AE61+'Pob x Genero'!BR61","v":23},{"$f":"'Pob x Genero'!AF61+'Pob x Genero'!BS61","v":20},{"$f":"'Pob x Genero'!AG61+'Pob x Genero'!BT61","v":17},{"$f":"'Pob x Genero'!AH61+'Pob x Genero'!BU61","v":24},{"$f":"'Pob x Genero'!AI61+'Pob x Genero'!BV61","v":17},{"$f":"'Pob x Genero'!AJ61+'Pob x Genero'!BW61","v":20},{"$f":"'Pob x Genero'!AK61+'Pob x Genero'!BX61","v":20},{"$f":"'Pob x Genero'!AL61+'Pob x Genero'!BY61","v":11},{"$f":"'Pob x Genero'!AM61+'Pob x Genero'!BZ61","v":19},{"$f":"'Pob x Genero'!AN61+'Pob x Genero'!CA61","v":11},{"$f":"'Pob x Genero'!AO61+'Pob x Genero'!CB61","v":18},{"$f":"'Pob x Genero'!AP61+'Pob x Genero'!CC61","v":0},{"$f":"'Pob x Genero'!AQ61+'Pob x Genero'!CD61","v":2},{"$f":"'Pob x Genero'!AR61+'Pob x Genero'!CE61","v":2},{"$f":"'Pob x Genero'!AS61+'Pob x Genero'!CF61","v":9},{"$f":"'Pob x Genero'!AT61","v":142},{"$f":"SUM('Pob x Genero'!BE61:BI61)","v":6},{"$f":"SUM('Pob x Genero'!BJ61:BN61)","v":3},{"$f":"SUM('Pob x Genero'!BO61:BT61)","v":44},{"$f":"'Pob x Genero'!CG61","v":10},null,null,284,34,12,21,118,99]
["040404","AREQUIPA","AREQUIPA","CASTILLA","CHACHAS",{"v":1668,"d":"1,668"},{"$f":"'Pob x Genero'!H62+'Pob x Genero'!AU62","v":34},{"$f":"'Pob x Genero'!I62+'Pob x Genero'!AV62","v":28},{"$f":"'Pob x Genero'!J62+'Pob x Genero'!AW62","v":29},{"$f":"'Pob x Genero'!K62+'Pob x Genero'!AX62","v":32},{"$f":"'Pob x Genero'!L62+'Pob x Genero'!AY62","v":30},{"$f":"'Pob x Genero'!M62+'Pob x Genero'!AZ62","v":23},{"$f":"'Pob x Genero'!N62+'Pob x Genero'!BA62","v":22},{"$f":"'Pob x Genero'!O62+'Pob x Genero'!BB62","v":24},{"$f":"'Pob x Genero'!P62+'Pob x Genero'!BC62","v":28},{"$f":"'Pob x Genero'!Q62+'Pob x Genero'!BD62","v":27},{"$f":"'Pob x Genero'!R62+'Pob x Genero'!BE62","v":39},{"$f":"'Pob x Genero'!S62+'Pob x Genero'!BF62","v":29},{"$f":"'Pob x Genero'!T62+'Pob x Genero'!BG62","v":33},{"$f":"'Pob x Genero'!U62+'Pob x Genero'!BH62","v":32},{"$f":"'Pob x Genero'!V62+'Pob x Genero'!BI62","v":28},{"$f":"'Pob x Genero'!W62+'Pob x Genero'!BJ62","v":41},{"$f":"'Pob x Genero'!X62+'Pob x Genero'!BK62","v":26},{"$f":"'Pob x Genero'!Y62+'Pob x Genero'!BL62","v":35},{"$f":"'Pob x Genero'!Z62+'Pob x Genero'!BM62","v":21},{"$f":"'Pob x Genero'!AA62+'Pob x Genero'!BN62","v":23},{"$f":"'Pob x Genero'!AB62+'Pob x Genero'!BO62","v":130},{"$f":"'Pob x Genero'!AC62+'Pob x Genero'!BP62","v":130},{"$f":"'Pob x Genero'!AD62+'Pob x Genero'!BQ62","v":140},{"$f":"'Pob x Genero'!AE62+'Pob x Genero'!BR62","v":126},{"$f":"'Pob x Genero'!AF62+'Pob x Genero'!BS62","v":85},{"$f":"'Pob x Genero'!AG62+'Pob x Genero'!BT62","v":91},{"$f":"'Pob x Genero'!AH62+'Pob x Genero'!BU62","v":75},{"$f":"'Pob x Genero'!AI62+'Pob x Genero'!BV62","v":89},{"$f":"'Pob x Genero'!AJ62+'Pob x Genero'!BW62","v":67},{"$f":"'Pob x Genero'!AK62+'Pob x Genero'!BX62","v":48},{"$f":"'Pob x Genero'!AL62+'Pob x Genero'!BY62","v":30},{"$f":"'Pob x Genero'!AM62+'Pob x Genero'!BZ62","v":26},{"$f":"'Pob x Genero'!AN62+'Pob x Genero'!CA62","v":18},{"$f":"'Pob x Genero'!AO62+'Pob x Genero'!CB62","v":29},{"$f":"'Pob x Genero'!AP62+'Pob x Genero'!CC62","v":1},{"$f":"'Pob x Genero'!AQ62+'Pob x Genero'!CD62","v":21},{"$f":"'Pob x Genero'!AR62+'Pob x Genero'!CE62","v":13},{"$f":"'Pob x Genero'!AS62+'Pob x Genero'!CF62","v":59},{"$f":"'Pob x Genero'!AT62","v":834},{"$f":"SUM('Pob x Genero'!BE62:BI62)","v":86},{"$f":"SUM('Pob x Genero'!BJ62:BN62)","v":78},{"$f":"SUM('Pob x Genero'!BO62:BT62)","v":320},{"$f":"'Pob x Genero'!CG62","v":68},null,null,{"v":1668,"d":"1,668"},345,195,304,606,218]
["040405","AREQUIPA","AREQUIPA","CASTILLA","CHILCAYMARCA",{"v":1073,"d":"1,073"},{"$f":"'Pob x Genero'!H63+'Pob x Genero'!AU63","v":13},{"$f":"'Pob x Genero'!I63+'Pob x Genero'!AV63","v":12},{"$f":"'Pob x Genero'!J63+'Pob x Genero'!AW63","v":10},{"$f":"'Pob x Genero'!K63+'Pob x Genero'!AX63","v":10},{"$f":"'Pob x Genero'!L63+'Pob x Genero'!AY63","v":10},{"$f":"'Pob x Genero'!M63+'Pob x Genero'!AZ63","v":6},{"$f":"'Pob x Genero'!N63+'Pob x Genero'!BA63","v":17},{"$f":"'Pob x Genero'!O63+'Pob x Genero'!BB63","v":17},{"$f":"'Pob x Genero'!P63+'Pob x Genero'!BC63","v":20},{"$f":"'Pob x Genero'!Q63+'Pob x Genero'!BD63","v":20},{"$f":"'Pob x Genero'!R63+'Pob x Genero'!BE63","v":18},{"$f":"'Pob x Genero'!S63+'Pob x Genero'!BF63","v":19},{"$f":"'Pob x Genero'!T63+'Pob x Genero'!BG63","v":10},{"$f":"'Pob x Genero'!U63+'Pob x Genero'!BH63","v":12},{"$f":"'Pob x Genero'!V63+'Pob x Genero'!BI63","v":18},{"$f":"'Pob x Genero'!W63+'Pob x Genero'!BJ63","v":23},{"$f":"'Pob x Genero'!X63+'Pob x Genero'!BK63","v":18},{"$f":"'Pob x Genero'!Y63+'Pob x Genero'!BL63","v":23},{"$f":"'Pob x Genero'!Z63+'Pob x Genero'!BM63","v":18},{"$f":"'Pob x Genero'!AA63+'Pob x Genero'!BN63","v":8},{"$f":"'Pob x Genero'!AB63+'Pob x Genero'!BO63","v":68},{"$f":"'Pob x Genero'!AC63+'Pob x Genero'!BP63","v":93},{"$f":"'Pob x Genero'!AD63+'Pob x Genero'!BQ63","v":97},{"$f":"'Pob x Genero'!AE63+'Pob x Genero'!BR63","v":101},{"$f":"'Pob x Genero'!AF63+'Pob x Genero'!BS63","v":99},{"$f":"'Pob x Genero'!AG63+'Pob x Genero'!BT63","v":82},{"$f":"'Pob x Genero'!AH63+'Pob x Genero'!BU63","v":62},{"$f":"'Pob x Genero'!AI63+'Pob x Genero'!BV63","v":47},{"$f":"'Pob x Genero'!AJ63+'Pob x Genero'!BW63","v":43},{"$f":"'Pob x Genero'!AK63+'Pob x Genero'!BX63","v":30},{"$f":"'Pob x Genero'!AL63+'Pob x Genero'!BY63","v":17},{"$f":"'Pob x Genero'!AM63+'Pob x Genero'!BZ63","v":13},{"$f":"'Pob x Genero'!AN63+'Pob x Genero'!CA63","v":11},{"$f":"'Pob x Genero'!AO63+'Pob x Genero'!CB63","v":8},{"$f":"'Pob x Genero'!AP63+'Pob x Genero'!CC63","v":0},{"$f":"'Pob x Genero'!AQ63+'Pob x Genero'!CD63","v":6},{"$f":"'Pob x Genero'!AR63+'Pob x Genero'!CE63","v":7},{"$f":"'Pob x Genero'!AS63+'Pob x Genero'!CF63","v":19},{"$f":"'Pob x Genero'!AT63","v":544},{"$f":"SUM('Pob x Genero'!BE63:BI63)","v":34},{"$f":"SUM('Pob x Genero'!BJ63:BN63)","v":50},{"$f":"SUM('Pob x Genero'!BO63:BT63)","v":271},{"$f":"'Pob x Genero'!CG63","v":23},null,null,{"v":1073,"d":"1,073"},172,104,187,488,122]
["040406","AREQUIPA","AREQUIPA","CASTILLA","CHOCO",671,{"$f":"'Pob x Genero'!H64+'Pob x Genero'!AU64","v":12},{"$f":"'Pob x Genero'!I64+'Pob x Genero'!AV64","v":7},{"$f":"'Pob x Genero'!J64+'Pob x Genero'!AW64","v":3},{"$f":"'Pob x Genero'!K64+'Pob x Genero'!AX64","v":6},{"$f":"'Pob x Genero'!L64+'Pob x Genero'!AY64","v":6},{"$f":"'Pob x Genero'!M64+'Pob x Genero'!AZ64","v":3},{"$f":"'Pob x Genero'!N64+'Pob x Genero'!BA64","v":6},{"$f":"'Pob x Genero'!O64+'Pob x Genero'!BB64","v":7},{"$f":"'Pob x Genero'!P64+'Pob x Genero'!BC64","v":5},{"$f":"'Pob x Genero'!Q64+'Pob x Genero'!BD64","v":5},{"$f":"'Pob x Genero'!R64+'Pob x Genero'!BE64","v":4},{"$f":"'Pob x Genero'!S64+'Pob x Genero'!BF64","v":10},{"$f":"'Pob x Genero'!T64+'Pob x Genero'!BG64","v":7},{"$f":"'Pob x Genero'!U64+'Pob x Genero'!BH64","v":9},{"$f":"'Pob x Genero'!V64+'Pob x Genero'!BI64","v":7},{"$f":"'Pob x Genero'!W64+'Pob x Genero'!BJ64","v":6},{"$f":"'Pob x Genero'!X64+'Pob x Genero'!BK64","v":11},{"$f":"'Pob x Genero'!Y64+'Pob x Genero'!BL64","v":5},{"$f":"'Pob x Genero'!Z64+'Pob x Genero'!BM64","v":10},{"$f":"'Pob x Genero'!AA64+'Pob x Genero'!BN64","v":9},{"$f":"'Pob x Genero'!AB64+'Pob x Genero'!BO64","v":38},{"$f":"'Pob x Genero'!AC64+'Pob x Genero'!BP64","v":31},{"$f":"'Pob x Genero'!AD64+'Pob x Genero'!BQ64","v":49},{"$f":"'Pob x Genero'!AE64+'Pob x Genero'!BR64","v":48},{"$f":"'Pob x Genero'!AF64+'Pob x Genero'!BS64","v":57},{"$f":"'Pob x Genero'!AG64+'Pob x Genero'!BT64","v":53},{"$f":"'Pob x Genero'!AH64+'Pob x Genero'!BU64","v":44},{"$f":"'Pob x Genero'!AI64+'Pob x Genero'!BV64","v":35},{"$f":"'Pob x Genero'!AJ64+'Pob x Genero'!BW64","v":39},{"$f":"'Pob x Genero'!AK64+'Pob x Genero'!BX64","v":36},{"$f":"'Pob x Genero'!AL64+'Pob x Genero'!BY64","v":27},{"$f":"'Pob x Genero'!AM64+'Pob x Genero'!BZ64","v":30},{"$f":"'Pob x Genero'!AN64+'Pob x Genero'!CA64","v":20},{"$f":"'Pob x Genero'!AO64+'Pob x Genero'!CB64","v":26},{"$f":"'Pob x Genero'!AP64+'Pob x Genero'!CC64","v":1},{"$f":"'Pob x Genero'!AQ64+'Pob x Genero'!CD64","v":10},{"$f":"'Pob x Genero'!AR64+'Pob x Genero'!CE64","v":2},{"$f":"'Pob x Genero'!AS64+'Pob x Genero'!CF64","v":19},{"$f":"'Pob x Genero'!AT64","v":335},{"$f":"SUM('Pob x Genero'!BE64:BI64)","v":25},{"$f":"SUM('Pob x Genero'!BJ64:BN64)","v":22},{"$f":"SUM('Pob x Genero'!BO64:BT64)","v":121},{"$f":"'Pob x Genero'!CG64","v":25},null,null,671,74,45,88,286,178]
["040407","AREQUIPA","AREQUIPA","CASTILLA","HUANCARQUI",{"v":1605,"d":"1,605"},{"$f":"'Pob x Genero'!H65+'Pob x Genero'!AU65","v":21},{"$f":"'Pob x Genero'!I65+'Pob x Genero'!AV65","v":14},{"$f":"'Pob x Genero'!J65+'Pob x Genero'!AW65","v":12},{"$f":"'Pob x Genero'!K65+'Pob x Genero'!AX65","v":27},{"$f":"'Pob x Genero'!L65+'Pob x Genero'!AY65","v":16},{"$f":"'Pob x Genero'!M65+'Pob x Genero'!AZ65","v":14},{"$f":"'Pob x Genero'!N65+'Pob x Genero'!BA65","v":16},{"$f":"'Pob x Genero'!O65+'Pob x Genero'!BB65","v":15},{"$f":"'Pob x Genero'!P65+'Pob x Genero'!BC65","v":19},{"$f":"'Pob x Genero'!Q65+'Pob x Genero'!BD65","v":18},{"$f":"'Pob x Genero'!R65+'Pob x Genero'!BE65","v":20},{"$f":"'Pob x Genero'!S65+'Pob x Genero'!BF65","v":14},{"$f":"'Pob x Genero'!T65+'Pob x Genero'!BG65","v":18},{"$f":"'Pob x Genero'!U65+'Pob x Genero'!BH65","v":14},{"$f":"'Pob x Genero'!V65+'Pob x Genero'!BI65","v":22},{"$f":"'Pob x Genero'!W65+'Pob x Genero'!BJ65","v":21},{"$f":"'Pob x Genero'!X65+'Pob x Genero'!BK65","v":16},{"$f":"'Pob x Genero'!Y65+'Pob x Genero'!BL65","v":22},{"$f":"'Pob x Genero'!Z65+'Pob x Genero'!BM65","v":14},{"$f":"'Pob x Genero'!AA65+'Pob x Genero'!BN65","v":19},{"$f":"'Pob x Genero'!AB65+'Pob x Genero'!BO65","v":90},{"$f":"'Pob x Genero'!AC65+'Pob x Genero'!BP65","v":106},{"$f":"'Pob x Genero'!AD65+'Pob x Genero'!BQ65","v":147},{"$f":"'Pob x Genero'!AE65+'Pob x Genero'!BR65","v":125},{"$f":"'Pob x Genero'!AF65+'Pob x Genero'!BS65","v":126},{"$f":"'Pob x Genero'!AG65+'Pob x Genero'!BT65","v":115},{"$f":"'Pob x Genero'!AH65+'Pob x Genero'!BU65","v":118},{"$f":"'Pob x Genero'!AI65+'Pob x Genero'!BV65","v":107},{"$f":"'Pob x Genero'!AJ65+'Pob x Genero'!BW65","v":96},{"$f":"'Pob x Genero'!AK65+'Pob x Genero'!BX65","v":70},{"$f":"'Pob x Genero'!AL65+'Pob x Genero'!BY65","v":59},{"$f":"'Pob x Genero'!AM65+'Pob x Genero'!BZ65","v":37},{"$f":"'Pob x Genero'!AN65+'Pob x Genero'!CA65","v":25},{"$f":"'Pob x Genero'!AO65+'Pob x Genero'!CB65","v":32},{"$f":"'Pob x Genero'!AP65+'Pob x Genero'!CC65","v":2},{"$f":"'Pob x Genero'!AQ65+'Pob x Genero'!CD65","v":8},{"$f":"'Pob x Genero'!AR65+'Pob x Genero'!CE65","v":13},{"$f":"'Pob x Genero'!AS65+'Pob x Genero'!CF65","v":27},{"$f":"'Pob x Genero'!AT65","v":815},{"$f":"SUM('Pob x Genero'!BE65:BI65)","v":43},{"$f":"SUM('Pob x Genero'!BJ65:BN65)","v":47},{"$f":"SUM('Pob x Genero'!BO65:BT65)","v":343},{"$f":"'Pob x Genero'!CG65","v":21},null,null,{"v":1605,"d":"1,605"},206,113,229,738,319]
["040408","AREQUIPA","AREQUIPA","CASTILLA","MACHAGUAY",418,{"$f":"'Pob x Genero'!H66+'Pob x Genero'!AU66","v":9},{"$f":"'Pob x Genero'!I66+'Pob x Genero'!AV66","v":3},{"$f":"'Pob x Genero'!J66+'Pob x Genero'!AW66","v":4},{"$f":"'Pob x Genero'!K66+'Pob x Genero'!AX66","v":3},{"$f":"'Pob x Genero'!L66+'Pob x Genero'!AY66","v":7},{"$f":"'Pob x Genero'!M66+'Pob x Genero'!AZ66","v":3},{"$f":"'Pob x Genero'!N66+'Pob x Genero'!BA66","v":2},{"$f":"'Pob x Genero'!O66+'Pob x Genero'!BB66","v":4},{"$f":"'Pob x Genero'!P66+'Pob x Genero'!BC66","v":2},{"$f":"'Pob x Genero'!Q66+'Pob x Genero'!BD66","v":5},{"$f":"'Pob x Genero'!R66+'Pob x Genero'!BE66","v":3},{"$f":"'Pob x Genero'!S66+'Pob x Genero'!BF66","v":6},{"$f":"'Pob x Genero'!T66+'Pob x Genero'!BG66","v":5},{"$f":"'Pob x Genero'!U66+'Pob x Genero'!BH66","v":5},{"$f":"'Pob x Genero'!V66+'Pob x Genero'!BI66","v":7},{"$f":"'Pob x Genero'!W66+'Pob x Genero'!BJ66","v":5},{"$f":"'Pob x Genero'!X66+'Pob x Genero'!BK66","v":7},{"$f":"'Pob x Genero'!Y66+'Pob x Genero'!BL66","v":9},{"$f":"'Pob x Genero'!Z66+'Pob x Genero'!BM66","v":6},{"$f":"'Pob x Genero'!AA66+'Pob x Genero'!BN66","v":6},{"$f":"'Pob x Genero'!AB66+'Pob x Genero'!BO66","v":24},{"$f":"'Pob x Genero'!AC66+'Pob x Genero'!BP66","v":20},{"$f":"'Pob x Genero'!AD66+'Pob x Genero'!BQ66","v":18},{"$f":"'Pob x Genero'!AE66+'Pob x Genero'!BR66","v":15},{"$f":"'Pob x Genero'!AF66+'Pob x Genero'!BS66","v":23},{"$f":"'Pob x Genero'!AG66+'Pob x Genero'!BT66","v":27},{"$f":"'Pob x Genero'!AH66+'Pob x Genero'!BU66","v":30},{"$f":"'Pob x Genero'!AI66+'Pob x Genero'!BV66","v":28},{"$f":"'Pob x Genero'!AJ66+'Pob x Genero'!BW66","v":29},{"$f":"'Pob x Genero'!AK66+'Pob x Genero'!BX66","v":16},{"$f":"'Pob x Genero'!AL66+'Pob x Genero'!BY66","v":28},{"$f":"'Pob x Genero'!AM66+'Pob x Genero'!BZ66","v":16},{"$f":"'Pob x Genero'!AN66+'Pob x Genero'!CA66","v":19},{"$f":"'Pob x Genero'!AO66+'Pob x Genero'!CB66","v":24},{"$f":"'Pob x Genero'!AP66+'Pob x Genero'!CC66","v":0},{"$f":"'Pob x Genero'!AQ66+'Pob x Genero'!CD66","v":1},{"$f":"'Pob x Genero'!AR66+'Pob x Genero'!CE66","v":8},{"$f":"'Pob x Genero'!AS66+'Pob x Genero'!CF66","v":14},{"$f":"'Pob x Genero'!AT66","v":210},{"$f":"SUM('Pob x Genero'!BE66:BI66)","v":16},{"$f":"SUM('Pob x Genero'!BJ66:BN66)","v":16},{"$f":"SUM('Pob x Genero'!BO66:BT66)","v":63},{"$f":"'Pob x Genero'!CG66","v":8},null,null,418,51,38,56,141,132]
["040409","AREQUIPA","AREQUIPA","CASTILLA","ORCOPAMPA",{"v":8560,"d":"8,560"},{"$f":"'Pob x Genero'!H67+'Pob x Genero'!AU67","v":65},{"$f":"'Pob x Genero'!I67+'Pob x Genero'!AV67","v":74},{"$f":"'Pob x Genero'!J67+'Pob x Genero'!AW67","v":52},{"$f":"'Pob x Genero'!K67+'Pob x Genero'!AX67","v":90},{"$f":"'Pob x Genero'!L67+'Pob x Genero'!AY67","v":74},{"$f":"'Pob x Genero'!M67+'Pob x Genero'!AZ67","v":119},{"$f":"'Pob x Genero'!N67+'Pob x Genero'!BA67","v":148},{"$f":"'Pob x Genero'!O67+'Pob x Genero'!BB67","v":168},{"$f":"'Pob x Genero'!P67+'Pob x Genero'!BC67","v":199},{"$f":"'Pob x Genero'!Q67+'Pob x Genero'!BD67","v":187},{"$f":"'Pob x Genero'!R67+'Pob x Genero'!BE67","v":202},{"$f":"'Pob x Genero'!S67+'Pob x Genero'!BF67","v":197},{"$f":"'Pob x Genero'!T67+'Pob x Genero'!BG67","v":180},{"$f":"'Pob x Genero'!U67+'Pob x Genero'!BH67","v":192},{"$f":"'Pob x Genero'!V67+'Pob x Genero'!BI67","v":188},{"$f":"'Pob x Genero'!W67+'Pob x Genero'!BJ67","v":241},{"$f":"'Pob x Genero'!X67+'Pob x Genero'!BK67","v":207},{"$f":"'Pob x Genero'!Y67+'Pob x Genero'!BL67","v":240},{"$f":"'Pob x Genero'!Z67+'Pob x Genero'!BM67","v":164},{"$f":"'Pob x Genero'!AA67+'Pob x Genero'!BN67","v":128},{"$f":"'Pob x Genero'!AB67+'Pob x Genero'!BO67","v":723},{"$f":"'Pob x Genero'!AC67+'Pob x Genero'!BP67","v":715},{"$f":"'Pob x Genero'!AD67+'Pob x Genero'!BQ67","v":668},{"$f":"'Pob x Genero'!AE67+'Pob x Genero'!BR67","v":693},{"$f":"'Pob x Genero'!AF67+'Pob x Genero'!BS67","v":594},{"$f":"'Pob x Genero'!AG67+'Pob x Genero'!BT67","v":486},{"$f":"'Pob x Genero'!AH67+'Pob x Genero'!BU67","v":375},{"$f":"'Pob x Genero'!AI67+'Pob x Genero'!BV67","v":371},{"$f":"'Pob x Genero'!AJ67+'Pob x Genero'!BW67","v":267},{"$f":"'Pob x Genero'!AK67+'Pob x Genero'!BX67","v":201},{"$f":"'Pob x Genero'!AL67+'Pob x Genero'!BY67","v":151},{"$f":"'Pob x Genero'!AM67+'Pob x Genero'!BZ67","v":88},{"$f":"'Pob x Genero'!AN67+'Pob x Genero'!CA67","v":57},{"$f":"'Pob x Genero'!AO67+'Pob x Genero'!CB67","v":56},{"$f":"'Pob x Genero'!AP67+'Pob x Genero'!CC67","v":5},{"$f":"'Pob x Genero'!AQ67+'Pob x Genero'!CD67","v":38},{"$f":"'Pob x Genero'!AR67+'Pob x Genero'!CE67","v":27},{"$f":"'Pob x Genero'!AS67+'Pob x Genero'!CF67","v":77},{"$f":"'Pob x Genero'!AT67","v":{"v":4336,"d":"4,336"}},{"$f":"SUM('Pob x Genero'!BE67:BI67)","v":493},{"$f":"SUM('Pob x Genero'!BJ67:BN67)","v":504},{"$f":"SUM('Pob x Genero'!BO67:BT67)","v":{"v":1945,"d":"1,945"}},{"$f":"'Pob x Genero'!CG67","v":114},null,null,{"v":8560,"d":"8,560"},{"v":1575,"d":"1,575"},{"v":1248,"d":"1,248"},{"v":1730,"d":"1,730"},{"v":3187,"d":"3,187"},820]
["040410","AREQUIPA","AREQUIPA","CASTILLA","PAMPACOLCA",{"v":1861,"d":"1,861"},{"$f":"'Pob x Genero'!H68+'Pob x Genero'!AU68","v":27},{"$f":"'Pob x Genero'!I68+'Pob x Genero'!AV68","v":17},{"$f":"'Pob x Genero'!J68+'Pob x Genero'!AW68","v":32},{"$f":"'Pob x Genero'!K68+'Pob x Genero'!AX68","v":34},{"$f":"'Pob x Genero'!L68+'Pob x Genero'!AY68","v":20},{"$f":"'Pob x Genero'!M68+'Pob x Genero'!AZ68","v":23},{"$f":"'Pob x Genero'!N68+'Pob x Genero'!BA68","v":23},{"$f":"'Pob x Genero'!O68+'Pob x Genero'!BB68","v":21},{"$f":"'Pob x Genero'!P68+'Pob x Genero'!BC68","v":33},{"$f":"'Pob x Genero'!Q68+'Pob x Genero'!BD68","v":23},{"$f":"'Pob x Genero'!R68+'Pob x Genero'!BE68","v":34},{"$f":"'Pob x Genero'!S68+'Pob x Genero'!BF68","v":32},{"$f":"'Pob x Genero'!T68+'Pob x Genero'!BG68","v":31},{"$f":"'Pob x Genero'!U68+'Pob x Genero'!BH68","v":31},{"$f":"'Pob x Genero'!V68+'Pob x Genero'!BI68","v":27},{"$f":"'Pob x Genero'!W68+'Pob x Genero'!BJ68","v":37},{"$f":"'Pob x Genero'!X68+'Pob x Genero'!BK68","v":35},{"$f":"'Pob x Genero'!Y68+'Pob x Genero'!BL68","v":37},{"$f":"'Pob x Genero'!Z68+'Pob x Genero'!BM68","v":22},{"$f":"'Pob x Genero'!AA68+'Pob x Genero'!BN68","v":34},{"$f":"'Pob x Genero'!AB68+'Pob x Genero'!BO68","v":140},{"$f":"'Pob x Genero'!AC68+'Pob x Genero'!BP68","v":111},{"$f":"'Pob x Genero'!AD68+'Pob x Genero'!BQ68","v":97},{"$f":"'Pob x Genero'!AE68+'Pob x Genero'!BR68","v":84},{"$f":"'Pob x Genero'!AF68+'Pob x Genero'!BS68","v":95},{"$f":"'Pob x Genero'!AG68+'Pob x Genero'!BT68","v":111},{"$f":"'Pob x Genero'!AH68+'Pob x Genero'!BU68","v":107},{"$f":"'Pob x Genero'!AI68+'Pob x Genero'!BV68","v":127},{"$f":"'Pob x Genero'!AJ68+'Pob x Genero'!BW68","v":84},{"$f":"'Pob x Genero'!AK68+'Pob x Genero'!BX68","v":73},{"$f":"'Pob x Genero'!AL68+'Pob x Genero'!BY68","v":53},{"$f":"'Pob x Genero'!AM68+'Pob x Genero'!BZ68","v":75},{"$f":"'Pob x Genero'!AN68+'Pob x Genero'!CA68","v":64},{"$f":"'Pob x Genero'!AO68+'Pob x Genero'!CB68","v":67},{"$f":"'Pob x Genero'!AP68+'Pob x Genero'!CC68","v":2},{"$f":"'Pob x Genero'!AQ68+'Pob x Genero'!CD68","v":7},{"$f":"'Pob x Genero'!AR68+'Pob x Genero'!CE68","v":20},{"$f":"'Pob x Genero'!AS68+'Pob x Genero'!CF68","v":54},{"$f":"'Pob x Genero'!AT68","v":940},{"$f":"SUM('Pob x Genero'!BE68:BI68)","v":75},{"$f":"SUM('Pob x Genero'!BJ68:BN68)","v":89},{"$f":"SUM('Pob x Genero'!BO68:BT68)","v":304},{"$f":"'Pob x Genero'!CG68","v":116},null,null,{"v":1861,"d":"1,861"},319,198,307,621,416]
["040411","AREQUIPA","AREQUIPA","CASTILLA","TIPAN",406,{"$f":"'Pob x Genero'!H69+'Pob x Genero'!AU69","v":4},{"$f":"'Pob x Genero'!I69+'Pob x Genero'!AV69","v":4},{"$f":"'Pob x Genero'!J69+'Pob x Genero'!AW69","v":3},{"$f":"'Pob x Genero'!K69+'Pob x Genero'!AX69","v":2},{"$f":"'Pob x Genero'!L69+'Pob x Genero'!AY69","v":0},{"$f":"'Pob x Genero'!M69+'Pob x Genero'!AZ69","v":3},{"$f":"'Pob x Genero'!N69+'Pob x Genero'!BA69","v":5},{"$f":"'Pob x Genero'!O69+'Pob x Genero'!BB69","v":6},{"$f":"'Pob x Genero'!P69+'Pob x Genero'!BC69","v":3},{"$f":"'Pob x Genero'!Q69+'Pob x Genero'!BD69","v":3},{"$f":"'Pob x Genero'!R69+'Pob x Genero'!BE69","v":1},{"$f":"'Pob x Genero'!S69+'Pob x Genero'!BF69","v":5},{"$f":"'Pob x Genero'!T69+'Pob x Genero'!BG69","v":5},{"$f":"'Pob x Genero'!U69+'Pob x Genero'!BH69","v":8},{"$f":"'Pob x Genero'!V69+'Pob x Genero'!BI69","v":4},{"$f":"'Pob x Genero'!W69+'Pob x Genero'!BJ69","v":6},{"$f":"'Pob x Genero'!X69+'Pob x Genero'!BK69","v":3},{"$f":"'Pob x Genero'!Y69+'Pob x Genero'!BL69","v":8},{"$f":"'Pob x Genero'!Z69+'Pob x Genero'!BM69","v":9},{"$f":"'Pob x Genero'!AA69+'Pob x Genero'!BN69","v":8},{"$f":"'Pob x Genero'!AB69+'Pob x Genero'!BO69","v":22},{"$f":"'Pob x Genero'!AC69+'Pob x Genero'!BP69","v":21},{"$f":"'Pob x Genero'!AD69+'Pob x Genero'!BQ69","v":22},{"$f":"'Pob x Genero'!AE69+'Pob x Genero'!BR69","v":18},{"$f":"'Pob x Genero'!AF69+'Pob x Genero'!BS69","v":25},{"$f":"'Pob x Genero'!AG69+'Pob x Genero'!BT69","v":22},{"$f":"'Pob x Genero'!AH69+'Pob x Genero'!BU69","v":22},{"$f":"'Pob x Genero'!AI69+'Pob x Genero'!BV69","v":32},{"$f":"'Pob x Genero'!AJ69+'Pob x Genero'!BW69","v":29},{"$f":"'Pob x Genero'!AK69+'Pob x Genero'!BX69","v":24},{"$f":"'Pob x Genero'!AL69+'Pob x Genero'!BY69","v":21},{"$f":"'Pob x Genero'!AM69+'Pob x Genero'!BZ69","v":27},{"$f":"'Pob x Genero'!AN69+'Pob x Genero'!CA69","v":8},{"$f":"'Pob x Genero'!AO69+'Pob x Genero'!CB69","v":23},{"$f":"'Pob x Genero'!AP69+'Pob x Genero'!CC69","v":0},{"$f":"'Pob x Genero'!AQ69+'Pob x Genero'!CD69","v":4},{"$f":"'Pob x Genero'!AR69+'Pob x Genero'!CE69","v":0},{"$f":"'Pob x Genero'!AS69+'Pob x Genero'!CF69","v":9},{"$f":"'Pob x Genero'!AT69","v":205},{"$f":"SUM('Pob x Genero'!BE69:BI69)","v":13},{"$f":"SUM('Pob x Genero'!BJ69:BN69)","v":20},{"$f":"SUM('Pob x Genero'!BO69:BT69)","v":57},{"$f":"'Pob x Genero'!CG69","v":6},null,null,406,39,34,60,141,132]
["040412","AREQUIPA","AREQUIPA","CASTILLA","UÑON",233,{"$f":"'Pob x Genero'!H70+'Pob x Genero'!AU70","v":3},{"$f":"'Pob x Genero'!I70+'Pob x Genero'!AV70","v":2},{"$f":"'Pob x Genero'!J70+'Pob x Genero'!AW70","v":2},{"$f":"'Pob x Genero'!K70+'Pob x Genero'!AX70","v":2},{"$f":"'Pob x Genero'!L70+'Pob x Genero'!AY70","v":0},{"$f":"'Pob x Genero'!M70+'Pob x Genero'!AZ70","v":2},{"$f":"'Pob x Genero'!N70+'Pob x Genero'!BA70","v":4},{"$f":"'Pob x Genero'!O70+'Pob x Genero'!BB70","v":0},{"$f":"'Pob x Genero'!P70+'Pob x Genero'!BC70","v":3},{"$f":"'Pob x Genero'!Q70+'Pob x Genero'!BD70","v":4},{"$f":"'Pob x Genero'!R70+'Pob x Genero'!BE70","v":2},{"$f":"'Pob x Genero'!S70+'Pob x Genero'!BF70","v":1},{"$f":"'Pob x Genero'!T70+'Pob x Genero'!BG70","v":0},{"$f":"'Pob x Genero'!U70+'Pob x Genero'!BH70","v":1},{"$f":"'Pob x Genero'!V70+'Pob x Genero'!BI70","v":5},{"$f":"'Pob x Genero'!W70+'Pob x Genero'!BJ70","v":2},{"$f":"'Pob x Genero'!X70+'Pob x Genero'!BK70","v":2},{"$f":"'Pob x Genero'!Y70+'Pob x Genero'!BL70","v":2},{"$f":"'Pob x Genero'!Z70+'Pob x Genero'!BM70","v":0},{"$f":"'Pob x Genero'!AA70+'Pob x Genero'!BN70","v":3},{"$f":"'Pob x Genero'!AB70+'Pob x Genero'!BO70","v":8},{"$f":"'Pob x Genero'!AC70+'Pob x Genero'!BP70","v":20},{"$f":"'Pob x Genero'!AD70+'Pob x Genero'!BQ70","v":15},{"$f":"'Pob x Genero'!AE70+'Pob x Genero'!BR70","v":15},{"$f":"'Pob x Genero'!AF70+'Pob x Genero'!BS70","v":17},{"$f":"'Pob x Genero'!AG70+'Pob x Genero'!BT70","v":20},{"$f":"'Pob x Genero'!AH70+'Pob x Genero'!BU70","v":18},{"$f":"'Pob x Genero'!AI70+'Pob x Genero'!BV70","v":13},{"$f":"'Pob x Genero'!AJ70+'Pob x Genero'!BW70","v":20},{"$f":"'Pob x Genero'!AK70+'Pob x Genero'!BX70","v":14},{"$f":"'Pob x Genero'!AL70+'Pob x Genero'!BY70","v":11},{"$f":"'Pob x Genero'!AM70+'Pob x Genero'!BZ70","v":8},{"$f":"'Pob x Genero'!AN70+'Pob x Genero'!CA70","v":7},{"$f":"'Pob x Genero'!AO70+'Pob x Genero'!CB70","v":7},{"$f":"'Pob x Genero'!AP70+'Pob x Genero'!CC70","v":0},{"$f":"'Pob x Genero'!AQ70+'Pob x Genero'!CD70","v":0},{"$f":"'Pob x Genero'!AR70+'Pob x Genero'!CE70","v":3},{"$f":"'Pob x Genero'!AS70+'Pob x Genero'!CF70","v":6},{"$f":"'Pob x Genero'!AT70","v":119},{"$f":"SUM('Pob x Genero'!BE70:BI70)","v":5},{"$f":"SUM('Pob x Genero'!BJ70:BN70)","v":6},{"$f":"SUM('Pob x Genero'!BO70:BT70)","v":46},{"$f":"'Pob x Genero'!CG70","v":14},null,null,233,25,12,31,98,67]
["040413","AREQUIPA","AREQUIPA","CASTILLA","URACA",{"v":6288,"d":"6,288"},{"$f":"'Pob x Genero'!H71+'Pob x Genero'!AU71","v":68},{"$f":"'Pob x Genero'!I71+'Pob x Genero'!AV71","v":75},{"$f":"'Pob x Genero'!J71+'Pob x Genero'!AW71","v":70},{"$f":"'Pob x Genero'!K71+'Pob x Genero'!AX71","v":65},{"$f":"'Pob x Genero'!L71+'Pob x Genero'!AY71","v":80},{"$f":"'Pob x Genero'!M71+'Pob x Genero'!AZ71","v":91},{"$f":"'Pob x Genero'!N71+'Pob x Genero'!BA71","v":84},{"$f":"'Pob x Genero'!O71+'Pob x Genero'!BB71","v":90},{"$f":"'Pob x Genero'!P71+'Pob x Genero'!BC71","v":86},{"$f":"'Pob x Genero'!Q71+'Pob x Genero'!BD71","v":86},{"$f":"'Pob x Genero'!R71+'Pob x Genero'!BE71","v":84},{"$f":"'Pob x Genero'!S71+'Pob x Genero'!BF71","v":83},{"$f":"'Pob x Genero'!T71+'Pob x Genero'!BG71","v":94},{"$f":"'Pob x Genero'!U71+'Pob x Genero'!BH71","v":98},{"$f":"'Pob x Genero'!V71+'Pob x Genero'!BI71","v":81},{"$f":"'Pob x Genero'!W71+'Pob x Genero'!BJ71","v":112},{"$f":"'Pob x Genero'!X71+'Pob x Genero'!BK71","v":120},{"$f":"'Pob x Genero'!Y71+'Pob x Genero'!BL71","v":96},{"$f":"'Pob x Genero'!Z71+'Pob x Genero'!BM71","v":87},{"$f":"'Pob x Genero'!AA71+'Pob x Genero'!BN71","v":105},{"$f":"'Pob x Genero'!AB71+'Pob x Genero'!BO71","v":450},{"$f":"'Pob x Genero'!AC71+'Pob x Genero'!BP71","v":540},{"$f":"'Pob x Genero'!AD71+'Pob x Genero'!BQ71","v":449},{"$f":"'Pob x Genero'!AE71+'Pob x Genero'!BR71","v":477},{"$f":"'Pob x Genero'!AF71+'Pob x Genero'!BS71","v":459},{"$f":"'Pob x Genero'!AG71+'Pob x Genero'!BT71","v":411},{"$f":"'Pob x Genero'!AH71+'Pob x Genero'!BU71","v":393},{"$f":"'Pob x Genero'!AI71+'Pob x Genero'!BV71","v":360},{"$f":"'Pob x Genero'!AJ71+'Pob x Genero'!BW71","v":297},{"$f":"'Pob x Genero'!AK71+'Pob x Genero'!BX71","v":230},{"$f":"'Pob x Genero'!AL71+'Pob x Genero'!BY71","v":176},{"$f":"'Pob x Genero'!AM71+'Pob x Genero'!BZ71","v":117},{"$f":"'Pob x Genero'!AN71+'Pob x Genero'!CA71","v":84},{"$f":"'Pob x Genero'!AO71+'Pob x Genero'!CB71","v":90},{"$f":"'Pob x Genero'!AP71+'Pob x Genero'!CC71","v":3},{"$f":"'Pob x Genero'!AQ71+'Pob x Genero'!CD71","v":28},{"$f":"'Pob x Genero'!AR71+'Pob x Genero'!CE71","v":40},{"$f":"'Pob x Genero'!AS71+'Pob x Genero'!CF71","v":119},{"$f":"'Pob x Genero'!AT71","v":{"v":3184,"d":"3,184"}},{"$f":"SUM('Pob x Genero'!BE71:BI71)","v":235},{"$f":"SUM('Pob x Genero'!BJ71:BN71)","v":281},{"$f":"SUM('Pob x Genero'!BO71:BT71)","v":{"v":1401,"d":"1,401"}},{"$f":"'Pob x Genero'!CG71","v":167},null,null,{"v":6288,"d":"6,288"},962,601,{"v":1182,"d":"1,182"},{"v":2549,"d":"2,549"},994]
["040414","AREQUIPA","AREQUIPA","CASTILLA","VIRACO",{"v":1416,"d":"1,416"},{"$f":"'Pob x Genero'!H72+'Pob x Genero'!AU72","v":16},{"$f":"'Pob x Genero'!I72+'Pob x Genero'!AV72","v":12},{"$f":"'Pob x Genero'!J72+'Pob x Genero'!AW72","v":15},{"$f":"'Pob x Genero'!K72+'Pob x Genero'!AX72","v":13},{"$f":"'Pob x Genero'!L72+'Pob x Genero'!AY72","v":13},{"$f":"'Pob x Genero'!M72+'Pob x Genero'!AZ72","v":11},{"$f":"'Pob x Genero'!N72+'Pob x Genero'!BA72","v":20},{"$f":"'Pob x Genero'!O72+'Pob x Genero'!BB72","v":18},{"$f":"'Pob x Genero'!P72+'Pob x Genero'!BC72","v":15},{"$f":"'Pob x Genero'!Q72+'Pob x Genero'!BD72","v":15},{"$f":"'Pob x Genero'!R72+'Pob x Genero'!BE72","v":11},{"$f":"'Pob x Genero'!S72+'Pob x Genero'!BF72","v":19},{"$f":"'Pob x Genero'!T72+'Pob x Genero'!BG72","v":25},{"$f":"'Pob x Genero'!U72+'Pob x Genero'!BH72","v":20},{"$f":"'Pob x Genero'!V72+'Pob x Genero'!BI72","v":19},{"$f":"'Pob x Genero'!W72+'Pob x Genero'!BJ72","v":17},{"$f":"'Pob x Genero'!X72+'Pob x Genero'!BK72","v":21},{"$f":"'Pob x Genero'!Y72+'Pob x Genero'!BL72","v":29},{"$f":"'Pob x Genero'!Z72+'Pob x Genero'!BM72","v":18},{"$f":"'Pob x Genero'!AA72+'Pob x Genero'!BN72","v":18},{"$f":"'Pob x Genero'!AB72+'Pob x Genero'!BO72","v":84},{"$f":"'Pob x Genero'!AC72+'Pob x Genero'!BP72","v":90},{"$f":"'Pob x Genero'!AD72+'Pob x Genero'!BQ72","v":71},{"$f":"'Pob x Genero'!AE72+'Pob x Genero'!BR72","v":64},{"$f":"'Pob x Genero'!AF72+'Pob x Genero'!BS72","v":90},{"$f":"'Pob x Genero'!AG72+'Pob x Genero'!BT72","v":91},{"$f":"'Pob x Genero'!AH72+'Pob x Genero'!BU72","v":89},{"$f":"'Pob x Genero'!AI72+'Pob x Genero'!BV72","v":81},{"$f":"'Pob x Genero'!AJ72+'Pob x Genero'!BW72","v":92},{"$f":"'Pob x Genero'!AK72+'Pob x Genero'!BX72","v":89},{"$f":"'Pob x Genero'!AL72+'Pob x Genero'!BY72","v":64},{"$f":"'Pob x Genero'!AM72+'Pob x Genero'!BZ72","v":61},{"$f":"'Pob x Genero'!AN72+'Pob x Genero'!CA72","v":50},{"$f":"'Pob x Genero'!AO72+'Pob x Genero'!CB72","v":55},{"$f":"'Pob x Genero'!AP72+'Pob x Genero'!CC72","v":1},{"$f":"'Pob x Genero'!AQ72+'Pob x Genero'!CD72","v":10},{"$f":"'Pob x Genero'!AR72+'Pob x Genero'!CE72","v":6},{"$f":"'Pob x Genero'!AS72+'Pob x Genero'!CF72","v":34},{"$f":"'Pob x Genero'!AT72","v":721},{"$f":"SUM('Pob x Genero'!BE72:BI72)","v":58},{"$f":"SUM('Pob x Genero'!BJ72:BN72)","v":61},{"$f":"SUM('Pob x Genero'!BO72:BT72)","v":239},{"$f":"'Pob x Genero'!CG72","v":42},null,null,{"v":1416,"d":"1,416"},178,131,210,486,411]
["040501","AREQUIPA","AREQUIPA","CAYLLOMA","CHIVAY",{"$f":"SUM(G73:AN73)","v":{"v":6917,"d":"6,917"}},{"$f":"'Pob x Genero'!H73+'Pob x Genero'!AU73","v":68},{"$f":"'Pob x Genero'!I73+'Pob x Genero'!AV73","v":95},{"$f":"'Pob x Genero'!J73+'Pob x Genero'!AW73","v":50},{"$f":"'Pob x Genero'!K73+'Pob x Genero'!AX73","v":85},{"$f":"'Pob x Genero'!L73+'Pob x Genero'!AY73","v":80},{"$f":"'Pob x Genero'!M73+'Pob x Genero'!AZ73","v":105},{"$f":"'Pob x Genero'!N73+'Pob x Genero'!BA73","v":123},{"$f":"'Pob x Genero'!O73+'Pob x Genero'!BB73","v":129},{"$f":"'Pob x Genero'!P73+'Pob x Genero'!BC73","v":131},{"$f":"'Pob x Genero'!Q73+'Pob x Genero'!BD73","v":130},{"$f":"'Pob x Genero'!R73+'Pob x Genero'!BE73","v":126},{"$f":"'Pob x Genero'!S73+'Pob x Genero'!BF73","v":135},{"$f":"'Pob x Genero'!T73+'Pob x Genero'!BG73","v":152},{"$f":"'Pob x Genero'!U73+'Pob x Genero'!BH73","v":131},{"$f":"'Pob x Genero'!V73+'Pob x Genero'!BI73","v":126},{"$f":"'Pob x Genero'!W73+'Pob x Genero'!BJ73","v":144},{"$f":"'Pob x Genero'!X73+'Pob x Genero'!BK73","v":148},{"$f":"'Pob x Genero'!Y73+'Pob x Genero'!BL73","v":138},{"$f":"'Pob x Genero'!Z73+'Pob x Genero'!BM73","v":140},{"$f":"'Pob x Genero'!AA73+'Pob x Genero'!BN73","v":121},{"$f":"'Pob x Genero'!AB73+'Pob x Genero'!BO73","v":672},{"$f":"'Pob x Genero'!AC73+'Pob x Genero'!BP73","v":639},{"$f":"'Pob x Genero'!AD73+'Pob x Genero'!BQ73","v":580},{"$f":"'Pob x Genero'!AE73+'Pob x Genero'!BR73","v":495},{"$f":"'Pob x Genero'!AF73+'Pob x Genero'!BS73","v":412},{"$f":"'Pob x Genero'!AG73+'Pob x Genero'!BT73","v":368},{"$f":"'Pob x Genero'!AH73+'Pob x Genero'!BU73","v":288},{"$f":"'Pob x Genero'!AI73+'Pob x Genero'!BV73","v":322},{"$f":"'Pob x Genero'!AJ73+'Pob x Genero'!BW73","v":227},{"$f":"'Pob x Genero'!AK73+'Pob x Genero'!BX73","v":158},{"$f":"'Pob x Genero'!AL73+'Pob x Genero'!BY73","v":134},{"$f":"'Pob x Genero'!AM73+'Pob x Genero'!BZ73","v":125},{"$f":"'Pob x Genero'!AN73+'Pob x Genero'!CA73","v":62},{"$f":"'Pob x Genero'!AO73+'Pob x Genero'!CB73","v":78},{"$f":"'Pob x Genero'!AP73+'Pob x Genero'!CC73","v":1},{"$f":"'Pob x Genero'!AQ73+'Pob x Genero'!CD73","v":28},{"$f":"'Pob x Genero'!AR73+'Pob x Genero'!CE73","v":40},{"$f":"'Pob x Genero'!AS73+'Pob x Genero'!CF73","v":95},{"$f":"'Pob x Genero'!AT73","v":{"v":3495,"d":"3,495"}},{"$f":"SUM('Pob x Genero'!BE73:BI73)","v":324},{"$f":"SUM('Pob x Genero'!BJ73:BN73)","v":338},{"$f":"SUM('Pob x Genero'!BO73:BT73)","v":{"v":1587,"d":"1,587"}},{"$f":"'Pob x Genero'!CG73","v":123},null,null,{"$f":"F73","v":{"v":6917,"d":"6,917"}},{"$f":"SUM(G73:R73)","v":{"v":1257,"d":"1,257"}},{"$f":"SUM(S73:X73)","v":839},{"$f":"SUM(Y73:AB73)","v":{"v":1572,"d":"1,572"}},{"$f":"SUM(AC73:AH73)","v":{"v":2465,"d":"2,465"}},{"$f":"SUM(AI73:AN73)","v":784}]
["040502","AREQUIPA","AREQUIPA","CAYLLOMA","ACHOMA",997,{"$f":"'Pob x Genero'!H74+'Pob x Genero'!AU74","v":13},{"$f":"'Pob x Genero'!I74+'Pob x Genero'!AV74","v":13},{"$f":"'Pob x Genero'!J74+'Pob x Genero'!AW74","v":12},{"$f":"'Pob x Genero'!K74+'Pob x Genero'!AX74","v":7},{"$f":"'Pob x Genero'!L74+'Pob x Genero'!AY74","v":6},{"$f":"'Pob x Genero'!M74+'Pob x Genero'!AZ74","v":11},{"$f":"'Pob x Genero'!N74+'Pob x Genero'!BA74","v":10},{"$f":"'Pob x Genero'!O74+'Pob x Genero'!BB74","v":10},{"$f":"'Pob x Genero'!P74+'Pob x Genero'!BC74","v":8},{"$f":"'Pob x Genero'!Q74+'Pob x Genero'!BD74","v":5},{"$f":"'Pob x Genero'!R74+'Pob x Genero'!BE74","v":6},{"$f":"'Pob x Genero'!S74+'Pob x Genero'!BF74","v":11},{"$f":"'Pob x Genero'!T74+'Pob x Genero'!BG74","v":13},{"$f":"'Pob x Genero'!U74+'Pob x Genero'!BH74","v":6},{"$f":"'Pob x Genero'!V74+'Pob x Genero'!BI74","v":10},{"$f":"'Pob x Genero'!W74+'Pob x Genero'!BJ74","v":12},{"$f":"'Pob x Genero'!X74+'Pob x Genero'!BK74","v":9},{"$f":"'Pob x Genero'!Y74+'Pob x Genero'!BL74","v":12},{"$f":"'Pob x Genero'!Z74+'Pob x Genero'!BM74","v":7},{"$f":"'Pob x Genero'!AA74+'Pob x Genero'!BN74","v":17},{"$f":"'Pob x Genero'!AB74+'Pob x Genero'!BO74","v":73},{"$f":"'Pob x Genero'!AC74+'Pob x Genero'!BP74","v":91},{"$f":"'Pob x Genero'!AD74+'Pob x Genero'!BQ74","v":69},{"$f":"'Pob x Genero'!AE74+'Pob x Genero'!BR74","v":53},{"$f":"'Pob x Genero'!AF74+'Pob x Genero'!BS74","v":70},{"$f":"'Pob x Genero'!AG74+'Pob x Genero'!BT74","v":80},{"$f":"'Pob x Genero'!AH74+'Pob x Genero'!BU74","v":71},{"$f":"'Pob x Genero'!AI74+'Pob x Genero'!BV74","v":73},{"$f":"'Pob x Genero'!AJ74+'Pob x Genero'!BW74","v":60},{"$f":"'Pob x Genero'!AK74+'Pob x Genero'!BX74","v":43},{"$f":"'Pob x Genero'!AL74+'Pob x Genero'!BY74","v":36},{"$f":"'Pob x Genero'!AM74+'Pob x Genero'!BZ74","v":28},{"$f":"'Pob x Genero'!AN74+'Pob x Genero'!CA74","v":26},{"$f":"'Pob x Genero'!AO74+'Pob x Genero'!CB74","v":26},{"$f":"'Pob x Genero'!AP74+'Pob x Genero'!CC74","v":0},{"$f":"'Pob x Genero'!AQ74+'Pob x Genero'!CD74","v":2},{"$f":"'Pob x Genero'!AR74+'Pob x Genero'!CE74","v":11},{"$f":"'Pob x Genero'!AS74+'Pob x Genero'!CF74","v":18},{"$f":"'Pob x Genero'!AT74","v":508},{"$f":"SUM('Pob x Genero'!BE74:BI74)","v":23},{"$f":"SUM('Pob x Genero'!BJ74:BN74)","v":31},{"$f":"SUM('Pob x Genero'!BO74:BT74)","v":209},{"$f":"'Pob x Genero'!CG74","v":22},null,null,997,112,62,188,416,219]
["040503","AREQUIPA","AREQUIPA","CAYLLOMA","CABANACONDE",{"v":2455,"d":"2,455"},{"$f":"'Pob x Genero'!H75+'Pob x Genero'!AU75","v":19},{"$f":"'Pob x Genero'!I75+'Pob x Genero'!AV75","v":20},{"$f":"'Pob x Genero'!J75+'Pob x Genero'!AW75","v":20},{"$f":"'Pob x Genero'!K75+'Pob x Genero'!AX75","v":28},{"$f":"'Pob x Genero'!L75+'Pob x Genero'!AY75","v":15},{"$f":"'Pob x Genero'!M75+'Pob x Genero'!AZ75","v":21},{"$f":"'Pob x Genero'!N75+'Pob x Genero'!BA75","v":37},{"$f":"'Pob x Genero'!O75+'Pob x Genero'!BB75","v":29},{"$f":"'Pob x Genero'!P75+'Pob x Genero'!BC75","v":23},{"$f":"'Pob x Genero'!Q75+'Pob x Genero'!BD75","v":20},{"$f":"'Pob x Genero'!R75+'Pob x Genero'!BE75","v":25},{"$f":"'Pob x Genero'!S75+'Pob x Genero'!BF75","v":28},{"$f":"'Pob x Genero'!T75+'Pob x Genero'!BG75","v":28},{"$f":"'Pob x Genero'!U75+'Pob x Genero'!BH75","v":39},{"$f":"'Pob x Genero'!V75+'Pob x Genero'!BI75","v":32},{"$f":"'Pob x Genero'!W75+'Pob x Genero'!BJ75","v":27},{"$f":"'Pob x Genero'!X75+'Pob x Genero'!BK75","v":48},{"$f":"'Pob x Genero'!Y75+'Pob x Genero'!BL75","v":35},{"$f":"'Pob x Genero'!Z75+'Pob x Genero'!BM75","v":31},{"$f":"'Pob x Genero'!AA75+'Pob x Genero'!BN75","v":30},{"$f":"'Pob x Genero'!AB75+'Pob x Genero'!BO75","v":167},{"$f":"'Pob x Genero'!AC75+'Pob x Genero'!BP75","v":194},{"$f":"'Pob x Genero'!AD75+'Pob x Genero'!BQ75","v":166},{"$f":"'Pob x Genero'!AE75+'Pob x Genero'!BR75","v":145},{"$f":"'Pob x Genero'!AF75+'Pob x Genero'!BS75","v":166},{"$f":"'Pob x Genero'!AG75+'Pob x Genero'!BT75","v":164},{"$f":"'Pob x Genero'!AH75+'Pob x Genero'!BU75","v":170},{"$f":"'Pob x Genero'!AI75+'Pob x Genero'!BV75","v":199},{"$f":"'Pob x Genero'!AJ75+'Pob x Genero'!BW75","v":121},{"$f":"'Pob x Genero'!AK75+'Pob x Genero'!BX75","v":117},{"$f":"'Pob x Genero'!AL75+'Pob x Genero'!BY75","v":82},{"$f":"'Pob x Genero'!AM75+'Pob x Genero'!BZ75","v":65},{"$f":"'Pob x Genero'!AN75+'Pob x Genero'!CA75","v":68},{"$f":"'Pob x Genero'!AO75+'Pob x Genero'!CB75","v":76},{"$f":"'Pob x Genero'!AP75+'Pob x Genero'!CC75","v":0},{"$f":"'Pob x Genero'!AQ75+'Pob x Genero'!CD75","v":9},{"$f":"'Pob x Genero'!AR75+'Pob x Genero'!CE75","v":10},{"$f":"'Pob x Genero'!AS75+'Pob x Genero'!CF75","v":30},{"$f":"'Pob x Genero'!AT75","v":{"v":1241,"d":"1,241"}},{"$f":"SUM('Pob x Genero'!BE75:BI75)","v":72},{"$f":"SUM('Pob x Genero'!BJ75:BN75)","v":89},{"$f":"SUM('Pob x Genero'!BO75:BT75)","v":489},{"$f":"'Pob x Genero'!CG75","v":57},null,null,{"v":2455,"d":"2,455"},285,209,422,{"v":1010,"d":"1,010"},529]
["040504","AREQUIPA","AREQUIPA","CAYLLOMA","CALLALLI",{"v":1726,"d":"1,726"},{"$f":"'Pob x Genero'!H76+'Pob x Genero'!AU76","v":26},{"$f":"'Pob x Genero'!I76+'Pob x Genero'!AV76","v":20},{"$f":"'Pob x Genero'!J76+'Pob x Genero'!AW76","v":19},{"$f":"'Pob x Genero'!K76+'Pob x Genero'!AX76","v":31},{"$f":"'Pob x Genero'!L76+'Pob x Genero'!AY76","v":10},{"$f":"'Pob x Genero'!M76+'Pob x Genero'!AZ76","v":17},{"$f":"'Pob x Genero'!N76+'Pob x Genero'!BA76","v":21},{"$f":"'Pob x Genero'!O76+'Pob x Genero'!BB76","v":14},{"$f":"'Pob x Genero'!P76+'Pob x Genero'!BC76","v":17},{"$f":"'Pob x Genero'!Q76+'Pob x Genero'!BD76","v":22},{"$f":"'Pob x Genero'!R76+'Pob x Genero'!BE76","v":17},{"$f":"'Pob x Genero'!S76+'Pob x Genero'!BF76","v":26},{"$f":"'Pob x Genero'!T76+'Pob x Genero'!BG76","v":17},{"$f":"'Pob x Genero'!U76+'Pob x Genero'!BH76","v":27},{"$f":"'Pob x Genero'!V76+'Pob x Genero'!BI76","v":14},{"$f":"'Pob x Genero'!W76+'Pob x Genero'!BJ76","v":17},{"$f":"'Pob x Genero'!X76+'Pob x Genero'!BK76","v":22},{"$f":"'Pob x Genero'!Y76+'Pob x Genero'!BL76","v":15},{"$f":"'Pob x Genero'!Z76+'Pob x Genero'!BM76","v":19},{"$f":"'Pob x Genero'!AA76+'Pob x Genero'!BN76","v":17},{"$f":"'Pob x Genero'!AB76+'Pob x Genero'!BO76","v":120},{"$f":"'Pob x Genero'!AC76+'Pob x Genero'!BP76","v":148},{"$f":"'Pob x Genero'!AD76+'Pob x Genero'!BQ76","v":130},{"$f":"'Pob x Genero'!AE76+'Pob x Genero'!BR76","v":116},{"$f":"'Pob x Genero'!AF76+'Pob x Genero'!BS76","v":99},{"$f":"'Pob x Genero'!AG76+'Pob x Genero'!BT76","v":131},{"$f":"'Pob x Genero'!AH76+'Pob x Genero'!BU76","v":129},{"$f":"'Pob x Genero'!AI76+'Pob x Genero'!BV76","v":120},{"$f":"'Pob x Genero'!AJ76+'Pob x Genero'!BW76","v":99},{"$f":"'Pob x Genero'!AK76+'Pob x Genero'!BX76","v":82},{"$f":"'Pob x Genero'!AL76+'Pob x Genero'!BY76","v":66},{"$f":"'Pob x Genero'!AM76+'Pob x Genero'!BZ76","v":42},{"$f":"'Pob x Genero'!AN76+'Pob x Genero'!CA76","v":25},{"$f":"'Pob x Genero'!AO76+'Pob x Genero'!CB76","v":31},{"$f":"'Pob x Genero'!AP76+'Pob x Genero'!CC76","v":1},{"$f":"'Pob x Genero'!AQ76+'Pob x Genero'!CD76","v":10},{"$f":"'Pob x Genero'!AR76+'Pob x Genero'!CE76","v":16},{"$f":"'Pob x Genero'!AS76+'Pob x Genero'!CF76","v":39},{"$f":"'Pob x Genero'!AT76","v":875},{"$f":"SUM('Pob x Genero'!BE76:BI76)","v":52},{"$f":"SUM('Pob x Genero'!BJ76:BN76)","v":54},{"$f":"SUM('Pob x Genero'!BO76:BT76)","v":358},{"$f":"'Pob x Genero'!CG76","v":51},null,null,{"v":1726,"d":"1,726"},240,112,304,725,345]
["040505","AREQUIPA","AREQUIPA","CAYLLOMA","CAYLLOMA",{"v":4501,"d":"4,501"},{"$f":"'Pob x Genero'!H77+'Pob x Genero'!AU77","v":48},{"$f":"'Pob x Genero'!I77+'Pob x Genero'!AV77","v":59},{"$f":"'Pob x Genero'!J77+'Pob x Genero'!AW77","v":63},{"$f":"'Pob x Genero'!K77+'Pob x Genero'!AX77","v":60},{"$f":"'Pob x Genero'!L77+'Pob x Genero'!AY77","v":54},{"$f":"'Pob x Genero'!M77+'Pob x Genero'!AZ77","v":46},{"$f":"'Pob x Genero'!N77+'Pob x Genero'!BA77","v":55},{"$f":"'Pob x Genero'!O77+'Pob x Genero'!BB77","v":72},{"$f":"'Pob x Genero'!P77+'Pob x Genero'!BC77","v":84},{"$f":"'Pob x Genero'!Q77+'Pob x Genero'!BD77","v":83},{"$f":"'Pob x Genero'!R77+'Pob x Genero'!BE77","v":89},{"$f":"'Pob x Genero'!S77+'Pob x Genero'!BF77","v":92},{"$f":"'Pob x Genero'!T77+'Pob x Genero'!BG77","v":100},{"$f":"'Pob x Genero'!U77+'Pob x Genero'!BH77","v":74},{"$f":"'Pob x Genero'!V77+'Pob x Genero'!BI77","v":90},{"$f":"'Pob x Genero'!W77+'Pob x Genero'!BJ77","v":91},{"$f":"'Pob x Genero'!X77+'Pob x Genero'!BK77","v":82},{"$f":"'Pob x Genero'!Y77+'Pob x Genero'!BL77","v":93},{"$f":"'Pob x Genero'!Z77+'Pob x Genero'!BM77","v":92},{"$f":"'Pob x Genero'!AA77+'Pob x Genero'!BN77","v":70},{"$f":"'Pob x Genero'!AB77+'Pob x Genero'!BO77","v":414},{"$f":"'Pob x Genero'!AC77+'Pob x Genero'!BP77","v":416},{"$f":"'Pob x Genero'!AD77+'Pob x Genero'!BQ77","v":334},{"$f":"'Pob x Genero'!AE77+'Pob x Genero'!BR77","v":337},{"$f":"'Pob x Genero'!AF77+'Pob x Genero'!BS77","v":290},{"$f":"'Pob x Genero'!AG77+'Pob x Genero'!BT77","v":257},{"$f":"'Pob x Genero'!AH77+'Pob x Genero'!BU77","v":224},{"$f":"'Pob x Genero'!AI77+'Pob x Genero'!BV77","v":210},{"$f":"'Pob x Genero'!AJ77+'Pob x Genero'!BW77","v":173},{"$f":"'Pob x Genero'!AK77+'Pob x Genero'!BX77","v":130},{"$f":"'Pob x Genero'!AL77+'Pob x Genero'!BY77","v":87},{"$f":"'Pob x Genero'!AM77+'Pob x Genero'!BZ77","v":63},{"$f":"'Pob x Genero'!AN77+'Pob x Genero'!CA77","v":38},{"$f":"'Pob x Genero'!AO77+'Pob x Genero'!CB77","v":31},{"$f":"'Pob x Genero'!AP77+'Pob x Genero'!CC77","v":4},{"$f":"'Pob x Genero'!AQ77+'Pob x Genero'!CD77","v":26},{"$f":"'Pob x Genero'!AR77+'Pob x Genero'!CE77","v":22},{"$f":"'Pob x Genero'!AS77+'Pob x Genero'!CF77","v":95},{"$f":"'Pob x Genero'!AT77","v":{"v":2281,"d":"2,281"}},{"$f":"SUM('Pob x Genero'!BE77:BI77)","v":239},{"$f":"SUM('Pob x Genero'!BJ77:BN77)","v":218},{"$f":"SUM('Pob x Genero'!BO77:BT77)","v":{"v":1018,"d":"1,018"}},{"$f":"'Pob x Genero'!CG77","v":228},null,null,{"v":4501,"d":"4,501"},805,530,992,{"v":1652,"d":"1,652"},522]
["040506","AREQUIPA","AREQUIPA","CAYLLOMA","COPORAQUE",{"v":1307,"d":"1,307"},{"$f":"'Pob x Genero'!H78+'Pob x Genero'!AU78","v":13},{"$f":"'Pob x Genero'!I78+'Pob x Genero'!AV78","v":15},{"$f":"'Pob x Genero'!J78+'Pob x Genero'!AW78","v":11},{"$f":"'Pob x Genero'!K78+'Pob x Genero'!AX78","v":16},{"$f":"'Pob x Genero'!L78+'Pob x Genero'!AY78","v":17},{"$f":"'Pob x Genero'!M78+'Pob x Genero'!AZ78","v":9},{"$f":"'Pob x Genero'!N78+'Pob x Genero'!BA78","v":22},{"$f":"'Pob x Genero'!O78+'Pob x Genero'!BB78","v":20},{"$f":"'Pob x Genero'!P78+'Pob x Genero'!BC78","v":15},{"$f":"'Pob x Genero'!Q78+'Pob x Genero'!BD78","v":16},{"$f":"'Pob x Genero'!R78+'Pob x Genero'!BE78","v":7},{"$f":"'Pob x Genero'!S78+'Pob x Genero'!BF78","v":13},{"$f":"'Pob x Genero'!T78+'Pob x Genero'!BG78","v":15},{"$f":"'Pob x Genero'!U78+'Pob x Genero'!BH78","v":13},{"$f":"'Pob x Genero'!V78+'Pob x Genero'!BI78","v":9},{"$f":"'Pob x Genero'!W78+'Pob x Genero'!BJ78","v":17},{"$f":"'Pob x Genero'!X78+'Pob x Genero'!BK78","v":18},{"$f":"'Pob x Genero'!Y78+'Pob x Genero'!BL78","v":14},{"$f":"'Pob x Genero'!Z78+'Pob x Genero'!BM78","v":15},{"$f":"'Pob x Genero'!AA78+'Pob x Genero'!BN78","v":18},{"$f":"'Pob x Genero'!AB78+'Pob x Genero'!BO78","v":77},{"$f":"'Pob x Genero'!AC78+'Pob x Genero'!BP78","v":106},{"$f":"'Pob x Genero'!AD78+'Pob x Genero'!BQ78","v":90},{"$f":"'Pob x Genero'!AE78+'Pob x Genero'!BR78","v":112},{"$f":"'Pob x Genero'!AF78+'Pob x Genero'!BS78","v":134},{"$f":"'Pob x Genero'!AG78+'Pob x Genero'!BT78","v":87},{"$f":"'Pob x Genero'!AH78+'Pob x Genero'!BU78","v":77},{"$f":"'Pob x Genero'!AI78+'Pob x Genero'!BV78","v":70},{"$f":"'Pob x Genero'!AJ78+'Pob x Genero'!BW78","v":71},{"$f":"'Pob x Genero'!AK78+'Pob x Genero'!BX78","v":55},{"$f":"'Pob x Genero'!AL78+'Pob x Genero'!BY78","v":45},{"$f":"'Pob x Genero'!AM78+'Pob x Genero'!BZ78","v":35},{"$f":"'Pob x Genero'!AN78+'Pob x Genero'!CA78","v":26},{"$f":"'Pob x Genero'!AO78+'Pob x Genero'!CB78","v":29},{"$f":"'Pob x Genero'!AP78+'Pob x Genero'!CC78","v":0},{"$f":"'Pob x Genero'!AQ78+'Pob x Genero'!CD78","v":7},{"$f":"'Pob x Genero'!AR78+'Pob x Genero'!CE78","v":6},{"$f":"'Pob x Genero'!AS78+'Pob x Genero'!CF78","v":19},{"$f":"'Pob x Genero'!AT78","v":663},{"$f":"SUM('Pob x Genero'!BE78:BI78)","v":28},{"$f":"SUM('Pob x Genero'!BJ78:BN78)","v":41},{"$f":"SUM('Pob x Genero'!BO78:BT78)","v":312},{"$f":"'Pob x Genero'!CG78","v":34},null,null,{"v":1307,"d":"1,307"},174,86,216,570,261]
["040507","AREQUIPA","AREQUIPA","CAYLLOMA","HUAMBO",771,{"$f":"'Pob x Genero'!H79+'Pob x Genero'!AU79","v":9},{"$f":"'Pob x Genero'!I79+'Pob x Genero'!AV79","v":6},{"$f":"'Pob x Genero'!J79+'Pob x Genero'!AW79","v":6},{"$f":"'Pob x Genero'!K79+'Pob x Genero'!AX79","v":6},{"$f":"'Pob x Genero'!L79+'Pob x Genero'!AY79","v":7},{"$f":"'Pob x Genero'!M79+'Pob x Genero'!AZ79","v":7},{"$f":"'Pob x Genero'!N79+'Pob x Genero'!BA79","v":8},{"$f":"'Pob x Genero'!O79+'Pob x Genero'!BB79","v":8},{"$f":"'Pob x Genero'!P79+'Pob x Genero'!BC79","v":2},{"$f":"'Pob x Genero'!Q79+'Pob x Genero'!BD79","v":5},{"$f":"'Pob x Genero'!R79+'Pob x Genero'!BE79","v":13},{"$f":"'Pob x Genero'!S79+'Pob x Genero'!BF79","v":9},{"$f":"'Pob x Genero'!T79+'Pob x Genero'!BG79","v":8},{"$f":"'Pob x Genero'!U79+'Pob x Genero'!BH79","v":6},{"$f":"'Pob x Genero'!V79+'Pob x Genero'!BI79","v":11},{"$f":"'Pob x Genero'!W79+'Pob x Genero'!BJ79","v":10},{"$f":"'Pob x Genero'!X79+'Pob x Genero'!BK79","v":17},{"$f":"'Pob x Genero'!Y79+'Pob x Genero'!BL79","v":17},{"$f":"'Pob x Genero'!Z79+'Pob x Genero'!BM79","v":10},{"$f":"'Pob x Genero'!AA79+'Pob x Genero'!BN79","v":5},{"$f":"'Pob x Genero'!AB79+'Pob x Genero'!BO79","v":49},{"$f":"'Pob x Genero'!AC79+'Pob x Genero'!BP79","v":55},{"$f":"'Pob x Genero'!AD79+'Pob x Genero'!BQ79","v":50},{"$f":"'Pob x Genero'!AE79+'Pob x Genero'!BR79","v":41},{"$f":"'Pob x Genero'!AF79+'Pob x Genero'!BS79","v":50},{"$f":"'Pob x Genero'!AG79+'Pob x Genero'!BT79","v":42},{"$f":"'Pob x Genero'!AH79+'Pob x Genero'!BU79","v":53},{"$f":"'Pob x Genero'!AI79+'Pob x Genero'!BV79","v":53},{"$f":"'Pob x Genero'!AJ79+'Pob x Genero'!BW79","v":36},{"$f":"'Pob x Genero'!AK79+'Pob x Genero'!BX79","v":59},{"$f":"'Pob x Genero'!AL79+'Pob x Genero'!BY79","v":31},{"$f":"'Pob x Genero'!AM79+'Pob x Genero'!BZ79","v":28},{"$f":"'Pob x Genero'!AN79+'Pob x Genero'!CA79","v":27},{"$f":"'Pob x Genero'!AO79+'Pob x Genero'!CB79","v":27},{"$f":"'Pob x Genero'!AP79+'Pob x Genero'!CC79","v":0},{"$f":"'Pob x Genero'!AQ79+'Pob x Genero'!CD79","v":2},{"$f":"'Pob x Genero'!AR79+'Pob x Genero'!CE79","v":7},{"$f":"'Pob x Genero'!AS79+'Pob x Genero'!CF79","v":11},{"$f":"'Pob x Genero'!AT79","v":389},{"$f":"SUM('Pob x Genero'!BE79:BI79)","v":27},{"$f":"SUM('Pob x Genero'!BJ79:BN79)","v":34},{"$f":"SUM('Pob x Genero'!BO79:BT79)","v":134},{"$f":"'Pob x Genero'!CG79","v":16},null,null,771,86,69,119,289,208]
["040508","AREQUIPA","AREQUIPA","CAYLLOMA","HUANCA",{"v":1180,"d":"1,180"},{"$f":"'Pob x Genero'!H80+'Pob x Genero'!AU80","v":16},{"$f":"'Pob x Genero'!I80+'Pob x Genero'!AV80","v":11},{"$f":"'Pob x Genero'!J80+'Pob x Genero'!AW80","v":12},{"$f":"'Pob x Genero'!K80+'Pob x Genero'!AX80","v":8},{"$f":"'Pob x Genero'!L80+'Pob x Genero'!AY80","v":3},{"$f":"'Pob x Genero'!M80+'Pob x Genero'!AZ80","v":12},{"$f":"'Pob x Genero'!N80+'Pob x Genero'!BA80","v":6},{"$f":"'Pob x Genero'!O80+'Pob x Genero'!BB80","v":6},{"$f":"'Pob x Genero'!P80+'Pob x Genero'!BC80","v":7},{"$f":"'Pob x Genero'!Q80+'Pob x Genero'!BD80","v":10},{"$f":"'Pob x Genero'!R80+'Pob x Genero'!BE80","v":9},{"$f":"'Pob x Genero'!S80+'Pob x Genero'!BF80","v":8},{"$f":"'Pob x Genero'!T80+'Pob x Genero'!BG80","v":10},{"$f":"'Pob x Genero'!U80+'Pob x Genero'!BH80","v":12},{"$f":"'Pob x Genero'!V80+'Pob x Genero'!BI80","v":9},{"$f":"'Pob x Genero'!W80+'Pob x Genero'!BJ80","v":7},{"$f":"'Pob x Genero'!X80+'Pob x Genero'!BK80","v":14},{"$f":"'Pob x Genero'!Y80+'Pob x Genero'!BL80","v":16},{"$f":"'Pob x Genero'!Z80+'Pob x Genero'!BM80","v":11},{"$f":"'Pob x Genero'!AA80+'Pob x Genero'!BN80","v":15},{"$f":"'Pob x Genero'!AB80+'Pob x Genero'!BO80","v":64},{"$f":"'Pob x Genero'!AC80+'Pob x Genero'!BP80","v":75},{"$f":"'Pob x Genero'!AD80+'Pob x Genero'!BQ80","v":70},{"$f":"'Pob x Genero'!AE80+'Pob x Genero'!BR80","v":80},{"$f":"'Pob x Genero'!AF80+'Pob x Genero'!BS80","v":93},{"$f":"'Pob x Genero'!AG80+'Pob x Genero'!BT80","v":99},{"$f":"'Pob x Genero'!AH80+'Pob x Genero'!BU80","v":93},{"$f":"'Pob x Genero'!AI80+'Pob x Genero'!BV80","v":80},{"$f":"'Pob x Genero'!AJ80+'Pob x Genero'!BW80","v":84},{"$f":"'Pob x Genero'!AK80+'Pob x Genero'!BX80","v":68},{"$f":"'Pob x Genero'!AL80+'Pob x Genero'!BY80","v":56},{"$f":"'Pob x Genero'!AM80+'Pob x Genero'!BZ80","v":42},{"$f":"'Pob x Genero'!AN80+'Pob x Genero'!CA80","v":34},{"$f":"'Pob x Genero'!AO80+'Pob x Genero'!CB80","v":40},{"$f":"'Pob x Genero'!AP80+'Pob x Genero'!CC80","v":1},{"$f":"'Pob x Genero'!AQ80+'Pob x Genero'!CD80","v":11},{"$f":"'Pob x Genero'!AR80+'Pob x Genero'!CE80","v":5},{"$f":"'Pob x Genero'!AS80+'Pob x Genero'!CF80","v":30},{"$f":"'Pob x Genero'!AT80","v":596},{"$f":"SUM('Pob x Genero'!BE80:BI80)","v":24},{"$f":"SUM('Pob x Genero'!BJ80:BN80)","v":35},{"$f":"SUM('Pob x Genero'!BO80:BT80)","v":224},{"$f":"'Pob x Genero'!CG80","v":38},null,null,{"v":1180,"d":"1,180"},108,68,165,515,324]
["040509","AREQUIPA","AREQUIPA","CAYLLOMA","ICHUPAMPA",760,{"$f":"'Pob x Genero'!H81+'Pob x Genero'!AU81","v":11},{"$f":"'Pob x Genero'!I81+'Pob x Genero'!AV81","v":12},{"$f":"'Pob x Genero'!J81+'Pob x Genero'!AW81","v":7},{"$f":"'Pob x Genero'!K81+'Pob x Genero'!AX81","v":14},{"$f":"'Pob x Genero'!L81+'Pob x Genero'!AY81","v":3},{"$f":"'Pob x Genero'!M81+'Pob x Genero'!AZ81","v":7},{"$f":"'Pob x Genero'!N81+'Pob x Genero'!BA81","v":7},{"$f":"'Pob x Genero'!O81+'Pob x Genero'!BB81","v":8},{"$f":"'Pob x Genero'!P81+'Pob x Genero'!BC81","v":10},{"$f":"'Pob x Genero'!Q81+'Pob x Genero'!BD81","v":7},{"$f":"'Pob x Genero'!R81+'Pob x Genero'!BE81","v":9},{"$f":"'Pob x Genero'!S81+'Pob x Genero'!BF81","v":12},{"$f":"'Pob x Genero'!T81+'Pob x Genero'!BG81","v":13},{"$f":"'Pob x Genero'!U81+'Pob x Genero'!BH81","v":7},{"$f":"'Pob x Genero'!V81+'Pob x Genero'!BI81","v":11},{"$f":"'Pob x Genero'!W81+'Pob x Genero'!BJ81","v":7},{"$f":"'Pob x Genero'!X81+'Pob x Genero'!BK81","v":10},{"$f":"'Pob x Genero'!Y81+'Pob x Genero'!BL81","v":12},{"$f":"'Pob x Genero'!Z81+'Pob x Genero'!BM81","v":3},{"$f":"'Pob x Genero'!AA81+'Pob x Genero'!BN81","v":10},{"$f":"'Pob x Genero'!AB81+'Pob x Genero'!BO81","v":45},{"$f":"'Pob x Genero'!AC81+'Pob x Genero'!BP81","v":60},{"$f":"'Pob x Genero'!AD81+'Pob x Genero'!BQ81","v":70},{"$f":"'Pob x Genero'!AE81+'Pob x Genero'!BR81","v":57},{"$f":"'Pob x Genero'!AF81+'Pob x Genero'!BS81","v":50},{"$f":"'Pob x Genero'!AG81+'Pob x Genero'!BT81","v":50},{"$f":"'Pob x Genero'!AH81+'Pob x Genero'!BU81","v":44},{"$f":"'Pob x Genero'!AI81+'Pob x Genero'!BV81","v":45},{"$f":"'Pob x Genero'!AJ81+'Pob x Genero'!BW81","v":38},{"$f":"'Pob x Genero'!AK81+'Pob x Genero'!BX81","v":41},{"$f":"'Pob x Genero'!AL81+'Pob x Genero'!BY81","v":30},{"$f":"'Pob x Genero'!AM81+'Pob x Genero'!BZ81","v":21},{"$f":"'Pob x Genero'!AN81+'Pob x Genero'!CA81","v":15},{"$f":"'Pob x Genero'!AO81+'Pob x Genero'!CB81","v":14},{"$f":"'Pob x Genero'!AP81+'Pob x Genero'!CC81","v":0},{"$f":"'Pob x Genero'!AQ81+'Pob x Genero'!CD81","v":2},{"$f":"'Pob x Genero'!AR81+'Pob x Genero'!CE81","v":9},{"$f":"'Pob x Genero'!AS81+'Pob x Genero'!CF81","v":20},{"$f":"'Pob x Genero'!AT81","v":385},{"$f":"SUM('Pob x Genero'!BE81:BI81)","v":26},{"$f":"SUM('Pob x Genero'!BJ81:BN81)","v":19},{"$f":"SUM('Pob x Genero'!BO81:BT81)","v":172},{"$f":"'Pob x Genero'!CG81","v":29},null,null,760,107,60,118,316,159]
["040510","AREQUIPA","AREQUIPA","CAYLLOMA","LARI",{"v":1062,"d":"1,062"},{"$f":"'Pob x Genero'!H82+'Pob x Genero'!AU82","v":16},{"$f":"'Pob x Genero'!I82+'Pob x Genero'!AV82","v":17},{"$f":"'Pob x Genero'!J82+'Pob x Genero'!AW82","v":12},{"$f":"'Pob x Genero'!K82+'Pob x Genero'!AX82","v":15},{"$f":"'Pob x Genero'!L82+'Pob x Genero'!AY82","v":11},{"$f":"'Pob x Genero'!M82+'Pob x Genero'!AZ82","v":8},{"$f":"'Pob x Genero'!N82+'Pob x Genero'!BA82","v":11},{"$f":"'Pob x Genero'!O82+'Pob x Genero'!BB82","v":13},{"$f":"'Pob x Genero'!P82+'Pob x Genero'!BC82","v":6},{"$f":"'Pob x Genero'!Q82+'Pob x Genero'!BD82","v":14},{"$f":"'Pob x Genero'!R82+'Pob x Genero'!BE82","v":17},{"$f":"'Pob x Genero'!S82+'Pob x Genero'!BF82","v":16},{"$f":"'Pob x Genero'!T82+'Pob x Genero'!BG82","v":12},{"$f":"'Pob x Genero'!U82+'Pob x Genero'!BH82","v":23},{"$f":"'Pob x Genero'!V82+'Pob x Genero'!BI82","v":15},{"$f":"'Pob x Genero'!W82+'Pob x Genero'!BJ82","v":17},{"$f":"'Pob x Genero'!X82+'Pob x Genero'!BK82","v":18},{"$f":"'Pob x Genero'!Y82+'Pob x Genero'!BL82","v":15},{"$f":"'Pob x Genero'!Z82+'Pob x Genero'!BM82","v":19},{"$f":"'Pob x Genero'!AA82+'Pob x Genero'!BN82","v":20},{"$f":"'Pob x Genero'!AB82+'Pob x Genero'!BO82","v":83},{"$f":"'Pob x Genero'!AC82+'Pob x Genero'!BP82","v":94},{"$f":"'Pob x Genero'!AD82+'Pob x Genero'!BQ82","v":91},{"$f":"'Pob x Genero'!AE82+'Pob x Genero'!BR82","v":57},{"$f":"'Pob x Genero'!AF82+'Pob x Genero'!BS82","v":71},{"$f":"'Pob x Genero'!AG82+'Pob x Genero'!BT82","v":72},{"$f":"'Pob x Genero'!AH82+'Pob x Genero'!BU82","v":62},{"$f":"'Pob x Genero'!AI82+'Pob x Genero'!BV82","v":58},{"$f":"'Pob x Genero'!AJ82+'Pob x Genero'!BW82","v":48},{"$f":"'Pob x Genero'!AK82+'Pob x Genero'!BX82","v":43},{"$f":"'Pob x Genero'!AL82+'Pob x Genero'!BY82","v":23},{"$f":"'Pob x Genero'!AM82+'Pob x Genero'!BZ82","v":22},{"$f":"'Pob x Genero'!AN82+'Pob x Genero'!CA82","v":26},{"$f":"'Pob x Genero'!AO82+'Pob x Genero'!CB82","v":17},{"$f":"'Pob x Genero'!AP82+'Pob x Genero'!CC82","v":0},{"$f":"'Pob x Genero'!AQ82+'Pob x Genero'!CD82","v":6},{"$f":"'Pob x Genero'!AR82+'Pob x Genero'!CE82","v":10},{"$f":"'Pob x Genero'!AS82+'Pob x Genero'!CF82","v":26},{"$f":"'Pob x Genero'!AT82","v":535},{"$f":"SUM('Pob x Genero'!BE82:BI82)","v":45},{"$f":"SUM('Pob x Genero'!BJ82:BN82)","v":46},{"$f":"SUM('Pob x Genero'!BO82:BT82)","v":224},{"$f":"'Pob x Genero'!CG82","v":31},null,null,{"v":1062,"d":"1,062"},156,100,216,411,179]
["040511","AREQUIPA","AREQUIPA","CAYLLOMA","LLUTA",943,{"$f":"'Pob x Genero'!H83+'Pob x Genero'!AU83","v":20},{"$f":"'Pob x Genero'!I83+'Pob x Genero'!AV83","v":22},{"$f":"'Pob x Genero'!J83+'Pob x Genero'!AW83","v":7},{"$f":"'Pob x Genero'!K83+'Pob x Genero'!AX83","v":8},{"$f":"'Pob x Genero'!L83+'Pob x Genero'!AY83","v":7},{"$f":"'Pob x Genero'!M83+'Pob x Genero'!AZ83","v":5},{"$f":"'Pob x Genero'!N83+'Pob x Genero'!BA83","v":3},{"$f":"'Pob x Genero'!O83+'Pob x Genero'!BB83","v":6},{"$f":"'Pob x Genero'!P83+'Pob x Genero'!BC83","v":11},{"$f":"'Pob x Genero'!Q83+'Pob x Genero'!BD83","v":5},{"$f":"'Pob x Genero'!R83+'Pob x Genero'!BE83","v":7},{"$f":"'Pob x Genero'!S83+'Pob x Genero'!BF83","v":14},{"$f":"'Pob x Genero'!T83+'Pob x Genero'!BG83","v":12},{"$f":"'Pob x Genero'!U83+'Pob x Genero'!BH83","v":16},{"$f":"'Pob x Genero'!V83+'Pob x Genero'!BI83","v":10},{"$f":"'Pob x Genero'!W83+'Pob x Genero'!BJ83","v":15},{"$f":"'Pob x Genero'!X83+'Pob x Genero'!BK83","v":10},{"$f":"'Pob x Genero'!Y83+'Pob x Genero'!BL83","v":16},{"$f":"'Pob x Genero'!Z83+'Pob x Genero'!BM83","v":15},{"$f":"'Pob x Genero'!AA83+'Pob x Genero'!BN83","v":7},{"$f":"'Pob x Genero'!AB83+'Pob x Genero'!BO83","v":48},{"$f":"'Pob x Genero'!AC83+'Pob x Genero'!BP83","v":47},{"$f":"'Pob x Genero'!AD83+'Pob x Genero'!BQ83","v":59},{"$f":"'Pob x Genero'!AE83+'Pob x Genero'!BR83","v":65},{"$f":"'Pob x Genero'!AF83+'Pob x Genero'!BS83","v":68},{"$f":"'Pob x Genero'!AG83+'Pob x Genero'!BT83","v":73},{"$f":"'Pob x Genero'!AH83+'Pob x Genero'!BU83","v":65},{"$f":"'Pob x Genero'!AI83+'Pob x Genero'!BV83","v":67},{"$f":"'Pob x Genero'!AJ83+'Pob x Genero'!BW83","v":52},{"$f":"'Pob x Genero'!AK83+'Pob x Genero'!BX83","v":41},{"$f":"'Pob x Genero'!AL83+'Pob x Genero'!BY83","v":46},{"$f":"'Pob x Genero'!AM83+'Pob x Genero'!BZ83","v":39},{"$f":"'Pob x Genero'!AN83+'Pob x Genero'!CA83","v":28},{"$f":"'Pob x Genero'!AO83+'Pob x Genero'!CB83","v":29},{"$f":"'Pob x Genero'!AP83+'Pob x Genero'!CC83","v":1},{"$f":"'Pob x Genero'!AQ83+'Pob x Genero'!CD83","v":13},{"$f":"'Pob x Genero'!AR83+'Pob x Genero'!CE83","v":7},{"$f":"'Pob x Genero'!AS83+'Pob x Genero'!CF83","v":26},{"$f":"'Pob x Genero'!AT83","v":474},{"$f":"SUM('Pob x Genero'!BE83:BI83)","v":30},{"$f":"SUM('Pob x Genero'!BJ83:BN83)","v":39},{"$f":"SUM('Pob x Genero'!BO83:BT83)","v":167},{"$f":"'Pob x Genero'!CG83","v":43},null,null,943,115,79,117,397,235]
["040512","AREQUIPA","AREQUIPA","CAYLLOMA","MACA",841,{"$f":"'Pob x Genero'!H84+'Pob x Genero'!AU84","v":5},{"$f":"'Pob x Genero'!I84+'Pob x Genero'!AV84","v":4},{"$f":"'Pob x Genero'!J84+'Pob x Genero'!AW84","v":7},{"$f":"'Pob x Genero'!K84+'Pob x Genero'!AX84","v":3},{"$f":"'Pob x Genero'!L84+'Pob x Genero'!AY84","v":6},{"$f":"'Pob x Genero'!M84+'Pob x Genero'!AZ84","v":3},{"$f":"'Pob x Genero'!N84+'Pob x Genero'!BA84","v":5},{"$f":"'Pob x Genero'!O84+'Pob x Genero'!BB84","v":10},{"$f":"'Pob x Genero'!P84+'Pob x Genero'!BC84","v":9},{"$f":"'Pob x Genero'!Q84+'Pob x Genero'!BD84","v":6},{"$f":"'Pob x Genero'!R84+'Pob x Genero'!BE84","v":6},{"$f":"'Pob x Genero'!S84+'Pob x Genero'!BF84","v":6},{"$f":"'Pob x Genero'!T84+'Pob x Genero'!BG84","v":7},{"$f":"'Pob x Genero'!U84+'Pob x Genero'!BH84","v":6},{"$f":"'Pob x Genero'!V84+'Pob x Genero'!BI84","v":8},{"$f":"'Pob x Genero'!W84+'Pob x Genero'!BJ84","v":11},{"$f":"'Pob x Genero'!X84+'Pob x Genero'!BK84","v":9},{"$f":"'Pob x Genero'!Y84+'Pob x Genero'!BL84","v":13},{"$f":"'Pob x Genero'!Z84+'Pob x Genero'!BM84","v":6},{"$f":"'Pob x Genero'!AA84+'Pob x Genero'!BN84","v":14},{"$f":"'Pob x Genero'!AB84+'Pob x Genero'!BO84","v":56},{"$f":"'Pob x Genero'!AC84+'Pob x Genero'!BP84","v":61},{"$f":"'Pob x Genero'!AD84+'Pob x Genero'!BQ84","v":49},{"$f":"'Pob x Genero'!AE84+'Pob x Genero'!BR84","v":72},{"$f":"'Pob x Genero'!AF84+'Pob x Genero'!BS84","v":69},{"$f":"'Pob x Genero'!AG84+'Pob x Genero'!BT84","v":69},{"$f":"'Pob x Genero'!AH84+'Pob x Genero'!BU84","v":58},{"$f":"'Pob x Genero'!AI84+'Pob x Genero'!BV84","v":53},{"$f":"'Pob x Genero'!AJ84+'Pob x Genero'!BW84","v":40},{"$f":"'Pob x Genero'!AK84+'Pob x Genero'!BX84","v":48},{"$f":"'Pob x Genero'!AL84+'Pob x Genero'!BY84","v":33},{"$f":"'Pob x Genero'!AM84+'Pob x Genero'!BZ84","v":44},{"$f":"'Pob x Genero'!AN84+'Pob x Genero'!CA84","v":19},{"$f":"'Pob x Genero'!AO84+'Pob x Genero'!CB84","v":26},{"$f":"'Pob x Genero'!AP84+'Pob x Genero'!CC84","v":0},{"$f":"'Pob x Genero'!AQ84+'Pob x Genero'!CD84","v":1},{"$f":"'Pob x Genero'!AR84+'Pob x Genero'!CE84","v":4},{"$f":"'Pob x Genero'!AS84+'Pob x Genero'!CF84","v":9},{"$f":"'Pob x Genero'!AT84","v":427},{"$f":"SUM('Pob x Genero'!BE84:BI84)","v":13},{"$f":"SUM('Pob x Genero'!BJ84:BN84)","v":24},{"$f":"SUM('Pob x Genero'!BO84:BT84)","v":182},{"$f":"'Pob x Genero'!CG84","v":19},null,null,841,70,54,137,370,210]
["040513","AREQUIPA","AREQUIPA","CAYLLOMA","MADRIGAL",770,{"$f":"'Pob x Genero'!H85+'Pob x Genero'!AU85","v":6},{"$f":"'Pob x Genero'!I85+'Pob x Genero'!AV85","v":5},{"$f":"'Pob x Genero'!J85+'Pob x Genero'!AW85","v":4},{"$f":"'Pob x Genero'!K85+'Pob x Genero'!AX85","v":2},{"$f":"'Pob x Genero'!L85+'Pob x Genero'!AY85","v":6},{"$f":"'Pob x Genero'!M85+'Pob x Genero'!AZ85","v":3},{"$f":"'Pob x Genero'!N85+'Pob x Genero'!BA85","v":4},{"$f":"'Pob x Genero'!O85+'Pob x Genero'!BB85","v":5},{"$f":"'Pob x Genero'!P85+'Pob x Genero'!BC85","v":5},{"$f":"'Pob x Genero'!Q85+'Pob x Genero'!BD85","v":5},{"$f":"'Pob x Genero'!R85+'Pob x Genero'!BE85","v":7},{"$f":"'Pob x Genero'!S85+'Pob x Genero'!BF85","v":2},{"$f":"'Pob x Genero'!T85+'Pob x Genero'!BG85","v":10},{"$f":"'Pob x Genero'!U85+'Pob x Genero'!BH85","v":8},{"$f":"'Pob x Genero'!V85+'Pob x Genero'!BI85","v":7},{"$f":"'Pob x Genero'!W85+'Pob x Genero'!BJ85","v":7},{"$f":"'Pob x Genero'!X85+'Pob x Genero'!BK85","v":12},{"$f":"'Pob x Genero'!Y85+'Pob x Genero'!BL85","v":10},{"$f":"'Pob x Genero'!Z85+'Pob x Genero'!BM85","v":7},{"$f":"'Pob x Genero'!AA85+'Pob x Genero'!BN85","v":8},{"$f":"'Pob x Genero'!AB85+'Pob x Genero'!BO85","v":52},{"$f":"'Pob x Genero'!AC85+'Pob x Genero'!BP85","v":49},{"$f":"'Pob x Genero'!AD85+'Pob x Genero'!BQ85","v":47},{"$f":"'Pob x Genero'!AE85+'Pob x Genero'!BR85","v":58},{"$f":"'Pob x Genero'!AF85+'Pob x Genero'!BS85","v":49},{"$f":"'Pob x Genero'!AG85+'Pob x Genero'!BT85","v":62},{"$f":"'Pob x Genero'!AH85+'Pob x Genero'!BU85","v":47},{"$f":"'Pob x Genero'!AI85+'Pob x Genero'!BV85","v":47},{"$f":"'Pob x Genero'!AJ85+'Pob x Genero'!BW85","v":57},{"$f":"'Pob x Genero'!AK85+'Pob x Genero'!BX85","v":51},{"$f":"'Pob x Genero'!AL85+'Pob x Genero'!BY85","v":38},{"$f":"'Pob x Genero'!AM85+'Pob x Genero'!BZ85","v":35},{"$f":"'Pob x Genero'!AN85+'Pob x Genero'!CA85","v":24},{"$f":"'Pob x Genero'!AO85+'Pob x Genero'!CB85","v":31},{"$f":"'Pob x Genero'!AP85+'Pob x Genero'!CC85","v":0},{"$f":"'Pob x Genero'!AQ85+'Pob x Genero'!CD85","v":5},{"$f":"'Pob x Genero'!AR85+'Pob x Genero'!CE85","v":1},{"$f":"'Pob x Genero'!AS85+'Pob x Genero'!CF85","v":7},{"$f":"'Pob x Genero'!AT85","v":395},{"$f":"SUM('Pob x Genero'!BE85:BI85)","v":20},{"$f":"SUM('Pob x Genero'!BJ85:BN85)","v":28},{"$f":"SUM('Pob x Genero'!BO85:BT85)","v":146},{"$f":"'Pob x Genero'!CG85","v":12},null,null,770,54,54,116,310,236]
["040514","AREQUIPA","AREQUIPA","CAYLLOMA","SAN ANTONIO DE CHUCA",{"v":1003,"d":"1,003"},{"$f":"'Pob x Genero'!H86+'Pob x Genero'!AU86","v":14},{"$f":"'Pob x Genero'!I86+'Pob x Genero'!AV86","v":10},{"$f":"'Pob x Genero'!J86+'Pob x Genero'!AW86","v":12},{"$f":"'Pob x Genero'!K86+'Pob x Genero'!AX86","v":10},{"$f":"'Pob x Genero'!L86+'Pob x Genero'!AY86","v":12},{"$f":"'Pob x Genero'!M86+'Pob x Genero'!AZ86","v":7},{"$f":"'Pob x Genero'!N86+'Pob x Genero'!BA86","v":15},{"$f":"'Pob x Genero'!O86+'Pob x Genero'!BB86","v":16},{"$f":"'Pob x Genero'!P86+'Pob x Genero'!BC86","v":14},{"$f":"'Pob x Genero'!Q86+'Pob x Genero'!BD86","v":15},{"$f":"'Pob x Genero'!R86+'Pob x Genero'!BE86","v":21},{"$f":"'Pob x Genero'!S86+'Pob x Genero'!BF86","v":18},{"$f":"'Pob x Genero'!T86+'Pob x Genero'!BG86","v":12},{"$f":"'Pob x Genero'!U86+'Pob x Genero'!BH86","v":14},{"$f":"'Pob x Genero'!V86+'Pob x Genero'!BI86","v":15},{"$f":"'Pob x Genero'!W86+'Pob x Genero'!BJ86","v":15},{"$f":"'Pob x Genero'!X86+'Pob x Genero'!BK86","v":21},{"$f":"'Pob x Genero'!Y86+'Pob x Genero'!BL86","v":24},{"$f":"'Pob x Genero'!Z86+'Pob x Genero'!BM86","v":18},{"$f":"'Pob x Genero'!AA86+'Pob x Genero'!BN86","v":13},{"$f":"'Pob x Genero'!AB86+'Pob x Genero'!BO86","v":68},{"$f":"'Pob x Genero'!AC86+'Pob x Genero'!BP86","v":70},{"$f":"'Pob x Genero'!AD86+'Pob x Genero'!BQ86","v":60},{"$f":"'Pob x Genero'!AE86+'Pob x Genero'!BR86","v":75},{"$f":"'Pob x Genero'!AF86+'Pob x Genero'!BS86","v":72},{"$f":"'Pob x Genero'!AG86+'Pob x Genero'!BT86","v":66},{"$f":"'Pob x Genero'!AH86+'Pob x Genero'!BU86","v":63},{"$f":"'Pob x Genero'!AI86+'Pob x Genero'!BV86","v":65},{"$f":"'Pob x Genero'!AJ86+'Pob x Genero'!BW86","v":52},{"$f":"'Pob x Genero'!AK86+'Pob x Genero'!BX86","v":37},{"$f":"'Pob x Genero'!AL86+'Pob x Genero'!BY86","v":37},{"$f":"'Pob x Genero'!AM86+'Pob x Genero'!BZ86","v":20},{"$f":"'Pob x Genero'!AN86+'Pob x Genero'!CA86","v":12},{"$f":"'Pob x Genero'!AO86+'Pob x Genero'!CB86","v":10},{"$f":"'Pob x Genero'!AP86+'Pob x Genero'!CC86","v":0},{"$f":"'Pob x Genero'!AQ86+'Pob x Genero'!CD86","v":9},{"$f":"'Pob x Genero'!AR86+'Pob x Genero'!CE86","v":5},{"$f":"'Pob x Genero'!AS86+'Pob x Genero'!CF86","v":27},{"$f":"'Pob x Genero'!AT86","v":502},{"$f":"SUM('Pob x Genero'!BE86:BI86)","v":38},{"$f":"SUM('Pob x Genero'!BJ86:BN86)","v":45},{"$f":"SUM('Pob x Genero'!BO86:BT86)","v":215},{"$f":"'Pob x Genero'!CG86","v":24},null,null,{"v":1003,"d":"1,003"},164,101,169,401,168]
["040515","AREQUIPA","AREQUIPA","CAYLLOMA","SIBAYO",883,{"$f":"'Pob x Genero'!H87+'Pob x Genero'!AU87","v":13},{"$f":"'Pob x Genero'!I87+'Pob x Genero'!AV87","v":10},{"$f":"'Pob x Genero'!J87+'Pob x Genero'!AW87","v":3},{"$f":"'Pob x Genero'!K87+'Pob x Genero'!AX87","v":10},{"$f":"'Pob x Genero'!L87+'Pob x Genero'!AY87","v":7},{"$f":"'Pob x Genero'!M87+'Pob x Genero'!AZ87","v":6},{"$f":"'Pob x Genero'!N87+'Pob x Genero'!BA87","v":4},{"$f":"'Pob x Genero'!O87+'Pob x Genero'!BB87","v":12},{"$f":"'Pob x Genero'!P87+'Pob x Genero'!BC87","v":6},{"$f":"'Pob x Genero'!Q87+'Pob x Genero'!BD87","v":12},{"$f":"'Pob x Genero'!R87+'Pob x Genero'!BE87","v":8},{"$f":"'Pob x Genero'!S87+'Pob x Genero'!BF87","v":13},{"$f":"'Pob x Genero'!T87+'Pob x Genero'!BG87","v":10},{"$f":"'Pob x Genero'!U87+'Pob x Genero'!BH87","v":11},{"$f":"'Pob x Genero'!V87+'Pob x Genero'!BI87","v":9},{"$f":"'Pob x Genero'!W87+'Pob x Genero'!BJ87","v":17},{"$f":"'Pob x Genero'!X87+'Pob x Genero'!BK87","v":15},{"$f":"'Pob x Genero'!Y87+'Pob x Genero'!BL87","v":14},{"$f":"'Pob x Genero'!Z87+'Pob x Genero'!BM87","v":11},{"$f":"'Pob x Genero'!AA87+'Pob x Genero'!BN87","v":11},{"$f":"'Pob x Genero'!AB87+'Pob x Genero'!BO87","v":74},{"$f":"'Pob x Genero'!AC87+'Pob x Genero'!BP87","v":74},{"$f":"'Pob x Genero'!AD87+'Pob x Genero'!BQ87","v":73},{"$f":"'Pob x Genero'!AE87+'Pob x Genero'!BR87","v":66},{"$f":"'Pob x Genero'!AF87+'Pob x Genero'!BS87","v":68},{"$f":"'Pob x Genero'!AG87+'Pob x Genero'!BT87","v":76},{"$f":"'Pob x Genero'!AH87+'Pob x Genero'!BU87","v":46},{"$f":"'Pob x Genero'!AI87+'Pob x Genero'!BV87","v":48},{"$f":"'Pob x Genero'!AJ87+'Pob x Genero'!BW87","v":45},{"$f":"'Pob x Genero'!AK87+'Pob x Genero'!BX87","v":33},{"$f":"'Pob x Genero'!AL87+'Pob x Genero'!BY87","v":27},{"$f":"'Pob x Genero'!AM87+'Pob x Genero'!BZ87","v":25},{"$f":"'Pob x Genero'!AN87+'Pob x Genero'!CA87","v":12},{"$f":"'Pob x Genero'!AO87+'Pob x Genero'!CB87","v":14},{"$f":"'Pob x Genero'!AP87+'Pob x Genero'!CC87","v":2},{"$f":"'Pob x Genero'!AQ87+'Pob x Genero'!CD87","v":7},{"$f":"'Pob x Genero'!AR87+'Pob x Genero'!CE87","v":6},{"$f":"'Pob x Genero'!AS87+'Pob x Genero'!CF87","v":18},{"$f":"'Pob x Genero'!AT87","v":451},{"$f":"SUM('Pob x Genero'!BE87:BI87)","v":20},{"$f":"SUM('Pob x Genero'!BJ87:BN87)","v":32},{"$f":"SUM('Pob x Genero'!BO87:BT87)","v":217},{"$f":"'Pob x Genero'!CG87","v":17},null,null,883,104,76,170,377,156]
["040516","AREQUIPA","AREQUIPA","CAYLLOMA","TAPAY",917,{"$f":"'Pob x Genero'!H88+'Pob x Genero'!AU88","v":8},{"$f":"'Pob x Genero'!I88+'Pob x Genero'!AV88","v":6},{"$f":"'Pob x Genero'!J88+'Pob x Genero'!AW88","v":9},{"$f":"'Pob x Genero'!K88+'Pob x Genero'!AX88","v":8},{"$f":"'Pob x Genero'!L88+'Pob x Genero'!AY88","v":9},{"$f":"'Pob x Genero'!M88+'Pob x Genero'!AZ88","v":3},{"$f":"'Pob x Genero'!N88+'Pob x Genero'!BA88","v":10},{"$f":"'Pob x Genero'!O88+'Pob x Genero'!BB88","v":9},{"$f":"'Pob x Genero'!P88+'Pob x Genero'!BC88","v":10},{"$f":"'Pob x Genero'!Q88+'Pob x Genero'!BD88","v":8},{"$f":"'Pob x Genero'!R88+'Pob x Genero'!BE88","v":4},{"$f":"'Pob x Genero'!S88+'Pob x Genero'!BF88","v":9},{"$f":"'Pob x Genero'!T88+'Pob x Genero'!BG88","v":10},{"$f":"'Pob x Genero'!U88+'Pob x Genero'!BH88","v":8},{"$f":"'Pob x Genero'!V88+'Pob x Genero'!BI88","v":17},{"$f":"'Pob x Genero'!W88+'Pob x Genero'!BJ88","v":10},{"$f":"'Pob x Genero'!X88+'Pob x Genero'!BK88","v":13},{"$f":"'Pob x Genero'!Y88+'Pob x Genero'!BL88","v":10},{"$f":"'Pob x Genero'!Z88+'Pob x Genero'!BM88","v":10},{"$f":"'Pob x Genero'!AA88+'Pob x Genero'!BN88","v":10},{"$f":"'Pob x Genero'!AB88+'Pob x Genero'!BO88","v":50},{"$f":"'Pob x Genero'!AC88+'Pob x Genero'!BP88","v":71},{"$f":"'Pob x Genero'!AD88+'Pob x Genero'!BQ88","v":66},{"$f":"'Pob x Genero'!AE88+'Pob x Genero'!BR88","v":84},{"$f":"'Pob x Genero'!AF88+'Pob x Genero'!BS88","v":74},{"$f":"'Pob x Genero'!AG88+'Pob x Genero'!BT88","v":64},{"$f":"'Pob x Genero'!AH88+'Pob x Genero'!BU88","v":51},{"$f":"'Pob x Genero'!AI88+'Pob x Genero'!BV88","v":54},{"$f":"'Pob x Genero'!AJ88+'Pob x Genero'!BW88","v":55},{"$f":"'Pob x Genero'!AK88+'Pob x Genero'!BX88","v":52},{"$f":"'Pob x Genero'!AL88+'Pob x Genero'!BY88","v":41},{"$f":"'Pob x Genero'!AM88+'Pob x Genero'!BZ88","v":27},{"$f":"'Pob x Genero'!AN88+'Pob x Genero'!CA88","v":27},{"$f":"'Pob x Genero'!AO88+'Pob x Genero'!CB88","v":20},{"$f":"'Pob x Genero'!AP88+'Pob x Genero'!CC88","v":0},{"$f":"'Pob x Genero'!AQ88+'Pob x Genero'!CD88","v":3},{"$f":"'Pob x Genero'!AR88+'Pob x Genero'!CE88","v":5},{"$f":"'Pob x Genero'!AS88+'Pob x Genero'!CF88","v":29},{"$f":"'Pob x Genero'!AT88","v":461},{"$f":"SUM('Pob x Genero'!BE88:BI88)","v":27},{"$f":"SUM('Pob x Genero'!BJ88:BN88)","v":33},{"$f":"SUM('Pob x Genero'!BO88:BT88)","v":191},{"$f":"'Pob x Genero'!CG88","v":32},null,null,917,93,68,141,393,222]
["040517","AREQUIPA","AREQUIPA","CAYLLOMA","TISCO",{"v":1782,"d":"1,782"},{"$f":"'Pob x Genero'!H89+'Pob x Genero'!AU89","v":12},{"$f":"'Pob x Genero'!I89+'Pob x Genero'!AV89","v":13},{"$f":"'Pob x Genero'!J89+'Pob x Genero'!AW89","v":13},{"$f":"'Pob x Genero'!K89+'Pob x Genero'!AX89","v":12},{"$f":"'Pob x Genero'!L89+'Pob x Genero'!AY89","v":16},{"$f":"'Pob x Genero'!M89+'Pob x Genero'!AZ89","v":16},{"$f":"'Pob x Genero'!N89+'Pob x Genero'!BA89","v":23},{"$f":"'Pob x Genero'!O89+'Pob x Genero'!BB89","v":20},{"$f":"'Pob x Genero'!P89+'Pob x Genero'!BC89","v":21},{"$f":"'Pob x Genero'!Q89+'Pob x Genero'!BD89","v":20},{"$f":"'Pob x Genero'!R89+'Pob x Genero'!BE89","v":17},{"$f":"'Pob x Genero'!S89+'Pob x Genero'!BF89","v":24},{"$f":"'Pob x Genero'!T89+'Pob x Genero'!BG89","v":34},{"$f":"'Pob x Genero'!U89+'Pob x Genero'!BH89","v":25},{"$f":"'Pob x Genero'!V89+'Pob x Genero'!BI89","v":33},{"$f":"'Pob x Genero'!W89+'Pob x Genero'!BJ89","v":32},{"$f":"'Pob x Genero'!X89+'Pob x Genero'!BK89","v":28},{"$f":"'Pob x Genero'!Y89+'Pob x Genero'!BL89","v":37},{"$f":"'Pob x Genero'!Z89+'Pob x Genero'!BM89","v":35},{"$f":"'Pob x Genero'!AA89+'Pob x Genero'!BN89","v":23},{"$f":"'Pob x Genero'!AB89+'Pob x Genero'!BO89","v":158},{"$f":"'Pob x Genero'!AC89+'Pob x Genero'!BP89","v":138},{"$f":"'Pob x Genero'!AD89+'Pob x Genero'!BQ89","v":120},{"$f":"'Pob x Genero'!AE89+'Pob x Genero'!BR89","v":113},{"$f":"'Pob x Genero'!AF89+'Pob x Genero'!BS89","v":127},{"$f":"'Pob x Genero'!AG89+'Pob x Genero'!BT89","v":122},{"$f":"'Pob x Genero'!AH89+'Pob x Genero'!BU89","v":116},{"$f":"'Pob x Genero'!AI89+'Pob x Genero'!BV89","v":117},{"$f":"'Pob x Genero'!AJ89+'Pob x Genero'!BW89","v":89},{"$f":"'Pob x Genero'!AK89+'Pob x Genero'!BX89","v":67},{"$f":"'Pob x Genero'!AL89+'Pob x Genero'!BY89","v":52},{"$f":"'Pob x Genero'!AM89+'Pob x Genero'!BZ89","v":57},{"$f":"'Pob x Genero'!AN89+'Pob x Genero'!CA89","v":28},{"$f":"'Pob x Genero'!AO89+'Pob x Genero'!CB89","v":24},{"$f":"'Pob x Genero'!AP89+'Pob x Genero'!CC89","v":0},{"$f":"'Pob x Genero'!AQ89+'Pob x Genero'!CD89","v":3},{"$f":"'Pob x Genero'!AR89+'Pob x Genero'!CE89","v":9},{"$f":"'Pob x Genero'!AS89+'Pob x Genero'!CF89","v":17},{"$f":"'Pob x Genero'!AT89","v":899},{"$f":"SUM('Pob x Genero'!BE89:BI89)","v":64},{"$f":"SUM('Pob x Genero'!BJ89:BN89)","v":77},{"$f":"SUM('Pob x Genero'!BO89:BT89)","v":378},{"$f":"'Pob x Genero'!CG89","v":34},null,null,{"v":1782,"d":"1,782"},207,189,354,715,317]
["040518","AREQUIPA","AREQUIPA","CAYLLOMA","TUTI",818,{"$f":"'Pob x Genero'!H90+'Pob x Genero'!AU90","v":10},{"$f":"'Pob x Genero'!I90+'Pob x Genero'!AV90","v":9},{"$f":"'Pob x Genero'!J90+'Pob x Genero'!AW90","v":6},{"$f":"'Pob x Genero'!K90+'Pob x Genero'!AX90","v":10},{"$f":"'Pob x Genero'!L90+'Pob x Genero'!AY90","v":5},{"$f":"'Pob x Genero'!M90+'Pob x Genero'!AZ90","v":7},{"$f":"'Pob x Genero'!N90+'Pob x Genero'!BA90","v":14},{"$f":"'Pob x Genero'!O90+'Pob x Genero'!BB90","v":13},{"$f":"'Pob x Genero'!P90+'Pob x Genero'!BC90","v":6},{"$f":"'Pob x Genero'!Q90+'Pob x Genero'!BD90","v":9},{"$f":"'Pob x Genero'!R90+'Pob x Genero'!BE90","v":12},{"$f":"'Pob x Genero'!S90+'Pob x Genero'!BF90","v":12},{"$f":"'Pob x Genero'!T90+'Pob x Genero'!BG90","v":11},{"$f":"'Pob x Genero'!U90+'Pob x Genero'!BH90","v":6},{"$f":"'Pob x Genero'!V90+'Pob x Genero'!BI90","v":9},{"$f":"'Pob x Genero'!W90+'Pob x Genero'!BJ90","v":10},{"$f":"'Pob x Genero'!X90+'Pob x Genero'!BK90","v":19},{"$f":"'Pob x Genero'!Y90+'Pob x Genero'!BL90","v":12},{"$f":"'Pob x Genero'!Z90+'Pob x Genero'!BM90","v":15},{"$f":"'Pob x Genero'!AA90+'Pob x Genero'!BN90","v":19},{"$f":"'Pob x Genero'!AB90+'Pob x Genero'!BO90","v":67},{"$f":"'Pob x Genero'!AC90+'Pob x Genero'!BP90","v":63},{"$f":"'Pob x Genero'!AD90+'Pob x Genero'!BQ90","v":62},{"$f":"'Pob x Genero'!AE90+'Pob x Genero'!BR90","v":65},{"$f":"'Pob x Genero'!AF90+'Pob x Genero'!BS90","v":64},{"$f":"'Pob x Genero'!AG90+'Pob x Genero'!BT90","v":54},{"$f":"'Pob x Genero'!AH90+'Pob x Genero'!BU90","v":42},{"$f":"'Pob x Genero'!AI90+'Pob x Genero'!BV90","v":41},{"$f":"'Pob x Genero'!AJ90+'Pob x Genero'!BW90","v":35},{"$f":"'Pob x Genero'!AK90+'Pob x Genero'!BX90","v":27},{"$f":"'Pob x Genero'!AL90+'Pob x Genero'!BY90","v":36},{"$f":"'Pob x Genero'!AM90+'Pob x Genero'!BZ90","v":24},{"$f":"'Pob x Genero'!AN90+'Pob x Genero'!CA90","v":12},{"$f":"'Pob x Genero'!AO90+'Pob x Genero'!CB90","v":12},{"$f":"'Pob x Genero'!AP90+'Pob x Genero'!CC90","v":0},{"$f":"'Pob x Genero'!AQ90+'Pob x Genero'!CD90","v":4},{"$f":"'Pob x Genero'!AR90+'Pob x Genero'!CE90","v":6},{"$f":"'Pob x Genero'!AS90+'Pob x Genero'!CF90","v":15},{"$f":"'Pob x Genero'!AT90","v":416},{"$f":"SUM('Pob x Genero'!BE90:BI90)","v":25},{"$f":"SUM('Pob x Genero'!BJ90:BN90)","v":30},{"$f":"SUM('Pob x Genero'!BO90:BT90)","v":191},{"$f":"'Pob x Genero'!CG90","v":21},null,null,818,113,67,164,328,146]
["040519","AREQUIPA","AREQUIPA","CAYLLOMA","YANQUE",{"v":2607,"d":"2,607"},{"$f":"'Pob x Genero'!H91+'Pob x Genero'!AU91","v":30},{"$f":"'Pob x Genero'!I91+'Pob x Genero'!AV91","v":25},{"$f":"'Pob x Genero'!J91+'Pob x Genero'!AW91","v":25},{"$f":"'Pob x Genero'!K91+'Pob x Genero'!AX91","v":39},{"$f":"'Pob x Genero'!L91+'Pob x Genero'!AY91","v":24},{"$f":"'Pob x Genero'!M91+'Pob x Genero'!AZ91","v":23},{"$f":"'Pob x Genero'!N91+'Pob x Genero'!BA91","v":33},{"$f":"'Pob x Genero'!O91+'Pob x Genero'!BB91","v":32},{"$f":"'Pob x Genero'!P91+'Pob x Genero'!BC91","v":25},{"$f":"'Pob x Genero'!Q91+'Pob x Genero'!BD91","v":30},{"$f":"'Pob x Genero'!R91+'Pob x Genero'!BE91","v":35},{"$f":"'Pob x Genero'!S91+'Pob x Genero'!BF91","v":27},{"$f":"'Pob x Genero'!T91+'Pob x Genero'!BG91","v":39},{"$f":"'Pob x Genero'!U91+'Pob x Genero'!BH91","v":33},{"$f":"'Pob x Genero'!V91+'Pob x Genero'!BI91","v":27},{"$f":"'Pob x Genero'!W91+'Pob x Genero'!BJ91","v":27},{"$f":"'Pob x Genero'!X91+'Pob x Genero'!BK91","v":34},{"$f":"'Pob x Genero'!Y91+'Pob x Genero'!BL91","v":45},{"$f":"'Pob x Genero'!Z91+'Pob x Genero'!BM91","v":41},{"$f":"'Pob x Genero'!AA91+'Pob x Genero'!BN91","v":43},{"$f":"'Pob x Genero'!AB91+'Pob x Genero'!BO91","v":200},{"$f":"'Pob x Genero'!AC91+'Pob x Genero'!BP91","v":239},{"$f":"'Pob x Genero'!AD91+'Pob x Genero'!BQ91","v":227},{"$f":"'Pob x Genero'!AE91+'Pob x Genero'!BR91","v":198},{"$f":"'Pob x Genero'!AF91+'Pob x Genero'!BS91","v":193},{"$f":"'Pob x Genero'!AG91+'Pob x Genero'!BT91","v":183},{"$f":"'Pob x Genero'!AH91+'Pob x Genero'!BU91","v":143},{"$f":"'Pob x Genero'!AI91+'Pob x Genero'!BV91","v":131},{"$f":"'Pob x Genero'!AJ91+'Pob x Genero'!BW91","v":119},{"$f":"'Pob x Genero'!AK91+'Pob x Genero'!BX91","v":105},{"$f":"'Pob x Genero'!AL91+'Pob x Genero'!BY91","v":96},{"$f":"'Pob x Genero'!AM91+'Pob x Genero'!BZ91","v":53},{"$f":"'Pob x Genero'!AN91+'Pob x Genero'!CA91","v":42},{"$f":"'Pob x Genero'!AO91+'Pob x Genero'!CB91","v":41},{"$f":"'Pob x Genero'!AP91+'Pob x Genero'!CC91","v":1},{"$f":"'Pob x Genero'!AQ91+'Pob x Genero'!CD91","v":18},{"$f":"'Pob x Genero'!AR91+'Pob x Genero'!CE91","v":12},{"$f":"'Pob x Genero'!AS91+'Pob x Genero'!CF91","v":38},{"$f":"'Pob x Genero'!AT91","v":{"v":1318,"d":"1,318"}},{"$f":"SUM('Pob x Genero'!BE91:BI91)","v":87},{"$f":"SUM('Pob x Genero'!BJ91:BN91)","v":85},{"$f":"SUM('Pob x Genero'!BO91:BT91)","v":621},{"$f":"'Pob x Genero'!CG91","v":80},null,null,{"v":2607,"d":"2,607"},348,205,523,{"v":1075,"d":"1,075"},456]
["040520","AREQUIPA","AREQUIPA","CAYLLOMA","MAJES",{"v":76440,"d":"76,440"},{"$f":"'Pob x Genero'!H92+'Pob x Genero'!AU92","v":{"v":1062,"d":"1,062"}},{"$f":"'Pob x Genero'!I92+'Pob x Genero'!AV92","v":{"v":1182,"d":"1,182"}},{"$f":"'Pob x Genero'!J92+'Pob x Genero'!AW92","v":{"v":1219,"d":"1,219"}},{"$f":"'Pob x Genero'!K92+'Pob x Genero'!AX92","v":{"v":1311,"d":"1,311"}},{"$f":"'Pob x Genero'!L92+'Pob x Genero'!AY92","v":{"v":1326,"d":"1,326"}},{"$f":"'Pob x Genero'!M92+'Pob x Genero'!AZ92","v":{"v":1292,"d":"1,292"}},{"$f":"'Pob x Genero'!N92+'Pob x Genero'!BA92","v":{"v":1326,"d":"1,326"}},{"$f":"'Pob x Genero'!O92+'Pob x Genero'!BB92","v":{"v":1432,"d":"1,432"}},{"$f":"'Pob x Genero'!P92+'Pob x Genero'!BC92","v":{"v":1241,"d":"1,241"}},{"$f":"'Pob x Genero'!Q92+'Pob x Genero'!BD92","v":{"v":1249,"d":"1,249"}},{"$f":"'Pob x Genero'!R92+'Pob x Genero'!BE92","v":{"v":1197,"d":"1,197"}},{"$f":"'Pob x Genero'!S92+'Pob x Genero'!BF92","v":{"v":1261,"d":"1,261"}},{"$f":"'Pob x Genero'!T92+'Pob x Genero'!BG92","v":{"v":1255,"d":"1,255"}},{"$f":"'Pob x Genero'!U92+'Pob x Genero'!BH92","v":{"v":1251,"d":"1,251"}},{"$f":"'Pob x Genero'!V92+'Pob x Genero'!BI92","v":{"v":1211,"d":"1,211"}},{"$f":"'Pob x Genero'!W92+'Pob x Genero'!BJ92","v":{"v":1053,"d":"1,053"}},{"$f":"'Pob x Genero'!X92+'Pob x Genero'!BK92","v":{"v":1247,"d":"1,247"}},{"$f":"'Pob x Genero'!Y92+'Pob x Genero'!BL92","v":{"v":1216,"d":"1,216"}},{"$f":"'Pob x Genero'!Z92+'Pob x Genero'!BM92","v":{"v":1187,"d":"1,187"}},{"$f":"'Pob x Genero'!AA92+'Pob x Genero'!BN92","v":{"v":1132,"d":"1,132"}},{"$f":"'Pob x Genero'!AB92+'Pob x Genero'!BO92","v":{"v":5593,"d":"5,593"}},{"$f":"'Pob x Genero'!AC92+'Pob x Genero'!BP92","v":{"v":6645,"d":"6,645"}},{"$f":"'Pob x Genero'!AD92+'Pob x Genero'!BQ92","v":{"v":6774,"d":"6,774"}},{"$f":"'Pob x Genero'!AE92+'Pob x Genero'!BR92","v":{"v":6736,"d":"6,736"}},{"$f":"'Pob x Genero'!AF92+'Pob x Genero'!BS92","v":{"v":5958,"d":"5,958"}},{"$f":"'Pob x Genero'!AG92+'Pob x Genero'!BT92","v":{"v":5300,"d":"5,300"}},{"$f":"'Pob x Genero'!AH92+'Pob x Genero'!BU92","v":{"v":4193,"d":"4,193"}},{"$f":"'Pob x Genero'!AI92+'Pob x Genero'!BV92","v":{"v":3355,"d":"3,355"}},{"$f":"'Pob x Genero'!AJ92+'Pob x Genero'!BW92","v":{"v":2507,"d":"2,507"}},{"$f":"'Pob x Genero'!AK92+'Pob x Genero'!BX92","v":{"v":1838,"d":"1,838"}},{"$f":"'Pob x Genero'!AL92+'Pob x Genero'!BY92","v":{"v":1298,"d":"1,298"}},{"$f":"'Pob x Genero'!AM92+'Pob x Genero'!BZ92","v":836},{"$f":"'Pob x Genero'!AN92+'Pob x Genero'!CA92","v":428},{"$f":"'Pob x Genero'!AO92+'Pob x Genero'!CB92","v":329},{"$f":"'Pob x Genero'!AP92+'Pob x Genero'!CC92","v":76},{"$f":"'Pob x Genero'!AQ92+'Pob x Genero'!CD92","v":546},{"$f":"'Pob x Genero'!AR92+'Pob x Genero'!CE92","v":516},{"$f":"'Pob x Genero'!AS92+'Pob x Genero'!CF92","v":{"v":1643,"d":"1,643"}},{"$f":"'Pob x Genero'!AT92","v":{"v":38745,"d":"38,745"}},{"$f":"SUM('Pob x Genero'!BE92:BI92)","v":{"v":3085,"d":"3,085"}},{"$f":"SUM('Pob x Genero'!BJ92:BN92)","v":{"v":2878,"d":"2,878"}},{"$f":"SUM('Pob x Genero'!BO92:BT92)","v":{"v":18981,"d":"18,981"}},{"$f":"'Pob x Genero'!CG92","v":{"v":2090,"d":"2,090"}},null,null,{"v":76440,"d":"76,440"},{"v":15098,"d":"15,098"},{"v":7233,"d":"7,233"},{"v":14557,"d":"14,557"},{"v":32316,"d":"32,316"},{"v":7236,"d":"7,236"}]
["040601","AREQUIPA","AREQUIPA","CONDESUYOS","CHUQUIBAMBA",{"v":3282,"d":"3,282"},{"$f":"'Pob x Genero'!H93+'Pob x Genero'!AU93","v":38},{"$f":"'Pob x Genero'!I93+'Pob x Genero'!AV93","v":32},{"$f":"'Pob x Genero'!J93+'Pob x Genero'!AW93","v":36},{"$f":"'Pob x Genero'!K93+'Pob x Genero'!AX93","v":42},{"$f":"'Pob x Genero'!L93+'Pob x Genero'!AY93","v":42},{"$f":"'Pob x Genero'!M93+'Pob x Genero'!AZ93","v":57},{"$f":"'Pob x Genero'!N93+'Pob x Genero'!BA93","v":46},{"$f":"'Pob x Genero'!O93+'Pob x Genero'!BB93","v":51},{"$f":"'Pob x Genero'!P93+'Pob x Genero'!BC93","v":55},{"$f":"'Pob x Genero'!Q93+'Pob x Genero'!BD93","v":59},{"$f":"'Pob x Genero'!R93+'Pob x Genero'!BE93","v":54},{"$f":"'Pob x Genero'!S93+'Pob x Genero'!BF93","v":57},{"$f":"'Pob x Genero'!T93+'Pob x Genero'!BG93","v":65},{"$f":"'Pob x Genero'!U93+'Pob x Genero'!BH93","v":51},{"$f":"'Pob x Genero'!V93+'Pob x Genero'!BI93","v":64},{"$f":"'Pob x Genero'!W93+'Pob x Genero'!BJ93","v":70},{"$f":"'Pob x Genero'!X93+'Pob x Genero'!BK93","v":58},{"$f":"'Pob x Genero'!Y93+'Pob x Genero'!BL93","v":61},{"$f":"'Pob x Genero'!Z93+'Pob x Genero'!BM93","v":58},{"$f":"'Pob x Genero'!AA93+'Pob x Genero'!BN93","v":48},{"$f":"'Pob x Genero'!AB93+'Pob x Genero'!BO93","v":253},{"$f":"'Pob x Genero'!AC93+'Pob x Genero'!BP93","v":250},{"$f":"'Pob x Genero'!AD93+'Pob x Genero'!BQ93","v":211},{"$f":"'Pob x Genero'!AE93+'Pob x Genero'!BR93","v":177},{"$f":"'Pob x Genero'!AF93+'Pob x Genero'!BS93","v":209},{"$f":"'Pob x Genero'!AG93+'Pob x Genero'!BT93","v":193},{"$f":"'Pob x Genero'!AH93+'Pob x Genero'!BU93","v":163},{"$f":"'Pob x Genero'!AI93+'Pob x Genero'!BV93","v":159},{"$f":"'Pob x Genero'!AJ93+'Pob x Genero'!BW93","v":129},{"$f":"'Pob x Genero'!AK93+'Pob x Genero'!BX93","v":120},{"$f":"'Pob x Genero'!AL93+'Pob x Genero'!BY93","v":125},{"$f":"'Pob x Genero'!AM93+'Pob x Genero'!BZ93","v":84},{"$f":"'Pob x Genero'!AN93+'Pob x Genero'!CA93","v":73},{"$f":"'Pob x Genero'!AO93+'Pob x Genero'!CB93","v":92},{"$f":"'Pob x Genero'!AP93+'Pob x Genero'!CC93","v":2},{"$f":"'Pob x Genero'!AQ93+'Pob x Genero'!CD93","v":14},{"$f":"'Pob x Genero'!AR93+'Pob x Genero'!CE93","v":24},{"$f":"'Pob x Genero'!AS93+'Pob x Genero'!CF93","v":53},{"$f":"'Pob x Genero'!AT93","v":{"v":1678,"d":"1,678"}},{"$f":"SUM('Pob x Genero'!BE93:BI93)","v":151},{"$f":"SUM('Pob x Genero'!BJ93:BN93)","v":132},{"$f":"SUM('Pob x Genero'!BO93:BT93)","v":665},{"$f":"'Pob x Genero'!CG93","v":61},null,null,{"v":3282,"d":"3,282"},569,369,609,{"v":1112,"d":"1,112"},623]
["040602","AREQUIPA","AREQUIPA","CONDESUYOS","ANDARAY",668,{"$f":"'Pob x Genero'!H94+'Pob x Genero'!AU94","v":8},{"$f":"'Pob x Genero'!I94+'Pob x Genero'!AV94","v":6},{"$f":"'Pob x Genero'!J94+'Pob x Genero'!AW94","v":3},{"$f":"'Pob x Genero'!K94+'Pob x Genero'!AX94","v":4},{"$f":"'Pob x Genero'!L94+'Pob x Genero'!AY94","v":4},{"$f":"'Pob x Genero'!M94+'Pob x Genero'!AZ94","v":2},{"$f":"'Pob x Genero'!N94+'Pob x Genero'!BA94","v":5},{"$f":"'Pob x Genero'!O94+'Pob x Genero'!BB94","v":2},{"$f":"'Pob x Genero'!P94+'Pob x Genero'!BC94","v":6},{"$f":"'Pob x Genero'!Q94+'Pob x Genero'!BD94","v":8},{"$f":"'Pob x Genero'!R94+'Pob x Genero'!BE94","v":6},{"$f":"'Pob x Genero'!S94+'Pob x Genero'!BF94","v":6},{"$f":"'Pob x Genero'!T94+'Pob x Genero'!BG94","v":5},{"$f":"'Pob x Genero'!U94+'Pob x Genero'!BH94","v":7},{"$f":"'Pob x Genero'!V94+'Pob x Genero'!BI94","v":3},{"$f":"'Pob x Genero'!W94+'Pob x Genero'!BJ94","v":8},{"$f":"'Pob x Genero'!X94+'Pob x Genero'!BK94","v":5},{"$f":"'Pob x Genero'!Y94+'Pob x Genero'!BL94","v":10},{"$f":"'Pob x Genero'!Z94+'Pob x Genero'!BM94","v":5},{"$f":"'Pob x Genero'!AA94+'Pob x Genero'!BN94","v":10},{"$f":"'Pob x Genero'!AB94+'Pob x Genero'!BO94","v":35},{"$f":"'Pob x Genero'!AC94+'Pob x Genero'!BP94","v":62},{"$f":"'Pob x Genero'!AD94+'Pob x Genero'!BQ94","v":42},{"$f":"'Pob x Genero'!AE94+'Pob x Genero'!BR94","v":60},{"$f":"'Pob x Genero'!AF94+'Pob x Genero'!BS94","v":37},{"$f":"'Pob x Genero'!AG94+'Pob x Genero'!BT94","v":53},{"$f":"'Pob x Genero'!AH94+'Pob x Genero'!BU94","v":42},{"$f":"'Pob x Genero'!AI94+'Pob x Genero'!BV94","v":37},{"$f":"'Pob x Genero'!AJ94+'Pob x Genero'!BW94","v":44},{"$f":"'Pob x Genero'!AK94+'Pob x Genero'!BX94","v":31},{"$f":"'Pob x Genero'!AL94+'Pob x Genero'!BY94","v":41},{"$f":"'Pob x Genero'!AM94+'Pob x Genero'!BZ94","v":21},{"$f":"'Pob x Genero'!AN94+'Pob x Genero'!CA94","v":19},{"$f":"'Pob x Genero'!AO94+'Pob x Genero'!CB94","v":31},{"$f":"'Pob x Genero'!AP94+'Pob x Genero'!CC94","v":0},{"$f":"'Pob x Genero'!AQ94+'Pob x Genero'!CD94","v":4},{"$f":"'Pob x Genero'!AR94+'Pob x Genero'!CE94","v":4},{"$f":"'Pob x Genero'!AS94+'Pob x Genero'!CF94","v":11},{"$f":"'Pob x Genero'!AT94","v":335},{"$f":"SUM('Pob x Genero'!BE94:BI94)","v":14},{"$f":"SUM('Pob x Genero'!BJ94:BN94)","v":17},{"$f":"SUM('Pob x Genero'!BO94:BT94)","v":143},{"$f":"'Pob x Genero'!CG94","v":8},null,null,668,60,38,112,271,187]
["040603","AREQUIPA","AREQUIPA","CONDESUYOS","CAYARANI",{"v":3168,"d":"3,168"},{"$f":"'Pob x Genero'!H95+'Pob x Genero'!AU95","v":36},{"$f":"'Pob x Genero'!I95+'Pob x Genero'!AV95","v":31},{"$f":"'Pob x Genero'!J95+'Pob x Genero'!AW95","v":44},{"$f":"'Pob x Genero'!K95+'Pob x Genero'!AX95","v":34},{"$f":"'Pob x Genero'!L95+'Pob x Genero'!AY95","v":38},{"$f":"'Pob x Genero'!M95+'Pob x Genero'!AZ95","v":47},{"$f":"'Pob x Genero'!N95+'Pob x Genero'!BA95","v":52},{"$f":"'Pob x Genero'!O95+'Pob x Genero'!BB95","v":53},{"$f":"'Pob x Genero'!P95+'Pob x Genero'!BC95","v":55},{"$f":"'Pob x Genero'!Q95+'Pob x Genero'!BD95","v":54},{"$f":"'Pob x Genero'!R95+'Pob x Genero'!BE95","v":56},{"$f":"'Pob x Genero'!S95+'Pob x Genero'!BF95","v":59},{"$f":"'Pob x Genero'!T95+'Pob x Genero'!BG95","v":53},{"$f":"'Pob x Genero'!U95+'Pob x Genero'!BH95","v":72},{"$f":"'Pob x Genero'!V95+'Pob x Genero'!BI95","v":59},{"$f":"'Pob x Genero'!W95+'Pob x Genero'!BJ95","v":82},{"$f":"'Pob x Genero'!X95+'Pob x Genero'!BK95","v":76},{"$f":"'Pob x Genero'!Y95+'Pob x Genero'!BL95","v":70},{"$f":"'Pob x Genero'!Z95+'Pob x Genero'!BM95","v":67},{"$f":"'Pob x Genero'!AA95+'Pob x Genero'!BN95","v":68},{"$f":"'Pob x Genero'!AB95+'Pob x Genero'!BO95","v":316},{"$f":"'Pob x Genero'!AC95+'Pob x Genero'!BP95","v":277},{"$f":"'Pob x Genero'!AD95+'Pob x Genero'!BQ95","v":243},{"$f":"'Pob x Genero'!AE95+'Pob x Genero'!BR95","v":209},{"$f":"'Pob x Genero'!AF95+'Pob x Genero'!BS95","v":178},{"$f":"'Pob x Genero'!AG95+'Pob x Genero'!BT95","v":188},{"$f":"'Pob x Genero'!AH95+'Pob x Genero'!BU95","v":134},{"$f":"'Pob x Genero'!AI95+'Pob x Genero'!BV95","v":166},{"$f":"'Pob x Genero'!AJ95+'Pob x Genero'!BW95","v":105},{"$f":"'Pob x Genero'!AK95+'Pob x Genero'!BX95","v":92},{"$f":"'Pob x Genero'!AL95+'Pob x Genero'!BY95","v":54},{"$f":"'Pob x Genero'!AM95+'Pob x Genero'!BZ95","v":34},{"$f":"'Pob x Genero'!AN95+'Pob x Genero'!CA95","v":32},{"$f":"'Pob x Genero'!AO95+'Pob x Genero'!CB95","v":34},{"$f":"'Pob x Genero'!AP95+'Pob x Genero'!CC95","v":3},{"$f":"'Pob x Genero'!AQ95+'Pob x Genero'!CD95","v":21},{"$f":"'Pob x Genero'!AR95+'Pob x Genero'!CE95","v":15},{"$f":"'Pob x Genero'!AS95+'Pob x Genero'!CF95","v":76},{"$f":"'Pob x Genero'!AT95","v":{"v":1591,"d":"1,591"}},{"$f":"SUM('Pob x Genero'!BE95:BI95)","v":156},{"$f":"SUM('Pob x Genero'!BJ95:BN95)","v":192},{"$f":"SUM('Pob x Genero'!BO95:BT95)","v":680},{"$f":"'Pob x Genero'!CG95","v":76},null,null,{"v":3168,"d":"3,168"},559,412,728,{"v":1118,"d":"1,118"},351]
["040604","AREQUIPA","AREQUIPA","CONDESUYOS","CHICHAS",677,{"$f":"'Pob x Genero'!H96+'Pob x Genero'!AU96","v":8},{"$f":"'Pob x Genero'!I96+'Pob x Genero'!AV96","v":7},{"$f":"'Pob x Genero'!J96+'Pob x Genero'!AW96","v":5},{"$f":"'Pob x Genero'!K96+'Pob x Genero'!AX96","v":3},{"$f":"'Pob x Genero'!L96+'Pob x Genero'!AY96","v":1},{"$f":"'Pob x Genero'!M96+'Pob x Genero'!AZ96","v":6},{"$f":"'Pob x Genero'!N96+'Pob x Genero'!BA96","v":7},{"$f":"'Pob x Genero'!O96+'Pob x Genero'!BB96","v":6},{"$f":"'Pob x Genero'!P96+'Pob x Genero'!BC96","v":6},{"$f":"'Pob x Genero'!Q96+'Pob x Genero'!BD96","v":6},{"$f":"'Pob x Genero'!R96+'Pob x Genero'!BE96","v":9},{"$f":"'Pob x Genero'!S96+'Pob x Genero'!BF96","v":9},{"$f":"'Pob x Genero'!T96+'Pob x Genero'!BG96","v":8},{"$f":"'Pob x Genero'!U96+'Pob x Genero'!BH96","v":9},{"$f":"'Pob x Genero'!V96+'Pob x Genero'!BI96","v":6},{"$f":"'Pob x Genero'!W96+'Pob x Genero'!BJ96","v":8},{"$f":"'Pob x Genero'!X96+'Pob x Genero'!BK96","v":9},{"$f":"'Pob x Genero'!Y96+'Pob x Genero'!BL96","v":12},{"$f":"'Pob x Genero'!Z96+'Pob x Genero'!BM96","v":6},{"$f":"'Pob x Genero'!AA96+'Pob x Genero'!BN96","v":8},{"$f":"'Pob x Genero'!AB96+'Pob x Genero'!BO96","v":30},{"$f":"'Pob x Genero'!AC96+'Pob x Genero'!BP96","v":36},{"$f":"'Pob x Genero'!AD96+'Pob x Genero'!BQ96","v":38},{"$f":"'Pob x Genero'!AE96+'Pob x Genero'!BR96","v":35},{"$f":"'Pob x Genero'!AF96+'Pob x Genero'!BS96","v":32},{"$f":"'Pob x Genero'!AG96+'Pob x Genero'!BT96","v":45},{"$f":"'Pob x Genero'!AH96+'Pob x Genero'!BU96","v":55},{"$f":"'Pob x Genero'!AI96+'Pob x Genero'!BV96","v":51},{"$f":"'Pob x Genero'!AJ96+'Pob x Genero'!BW96","v":37},{"$f":"'Pob x Genero'!AK96+'Pob x Genero'!BX96","v":45},{"$f":"'Pob x Genero'!AL96+'Pob x Genero'!BY96","v":26},{"$f":"'Pob x Genero'!AM96+'Pob x Genero'!BZ96","v":35},{"$f":"'Pob x Genero'!AN96+'Pob x Genero'!CA96","v":28},{"$f":"'Pob x Genero'!AO96+'Pob x Genero'!CB96","v":45},{"$f":"'Pob x Genero'!AP96+'Pob x Genero'!CC96","v":0},{"$f":"'Pob x Genero'!AQ96+'Pob x Genero'!CD96","v":3},{"$f":"'Pob x Genero'!AR96+'Pob x Genero'!CE96","v":5},{"$f":"'Pob x Genero'!AS96+'Pob x Genero'!CF96","v":13},{"$f":"'Pob x Genero'!AT96","v":338},{"$f":"SUM('Pob x Genero'!BE96:BI96)","v":22},{"$f":"SUM('Pob x Genero'!BJ96:BN96)","v":22},{"$f":"SUM('Pob x Genero'!BO96:BT96)","v":104},{"$f":"'Pob x Genero'!CG96","v":15},null,null,677,73,52,80,256,216]
["040605","AREQUIPA","AREQUIPA","CONDESUYOS","IRAY",636,{"$f":"'Pob x Genero'!H97+'Pob x Genero'!AU97","v":9},{"$f":"'Pob x Genero'!I97+'Pob x Genero'!AV97","v":5},{"$f":"'Pob x Genero'!J97+'Pob x Genero'!AW97","v":9},{"$f":"'Pob x Genero'!K97+'Pob x Genero'!AX97","v":6},{"$f":"'Pob x Genero'!L97+'Pob x Genero'!AY97","v":6},{"$f":"'Pob x Genero'!M97+'Pob x Genero'!AZ97","v":2},{"$f":"'Pob x Genero'!N97+'Pob x Genero'!BA97","v":8},{"$f":"'Pob x Genero'!O97+'Pob x Genero'!BB97","v":6},{"$f":"'Pob x Genero'!P97+'Pob x Genero'!BC97","v":8},{"$f":"'Pob x Genero'!Q97+'Pob x Genero'!BD97","v":5},{"$f":"'Pob x Genero'!R97+'Pob x Genero'!BE97","v":8},{"$f":"'Pob x Genero'!S97+'Pob x Genero'!BF97","v":9},{"$f":"'Pob x Genero'!T97+'Pob x Genero'!BG97","v":9},{"$f":"'Pob x Genero'!U97+'Pob x Genero'!BH97","v":10},{"$f":"'Pob x Genero'!V97+'Pob x Genero'!BI97","v":4},{"$f":"'Pob x Genero'!W97+'Pob x Genero'!BJ97","v":4},{"$f":"'Pob x Genero'!X97+'Pob x Genero'!BK97","v":10},{"$f":"'Pob x Genero'!Y97+'Pob x Genero'!BL97","v":12},{"$f":"'Pob x Genero'!Z97+'Pob x Genero'!BM97","v":6},{"$f":"'Pob x Genero'!AA97+'Pob x Genero'!BN97","v":3},{"$f":"'Pob x Genero'!AB97+'Pob x Genero'!BO97","v":37},{"$f":"'Pob x Genero'!AC97+'Pob x Genero'!BP97","v":41},{"$f":"'Pob x Genero'!AD97+'Pob x Genero'!BQ97","v":38},{"$f":"'Pob x Genero'!AE97+'Pob x Genero'!BR97","v":31},{"$f":"'Pob x Genero'!AF97+'Pob x Genero'!BS97","v":38},{"$f":"'Pob x Genero'!AG97+'Pob x Genero'!BT97","v":37},{"$f":"'Pob x Genero'!AH97+'Pob x Genero'!BU97","v":49},{"$f":"'Pob x Genero'!AI97+'Pob x Genero'!BV97","v":41},{"$f":"'Pob x Genero'!AJ97+'Pob x Genero'!BW97","v":39},{"$f":"'Pob x Genero'!AK97+'Pob x Genero'!BX97","v":35},{"$f":"'Pob x Genero'!AL97+'Pob x Genero'!BY97","v":24},{"$f":"'Pob x Genero'!AM97+'Pob x Genero'!BZ97","v":28},{"$f":"'Pob x Genero'!AN97+'Pob x Genero'!CA97","v":24},{"$f":"'Pob x Genero'!AO97+'Pob x Genero'!CB97","v":35},{"$f":"'Pob x Genero'!AP97+'Pob x Genero'!CC97","v":0},{"$f":"'Pob x Genero'!AQ97+'Pob x Genero'!CD97","v":1},{"$f":"'Pob x Genero'!AR97+'Pob x Genero'!CE97","v":8},{"$f":"'Pob x Genero'!AS97+'Pob x Genero'!CF97","v":15},{"$f":"'Pob x Genero'!AT97","v":325},{"$f":"SUM('Pob x Genero'!BE97:BI97)","v":19},{"$f":"SUM('Pob x Genero'!BJ97:BN97)","v":18},{"$f":"SUM('Pob x Genero'!BO97:BT97)","v":112},{"$f":"'Pob x Genero'!CG97","v":17},null,null,636,81,49,87,234,185]
["040606","AREQUIPA","AREQUIPA","CONDESUYOS","RIO GRANDE",{"v":3571,"d":"3,571"},{"$f":"'Pob x Genero'!H98+'Pob x Genero'!AU98","v":49},{"$f":"'Pob x Genero'!I98+'Pob x Genero'!AV98","v":50},{"$f":"'Pob x Genero'!J98+'Pob x Genero'!AW98","v":33},{"$f":"'Pob x Genero'!K98+'Pob x Genero'!AX98","v":48},{"$f":"'Pob x Genero'!L98+'Pob x Genero'!AY98","v":56},{"$f":"'Pob x Genero'!M98+'Pob x Genero'!AZ98","v":70},{"$f":"'Pob x Genero'!N98+'Pob x Genero'!BA98","v":54},{"$f":"'Pob x Genero'!O98+'Pob x Genero'!BB98","v":55},{"$f":"'Pob x Genero'!P98+'Pob x Genero'!BC98","v":45},{"$f":"'Pob x Genero'!Q98+'Pob x Genero'!BD98","v":42},{"$f":"'Pob x Genero'!R98+'Pob x Genero'!BE98","v":43},{"$f":"'Pob x Genero'!S98+'Pob x Genero'!BF98","v":43},{"$f":"'Pob x Genero'!T98+'Pob x Genero'!BG98","v":45},{"$f":"'Pob x Genero'!U98+'Pob x Genero'!BH98","v":45},{"$f":"'Pob x Genero'!V98+'Pob x Genero'!BI98","v":49},{"$f":"'Pob x Genero'!W98+'Pob x Genero'!BJ98","v":52},{"$f":"'Pob x Genero'!X98+'Pob x Genero'!BK98","v":76},{"$f":"'Pob x Genero'!Y98+'Pob x Genero'!BL98","v":63},{"$f":"'Pob x Genero'!Z98+'Pob x Genero'!BM98","v":34},{"$f":"'Pob x Genero'!AA98+'Pob x Genero'!BN98","v":44},{"$f":"'Pob x Genero'!AB98+'Pob x Genero'!BO98","v":220},{"$f":"'Pob x Genero'!AC98+'Pob x Genero'!BP98","v":273},{"$f":"'Pob x Genero'!AD98+'Pob x Genero'!BQ98","v":236},{"$f":"'Pob x Genero'!AE98+'Pob x Genero'!BR98","v":297},{"$f":"'Pob x Genero'!AF98+'Pob x Genero'!BS98","v":273},{"$f":"'Pob x Genero'!AG98+'Pob x Genero'!BT98","v":263},{"$f":"'Pob x Genero'!AH98+'Pob x Genero'!BU98","v":231},{"$f":"'Pob x Genero'!AI98+'Pob x Genero'!BV98","v":214},{"$f":"'Pob x Genero'!AJ98+'Pob x Genero'!BW98","v":164},{"$f":"'Pob x Genero'!AK98+'Pob x Genero'!BX98","v":133},{"$f":"'Pob x Genero'!AL98+'Pob x Genero'!BY98","v":91},{"$f":"'Pob x Genero'!AM98+'Pob x Genero'!BZ98","v":70},{"$f":"'Pob x Genero'!AN98+'Pob x Genero'!CA98","v":54},{"$f":"'Pob x Genero'!AO98+'Pob x Genero'!CB98","v":56},{"$f":"'Pob x Genero'!AP98+'Pob x Genero'!CC98","v":4},{"$f":"'Pob x Genero'!AQ98+'Pob x Genero'!CD98","v":29},{"$f":"'Pob x Genero'!AR98+'Pob x Genero'!CE98","v":20},{"$f":"'Pob x Genero'!AS98+'Pob x Genero'!CF98","v":67},{"$f":"'Pob x Genero'!AT98","v":{"v":1814,"d":"1,814"}},{"$f":"SUM('Pob x Genero'!BE98:BI98)","v":118},{"$f":"SUM('Pob x Genero'!BJ98:BN98)","v":134},{"$f":"SUM('Pob x Genero'!BO98:BT98)","v":785},{"$f":"'Pob x Genero'!CG98","v":114},null,null,{"v":3571,"d":"3,571"},588,330,571,{"v":1514,"d":"1,514"},568]
["040607","AREQUIPA","AREQUIPA","CONDESUYOS","SALAMANCA",407,{"$f":"'Pob x Genero'!H99+'Pob x Genero'!AU99","v":7},{"$f":"'Pob x Genero'!I99+'Pob x Genero'!AV99","v":6},{"$f":"'Pob x Genero'!J99+'Pob x Genero'!AW99","v":4},{"$f":"'Pob x Genero'!K99+'Pob x Genero'!AX99","v":3},{"$f":"'Pob x Genero'!L99+'Pob x Genero'!AY99","v":4},{"$f":"'Pob x Genero'!M99+'Pob x Genero'!AZ99","v":6},{"$f":"'Pob x Genero'!N99+'Pob x Genero'!BA99","v":4},{"$f":"'Pob x Genero'!O99+'Pob x Genero'!BB99","v":3},{"$f":"'Pob x Genero'!P99+'Pob x Genero'!BC99","v":5},{"$f":"'Pob x Genero'!Q99+'Pob x Genero'!BD99","v":4},{"$f":"'Pob x Genero'!R99+'Pob x Genero'!BE99","v":4},{"$f":"'Pob x Genero'!S99+'Pob x Genero'!BF99","v":6},{"$f":"'Pob x Genero'!T99+'Pob x Genero'!BG99","v":4},{"$f":"'Pob x Genero'!U99+'Pob x Genero'!BH99","v":2},{"$f":"'Pob x Genero'!V99+'Pob x Genero'!BI99","v":8},{"$f":"'Pob x Genero'!W99+'Pob x Genero'!BJ99","v":4},{"$f":"'Pob x Genero'!X99+'Pob x Genero'!BK99","v":6},{"$f":"'Pob x Genero'!Y99+'Pob x Genero'!BL99","v":7},{"$f":"'Pob x Genero'!Z99+'Pob x Genero'!BM99","v":5},{"$f":"'Pob x Genero'!AA99+'Pob x Genero'!BN99","v":4},{"$f":"'Pob x Genero'!AB99+'Pob x Genero'!BO99","v":26},{"$f":"'Pob x Genero'!AC99+'Pob x Genero'!BP99","v":22},{"$f":"'Pob x Genero'!AD99+'Pob x Genero'!BQ99","v":22},{"$f":"'Pob x Genero'!AE99+'Pob x Genero'!BR99","v":23},{"$f":"'Pob x Genero'!AF99+'Pob x Genero'!BS99","v":22},{"$f":"'Pob x Genero'!AG99+'Pob x Genero'!BT99","v":25},{"$f":"'Pob x Genero'!AH99+'Pob x Genero'!BU99","v":27},{"$f":"'Pob x Genero'!AI99+'Pob x Genero'!BV99","v":28},{"$f":"'Pob x Genero'!AJ99+'Pob x Genero'!BW99","v":21},{"$f":"'Pob x Genero'!AK99+'Pob x Genero'!BX99","v":22},{"$f":"'Pob x Genero'!AL99+'Pob x Genero'!BY99","v":19},{"$f":"'Pob x Genero'!AM99+'Pob x Genero'!BZ99","v":20},{"$f":"'Pob x Genero'!AN99+'Pob x Genero'!CA99","v":19},{"$f":"'Pob x Genero'!AO99+'Pob x Genero'!CB99","v":15},{"$f":"'Pob x Genero'!AP99+'Pob x Genero'!CC99","v":1},{"$f":"'Pob x Genero'!AQ99+'Pob x Genero'!CD99","v":3},{"$f":"'Pob x Genero'!AR99+'Pob x Genero'!CE99","v":4},{"$f":"'Pob x Genero'!AS99+'Pob x Genero'!CF99","v":9},{"$f":"'Pob x Genero'!AT99","v":204},{"$f":"SUM('Pob x Genero'!BE99:BI99)","v":10},{"$f":"SUM('Pob x Genero'!BJ99:BN99)","v":12},{"$f":"SUM('Pob x Genero'!BO99:BT99)","v":62},{"$f":"'Pob x Genero'!CG99","v":13},null,null,407,56,31,57,147,116]
["040608","AREQUIPA","AREQUIPA","CONDESUYOS","YANAQUIHUA",{"v":3887,"d":"3,887"},{"$f":"'Pob x Genero'!H100+'Pob x Genero'!AU100","v":56},{"$f":"'Pob x Genero'!I100+'Pob x Genero'!AV100","v":70},{"$f":"'Pob x Genero'!J100+'Pob x Genero'!AW100","v":46},{"$f":"'Pob x Genero'!K100+'Pob x Genero'!AX100","v":47},{"$f":"'Pob x Genero'!L100+'Pob x Genero'!AY100","v":34},{"$f":"'Pob x Genero'!M100+'Pob x Genero'!AZ100","v":33},{"$f":"'Pob x Genero'!N100+'Pob x Genero'!BA100","v":37},{"$f":"'Pob x Genero'!O100+'Pob x Genero'!BB100","v":33},{"$f":"'Pob x Genero'!P100+'Pob x Genero'!BC100","v":43},{"$f":"'Pob x Genero'!Q100+'Pob x Genero'!BD100","v":53},{"$f":"'Pob x Genero'!R100+'Pob x Genero'!BE100","v":52},{"$f":"'Pob x Genero'!S100+'Pob x Genero'!BF100","v":59},{"$f":"'Pob x Genero'!T100+'Pob x Genero'!BG100","v":49},{"$f":"'Pob x Genero'!U100+'Pob x Genero'!BH100","v":39},{"$f":"'Pob x Genero'!V100+'Pob x Genero'!BI100","v":48},{"$f":"'Pob x Genero'!W100+'Pob x Genero'!BJ100","v":59},{"$f":"'Pob x Genero'!X100+'Pob x Genero'!BK100","v":62},{"$f":"'Pob x Genero'!Y100+'Pob x Genero'!BL100","v":79},{"$f":"'Pob x Genero'!Z100+'Pob x Genero'!BM100","v":64},{"$f":"'Pob x Genero'!AA100+'Pob x Genero'!BN100","v":42},{"$f":"'Pob x Genero'!AB100+'Pob x Genero'!BO100","v":245},{"$f":"'Pob x Genero'!AC100+'Pob x Genero'!BP100","v":343},{"$f":"'Pob x Genero'!AD100+'Pob x Genero'!BQ100","v":280},{"$f":"'Pob x Genero'!AE100+'Pob x Genero'!BR100","v":318},{"$f":"'Pob x Genero'!AF100+'Pob x Genero'!BS100","v":313},{"$f":"'Pob x Genero'!AG100+'Pob x Genero'!BT100","v":282},{"$f":"'Pob x Genero'!AH100+'Pob x Genero'!BU100","v":239},{"$f":"'Pob x Genero'!AI100+'Pob x Genero'!BV100","v":215},{"$f":"'Pob x Genero'!AJ100+'Pob x Genero'!BW100","v":168},{"$f":"'Pob x Genero'!AK100+'Pob x Genero'!BX100","v":142},{"$f":"'Pob x Genero'!AL100+'Pob x Genero'!BY100","v":92},{"$f":"'Pob x Genero'!AM100+'Pob x Genero'!BZ100","v":77},{"$f":"'Pob x Genero'!AN100+'Pob x Genero'!CA100","v":75},{"$f":"'Pob x Genero'!AO100+'Pob x Genero'!CB100","v":93},{"$f":"'Pob x Genero'!AP100+'Pob x Genero'!CC100","v":4},{"$f":"'Pob x Genero'!AQ100+'Pob x Genero'!CD100","v":22},{"$f":"'Pob x Genero'!AR100+'Pob x Genero'!CE100","v":34},{"$f":"'Pob x Genero'!AS100+'Pob x Genero'!CF100","v":78},{"$f":"'Pob x Genero'!AT100","v":{"v":1967,"d":"1,967"}},{"$f":"SUM('Pob x Genero'!BE100:BI100)","v":124},{"$f":"SUM('Pob x Genero'!BJ100:BN100)","v":174},{"$f":"SUM('Pob x Genero'!BO100:BT100)","v":842},{"$f":"'Pob x Genero'!CG100","v":105},null,null,{"v":3887,"d":"3,887"},563,336,694,{"v":1647,"d":"1,647"},647]
["040701","AREQUIPA","AREQUIPA","ISLAY","MOLLENDO",{"v":26815,"d":"26,815"},{"$f":"'Pob x Genero'!H101+'Pob x Genero'!AU101","v":262},{"$f":"'Pob x Genero'!I101+'Pob x Genero'!AV101","v":291},{"$f":"'Pob x Genero'!J101+'Pob x Genero'!AW101","v":314},{"$f":"'Pob x Genero'!K101+'Pob x Genero'!AX101","v":308},{"$f":"'Pob x Genero'!L101+'Pob x Genero'!AY101","v":379},{"$f":"'Pob x Genero'!M101+'Pob x Genero'!AZ101","v":345},{"$f":"'Pob x Genero'!N101+'Pob x Genero'!BA101","v":381},{"$f":"'Pob x Genero'!O101+'Pob x Genero'!BB101","v":431},{"$f":"'Pob x Genero'!P101+'Pob x Genero'!BC101","v":390},{"$f":"'Pob x Genero'!Q101+'Pob x Genero'!BD101","v":400},{"$f":"'Pob x Genero'!R101+'Pob x Genero'!BE101","v":370},{"$f":"'Pob x Genero'!S101+'Pob x Genero'!BF101","v":378},{"$f":"'Pob x Genero'!T101+'Pob x Genero'!BG101","v":396},{"$f":"'Pob x Genero'!U101+'Pob x Genero'!BH101","v":385},{"$f":"'Pob x Genero'!V101+'Pob x Genero'!BI101","v":391},{"$f":"'Pob x Genero'!W101+'Pob x Genero'!BJ101","v":369},{"$f":"'Pob x Genero'!X101+'Pob x Genero'!BK101","v":400},{"$f":"'Pob x Genero'!Y101+'Pob x Genero'!BL101","v":376},{"$f":"'Pob x Genero'!Z101+'Pob x Genero'!BM101","v":381},{"$f":"'Pob x Genero'!AA101+'Pob x Genero'!BN101","v":375},{"$f":"'Pob x Genero'!AB101+'Pob x Genero'!BO101","v":{"v":1896,"d":"1,896"}},{"$f":"'Pob x Genero'!AC101+'Pob x Genero'!BP101","v":{"v":2039,"d":"2,039"}},{"$f":"'Pob x Genero'!AD101+'Pob x Genero'!BQ101","v":{"v":1926,"d":"1,926"}},{"$f":"'Pob x Genero'!AE101+'Pob x Genero'!BR101","v":{"v":1875,"d":"1,875"}},{"$f":"'Pob x Genero'!AF101+'Pob x Genero'!BS101","v":{"v":1951,"d":"1,951"}},{"$f":"'Pob x Genero'!AG101+'Pob x Genero'!BT101","v":{"v":1933,"d":"1,933"}},{"$f":"'Pob x Genero'!AH101+'Pob x Genero'!BU101","v":{"v":1690,"d":"1,690"}},{"$f":"'Pob x Genero'!AI101+'Pob x Genero'!BV101","v":{"v":1482,"d":"1,482"}},{"$f":"'Pob x Genero'!AJ101+'Pob x Genero'!BW101","v":{"v":1263,"d":"1,263"}},{"$f":"'Pob x Genero'!AK101+'Pob x Genero'!BX101","v":{"v":1069,"d":"1,069"}},{"$f":"'Pob x Genero'!AL101+'Pob x Genero'!BY101","v":862},{"$f":"'Pob x Genero'!AM101+'Pob x Genero'!BZ101","v":653},{"$f":"'Pob x Genero'!AN101+'Pob x Genero'!CA101","v":464},{"$f":"'Pob x Genero'!AO101+'Pob x Genero'!CB101","v":390},{"$f":"'Pob x Genero'!AP101+'Pob x Genero'!CC101","v":19},{"$f":"'Pob x Genero'!AQ101+'Pob x Genero'!CD101","v":131},{"$f":"'Pob x Genero'!AR101+'Pob x Genero'!CE101","v":131},{"$f":"'Pob x Genero'!AS101+'Pob x Genero'!CF101","v":406},{"$f":"'Pob x Genero'!AT101","v":{"v":13590,"d":"13,590"}},{"$f":"SUM('Pob x Genero'!BE101:BI101)","v":974},{"$f":"SUM('Pob x Genero'!BJ101:BN101)","v":980},{"$f":"SUM('Pob x Genero'!BO101:BT101)","v":{"v":5886,"d":"5,886"}},{"$f":"'Pob x Genero'!CG101","v":577},null,null,{"v":26815,"d":"26,815"},{"v":4249,"d":"4,249"},{"v":2317,"d":"2,317"},{"v":4691,"d":"4,691"},{"v":10857,"d":"10,857"},{"v":4701,"d":"4,701"}]
["040702","AREQUIPA","AREQUIPA","ISLAY","COCACHACRA",{"v":8517,"d":"8,517"},{"$f":"'Pob x Genero'!H102+'Pob x Genero'!AU102","v":104},{"$f":"'Pob x Genero'!I102+'Pob x Genero'!AV102","v":95},{"$f":"'Pob x Genero'!J102+'Pob x Genero'!AW102","v":94},{"$f":"'Pob x Genero'!K102+'Pob x Genero'!AX102","v":97},{"$f":"'Pob x Genero'!L102+'Pob x Genero'!AY102","v":114},{"$f":"'Pob x Genero'!M102+'Pob x Genero'!AZ102","v":107},{"$f":"'Pob x Genero'!N102+'Pob x Genero'!BA102","v":95},{"$f":"'Pob x Genero'!O102+'Pob x Genero'!BB102","v":112},{"$f":"'Pob x Genero'!P102+'Pob x Genero'!BC102","v":133},{"$f":"'Pob x Genero'!Q102+'Pob x Genero'!BD102","v":98},{"$f":"'Pob x Genero'!R102+'Pob x Genero'!BE102","v":94},{"$f":"'Pob x Genero'!S102+'Pob x Genero'!BF102","v":100},{"$f":"'Pob x Genero'!T102+'Pob x Genero'!BG102","v":98},{"$f":"'Pob x Genero'!U102+'Pob x Genero'!BH102","v":118},{"$f":"'Pob x Genero'!V102+'Pob x Genero'!BI102","v":112},{"$f":"'Pob x Genero'!W102+'Pob x Genero'!BJ102","v":119},{"$f":"'Pob x Genero'!X102+'Pob x Genero'!BK102","v":100},{"$f":"'Pob x Genero'!Y102+'Pob x Genero'!BL102","v":114},{"$f":"'Pob x Genero'!Z102+'Pob x Genero'!BM102","v":110},{"$f":"'Pob x Genero'!AA102+'Pob x Genero'!BN102","v":120},{"$f":"'Pob x Genero'!AB102+'Pob x Genero'!BO102","v":566},{"$f":"'Pob x Genero'!AC102+'Pob x Genero'!BP102","v":683},{"$f":"'Pob x Genero'!AD102+'Pob x Genero'!BQ102","v":694},{"$f":"'Pob x Genero'!AE102+'Pob x Genero'!BR102","v":711},{"$f":"'Pob x Genero'!AF102+'Pob x Genero'!BS102","v":638},{"$f":"'Pob x Genero'!AG102+'Pob x Genero'!BT102","v":593},{"$f":"'Pob x Genero'!AH102+'Pob x Genero'!BU102","v":569},{"$f":"'Pob x Genero'!AI102+'Pob x Genero'!BV102","v":549},{"$f":"'Pob x Genero'!AJ102+'Pob x Genero'!BW102","v":401},{"$f":"'Pob x Genero'!AK102+'Pob x Genero'!BX102","v":357},{"$f":"'Pob x Genero'!AL102+'Pob x Genero'!BY102","v":222},{"$f":"'Pob x Genero'!AM102+'Pob x Genero'!BZ102","v":165},{"$f":"'Pob x Genero'!AN102+'Pob x Genero'!CA102","v":114},{"$f":"'Pob x Genero'!AO102+'Pob x Genero'!CB102","v":121},{"$f":"'Pob x Genero'!AP102+'Pob x Genero'!CC102","v":9},{"$f":"'Pob x Genero'!AQ102+'Pob x Genero'!CD102","v":45},{"$f":"'Pob x Genero'!AR102+'Pob x Genero'!CE102","v":59},{"$f":"'Pob x Genero'!AS102+'Pob x Genero'!CF102","v":147},{"$f":"'Pob x Genero'!AT102","v":{"v":4300,"d":"4,300"}},{"$f":"SUM('Pob x Genero'!BE102:BI102)","v":268},{"$f":"SUM('Pob x Genero'!BJ102:BN102)","v":292},{"$f":"SUM('Pob x Genero'!BO102:BT102)","v":{"v":1952,"d":"1,952"}},{"$f":"'Pob x Genero'!CG102","v":272},null,null,{"v":8517,"d":"8,517"},{"v":1243,"d":"1,243"},661,{"v":1479,"d":"1,479"},{"v":3754,"d":"3,754"},{"v":1380,"d":"1,380"}]
["040703","AREQUIPA","AREQUIPA","ISLAY","DEAN VALDIVIA",{"v":7376,"d":"7,376"},{"$f":"'Pob x Genero'!H103+'Pob x Genero'!AU103","v":94},{"$f":"'Pob x Genero'!I103+'Pob x Genero'!AV103","v":101},{"$f":"'Pob x Genero'!J103+'Pob x Genero'!AW103","v":101},{"$f":"'Pob x Genero'!K103+'Pob x Genero'!AX103","v":98},{"$f":"'Pob x Genero'!L103+'Pob x Genero'!AY103","v":87},{"$f":"'Pob x Genero'!M103+'Pob x Genero'!AZ103","v":104},{"$f":"'Pob x Genero'!N103+'Pob x Genero'!BA103","v":114},{"$f":"'Pob x Genero'!O103+'Pob x Genero'!BB103","v":106},{"$f":"'Pob x Genero'!P103+'Pob x Genero'!BC103","v":94},{"$f":"'Pob x Genero'!Q103+'Pob x Genero'!BD103","v":103},{"$f":"'Pob x Genero'!R103+'Pob x Genero'!BE103","v":99},{"$f":"'Pob x Genero'!S103+'Pob x Genero'!BF103","v":94},{"$f":"'Pob x Genero'!T103+'Pob x Genero'!BG103","v":121},{"$f":"'Pob x Genero'!U103+'Pob x Genero'!BH103","v":92},{"$f":"'Pob x Genero'!V103+'Pob x Genero'!BI103","v":95},{"$f":"'Pob x Genero'!W103+'Pob x Genero'!BJ103","v":112},{"$f":"'Pob x Genero'!X103+'Pob x Genero'!BK103","v":124},{"$f":"'Pob x Genero'!Y103+'Pob x Genero'!BL103","v":98},{"$f":"'Pob x Genero'!Z103+'Pob x Genero'!BM103","v":102},{"$f":"'Pob x Genero'!AA103+'Pob x Genero'!BN103","v":103},{"$f":"'Pob x Genero'!AB103+'Pob x Genero'!BO103","v":562},{"$f":"'Pob x Genero'!AC103+'Pob x Genero'!BP103","v":648},{"$f":"'Pob x Genero'!AD103+'Pob x Genero'!BQ103","v":667},{"$f":"'Pob x Genero'!AE103+'Pob x Genero'!BR103","v":563},{"$f":"'Pob x Genero'!AF103+'Pob x Genero'!BS103","v":554},{"$f":"'Pob x Genero'!AG103+'Pob x Genero'!BT103","v":480},{"$f":"'Pob x Genero'!AH103+'Pob x Genero'!BU103","v":417},{"$f":"'Pob x Genero'!AI103+'Pob x Genero'!BV103","v":381},{"$f":"'Pob x Genero'!AJ103+'Pob x Genero'!BW103","v":309},{"$f":"'Pob x Genero'!AK103+'Pob x Genero'!BX103","v":251},{"$f":"'Pob x Genero'!AL103+'Pob x Genero'!BY103","v":176},{"$f":"'Pob x Genero'!AM103+'Pob x Genero'!BZ103","v":126},{"$f":"'Pob x Genero'!AN103+'Pob x Genero'!CA103","v":95},{"$f":"'Pob x Genero'!AO103+'Pob x Genero'!CB103","v":105},{"$f":"'Pob x Genero'!AP103+'Pob x Genero'!CC103","v":4},{"$f":"'Pob x Genero'!AQ103+'Pob x Genero'!CD103","v":45},{"$f":"'Pob x Genero'!AR103+'Pob x Genero'!CE103","v":49},{"$f":"'Pob x Genero'!AS103+'Pob x Genero'!CF103","v":154},{"$f":"'Pob x Genero'!AT103","v":{"v":3756,"d":"3,756"}},{"$f":"SUM('Pob x Genero'!BE103:BI103)","v":247},{"$f":"SUM('Pob x Genero'!BJ103:BN103)","v":278},{"$f":"SUM('Pob x Genero'!BO103:BT103)","v":{"v":1763,"d":"1,763"}},{"$f":"'Pob x Genero'!CG103","v":199},null,null,{"v":7376,"d":"7,376"},{"v":1195,"d":"1,195"},642,{"v":1415,"d":"1,415"},{"v":3062,"d":"3,062"},{"v":1062,"d":"1,062"}]
["040704","AREQUIPA","AREQUIPA","ISLAY","ISLAY",{"v":5261,"d":"5,261"},{"$f":"'Pob x Genero'!H104+'Pob x Genero'!AU104","v":83},{"$f":"'Pob x Genero'!I104+'Pob x Genero'!AV104","v":85},{"$f":"'Pob x Genero'!J104+'Pob x Genero'!AW104","v":81},{"$f":"'Pob x Genero'!K104+'Pob x Genero'!AX104","v":94},{"$f":"'Pob x Genero'!L104+'Pob x Genero'!AY104","v":80},{"$f":"'Pob x Genero'!M104+'Pob x Genero'!AZ104","v":94},{"$f":"'Pob x Genero'!N104+'Pob x Genero'!BA104","v":97},{"$f":"'Pob x Genero'!O104+'Pob x Genero'!BB104","v":86},{"$f":"'Pob x Genero'!P104+'Pob x Genero'!BC104","v":83},{"$f":"'Pob x Genero'!Q104+'Pob x Genero'!BD104","v":95},{"$f":"'Pob x Genero'!R104+'Pob x Genero'!BE104","v":83},{"$f":"'Pob x Genero'!S104+'Pob x Genero'!BF104","v":90},{"$f":"'Pob x Genero'!T104+'Pob x Genero'!BG104","v":86},{"$f":"'Pob x Genero'!U104+'Pob x Genero'!BH104","v":83},{"$f":"'Pob x Genero'!V104+'Pob x Genero'!BI104","v":61},{"$f":"'Pob x Genero'!W104+'Pob x Genero'!BJ104","v":79},{"$f":"'Pob x Genero'!X104+'Pob x Genero'!BK104","v":101},{"$f":"'Pob x Genero'!Y104+'Pob x Genero'!BL104","v":96},{"$f":"'Pob x Genero'!Z104+'Pob x Genero'!BM104","v":90},{"$f":"'Pob x Genero'!AA104+'Pob x Genero'!BN104","v":78},{"$f":"'Pob x Genero'!AB104+'Pob x Genero'!BO104","v":373},{"$f":"'Pob x Genero'!AC104+'Pob x Genero'!BP104","v":442},{"$f":"'Pob x Genero'!AD104+'Pob x Genero'!BQ104","v":426},{"$f":"'Pob x Genero'!AE104+'Pob x Genero'!BR104","v":429},{"$f":"'Pob x Genero'!AF104+'Pob x Genero'!BS104","v":394},{"$f":"'Pob x Genero'!AG104+'Pob x Genero'!BT104","v":384},{"$f":"'Pob x Genero'!AH104+'Pob x Genero'!BU104","v":313},{"$f":"'Pob x Genero'!AI104+'Pob x Genero'!BV104","v":247},{"$f":"'Pob x Genero'!AJ104+'Pob x Genero'!BW104","v":172},{"$f":"'Pob x Genero'!AK104+'Pob x Genero'!BX104","v":147},{"$f":"'Pob x Genero'!AL104+'Pob x Genero'!BY104","v":100},{"$f":"'Pob x Genero'!AM104+'Pob x Genero'!BZ104","v":66},{"$f":"'Pob x Genero'!AN104+'Pob x Genero'!CA104","v":18},{"$f":"'Pob x Genero'!AO104+'Pob x Genero'!CB104","v":25},{"$f":"'Pob x Genero'!AP104+'Pob x Genero'!CC104","v":5},{"$f":"'Pob x Genero'!AQ104+'Pob x Genero'!CD104","v":36},{"$f":"'Pob x Genero'!AR104+'Pob x Genero'!CE104","v":47},{"$f":"'Pob x Genero'!AS104+'Pob x Genero'!CF104","v":115},{"$f":"'Pob x Genero'!AT104","v":{"v":2654,"d":"2,654"}},{"$f":"SUM('Pob x Genero'!BE104:BI104)","v":195},{"$f":"SUM('Pob x Genero'!BJ104:BN104)","v":237},{"$f":"SUM('Pob x Genero'!BO104:BT104)","v":{"v":1250,"d":"1,250"}},{"$f":"'Pob x Genero'!CG104","v":188},null,null,{"v":5261,"d":"5,261"},{"v":1051,"d":"1,051"},506,983,{"v":2193,"d":"2,193"},528]
["040705","AREQUIPA","AREQUIPA","ISLAY","MEJIA",{"v":1332,"d":"1,332"},{"$f":"'Pob x Genero'!H105+'Pob x Genero'!AU105","v":15},{"$f":"'Pob x Genero'!I105+'Pob x Genero'!AV105","v":18},{"$f":"'Pob x Genero'!J105+'Pob x Genero'!AW105","v":16},{"$f":"'Pob x Genero'!K105+'Pob x Genero'!AX105","v":16},{"$f":"'Pob x Genero'!L105+'Pob x Genero'!AY105","v":12},{"$f":"'Pob x Genero'!M105+'Pob x Genero'!AZ105","v":20},{"$f":"'Pob x Genero'!N105+'Pob x Genero'!BA105","v":13},{"$f":"'Pob x Genero'!O105+'Pob x Genero'!BB105","v":14},{"$f":"'Pob x Genero'!P105+'Pob x Genero'!BC105","v":13},{"$f":"'Pob x Genero'!Q105+'Pob x Genero'!BD105","v":15},{"$f":"'Pob x Genero'!R105+'Pob x Genero'!BE105","v":18},{"$f":"'Pob x Genero'!S105+'Pob x Genero'!BF105","v":14},{"$f":"'Pob x Genero'!T105+'Pob x Genero'!BG105","v":11},{"$f":"'Pob x Genero'!U105+'Pob x Genero'!BH105","v":14},{"$f":"'Pob x Genero'!V105+'Pob x Genero'!BI105","v":14},{"$f":"'Pob x Genero'!W105+'Pob x Genero'!BJ105","v":7},{"$f":"'Pob x Genero'!X105+'Pob x Genero'!BK105","v":11},{"$f":"'Pob x Genero'!Y105+'Pob x Genero'!BL105","v":11},{"$f":"'Pob x Genero'!Z105+'Pob x Genero'!BM105","v":14},{"$f":"'Pob x Genero'!AA105+'Pob x Genero'!BN105","v":16},{"$f":"'Pob x Genero'!AB105+'Pob x Genero'!BO105","v":89},{"$f":"'Pob x Genero'!AC105+'Pob x Genero'!BP105","v":95},{"$f":"'Pob x Genero'!AD105+'Pob x Genero'!BQ105","v":95},{"$f":"'Pob x Genero'!AE105+'Pob x Genero'!BR105","v":107},{"$f":"'Pob x Genero'!AF105+'Pob x Genero'!BS105","v":110},{"$f":"'Pob x Genero'!AG105+'Pob x Genero'!BT105","v":86},{"$f":"'Pob x Genero'!AH105+'Pob x Genero'!BU105","v":95},{"$f":"'Pob x Genero'!AI105+'Pob x Genero'!BV105","v":96},{"$f":"'Pob x Genero'!AJ105+'Pob x Genero'!BW105","v":94},{"$f":"'Pob x Genero'!AK105+'Pob x Genero'!BX105","v":53},{"$f":"'Pob x Genero'!AL105+'Pob x Genero'!BY105","v":51},{"$f":"'Pob x Genero'!AM105+'Pob x Genero'!BZ105","v":32},{"$f":"'Pob x Genero'!AN105+'Pob x Genero'!CA105","v":25},{"$f":"'Pob x Genero'!AO105+'Pob x Genero'!CB105","v":22},{"$f":"'Pob x Genero'!AP105+'Pob x Genero'!CC105","v":1},{"$f":"'Pob x Genero'!AQ105+'Pob x Genero'!CD105","v":6},{"$f":"'Pob x Genero'!AR105+'Pob x Genero'!CE105","v":9},{"$f":"'Pob x Genero'!AS105+'Pob x Genero'!CF105","v":28},{"$f":"'Pob x Genero'!AT105","v":674},{"$f":"SUM('Pob x Genero'!BE105:BI105)","v":35},{"$f":"SUM('Pob x Genero'!BJ105:BN105)","v":23},{"$f":"SUM('Pob x Genero'!BO105:BT105)","v":311},{"$f":"'Pob x Genero'!CG105","v":37},null,null,{"v":1332,"d":"1,332"},184,68,214,589,277]
["040706","AREQUIPA","AREQUIPA","ISLAY","PUNTA DE BOMBON",{"v":6646,"d":"6,646"},{"$f":"'Pob x Genero'!H106+'Pob x Genero'!AU106","v":84},{"$f":"'Pob x Genero'!I106+'Pob x Genero'!AV106","v":88},{"$f":"'Pob x Genero'!J106+'Pob x Genero'!AW106","v":76},{"$f":"'Pob x Genero'!K106+'Pob x Genero'!AX106","v":104},{"$f":"'Pob x Genero'!L106+'Pob x Genero'!AY106","v":80},{"$f":"'Pob x Genero'!M106+'Pob x Genero'!AZ106","v":91},{"$f":"'Pob x Genero'!N106+'Pob x Genero'!BA106","v":84},{"$f":"'Pob x Genero'!O106+'Pob x Genero'!BB106","v":81},{"$f":"'Pob x Genero'!P106+'Pob x Genero'!BC106","v":88},{"$f":"'Pob x Genero'!Q106+'Pob x Genero'!BD106","v":74},{"$f":"'Pob x Genero'!R106+'Pob x Genero'!BE106","v":81},{"$f":"'Pob x Genero'!S106+'Pob x Genero'!BF106","v":116},{"$f":"'Pob x Genero'!T106+'Pob x Genero'!BG106","v":91},{"$f":"'Pob x Genero'!U106+'Pob x Genero'!BH106","v":84},{"$f":"'Pob x Genero'!V106+'Pob x Genero'!BI106","v":78},{"$f":"'Pob x Genero'!W106+'Pob x Genero'!BJ106","v":105},{"$f":"'Pob x Genero'!X106+'Pob x Genero'!BK106","v":92},{"$f":"'Pob x Genero'!Y106+'Pob x Genero'!BL106","v":102},{"$f":"'Pob x Genero'!Z106+'Pob x Genero'!BM106","v":91},{"$f":"'Pob x Genero'!AA106+'Pob x Genero'!BN106","v":88},{"$f":"'Pob x Genero'!AB106+'Pob x Genero'!BO106","v":458},{"$f":"'Pob x Genero'!AC106+'Pob x Genero'!BP106","v":535},{"$f":"'Pob x Genero'!AD106+'Pob x Genero'!BQ106","v":499},{"$f":"'Pob x Genero'!AE106+'Pob x Genero'!BR106","v":533},{"$f":"'Pob x Genero'!AF106+'Pob x Genero'!BS106","v":465},{"$f":"'Pob x Genero'!AG106+'Pob x Genero'!BT106","v":433},{"$f":"'Pob x Genero'!AH106+'Pob x Genero'!BU106","v":409},{"$f":"'Pob x Genero'!AI106+'Pob x Genero'!BV106","v":366},{"$f":"'Pob x Genero'!AJ106+'Pob x Genero'!BW106","v":336},{"$f":"'Pob x Genero'!AK106+'Pob x Genero'!BX106","v":291},{"$f":"'Pob x Genero'!AL106+'Pob x Genero'!BY106","v":196},{"$f":"'Pob x Genero'!AM106+'Pob x Genero'!BZ106","v":143},{"$f":"'Pob x Genero'!AN106+'Pob x Genero'!CA106","v":86},{"$f":"'Pob x Genero'!AO106+'Pob x Genero'!CB106","v":118},{"$f":"'Pob x Genero'!AP106+'Pob x Genero'!CC106","v":6},{"$f":"'Pob x Genero'!AQ106+'Pob x Genero'!CD106","v":35},{"$f":"'Pob x Genero'!AR106+'Pob x Genero'!CE106","v":49},{"$f":"'Pob x Genero'!AS106+'Pob x Genero'!CF106","v":125},{"$f":"'Pob x Genero'!AT106","v":{"v":3357,"d":"3,357"}},{"$f":"SUM('Pob x Genero'!BE106:BI106)","v":233},{"$f":"SUM('Pob x Genero'!BJ106:BN106)","v":245},{"$f":"SUM('Pob x Genero'!BO106:BT106)","v":{"v":1458,"d":"1,458"}},{"$f":"'Pob x Genero'!CG106","v":161},null,null,{"v":6646,"d":"6,646"},{"v":1047,"d":"1,047"},552,{"v":1172,"d":"1,172"},{"v":2705,"d":"2,705"},{"v":1170,"d":"1,170"}]
["040801","AREQUIPA","AREQUIPA","LA UNION","COTAHUASI",{"v":2919,"d":"2,919"},{"$f":"'Pob x Genero'!H107+'Pob x Genero'!AU107","v":40},{"$f":"'Pob x Genero'!I107+'Pob x Genero'!AV107","v":41},{"$f":"'Pob x Genero'!J107+'Pob x Genero'!AW107","v":54},{"$f":"'Pob x Genero'!K107+'Pob x Genero'!AX107","v":50},{"$f":"'Pob x Genero'!L107+'Pob x Genero'!AY107","v":54},{"$f":"'Pob x Genero'!M107+'Pob x Genero'!AZ107","v":51},{"$f":"'Pob x Genero'!N107+'Pob x Genero'!BA107","v":45},{"$f":"'Pob x Genero'!O107+'Pob x Genero'!BB107","v":44},{"$f":"'Pob x Genero'!P107+'Pob x Genero'!BC107","v":43},{"$f":"'Pob x Genero'!Q107+'Pob x Genero'!BD107","v":43},{"$f":"'Pob x Genero'!R107+'Pob x Genero'!BE107","v":56},{"$f":"'Pob x Genero'!S107+'Pob x Genero'!BF107","v":55},{"$f":"'Pob x Genero'!T107+'Pob x Genero'!BG107","v":61},{"$f":"'Pob x Genero'!U107+'Pob x Genero'!BH107","v":53},{"$f":"'Pob x Genero'!V107+'Pob x Genero'!BI107","v":50},{"$f":"'Pob x Genero'!W107+'Pob x Genero'!BJ107","v":51},{"$f":"'Pob x Genero'!X107+'Pob x Genero'!BK107","v":68},{"$f":"'Pob x Genero'!Y107+'Pob x Genero'!BL107","v":55},{"$f":"'Pob x Genero'!Z107+'Pob x Genero'!BM107","v":66},{"$f":"'Pob x Genero'!AA107+'Pob x Genero'!BN107","v":56},{"$f":"'Pob x Genero'!AB107+'Pob x Genero'!BO107","v":228},{"$f":"'Pob x Genero'!AC107+'Pob x Genero'!BP107","v":194},{"$f":"'Pob x Genero'!AD107+'Pob x Genero'!BQ107","v":154},{"$f":"'Pob x Genero'!AE107+'Pob x Genero'!BR107","v":176},{"$f":"'Pob x Genero'!AF107+'Pob x Genero'!BS107","v":176},{"$f":"'Pob x Genero'!AG107+'Pob x Genero'!BT107","v":166},{"$f":"'Pob x Genero'!AH107+'Pob x Genero'!BU107","v":144},{"$f":"'Pob x Genero'!AI107+'Pob x Genero'!BV107","v":140},{"$f":"'Pob x Genero'!AJ107+'Pob x Genero'!BW107","v":121},{"$f":"'Pob x Genero'!AK107+'Pob x Genero'!BX107","v":91},{"$f":"'Pob x Genero'!AL107+'Pob x Genero'!BY107","v":80},{"$f":"'Pob x Genero'!AM107+'Pob x Genero'!BZ107","v":67},{"$f":"'Pob x Genero'!AN107+'Pob x Genero'!CA107","v":61},{"$f":"'Pob x Genero'!AO107+'Pob x Genero'!CB107","v":85},{"$f":"'Pob x Genero'!AP107+'Pob x Genero'!CC107","v":2},{"$f":"'Pob x Genero'!AQ107+'Pob x Genero'!CD107","v":18},{"$f":"'Pob x Genero'!AR107+'Pob x Genero'!CE107","v":22},{"$f":"'Pob x Genero'!AS107+'Pob x Genero'!CF107","v":88},{"$f":"'Pob x Genero'!AT107","v":{"v":1473,"d":"1,473"}},{"$f":"SUM('Pob x Genero'!BE107:BI107)","v":136},{"$f":"SUM('Pob x Genero'!BJ107:BN107)","v":159},{"$f":"SUM('Pob x Genero'!BO107:BT107)","v":554},{"$f":"'Pob x Genero'!CG107","v":103},null,null,{"v":2919,"d":"2,919"},576,338,544,956,505]
["040802","AREQUIPA","AREQUIPA","LA UNION","ALCA",{"v":1752,"d":"1,752"},{"$f":"'Pob x Genero'!H108+'Pob x Genero'!AU108","v":32},{"$f":"'Pob x Genero'!I108+'Pob x Genero'!AV108","v":29},{"$f":"'Pob x Genero'!J108+'Pob x Genero'!AW108","v":32},{"$f":"'Pob x Genero'!K108+'Pob x Genero'!AX108","v":28},{"$f":"'Pob x Genero'!L108+'Pob x Genero'!AY108","v":26},{"$f":"'Pob x Genero'!M108+'Pob x Genero'!AZ108","v":18},{"$f":"'Pob x Genero'!N108+'Pob x Genero'!BA108","v":27},{"$f":"'Pob x Genero'!O108+'Pob x Genero'!BB108","v":34},{"$f":"'Pob x Genero'!P108+'Pob x Genero'!BC108","v":37},{"$f":"'Pob x Genero'!Q108+'Pob x Genero'!BD108","v":33},{"$f":"'Pob x Genero'!R108+'Pob x Genero'!BE108","v":27},{"$f":"'Pob x Genero'!S108+'Pob x Genero'!BF108","v":29},{"$f":"'Pob x Genero'!T108+'Pob x Genero'!BG108","v":26},{"$f":"'Pob x Genero'!U108+'Pob x Genero'!BH108","v":23},{"$f":"'Pob x Genero'!V108+'Pob x Genero'!BI108","v":32},{"$f":"'Pob x Genero'!W108+'Pob x Genero'!BJ108","v":34},{"$f":"'Pob x Genero'!X108+'Pob x Genero'!BK108","v":33},{"$f":"'Pob x Genero'!Y108+'Pob x Genero'!BL108","v":40},{"$f":"'Pob x Genero'!Z108+'Pob x Genero'!BM108","v":40},{"$f":"'Pob x Genero'!AA108+'Pob x Genero'!BN108","v":32},{"$f":"'Pob x Genero'!AB108+'Pob x Genero'!BO108","v":150},{"$f":"'Pob x Genero'!AC108+'Pob x Genero'!BP108","v":116},{"$f":"'Pob x Genero'!AD108+'Pob x Genero'!BQ108","v":106},{"$f":"'Pob x Genero'!AE108+'Pob x Genero'!BR108","v":91},{"$f":"'Pob x Genero'!AF108+'Pob x Genero'!BS108","v":85},{"$f":"'Pob x Genero'!AG108+'Pob x Genero'!BT108","v":96},{"$f":"'Pob x Genero'!AH108+'Pob x Genero'!BU108","v":94},{"$f":"'Pob x Genero'!AI108+'Pob x Genero'!BV108","v":94},{"$f":"'Pob x Genero'!AJ108+'Pob x Genero'!BW108","v":76},{"$f":"'Pob x Genero'!AK108+'Pob x Genero'!BX108","v":63},{"$f":"'Pob x Genero'!AL108+'Pob x Genero'!BY108","v":44},{"$f":"'Pob x Genero'!AM108+'Pob x Genero'!BZ108","v":51},{"$f":"'Pob x Genero'!AN108+'Pob x Genero'!CA108","v":36},{"$f":"'Pob x Genero'!AO108+'Pob x Genero'!CB108","v":38},{"$f":"'Pob x Genero'!AP108+'Pob x Genero'!CC108","v":1},{"$f":"'Pob x Genero'!AQ108+'Pob x Genero'!CD108","v":18},{"$f":"'Pob x Genero'!AR108+'Pob x Genero'!CE108","v":14},{"$f":"'Pob x Genero'!AS108+'Pob x Genero'!CF108","v":41},{"$f":"'Pob x Genero'!AT108","v":890},{"$f":"SUM('Pob x Genero'!BE108:BI108)","v":75},{"$f":"SUM('Pob x Genero'!BJ108:BN108)","v":98},{"$f":"SUM('Pob x Genero'!BO108:BT108)","v":309},{"$f":"'Pob x Genero'!CG108","v":61},null,null,{"v":1752,"d":"1,752"},352,188,338,566,308]
["040803","AREQUIPA","AREQUIPA","LA UNION","CHARCANA",614,{"$f":"'Pob x Genero'!H109+'Pob x Genero'!AU109","v":12},{"$f":"'Pob x Genero'!I109+'Pob x Genero'!AV109","v":8},{"$f":"'Pob x Genero'!J109+'Pob x Genero'!AW109","v":8},{"$f":"'Pob x Genero'!K109+'Pob x Genero'!AX109","v":10},{"$f":"'Pob x Genero'!L109+'Pob x Genero'!AY109","v":5},{"$f":"'Pob x Genero'!M109+'Pob x Genero'!AZ109","v":5},{"$f":"'Pob x Genero'!N109+'Pob x Genero'!BA109","v":13},{"$f":"'Pob x Genero'!O109+'Pob x Genero'!BB109","v":14},{"$f":"'Pob x Genero'!P109+'Pob x Genero'!BC109","v":8},{"$f":"'Pob x Genero'!Q109+'Pob x Genero'!BD109","v":14},{"$f":"'Pob x Genero'!R109+'Pob x Genero'!BE109","v":10},{"$f":"'Pob x Genero'!S109+'Pob x Genero'!BF109","v":13},{"$f":"'Pob x Genero'!T109+'Pob x Genero'!BG109","v":14},{"$f":"'Pob x Genero'!U109+'Pob x Genero'!BH109","v":9},{"$f":"'Pob x Genero'!V109+'Pob x Genero'!BI109","v":10},{"$f":"'Pob x Genero'!W109+'Pob x Genero'!BJ109","v":11},{"$f":"'Pob x Genero'!X109+'Pob x Genero'!BK109","v":11},{"$f":"'Pob x Genero'!Y109+'Pob x Genero'!BL109","v":14},{"$f":"'Pob x Genero'!Z109+'Pob x Genero'!BM109","v":11},{"$f":"'Pob x Genero'!AA109+'Pob x Genero'!BN109","v":4},{"$f":"'Pob x Genero'!AB109+'Pob x Genero'!BO109","v":40},{"$f":"'Pob x Genero'!AC109+'Pob x Genero'!BP109","v":45},{"$f":"'Pob x Genero'!AD109+'Pob x Genero'!BQ109","v":36},{"$f":"'Pob x Genero'!AE109+'Pob x Genero'!BR109","v":36},{"$f":"'Pob x Genero'!AF109+'Pob x Genero'!BS109","v":34},{"$f":"'Pob x Genero'!AG109+'Pob x Genero'!BT109","v":41},{"$f":"'Pob x Genero'!AH109+'Pob x Genero'!BU109","v":32},{"$f":"'Pob x Genero'!AI109+'Pob x Genero'!BV109","v":32},{"$f":"'Pob x Genero'!AJ109+'Pob x Genero'!BW109","v":20},{"$f":"'Pob x Genero'!AK109+'Pob x Genero'!BX109","v":24},{"$f":"'Pob x Genero'!AL109+'Pob x Genero'!BY109","v":22},{"$f":"'Pob x Genero'!AM109+'Pob x Genero'!BZ109","v":22},{"$f":"'Pob x Genero'!AN109+'Pob x Genero'!CA109","v":12},{"$f":"'Pob x Genero'!AO109+'Pob x Genero'!CB109","v":14},{"$f":"'Pob x Genero'!AP109+'Pob x Genero'!CC109","v":1},{"$f":"'Pob x Genero'!AQ109+'Pob x Genero'!CD109","v":9},{"$f":"'Pob x Genero'!AR109+'Pob x Genero'!CE109","v":3},{"$f":"'Pob x Genero'!AS109+'Pob x Genero'!CF109","v":18},{"$f":"'Pob x Genero'!AT109","v":312},{"$f":"SUM('Pob x Genero'!BE109:BI109)","v":38},{"$f":"SUM('Pob x Genero'!BJ109:BN109)","v":30},{"$f":"SUM('Pob x Genero'!BO109:BT109)","v":106},{"$f":"'Pob x Genero'!CG109","v":19},null,null,614,120,69,100,211,114]
["040804","AREQUIPA","AREQUIPA","LA UNION","HUAYNACOTAS",{"v":1898,"d":"1,898"},{"$f":"'Pob x Genero'!H110+'Pob x Genero'!AU110","v":36},{"$f":"'Pob x Genero'!I110+'Pob x Genero'!AV110","v":29},{"$f":"'Pob x Genero'!J110+'Pob x Genero'!AW110","v":41},{"$f":"'Pob x Genero'!K110+'Pob x Genero'!AX110","v":35},{"$f":"'Pob x Genero'!L110+'Pob x Genero'!AY110","v":21},{"$f":"'Pob x Genero'!M110+'Pob x Genero'!AZ110","v":26},{"$f":"'Pob x Genero'!N110+'Pob x Genero'!BA110","v":39},{"$f":"'Pob x Genero'!O110+'Pob x Genero'!BB110","v":32},{"$f":"'Pob x Genero'!P110+'Pob x Genero'!BC110","v":36},{"$f":"'Pob x Genero'!Q110+'Pob x Genero'!BD110","v":33},{"$f":"'Pob x Genero'!R110+'Pob x Genero'!BE110","v":33},{"$f":"'Pob x Genero'!S110+'Pob x Genero'!BF110","v":39},{"$f":"'Pob x Genero'!T110+'Pob x Genero'!BG110","v":34},{"$f":"'Pob x Genero'!U110+'Pob x Genero'!BH110","v":37},{"$f":"'Pob x Genero'!V110+'Pob x Genero'!BI110","v":34},{"$f":"'Pob x Genero'!W110+'Pob x Genero'!BJ110","v":38},{"$f":"'Pob x Genero'!X110+'Pob x Genero'!BK110","v":40},{"$f":"'Pob x Genero'!Y110+'Pob x Genero'!BL110","v":41},{"$f":"'Pob x Genero'!Z110+'Pob x Genero'!BM110","v":35},{"$f":"'Pob x Genero'!AA110+'Pob x Genero'!BN110","v":31},{"$f":"'Pob x Genero'!AB110+'Pob x Genero'!BO110","v":173},{"$f":"'Pob x Genero'!AC110+'Pob x Genero'!BP110","v":140},{"$f":"'Pob x Genero'!AD110+'Pob x Genero'!BQ110","v":98},{"$f":"'Pob x Genero'!AE110+'Pob x Genero'!BR110","v":95},{"$f":"'Pob x Genero'!AF110+'Pob x Genero'!BS110","v":112},{"$f":"'Pob x Genero'!AG110+'Pob x Genero'!BT110","v":114},{"$f":"'Pob x Genero'!AH110+'Pob x Genero'!BU110","v":103},{"$f":"'Pob x Genero'!AI110+'Pob x Genero'!BV110","v":96},{"$f":"'Pob x Genero'!AJ110+'Pob x Genero'!BW110","v":62},{"$f":"'Pob x Genero'!AK110+'Pob x Genero'!BX110","v":64},{"$f":"'Pob x Genero'!AL110+'Pob x Genero'!BY110","v":46},{"$f":"'Pob x Genero'!AM110+'Pob x Genero'!BZ110","v":37},{"$f":"'Pob x Genero'!AN110+'Pob x Genero'!CA110","v":29},{"$f":"'Pob x Genero'!AO110+'Pob x Genero'!CB110","v":39},{"$f":"'Pob x Genero'!AP110+'Pob x Genero'!CC110","v":1},{"$f":"'Pob x Genero'!AQ110+'Pob x Genero'!CD110","v":17},{"$f":"'Pob x Genero'!AR110+'Pob x Genero'!CE110","v":19},{"$f":"'Pob x Genero'!AS110+'Pob x Genero'!CF110","v":74},{"$f":"'Pob x Genero'!AT110","v":955},{"$f":"SUM('Pob x Genero'!BE110:BI110)","v":84},{"$f":"SUM('Pob x Genero'!BJ110:BN110)","v":93},{"$f":"SUM('Pob x Genero'!BO110:BT110)","v":357},{"$f":"'Pob x Genero'!CG110","v":103},null,null,{"v":1898,"d":"1,898"},400,224,379,618,277]
["040805","AREQUIPA","AREQUIPA","LA UNION","PAMPAMARCA",{"v":1158,"d":"1,158"},{"$f":"'Pob x Genero'!H111+'Pob x Genero'!AU111","v":91},{"$f":"'Pob x Genero'!I111+'Pob x Genero'!AV111","v":36},{"$f":"'Pob x Genero'!J111+'Pob x Genero'!AW111","v":7},{"$f":"'Pob x Genero'!K111+'Pob x Genero'!AX111","v":14},{"$f":"'Pob x Genero'!L111+'Pob x Genero'!AY111","v":11},{"$f":"'Pob x Genero'!M111+'Pob x Genero'!AZ111","v":12},{"$f":"'Pob x Genero'!N111+'Pob x Genero'!BA111","v":10},{"$f":"'Pob x Genero'!O111+'Pob x Genero'!BB111","v":15},{"$f":"'Pob x Genero'!P111+'Pob x Genero'!BC111","v":14},{"$f":"'Pob x Genero'!Q111+'Pob x Genero'!BD111","v":23},{"$f":"'Pob x Genero'!R111+'Pob x Genero'!BE111","v":18},{"$f":"'Pob x Genero'!S111+'Pob x Genero'!BF111","v":18},{"$f":"'Pob x Genero'!T111+'Pob x Genero'!BG111","v":26},{"$f":"'Pob x Genero'!U111+'Pob x Genero'!BH111","v":15},{"$f":"'Pob x Genero'!V111+'Pob x Genero'!BI111","v":22},{"$f":"'Pob x Genero'!W111+'Pob x Genero'!BJ111","v":23},{"$f":"'Pob x Genero'!X111+'Pob x Genero'!BK111","v":20},{"$f":"'Pob x Genero'!Y111+'Pob x Genero'!BL111","v":28},{"$f":"'Pob x Genero'!Z111+'Pob x Genero'!BM111","v":28},{"$f":"'Pob x Genero'!AA111+'Pob x Genero'!BN111","v":17},{"$f":"'Pob x Genero'!AB111+'Pob x Genero'!BO111","v":95},{"$f":"'Pob x Genero'!AC111+'Pob x Genero'!BP111","v":57},{"$f":"'Pob x Genero'!AD111+'Pob x Genero'!BQ111","v":73},{"$f":"'Pob x Genero'!AE111+'Pob x Genero'!BR111","v":66},{"$f":"'Pob x Genero'!AF111+'Pob x Genero'!BS111","v":70},{"$f":"'Pob x Genero'!AG111+'Pob x Genero'!BT111","v":61},{"$f":"'Pob x Genero'!AH111+'Pob x Genero'!BU111","v":52},{"$f":"'Pob x Genero'!AI111+'Pob x Genero'!BV111","v":47},{"$f":"'Pob x Genero'!AJ111+'Pob x Genero'!BW111","v":40},{"$f":"'Pob x Genero'!AK111+'Pob x Genero'!BX111","v":53},{"$f":"'Pob x Genero'!AL111+'Pob x Genero'!BY111","v":32},{"$f":"'Pob x Genero'!AM111+'Pob x Genero'!BZ111","v":27},{"$f":"'Pob x Genero'!AN111+'Pob x Genero'!CA111","v":16},{"$f":"'Pob x Genero'!AO111+'Pob x Genero'!CB111","v":21},{"$f":"'Pob x Genero'!AP111+'Pob x Genero'!CC111","v":2},{"$f":"'Pob x Genero'!AQ111+'Pob x Genero'!CD111","v":58},{"$f":"'Pob x Genero'!AR111+'Pob x Genero'!CE111","v":33},{"$f":"'Pob x Genero'!AS111+'Pob x Genero'!CF111","v":91},{"$f":"'Pob x Genero'!AT111","v":578},{"$f":"SUM('Pob x Genero'!BE111:BI111)","v":61},{"$f":"SUM('Pob x Genero'!BJ111:BN111)","v":56},{"$f":"SUM('Pob x Genero'!BO111:BT111)","v":191},{"$f":"'Pob x Genero'!CG111","v":33},null,null,{"v":1158,"d":"1,158"},269,134,197,369,189]
["040806","AREQUIPA","AREQUIPA","LA UNION","PUYCA",{"v":2379,"d":"2,379"},{"$f":"'Pob x Genero'!H112+'Pob x Genero'!AU112","v":34},{"$f":"'Pob x Genero'!I112+'Pob x Genero'!AV112","v":37},{"$f":"'Pob x Genero'!J112+'Pob x Genero'!AW112","v":46},{"$f":"'Pob x Genero'!K112+'Pob x Genero'!AX112","v":30},{"$f":"'Pob x Genero'!L112+'Pob x Genero'!AY112","v":38},{"$f":"'Pob x Genero'!M112+'Pob x Genero'!AZ112","v":33},{"$f":"'Pob x Genero'!N112+'Pob x Genero'!BA112","v":43},{"$f":"'Pob x Genero'!O112+'Pob x Genero'!BB112","v":56},{"$f":"'Pob x Genero'!P112+'Pob x Genero'!BC112","v":53},{"$f":"'Pob x Genero'!Q112+'Pob x Genero'!BD112","v":57},{"$f":"'Pob x Genero'!R112+'Pob x Genero'!BE112","v":58},{"$f":"'Pob x Genero'!S112+'Pob x Genero'!BF112","v":58},{"$f":"'Pob x Genero'!T112+'Pob x Genero'!BG112","v":55},{"$f":"'Pob x Genero'!U112+'Pob x Genero'!BH112","v":66},{"$f":"'Pob x Genero'!V112+'Pob x Genero'!BI112","v":54},{"$f":"'Pob x Genero'!W112+'Pob x Genero'!BJ112","v":69},{"$f":"'Pob x Genero'!X112+'Pob x Genero'!BK112","v":59},{"$f":"'Pob x Genero'!Y112+'Pob x Genero'!BL112","v":59},{"$f":"'Pob x Genero'!Z112+'Pob x Genero'!BM112","v":48},{"$f":"'Pob x Genero'!AA112+'Pob x Genero'!BN112","v":41},{"$f":"'Pob x Genero'!AB112+'Pob x Genero'!BO112","v":202},{"$f":"'Pob x Genero'!AC112+'Pob x Genero'!BP112","v":143},{"$f":"'Pob x Genero'!AD112+'Pob x Genero'!BQ112","v":148},{"$f":"'Pob x Genero'!AE112+'Pob x Genero'!BR112","v":116},{"$f":"'Pob x Genero'!AF112+'Pob x Genero'!BS112","v":131},{"$f":"'Pob x Genero'!AG112+'Pob x Genero'!BT112","v":116},{"$f":"'Pob x Genero'!AH112+'Pob x Genero'!BU112","v":119},{"$f":"'Pob x Genero'!AI112+'Pob x Genero'!BV112","v":105},{"$f":"'Pob x Genero'!AJ112+'Pob x Genero'!BW112","v":88},{"$f":"'Pob x Genero'!AK112+'Pob x Genero'!BX112","v":68},{"$f":"'Pob x Genero'!AL112+'Pob x Genero'!BY112","v":58},{"$f":"'Pob x Genero'!AM112+'Pob x Genero'!BZ112","v":42},{"$f":"'Pob x Genero'!AN112+'Pob x Genero'!CA112","v":29},{"$f":"'Pob x Genero'!AO112+'Pob x Genero'!CB112","v":20},{"$f":"'Pob x Genero'!AP112+'Pob x Genero'!CC112","v":1},{"$f":"'Pob x Genero'!AQ112+'Pob x Genero'!CD112","v":24},{"$f":"'Pob x Genero'!AR112+'Pob x Genero'!CE112","v":10},{"$f":"'Pob x Genero'!AS112+'Pob x Genero'!CF112","v":60},{"$f":"'Pob x Genero'!AT112","v":{"v":1196,"d":"1,196"}},{"$f":"SUM('Pob x Genero'!BE112:BI112)","v":143},{"$f":"SUM('Pob x Genero'!BJ112:BN112)","v":141},{"$f":"SUM('Pob x Genero'!BO112:BT112)","v":407},{"$f":"'Pob x Genero'!CG112","v":130},null,null,{"v":2379,"d":"2,379"},543,362,434,735,305]
["040807","AREQUIPA","AREQUIPA","LA UNION","QUECHUALLA",334,{"$f":"'Pob x Genero'!H113+'Pob x Genero'!AU113","v":3},{"$f":"'Pob x Genero'!I113+'Pob x Genero'!AV113","v":1},{"$f":"'Pob x Genero'!J113+'Pob x Genero'!AW113","v":0},{"$f":"'Pob x Genero'!K113+'Pob x Genero'!AX113","v":1},{"$f":"'Pob x Genero'!L113+'Pob x Genero'!AY113","v":3},{"$f":"'Pob x Genero'!M113+'Pob x Genero'!AZ113","v":4},{"$f":"'Pob x Genero'!N113+'Pob x Genero'!BA113","v":2},{"$f":"'Pob x Genero'!O113+'Pob x Genero'!BB113","v":2},{"$f":"'Pob x Genero'!P113+'Pob x Genero'!BC113","v":4},{"$f":"'Pob x Genero'!Q113+'Pob x Genero'!BD113","v":4},{"$f":"'Pob x Genero'!R113+'Pob x Genero'!BE113","v":1},{"$f":"'Pob x Genero'!S113+'Pob x Genero'!BF113","v":1},{"$f":"'Pob x Genero'!T113+'Pob x Genero'!BG113","v":1},{"$f":"'Pob x Genero'!U113+'Pob x Genero'!BH113","v":2},{"$f":"'Pob x Genero'!V113+'Pob x Genero'!BI113","v":0},{"$f":"'Pob x Genero'!W113+'Pob x Genero'!BJ113","v":2},{"$f":"'Pob x Genero'!X113+'Pob x Genero'!BK113","v":2},{"$f":"'Pob x Genero'!Y113+'Pob x Genero'!BL113","v":2},{"$f":"'Pob x Genero'!Z113+'Pob x Genero'!BM113","v":4},{"$f":"'Pob x Genero'!AA113+'Pob x Genero'!BN113","v":2},{"$f":"'Pob x Genero'!AB113+'Pob x Genero'!BO113","v":8},{"$f":"'Pob x Genero'!AC113+'Pob x Genero'!BP113","v":24},{"$f":"'Pob x Genero'!AD113+'Pob x Genero'!BQ113","v":38},{"$f":"'Pob x Genero'!AE113+'Pob x Genero'!BR113","v":29},{"$f":"'Pob x Genero'!AF113+'Pob x Genero'!BS113","v":22},{"$f":"'Pob x Genero'!AG113+'Pob x Genero'!BT113","v":25},{"$f":"'Pob x Genero'!AH113+'Pob x Genero'!BU113","v":20},{"$f":"'Pob x Genero'!AI113+'Pob x Genero'!BV113","v":28},{"$f":"'Pob x Genero'!AJ113+'Pob x Genero'!BW113","v":28},{"$f":"'Pob x Genero'!AK113+'Pob x Genero'!BX113","v":25},{"$f":"'Pob x Genero'!AL113+'Pob x Genero'!BY113","v":13},{"$f":"'Pob x Genero'!AM113+'Pob x Genero'!BZ113","v":12},{"$f":"'Pob x Genero'!AN113+'Pob x Genero'!CA113","v":9},{"$f":"'Pob x Genero'!AO113+'Pob x Genero'!CB113","v":12},{"$f":"'Pob x Genero'!AP113+'Pob x Genero'!CC113","v":1},{"$f":"'Pob x Genero'!AQ113+'Pob x Genero'!CD113","v":3},{"$f":"'Pob x Genero'!AR113+'Pob x Genero'!CE113","v":0},{"$f":"'Pob x Genero'!AS113+'Pob x Genero'!CF113","v":5},{"$f":"'Pob x Genero'!AT113","v":167},{"$f":"SUM('Pob x Genero'!BE113:BI113)","v":4},{"$f":"SUM('Pob x Genero'!BJ113:BN113)","v":7},{"$f":"SUM('Pob x Genero'!BO113:BT113)","v":72},{"$f":"'Pob x Genero'!CG113","v":14},null,null,334,26,9,38,162,99]
["040808","AREQUIPA","AREQUIPA","LA UNION","SAYLA",296,{"$f":"'Pob x Genero'!H114+'Pob x Genero'!AU114","v":9},{"$f":"'Pob x Genero'!I114+'Pob x Genero'!AV114","v":4},{"$f":"'Pob x Genero'!J114+'Pob x Genero'!AW114","v":4},{"$f":"'Pob x Genero'!K114+'Pob x Genero'!AX114","v":2},{"$f":"'Pob x Genero'!L114+'Pob x Genero'!AY114","v":0},{"$f":"'Pob x Genero'!M114+'Pob x Genero'!AZ114","v":4},{"$f":"'Pob x Genero'!N114+'Pob x Genero'!BA114","v":2},{"$f":"'Pob x Genero'!O114+'Pob x Genero'!BB114","v":4},{"$f":"'Pob x Genero'!P114+'Pob x Genero'!BC114","v":3},{"$f":"'Pob x Genero'!Q114+'Pob x Genero'!BD114","v":3},{"$f":"'Pob x Genero'!R114+'Pob x Genero'!BE114","v":4},{"$f":"'Pob x Genero'!S114+'Pob x Genero'!BF114","v":3},{"$f":"'Pob x Genero'!T114+'Pob x Genero'!BG114","v":7},{"$f":"'Pob x Genero'!U114+'Pob x Genero'!BH114","v":4},{"$f":"'Pob x Genero'!V114+'Pob x Genero'!BI114","v":3},{"$f":"'Pob x Genero'!W114+'Pob x Genero'!BJ114","v":4},{"$f":"'Pob x Genero'!X114+'Pob x Genero'!BK114","v":8},{"$f":"'Pob x Genero'!Y114+'Pob x Genero'!BL114","v":9},{"$f":"'Pob x Genero'!Z114+'Pob x Genero'!BM114","v":6},{"$f":"'Pob x Genero'!AA114+'Pob x Genero'!BN114","v":6},{"$f":"'Pob x Genero'!AB114+'Pob x Genero'!BO114","v":19},{"$f":"'Pob x Genero'!AC114+'Pob x Genero'!BP114","v":20},{"$f":"'Pob x Genero'!AD114+'Pob x Genero'!BQ114","v":19},{"$f":"'Pob x Genero'!AE114+'Pob x Genero'!BR114","v":18},{"$f":"'Pob x Genero'!AF114+'Pob x Genero'!BS114","v":17},{"$f":"'Pob x Genero'!AG114+'Pob x Genero'!BT114","v":19},{"$f":"'Pob x Genero'!AH114+'Pob x Genero'!BU114","v":12},{"$f":"'Pob x Genero'!AI114+'Pob x Genero'!BV114","v":17},{"$f":"'Pob x Genero'!AJ114+'Pob x Genero'!BW114","v":10},{"$f":"'Pob x Genero'!AK114+'Pob x Genero'!BX114","v":17},{"$f":"'Pob x Genero'!AL114+'Pob x Genero'!BY114","v":11},{"$f":"'Pob x Genero'!AM114+'Pob x Genero'!BZ114","v":7},{"$f":"'Pob x Genero'!AN114+'Pob x Genero'!CA114","v":6},{"$f":"'Pob x Genero'!AO114+'Pob x Genero'!CB114","v":15},{"$f":"'Pob x Genero'!AP114+'Pob x Genero'!CC114","v":1},{"$f":"'Pob x Genero'!AQ114+'Pob x Genero'!CD114","v":4},{"$f":"'Pob x Genero'!AR114+'Pob x Genero'!CE114","v":5},{"$f":"'Pob x Genero'!AS114+'Pob x Genero'!CF114","v":18},{"$f":"'Pob x Genero'!AT114","v":143},{"$f":"SUM('Pob x Genero'!BE114:BI114)","v":12},{"$f":"SUM('Pob x Genero'!BJ114:BN114)","v":20},{"$f":"SUM('Pob x Genero'!BO114:BT114)","v":46},{"$f":"'Pob x Genero'!CG114","v":14},null,null,296,42,35,51,102,66]
["040809","AREQUIPA","AREQUIPA","LA UNION","TAURIA",393,{"$f":"'Pob x Genero'!H115+'Pob x Genero'!AU115","v":7},{"$f":"'Pob x Genero'!I115+'Pob x Genero'!AV115","v":10},{"$f":"'Pob x Genero'!J115+'Pob x Genero'!AW115","v":3},{"$f":"'Pob x Genero'!K115+'Pob x Genero'!AX115","v":10},{"$f":"'Pob x Genero'!L115+'Pob x Genero'!AY115","v":10},{"$f":"'Pob x Genero'!M115+'Pob x Genero'!AZ115","v":7},{"$f":"'Pob x Genero'!N115+'Pob x Genero'!BA115","v":6},{"$f":"'Pob x Genero'!O115+'Pob x Genero'!BB115","v":3},{"$f":"'Pob x Genero'!P115+'Pob x Genero'!BC115","v":9},{"$f":"'Pob x Genero'!Q115+'Pob x Genero'!BD115","v":3},{"$f":"'Pob x Genero'!R115+'Pob x Genero'!BE115","v":6},{"$f":"'Pob x Genero'!S115+'Pob x Genero'!BF115","v":4},{"$f":"'Pob x Genero'!T115+'Pob x Genero'!BG115","v":7},{"$f":"'Pob x Genero'!U115+'Pob x Genero'!BH115","v":3},{"$f":"'Pob x Genero'!V115+'Pob x Genero'!BI115","v":4},{"$f":"'Pob x Genero'!W115+'Pob x Genero'!BJ115","v":5},{"$f":"'Pob x Genero'!X115+'Pob x Genero'!BK115","v":10},{"$f":"'Pob x Genero'!Y115+'Pob x Genero'!BL115","v":9},{"$f":"'Pob x Genero'!Z115+'Pob x Genero'!BM115","v":3},{"$f":"'Pob x Genero'!AA115+'Pob x Genero'!BN115","v":8},{"$f":"'Pob x Genero'!AB115+'Pob x Genero'!BO115","v":24},{"$f":"'Pob x Genero'!AC115+'Pob x Genero'!BP115","v":23},{"$f":"'Pob x Genero'!AD115+'Pob x Genero'!BQ115","v":31},{"$f":"'Pob x Genero'!AE115+'Pob x Genero'!BR115","v":32},{"$f":"'Pob x Genero'!AF115+'Pob x Genero'!BS115","v":27},{"$f":"'Pob x Genero'!AG115+'Pob x Genero'!BT115","v":14},{"$f":"'Pob x Genero'!AH115+'Pob x Genero'!BU115","v":9},{"$f":"'Pob x Genero'!AI115+'Pob x Genero'!BV115","v":18},{"$f":"'Pob x Genero'!AJ115+'Pob x Genero'!BW115","v":18},{"$f":"'Pob x Genero'!AK115+'Pob x Genero'!BX115","v":9},{"$f":"'Pob x Genero'!AL115+'Pob x Genero'!BY115","v":16},{"$f":"'Pob x Genero'!AM115+'Pob x Genero'!BZ115","v":16},{"$f":"'Pob x Genero'!AN115+'Pob x Genero'!CA115","v":13},{"$f":"'Pob x Genero'!AO115+'Pob x Genero'!CB115","v":16},{"$f":"'Pob x Genero'!AP115+'Pob x Genero'!CC115","v":0},{"$f":"'Pob x Genero'!AQ115+'Pob x Genero'!CD115","v":2},{"$f":"'Pob x Genero'!AR115+'Pob x Genero'!CE115","v":5},{"$f":"'Pob x Genero'!AS115+'Pob x Genero'!CF115","v":12},{"$f":"'Pob x Genero'!AT115","v":193},{"$f":"SUM('Pob x Genero'!BE115:BI115)","v":19},{"$f":"SUM('Pob x Genero'!BJ115:BN115)","v":21},{"$f":"SUM('Pob x Genero'!BO115:BT115)","v":59},{"$f":"'Pob x Genero'!CG115","v":17},null,null,393,78,38,58,131,88]
["040810","AREQUIPA","AREQUIPA","LA UNION","TOMEPAMPA",639,{"$f":"'Pob x Genero'!H116+'Pob x Genero'!AU116","v":6},{"$f":"'Pob x Genero'!I116+'Pob x Genero'!AV116","v":7},{"$f":"'Pob x Genero'!J116+'Pob x Genero'!AW116","v":5},{"$f":"'Pob x Genero'!K116+'Pob x Genero'!AX116","v":7},{"$f":"'Pob x Genero'!L116+'Pob x Genero'!AY116","v":7},{"$f":"'Pob x Genero'!M116+'Pob x Genero'!AZ116","v":4},{"$f":"'Pob x Genero'!N116+'Pob x Genero'!BA116","v":10},{"$f":"'Pob x Genero'!O116+'Pob x Genero'!BB116","v":4},{"$f":"'Pob x Genero'!P116+'Pob x Genero'!BC116","v":11},{"$f":"'Pob x Genero'!Q116+'Pob x Genero'!BD116","v":7},{"$f":"'Pob x Genero'!R116+'Pob x Genero'!BE116","v":9},{"$f":"'Pob x Genero'!S116+'Pob x Genero'!BF116","v":10},{"$f":"'Pob x Genero'!T116+'Pob x Genero'!BG116","v":7},{"$f":"'Pob x Genero'!U116+'Pob x Genero'!BH116","v":13},{"$f":"'Pob x Genero'!V116+'Pob x Genero'!BI116","v":12},{"$f":"'Pob x Genero'!W116+'Pob x Genero'!BJ116","v":8},{"$f":"'Pob x Genero'!X116+'Pob x Genero'!BK116","v":14},{"$f":"'Pob x Genero'!Y116+'Pob x Genero'!BL116","v":14},{"$f":"'Pob x Genero'!Z116+'Pob x Genero'!BM116","v":9},{"$f":"'Pob x Genero'!AA116+'Pob x Genero'!BN116","v":8},{"$f":"'Pob x Genero'!AB116+'Pob x Genero'!BO116","v":47},{"$f":"'Pob x Genero'!AC116+'Pob x Genero'!BP116","v":39},{"$f":"'Pob x Genero'!AD116+'Pob x Genero'!BQ116","v":45},{"$f":"'Pob x Genero'!AE116+'Pob x Genero'!BR116","v":31},{"$f":"'Pob x Genero'!AF116+'Pob x Genero'!BS116","v":40},{"$f":"'Pob x Genero'!AG116+'Pob x Genero'!BT116","v":42},{"$f":"'Pob x Genero'!AH116+'Pob x Genero'!BU116","v":48},{"$f":"'Pob x Genero'!AI116+'Pob x Genero'!BV116","v":29},{"$f":"'Pob x Genero'!AJ116+'Pob x Genero'!BW116","v":34},{"$f":"'Pob x Genero'!AK116+'Pob x Genero'!BX116","v":33},{"$f":"'Pob x Genero'!AL116+'Pob x Genero'!BY116","v":21},{"$f":"'Pob x Genero'!AM116+'Pob x Genero'!BZ116","v":22},{"$f":"'Pob x Genero'!AN116+'Pob x Genero'!CA116","v":17},{"$f":"'Pob x Genero'!AO116+'Pob x Genero'!CB116","v":19},{"$f":"'Pob x Genero'!AP116+'Pob x Genero'!CC116","v":0},{"$f":"'Pob x Genero'!AQ116+'Pob x Genero'!CD116","v":6},{"$f":"'Pob x Genero'!AR116+'Pob x Genero'!CE116","v":0},{"$f":"'Pob x Genero'!AS116+'Pob x Genero'!CF116","v":8},{"$f":"'Pob x Genero'!AT116","v":325},{"$f":"SUM('Pob x Genero'!BE116:BI116)","v":26},{"$f":"SUM('Pob x Genero'!BJ116:BN116)","v":26},{"$f":"SUM('Pob x Genero'!BO116:BT116)","v":123},{"$f":"'Pob x Genero'!CG116","v":13},null,null,639,87,68,103,235,146]
["040811","AREQUIPA","AREQUIPA","LA UNION","TORO",504,{"$f":"'Pob x Genero'!H117+'Pob x Genero'!AU117","v":7},{"$f":"'Pob x Genero'!I117+'Pob x Genero'!AV117","v":1},{"$f":"'Pob x Genero'!J117+'Pob x Genero'!AW117","v":5},{"$f":"'Pob x Genero'!K117+'Pob x Genero'!AX117","v":6},{"$f":"'Pob x Genero'!L117+'Pob x Genero'!AY117","v":1},{"$f":"'Pob x Genero'!M117+'Pob x Genero'!AZ117","v":3},{"$f":"'Pob x Genero'!N117+'Pob x Genero'!BA117","v":4},{"$f":"'Pob x Genero'!O117+'Pob x Genero'!BB117","v":3},{"$f":"'Pob x Genero'!P117+'Pob x Genero'!BC117","v":3},{"$f":"'Pob x Genero'!Q117+'Pob x Genero'!BD117","v":7},{"$f":"'Pob x Genero'!R117+'Pob x Genero'!BE117","v":6},{"$f":"'Pob x Genero'!S117+'Pob x Genero'!BF117","v":5},{"$f":"'Pob x Genero'!T117+'Pob x Genero'!BG117","v":5},{"$f":"'Pob x Genero'!U117+'Pob x Genero'!BH117","v":3},{"$f":"'Pob x Genero'!V117+'Pob x Genero'!BI117","v":7},{"$f":"'Pob x Genero'!W117+'Pob x Genero'!BJ117","v":4},{"$f":"'Pob x Genero'!X117+'Pob x Genero'!BK117","v":6},{"$f":"'Pob x Genero'!Y117+'Pob x Genero'!BL117","v":10},{"$f":"'Pob x Genero'!Z117+'Pob x Genero'!BM117","v":5},{"$f":"'Pob x Genero'!AA117+'Pob x Genero'!BN117","v":8},{"$f":"'Pob x Genero'!AB117+'Pob x Genero'!BO117","v":29},{"$f":"'Pob x Genero'!AC117+'Pob x Genero'!BP117","v":35},{"$f":"'Pob x Genero'!AD117+'Pob x Genero'!BQ117","v":23},{"$f":"'Pob x Genero'!AE117+'Pob x Genero'!BR117","v":28},{"$f":"'Pob x Genero'!AF117+'Pob x Genero'!BS117","v":26},{"$f":"'Pob x Genero'!AG117+'Pob x Genero'!BT117","v":40},{"$f":"'Pob x Genero'!AH117+'Pob x Genero'!BU117","v":40},{"$f":"'Pob x Genero'!AI117+'Pob x Genero'!BV117","v":38},{"$f":"'Pob x Genero'!AJ117+'Pob x Genero'!BW117","v":28},{"$f":"'Pob x Genero'!AK117+'Pob x Genero'!BX117","v":20},{"$f":"'Pob x Genero'!AL117+'Pob x Genero'!BY117","v":18},{"$f":"'Pob x Genero'!AM117+'Pob x Genero'!BZ117","v":21},{"$f":"'Pob x Genero'!AN117+'Pob x Genero'!CA117","v":27},{"$f":"'Pob x Genero'!AO117+'Pob x Genero'!CB117","v":32},{"$f":"'Pob x Genero'!AP117+'Pob x Genero'!CC117","v":1},{"$f":"'Pob x Genero'!AQ117+'Pob x Genero'!CD117","v":5},{"$f":"'Pob x Genero'!AR117+'Pob x Genero'!CE117","v":2},{"$f":"'Pob x Genero'!AS117+'Pob x Genero'!CF117","v":8},{"$f":"'Pob x Genero'!AT117","v":255},{"$f":"SUM('Pob x Genero'!BE117:BI117)","v":14},{"$f":"SUM('Pob x Genero'!BJ117:BN117)","v":17},{"$f":"SUM('Pob x Genero'!BO117:BT117)","v":89},{"$f":"'Pob x Genero'!CG117","v":11},null,null,504,51,35,77,195,146]
[]
["NOTA: LA POBLACION ESTIMADA DE EDADES  SIMPLES Y GRUPOS DE EDAD DE DISTRITOS, CORRESPONDEN A CIFRAS REFERENCIALES HASTA OBTENER LAS CIFRAS DE LAS PROYECCIONES DEL INEI"]
["FUENTE: CENSO NACIONAL XI DE POBLACION Y VI DE VIVIENDA 2017/- BOLETIN DEMOGRAFICO Nº 26,37, 39 / RENIEC / Padrón Nominal/ CNV"]
["La población de 0-5 años corresponden al reporte de la poblacion del Padrón Nominal con corte al 31/12/2023 con ajuste en el grupo de edad de 0 años"]
["OFICINA DE GESTION DE LA INFORMACION - MINISTERIO DE SALUD"]

{"sheet":"EESS","index":3,"n_rows":401,"n_cols":58,"rows_kept":401,"merged":[[5,43,5,45],[5,46,6,46],[5,47,6,47],[5,48,5,50],[5,51,6,51]]}
[]
[]
[]
["POBLACION ESTIMADA POR EDADES SIMPLES Y GRUPOS DE EDAD, SEGÚN DEPARTAMENTO y PROVINCIA. 2024"]
["* Actualizado con datos INEI"]
["POBLACION 2024",{"$nulls":8},"POBLACION TOTAL, POR EDADS SIMPLES",{"$nulls":19},"POBLACIÓN TOTAL,  POR GRUPOS QUINQUEN ALES DE EDAD",{"$nulls":13},"EDADES ESPECIALES",null,null,"NACIMIENTOS VIVOS","POBLACION FEMENINA TOTAL","POBLACION FEMENINA",null,null,"GESTANTES  ESPERADAS"]
["UBIGEO","DIRESA","DEPARTAMENTO","PROVINCIA","DISTRITO",{"$nulls":3},"Total","0",1,2,3,4,5,6,7,8,9,10,11,12,13,14,15,16,17,18,19,"20-24","25-29","30-34","35-39","40-44","45-49","50-54","55-59","60-64","65-69","70-74","75-79","80-84","85-+","28 DIAS","0-5 MESES","6-11 MESES",null,null,"10 - 14","15- 19","20- 49",null,"TOTAL","NIÑO","Adolescente","Joven","Adulto","Adulto Mayor"]
[{"$nulls":5},"IPRESS","ESTABLECIMIENTO","%",{"v":1594091,"d":"1,594,091"},{"v":17582,"d":"17,582"},{"v":17584,"d":"17,584"},{"v":17595,"d":"17,595"},{"v":20559,"d":"20,559"},{"v":22083,"d":"22,083"},{"v":22837,"d":"22,837"},{"v":26471,"d":"26,471"},{"v":26959,"d":"26,959"},{"v":27070,"d":"27,070"},{"v":26055,"d":"26,055"},{"v":25314,"d":"25,314"},{"v":25751,"d":"25,751"},{"v":26392,"d":"26,392"},{"v":25372,"d":"25,372"},{"v":23695,"d":"23,695"},{"v":23769,"d":"23,769"},{"v":23977,"d":"23,977"},{"v":23863,"d":"23,863"},{"v":23424,"d":"23,424"},{"v":23557,"d":"23,557"},{"v":121848,"d":"121,848"},{"v":138442,"d":"138,442"},{"v":137846,"d":"137,846"},{"v":127608,"d":"127,608"},{"v":118255,"d":"118,255"},{"v":107124,"d":"107,124"},{"v":89802,"d":"89,802"},{"v":76209,"d":"76,209"},{"v":61196,"d":"61,196"},{"v":49581,"d":"49,581"},{"v":36235,"d":"36,235"},{"v":26050,"d":"26,050"},{"v":16960,"d":"16,960"},{"v":17026,"d":"17,026"},{"v":1236,"d":"1,236"},{"v":8823,"d":"8,823"},{"v":8759,"d":"8,759"},{"v":25610,"d":"25,610"},{"v":809259,"d":"809,259"},{"v":63041,"d":"63,041"},{"v":59690,"d":"59,690"},{"v":378691,"d":"378,691"},{"v":40721,"d":"40,721"},{"v":1594091,"d":"1,594,091"},{"v":275860,"d":"275,860"},{"v":147068,"d":"147,068"},{"v":307271,"d":"307,271"},{"v":656844,"d":"656,844"},{"v":207048,"d":"207,048"}]
["040101","AREQUIPA","AREQUIPA","AREQUIPA","AREQUIPA",{"$nulls":3},{"v":56005,"d":"56,005"},555,468,486,639,730,816,638,688,689,635,631,642,648,630,613,616,603,596,570,595,{"v":3349,"d":"3,349"},{"v":3685,"d":"3,685"},{"v":3994,"d":"3,994"},{"v":3717,"d":"3,717"},{"v":3804,"d":"3,804"},{"v":4016,"d":"4,016"},{"v":3956,"d":"3,956"},{"v":3803,"d":"3,803"},{"v":3486,"d":"3,486"},{"v":2989,"d":"2,989"},{"v":2343,"d":"2,343"},{"v":1745,"d":"1,745"},{"v":1261,"d":"1,261"},{"v":1369,"d":"1,369"},35,283,272,802,{"v":28454,"d":"28,454"},{"v":1502,"d":"1,502"},{"v":1445,"d":"1,445"},{"v":11187,"d":"11,187"},{"v":1752,"d":"1,752"},{"v":56005,"d":"56,005"},{"v":7617,"d":"7,617"},{"v":3706,"d":"3,706"},{"v":8199,"d":"8,199"},{"v":23290,"d":"23,290"},{"v":13193,"d":"13,193"}]
[{"$nulls":5},7397,"INSTITUTO REGIONAL DE ENFERMEDADES NEOPLASICAS",0,0,0,0,0,0,0,0,0,0,0,0,0,0,0,0,0,0,0,0,0,0,0,0,0,0,0,0,0,0,0,0,0,0,0,0,0,0,0,0,0,0,0,0,0,0,0,0,0,0,0]
[{"$nulls":5},1232,"HOSPITAL GOYENECHE",0,0,0,0,0,0,0,0,0,0,0,0,0,0,0,0,0,0,0,0,0,0,0,0,0,0,0,0,0,0,0,0,0,0,0,0,0,0,0,0,0,0,0,0,0,0,0,0,0,0,0]
[{"$nulls":5},1231,"HOSPITAL REGIONAL HONORIO DELGADO ESPINOZA",0,0,0,0,0,0,0,0,0,0,0,0,0,0,0,0,0,0,0,0,0,0,0,0,0,0,0,0,0,0,0,0,0,0,0,0,0,0,0,0,0,0,0,0,0,0,0,0,0,0,0]
[{"$nulls":5},1291,"CENTRO DE SALUD ALTO SELVA ALEGRE",20,11193,111,92,98,127,146,164,126,136,137,127,127,130,128,126,121,124,119,120,114,119,669,737,798,745,760,804,792,759,698,597,467,349,253,273,7,55,56,162,5690,302,289,2239,352,11201,1525,742,1639,4658,2637]
[{"$nulls":5},1294,"CENTRO DE SALUD MARIANO MELGAR",20,11203,111,94,97,128,146,163,128,138,138,127,126,128,130,126,123,123,121,119,114,119,670,737,799,743,761,803,791,761,697,598,469,349,252,274,7,57,54,160,5691,300,289,2237,350,11201,1523,741,1640,4658,2639]
[{"$nulls":5},1293,"CENTRO DE SALUD MIRAFLORES",20,11203,111,94,97,128,146,163,128,138,138,127,126,128,130,126,123,123,121,119,114,119,670,737,799,743,761,803,791,761,697,598,469,349,252,274,7,57,54,160,5691,300,289,2237,350,11201,1523,741,1640,4658,2639]
[{"$nulls":5},1233,"CENTRO DE SALUD YANAHUARA",20,11203,111,94,97,128,146,163,128,138,138,127,126,128,130,126,123,123,121,119,114,119,670,737,799,743,761,803,791,761,697,598,469,349,252,274,7,57,54,160,5691,300,289,2237,350,11201,1523,741,1640,4658,2639]
[{"$nulls":5},1263,"PUESTO DE SALUD 13 DE ENERO (VRH)",20,11203,111,94,97,128,146,163,128,138,138,127,126,128,130,126,123,123,121,119,114,119,670,737,799,743,761,803,791,761,697,598,469,349,252,274,7,57,54,160,5691,300,289,2237,350,11201,1523,741,1640,4658,2639]
["040102","AREQUIPA","AREQUIPA","AREQUIPA","ALTO SELVA ALEGRE",{"$nulls":3},{"v":92580,"d":"92,580"},879,810,{"v":1005,"d":"1,005"},{"v":1281,"d":"1,281"},{"v":1319,"d":"1,319"},{"v":1402,"d":"1,402"},{"v":1531,"d":"1,531"},{"v":1585,"d":"1,585"},{"v":1570,"d":"1,570"},{"v":1494,"d":"1,494"},{"v":1464,"d":"1,464"},{"v":1484,"d":"1,484"},{"v":1486,"d":"1,486"},{"v":1472,"d":"1,472"},{"v":1391,"d":"1,391"},{"v":1277,"d":"1,277"},{"v":1341,"d":"1,341"},{"v":1311,"d":"1,311"},{"v":1236,"d":"1,236"},{"v":1375,"d":"1,375"},{"v":7392,"d":"7,392"},{"v":8867,"d":"8,867"},{"v":8611,"d":"8,611"},{"v":7400,"d":"7,400"},{"v":6642,"d":"6,642"},{"v":5831,"d":"5,831"},{"v":5134,"d":"5,134"},{"v":4544,"d":"4,544"},{"v":3827,"d":"3,827"},{"v":2796,"d":"2,796"},{"v":1830,"d":"1,830"},{"v":1232,"d":"1,232"},837,924,71,497,382,{"v":1262,"d":"1,262"},{"v":47028,"d":"47,028"},{"v":3537,"d":"3,537"},{"v":3215,"d":"3,215"},{"v":22515,"d":"22,515"},{"v":2425,"d":"2,425"},{"v":92580,"d":"92,580"},{"v":15824,"d":"15,824"},{"v":8278,"d":"8,278"},{"v":18870,"d":"18,870"},{"v":38162,"d":"38,162"},{"v":11446,"d":"11,446"}]
[{"$nulls":5},1291,"CENTRO DE SALUD ALTO SELVA ALEGRE",28,25809,212,217,258,330,350,393,429,444,440,418,410,416,416,412,389,358,375,367,346,385,2070,2483,2411,2072,1860,1633,1438,1272,1072,783,512,345,234,259,20,139,107,353,13168,990,900,6304,679,25922,4431,2318,5284,10685,3205]
[{"$nulls":5},1300,"APURIMAC",11,9997,66,61,75,96,99,154,168,174,173,164,161,163,163,162,153,140,148,144,136,151,813,975,947,814,731,641,565,500,421,308,201,136,92,102,8,55,42,139,5173,389,354,2477,267,10184,1741,911,2076,4198,1259]
[{"$nulls":5},1302,"INDEPENDENCIA",33,29993,197,182,226,287,296,463,505,523,518,494,483,489,491,486,460,422,442,433,408,454,2440,2926,2842,2442,2191,1924,1694,1500,1263,921,604,406,277,304,23,163,126,417,15519,1168,1061,7430,800,30551,5221,2732,6227,12594,3777]
[{"$nulls":5},1301,"LEONES DEL MISTI",9,8180,54,50,61,78,81,126,138,143,141,134,132,134,134,132,125,115,121,118,111,124,665,798,775,666,598,525,462,409,344,252,165,111,75,83,6,45,34,114,4233,318,289,2026,218,8332,1424,745,1698,3435,1030]
[{"$nulls":5},1303,"SAN JUAN BAUTISTA",7,6373,52,39,48,61,63,98,107,111,110,105,102,104,104,103,97,89,94,92,87,96,517,621,603,518,465,408,359,318,268,196,128,86,59,65,5,35,27,88,3292,248,225,1576,170,6481,1108,579,1321,2671,801]
[{"$nulls":5},1304,"HEROES DEL CENEPA",12,10924,91,66,82,105,107,168,184,190,188,179,176,178,178,177,167,153,161,157,148,165,887,1064,1033,888,797,700,616,545,459,336,220,148,100,111,9,60,46,151,5643,424,386,2702,291,11110,1899,993,2264,4579,1374]
[{"$nulls":6},"NO MINSA",null,1304,207,195,255,324,323]
["040103","AREQUIPA","AREQUIPA","AREQUIPA","CAYMA",{"$nulls":3},{"v":110215,"d":"110,215"},{"v":1238,"d":"1,238"},{"v":1318,"d":"1,318"},{"v":1231,"d":"1,231"},{"v":1444,"d":"1,444"},{"v":1659,"d":"1,659"},{"v":1680,"d":"1,680"},{"v":2014,"d":"2,014"},{"v":1976,"d":"1,976"},{"v":1958,"d":"1,958"},{"v":1848,"d":"1,848"},{"v":1796,"d":"1,796"},{"v":1796,"d":"1,796"},{"v":1928,"d":"1,928"},{"v":1776,"d":"1,776"},{"v":1622,"d":"1,622"},{"v":1683,"d":"1,683"},{"v":1514,"d":"1,514"},{"v":1593,"d":"1,593"},{"v":1611,"d":"1,611"},{"v":1576,"d":"1,576"},{"v":8557,"d":"8,557"},{"v":9966,"d":"9,966"},{"v":10456,"d":"10,456"},{"v":9262,"d":"9,262"},{"v":7997,"d":"7,997"},{"v":6977,"d":"6,977"},{"v":5827,"d":"5,827"},{"v":4929,"d":"4,929"},{"v":4058,"d":"4,058"},{"v":3214,"d":"3,214"},{"v":2256,"d":"2,256"},{"v":1587,"d":"1,587"},908,960,90,614,624,{"v":1712,"d":"1,712"},{"v":55953,"d":"55,953"},{"v":4378,"d":"4,378"},{"v":3920,"d":"3,920"},{"v":26733,"d":"26,733"},{"v":2625,"d":"2,625"},{"v":110215,"d":"110,215"},{"v":19958,"d":"19,958"},{"v":10116,"d":"10,116"},{"v":21710,"d":"21,710"},{"v":45448,"d":"45,448"},{"v":12983,"d":"12,983"}]
[{"$nulls":5},1234,"CENTRO DE SALUD FRANCISCO BOLOGNESI",16,17300,155,143,134,157,180,269,322,316,313,296,287,287,308,284,260,269,242,255,258,252,1369,1595,1673,1482,1280,1116,932,789,649,514,361,254,145,154,14,98,100,274,8952,700,627,4277,420,17634,3193,1619,3474,7272,2077]
[{"$nulls":5},1244,"PUESTO DE SALUD LA TOMILLA",8,8640,67,71,67,79,90,134,161,158,157,148,144,144,154,142,130,135,121,127,129,126,685,797,836,741,640,558,466,394,325,257,180,127,73,77,7,49,50,137,4476,350,314,2139,210,8817,1597,809,1737,3636,1039]
[{"$nulls":5},1235,"BUENOS AIRES DE CAYMA",20,21605,168,179,167,196,226,336,403,396,391,369,360,360,386,356,324,337,303,318,322,316,1711,1993,2092,1853,1599,1396,1166,986,811,643,452,318,181,191,18,123,124,342,11191,876,784,5346,525,22044,3991,2024,4341,9089,2597]
[{"$nulls":5},1245,"SAN JOSE",20,21563,129,180,167,197,226,336,403,395,392,370,359,359,386,355,324,337,303,319,322,315,1711,1993,2091,1852,1599,1395,1165,986,812,643,451,317,182,192,18,123,125,342,11191,876,784,5347,525,22043,3992,2023,4342,9090,2597]
[{"$nulls":5},1246,"DEAN VALDIVIA",15,16240,166,135,126,148,169,252,302,296,294,277,269,269,289,266,243,252,227,239,242,236,1284,1495,1568,1389,1200,1047,874,739,609,482,338,238,136,144,14,92,94,257,8393,657,588,4010,394,16532,2994,1517,3257,6817,1947]
[{"$nulls":5},6890,"PUESTO DE SALUD RAFAEL BELAUNDE",21,22663,157,188,176,206,237,353,423,415,411,388,377,377,405,373,341,353,318,335,338,331,1797,2093,2196,1945,1679,1465,1224,1035,852,675,474,333,191,202,19,129,131,360,11750,919,823,5614,551,23145,4191,2124,4559,9544,2726]
[{"$nulls":6},"NO MINSA",null,2204,396,422,394,461,531]
["040104","AREQUIPA","AREQUIPA","AREQUIPA","CERRO COLORADO",{"$nulls":3},{"v":244282,"d":"244,282"},{"v":2414,"d":"2,414"},{"v":2457,"d":"2,457"},{"v":2630,"d":"2,630"},{"v":3040,"d":"3,040"},{"v":3353,"d":"3,353"},{"v":3274,"d":"3,274"},{"v":4625,"d":"4,625"},{"v":4624,"d":"4,624"},{"v":5029,"d":"5,029"},{"v":4810,"d":"4,810"},{"v":4504,"d":"4,504"},{"v":4463,"d":"4,463"},{"v":4515,"d":"4,515"},{"v":4298,"d":"4,298"},{"v":3846,"d":"3,846"},{"v":3957,"d":"3,957"},{"v":3801,"d":"3,801"},{"v":3934,"d":"3,934"},{"v":3881,"d":"3,881"},{"v":4018,"d":"4,018"},{"v":20686,"d":"20,686"},{"v":22865,"d":"22,865"},{"v":22605,"d":"22,605"},{"v":20399,"d":"20,399"},{"v":18823,"d":"18,823"},{"v":15912,"d":"15,912"},{"v":12386,"d":"12,386"},{"v":9778,"d":"9,778"},{"v":7086,"d":"7,086"},{"v":5729,"d":"5,729"},{"v":4267,"d":"4,267"},{"v":2790,"d":"2,790"},{"v":1803,"d":"1,803"},{"v":1680,"d":"1,680"},197,{"v":1317,"d":"1,317"},{"v":1097,"d":"1,097"},{"v":3684,"d":"3,684"},{"v":124587,"d":"124,587"},{"v":10700,"d":"10,700"},{"v":9762,"d":"9,762"},{"v":61774,"d":"61,774"},{"v":6609,"d":"6,609"},{"v":244282,"d":"244,282"},{"v":45223,"d":"45,223"},{"v":24351,"d":"24,351"},{"v":51450,"d":"51,450"},{"v":99903,"d":"99,903"},{"v":23355,"d":"23,355"}]
[{"$nulls":5},1236,"CERRO COLORADO",11,26308,107,184,197,227,251,360,509,509,553,529,495,491,497,473,423,435,418,433,427,442,2275,2515,2487,2244,2071,1750,1362,1076,779,630,469,307,198,185,22,145,121,405,13705,1177,1074,6795,727,26871,4975,2679,5660,10989,2569]
[{"$nulls":5},1248,"ALTO LIBERTAD",9,21546,109,150,161,186,205,295,416,416,453,433,405,402,406,387,346,356,342,354,349,362,1862,2058,2034,1836,1694,1432,1115,880,638,516,384,251,162,151,18,119,99,332,11213,963,879,5560,595,21985,4070,2192,4631,8991,2102]
[{"$nulls":5},1238,"CENTRO DE SALUD MARISCAL CASTILLA",8,19184,131,134,143,165,182,262,370,370,402,385,360,357,361,344,308,317,304,315,310,321,1655,1829,1808,1632,1506,1273,991,782,567,458,341,223,144,134,16,105,88,295,9967,856,781,4942,529,19543,3618,1948,4116,7992,1868]
[{"$nulls":5},1249,"CENTRO DE SALUD SEMI RURAL PACHACUTEC",8,19153,100,134,143,165,182,262,370,370,402,385,360,357,361,344,308,317,304,315,310,321,1655,1829,1808,1632,1506,1273,991,782,567,458,341,223,144,134,16,105,88,295,9967,856,781,4942,529,19543,3618,1948,4116,7992,1868]
[{"$nulls":5},1250,"PUESTO DE SALUD JOSE SANTOS ATAHUALPA",3,7196,49,50,54,62,69,98,139,139,151,144,135,134,135,129,115,119,114,118,116,121,621,686,678,612,565,477,372,293,213,172,128,84,54,50,6,40,33,111,3738,321,293,1853,198,7328,1357,731,1544,2997,701]
[{"$nulls":5},1252,"PUESTO DE SALUD EL CURAL",1,2398,16,17,18,20,23,33,46,46,50,48,45,45,45,43,38,40,38,39,39,40,207,229,226,204,188,159,124,98,71,57,43,28,18,17,2,13,11,37,1246,107,98,618,66,2443,452,244,515,999,234]
[{"$nulls":5},1237,"MARITZA CAMPOS DIAZ - ZAMACOLA",13,31239,274,217,233,269,296,426,601,601,654,625,586,580,587,559,500,514,494,511,505,522,2689,2972,2939,2652,2447,2069,1610,1271,921,745,555,363,234,218,26,171,143,479,16196,1391,1269,8031,859,31757,5879,3166,6689,12987,3036]
[{"$nulls":5},1251,"PUESTO DE SALUD NAZARENO",17,40746,248,284,304,352,388,557,786,786,855,818,766,759,768,731,654,673,646,669,660,683,3517,3887,3843,3468,3200,2705,2106,1662,1205,974,725,474,307,286,33,224,186,626,21180,1819,1660,10502,1124,41528,7688,4140,8747,16984,3970]
[{"$nulls":5},1247,"PUESTO DE SALUD CIUDAD MUNICIPAL",19,45641,382,317,341,394,432,621,879,878,956,914,857,847,858,815,731,751,723,747,738,764,3930,4345,4295,3875,3575,3024,2353,1858,1346,1089,812,530,344,320,36,250,207,699,23670,2033,1853,11736,1255,46413,8591,4624,9772,18983,4438]
[{"$nulls":5},11023,"PUESTO DE SALUD PERUARBO",11,26427,226,184,197,227,251,360,509,509,553,529,495,491,497,473,423,435,418,433,427,442,2275,2515,2487,2244,2071,1750,1362,1076,779,630,469,307,198,185,22,145,121,405,13705,1177,1074,6795,727,26871,4975,2679,5660,10989,2569]
[{"$nulls":6},"NO MINSA",null,4444,772,786,839,973,1074]
["040105","AREQUIPA","AREQUIPA","AREQUIPA","CHARACATO",{"$nulls":3},{"v":18293,"d":"18,293"},167,194,165,194,213,200,376,334,280,288,299,294,326,309,267,268,272,243,270,333,{"v":1444,"d":"1,444"},{"v":1500,"d":"1,500"},{"v":1517,"d":"1,517"},{"v":1525,"d":"1,525"},{"v":1502,"d":"1,502"},{"v":1326,"d":"1,326"},{"v":1031,"d":"1,031"},859,655,568,406,307,198,163,6,71,96,227,{"v":9281,"d":"9,281"},733,689,{"v":4466,"d":"4,466"},369,{"v":18293,"d":"18,293"},{"v":3004,"d":"3,004"},{"v":1685,"d":"1,685"},{"v":3547,"d":"3,547"},{"v":7760,"d":"7,760"},{"v":2297,"d":"2,297"}]
[{"$nulls":5},1261,"CENTRO DE SALUD DE CHARACATO",100,18293,167,194,165,194,213,200,376,334,280,288,299,294,326,309,267,268,272,243,270,333,1444,1500,1517,1525,1502,1326,1031,859,655,568,406,307,198,163,6,71,96,227,9281,733,689,4466,369,18293,3004,1685,3547,7760,2297]
["040106","AREQUIPA","AREQUIPA","AREQUIPA","CHIGUATA",{"$nulls":3},{"v":3387,"d":"3,387"},54,49,53,69,60,46,48,57,53,49,42,57,40,35,46,48,26,41,42,40,235,269,305,273,238,215,197,169,129,133,105,65,48,51,8,22,32,83,{"v":1707,"d":"1,707"},105,96,798,170,{"v":3387,"d":"3,387"},637,236,586,{"v":1397,"d":"1,397"},531]
[{"$nulls":5},1299,"CENTRO DE SALUD CHIGUATA",80,2708,43,39,42,55,48,37,38,46,42,39,34,46,32,28,37,38,21,33,34,32,188,215,244,218,190,172,158,135,103,106,84,52,38,41,6,18,26,66,1366,84,77,638,136,2710,510,189,469,1118,425]
[{"$nulls":5},1320,"PUESTO DE SALUD ARENALES",20,679,11,10,11,14,12,9,10,11,11,10,8,11,8,7,9,10,5,8,8,8,47,54,61,55,48,43,39,34,26,27,21,13,10,10,2,4,6,17,341,21,19,160,34,677,127,47,117,279,106]
["040107","AREQUIPA","AREQUIPA","AREQUIPA","JACOBO HUNTER",{"$nulls":3},{"v":54617,"d":"54,617"},557,584,590,709,747,770,992,960,942,915,863,847,931,914,767,786,819,826,748,753,{"v":4209,"d":"4,209"},{"v":4773,"d":"4,773"},{"v":4586,"d":"4,586"},{"v":4493,"d":"4,493"},{"v":4207,"d":"4,207"},{"v":3783,"d":"3,783"},{"v":3132,"d":"3,132"},{"v":2598,"d":"2,598"},{"v":2013,"d":"2,013"},{"v":1678,"d":"1,678"},{"v":1184,"d":"1,184"},878,531,532,38,284,273,759,{"v":27727,"d":"27,727"},{"v":2145,"d":"2,145"},{"v":2010,"d":"2,010"},{"v":12987,"d":"12,987"},{"v":1397,"d":"1,397"},{"v":54617,"d":"54,617"},{"v":9476,"d":"9,476"},{"v":5043,"d":"5,043"},{"v":10483,"d":"10,483"},{"v":22799,"d":"22,799"},{"v":6816,"d":"6,816"}]
[{"$nulls":5},1259,"CENTRO DE SALUD JAVIER LLOSA GARCIA -  HUNTER",33,17684,124,131,133,159,167,254,328,317,311,303,285,279,307,303,253,258,269,273,247,249,1389,1574,1512,1484,1387,1250,1033,856,665,554,390,290,175,175,13,93,89,251,9151,707,662,4285,459,18022,3127,1665,3461,7523,2250]
[{"$nulls":5},1273,"PUESTO DE SALUD DANIEL ALCIDES CARRION",15,8042,57,60,61,72,76,116,149,144,141,137,129,127,140,137,115,118,123,124,112,113,631,716,688,674,631,567,470,390,302,252,178,132,80,80,6,43,41,114,4159,322,302,1948,210,8193,1421,756,1572,3420,1022]
[{"$nulls":5},1274,"PUESTO DE SALUD PAMPAS DEL CUZCO",16,8575,61,63,64,77,82,123,159,154,151,146,138,136,149,146,123,126,131,132,120,120,673,764,734,719,673,605,501,416,322,268,189,140,85,85,6,45,44,121,4436,343,322,2078,224,8739,1516,807,1677,3648,1091]
[{"$nulls":5},1275,"PUESTO DE SALUD CHILPINILLA",9,4825,34,36,36,44,46,69,89,86,85,82,78,76,84,82,69,71,74,74,67,68,379,430,413,404,379,340,282,234,181,151,107,79,48,48,3,26,25,68,2495,193,181,1169,126,4916,853,454,943,2052,613]
[{"$nulls":5},1276,"CENTRO DE SALUD CAMINOS DEL INCA",10,5359,38,39,40,48,51,77,99,96,94,92,86,85,93,91,77,79,82,83,75,75,421,477,459,449,421,378,313,260,201,168,118,88,53,53,4,28,27,76,2773,215,201,1299,140,5462,948,504,1048,2280,682]
[{"$nulls":5},1277,"ALTO ALIANZA",8,4290,31,32,32,39,41,62,79,77,75,73,69,68,74,73,61,63,66,66,60,60,337,382,367,359,337,303,251,208,161,134,95,70,42,43,3,23,22,61,2218,172,161,1039,112,4369,758,403,839,1824,545]
[{"$nulls":5},1279,"PUESTO DE SALUD UPIS PAISAJISTA",9,4825,34,36,36,44,46,69,89,86,85,82,78,76,84,82,69,71,74,74,67,68,379,430,413,404,379,340,282,234,181,151,107,79,48,48,3,26,25,68,2495,193,181,1169,126,4916,853,454,943,2052,613]
[{"$nulls":6},"NO MINSA",null,1017,178,187,188,226,238]
["040108","AREQUIPA","AREQUIPA","AREQUIPA","LA JOYA",{"$nulls":3},{"v":42239,"d":"42,239"},546,591,598,620,598,649,737,672,796,818,779,731,773,727,741,719,748,736,763,742,{"v":3597,"d":"3,597"},{"v":4029,"d":"4,029"},{"v":3594,"d":"3,594"},{"v":3431,"d":"3,431"},{"v":2858,"d":"2,858"},{"v":2667,"d":"2,667"},{"v":2018,"d":"2,018"},{"v":1705,"d":"1,705"},{"v":1325,"d":"1,325"},{"v":1102,"d":"1,102"},685,519,330,295,35,228,318,808,{"v":21473,"d":"21,473"},{"v":1946,"d":"1,946"},{"v":1904,"d":"1,904"},{"v":10279,"d":"10,279"},{"v":1115,"d":"1,115"},{"v":42239,"d":"42,239"},{"v":8135,"d":"8,135"},{"v":4444,"d":"4,444"},{"v":9131,"d":"9,131"},{"v":16273,"d":"16,273"},{"v":4256,"d":"4,256"}]
[{"$nulls":5},1322,"LA JOYA",20,8289,104,80,82,84,82,130,147,134,159,164,156,146,155,145,148,144,150,147,153,148,719,806,719,686,572,533,404,341,265,220,137,104,66,59,7,46,64,162,4295,389,381,2056,223,8448,1627,889,1826,3255,851]
[{"$nulls":5},1327,"PUESTO DE SALUD CERRITO BUENA VISTA",14,5782,52,56,57,59,57,91,103,94,111,115,109,102,108,102,104,101,105,103,107,104,504,564,503,480,400,373,283,239,186,154,96,73,46,41,5,32,45,113,3006,272,267,1439,156,5913,1139,622,1278,2278,596]
[{"$nulls":5},1330,"EL CRUCE - TRIUNFO",27,11147,101,108,109,114,109,177,199,182,215,220,210,197,209,196,201,194,203,198,206,201,970,1088,969,926,771,721,544,461,357,299,185,140,88,79,9,61,85,219,5798,527,514,2775,301,11405,2196,1200,2465,4394,1149]
[{"$nulls":5},1328,"LOS MEDANOS",5,2064,18,20,20,21,20,32,37,34,40,41,39,37,39,36,37,36,37,37,38,37,180,201,180,172,143,133,101,85,66,55,34,26,17,15,2,11,16,40,1074,97,95,514,56,2112,407,222,457,814,213]
[{"$nulls":5},1329,"BENITO LAZO",5,2064,18,20,20,21,20,32,37,34,40,41,39,37,39,36,37,36,37,37,38,37,180,201,180,172,143,133,101,85,66,55,34,26,17,15,2,11,16,40,1074,97,95,514,56,2112,407,222,457,814,213]
[{"$nulls":5},1323,"SAN ISIDRO",13,5459,41,77,78,81,78,84,96,87,103,106,101,95,100,95,96,93,97,96,99,96,468,524,467,446,372,347,262,222,172,143,89,67,43,38,5,30,41,105,2791,253,248,1336,145,5491,1058,578,1187,2115,553]
[{"$nulls":5},1333,"SAN JOSE",3,1269,16,18,18,19,18,19,22,20,24,25,23,22,23,22,22,22,22,22,23,22,108,121,108,103,86,80,61,51,40,33,21,16,10,9,1,7,10,24,644,58,57,308,33,1267,244,133,274,488,128]
[{"$nulls":5},1332,"PUESTO DE SALUD SAN CAMILO 6",6,2535,33,35,36,37,36,39,44,40,48,49,47,44,46,44,44,43,45,44,46,45,216,242,216,206,171,160,121,102,80,66,41,31,20,18,2,14,19,48,1288,117,114,617,67,2534,488,267,548,976,255]
[{"$nulls":5},1331,"LA CANO",7,2956,38,41,42,43,42,45,52,47,56,57,55,51,54,51,52,50,52,52,53,52,252,282,252,240,200,187,141,119,93,77,48,36,23,21,2,16,22,57,1503,136,133,720,78,2957,569,311,639,1139,298]
[{"$nulls":6},"NO MINSA",null,674,125,136,136,141,136]
["040109","AREQUIPA","AREQUIPA","AREQUIPA","MARIANO MELGAR",{"$nulls":3},{"v":68358,"d":"68,358"},776,788,739,821,890,924,{"v":1096,"d":"1,096"},{"v":1069,"d":"1,069"},{"v":1120,"d":"1,120"},{"v":1094,"d":"1,094"},{"v":1021,"d":"1,021"},{"v":1050,"d":"1,050"},{"v":1073,"d":"1,073"},{"v":1060,"d":"1,060"},{"v":1030,"d":"1,030"},{"v":1001,"d":"1,001"},{"v":1012,"d":"1,012"},943,960,{"v":1010,"d":"1,010"},{"v":5163,"d":"5,163"},{"v":5932,"d":"5,932"},{"v":5914,"d":"5,914"},{"v":5218,"d":"5,218"},{"v":5001,"d":"5,001"},{"v":4688,"d":"4,688"},{"v":4064,"d":"4,064"},{"v":3458,"d":"3,458"},{"v":2839,"d":"2,839"},{"v":2263,"d":"2,263"},{"v":1652,"d":"1,652"},{"v":1126,"d":"1,126"},756,807,68,400,376,{"v":1066,"d":"1,066"},{"v":34681,"d":"34,681"},{"v":2604,"d":"2,604"},{"v":2479,"d":"2,479"},{"v":15978,"d":"15,978"},{"v":1715,"d":"1,715"},{"v":68358,"d":"68,358"},{"v":11388,"d":"11,388"},{"v":6119,"d":"6,119"},{"v":13065,"d":"13,065"},{"v":28343,"d":"28,343"},{"v":9443,"d":"9,443"}]
[{"$nulls":5},1294,"CENTRO DE SALUD MARIANO MELGAR",30,20547,270,224,216,255,281,277,329,320,336,328,307,315,321,318,309,301,305,282,288,303,1548,1781,1774,1564,1501,1405,1219,1036,851,678,497,338,227,243,19,120,113,320,10405,781,743,4792,514,20506,3415,1835,3919,8502,2832]
[{"$nulls":5},1308,"PUESTO DE SALUD ATALAYA",20,13356,45,107,101,112,121,185,219,214,224,219,204,210,215,212,206,200,202,189,192,202,1033,1186,1183,1044,1000,938,813,692,568,453,330,225,151,161,14,80,75,213,6936,521,496,3196,343,13672,2278,1224,2613,5669,1889]
[{"$nulls":5},1295,"CENTRO DE SALUD GENERALISIMO SAN MARTIN",20,13439,128,107,101,112,121,185,219,214,224,219,204,210,215,212,206,200,202,189,192,202,1033,1186,1183,1044,1000,938,813,692,568,453,330,225,151,161,14,80,75,213,6936,521,496,3196,343,13672,2278,1224,2613,5669,1889]
[{"$nulls":5},1309,"JERUSALEN",20,13416,105,107,101,112,121,185,219,214,224,219,204,210,215,212,206,200,202,189,192,202,1033,1186,1183,1044,1000,938,813,692,568,453,330,225,151,161,14,80,75,213,6936,521,496,3196,343,13672,2278,1224,2613,5669,1889]
[{"$nulls":5},7743,"PUESTO DE SALUD SANTA ROSA",0,0,0,0,0,0,0,0,0,0,0,0,0,0,0,0,0,0,0,0,0,0,0,0,0,0,0,0,0,0,0,0,0,0,0,0,0,0,0,0,0,0,0,0,0,0,0,0,0,0,0]
[{"$nulls":5},7722,"EL MIRADOR",10,6707,53,54,50,56,61,92,110,107,112,109,102,105,107,106,103,100,101,94,96,101,516,593,591,522,500,469,406,346,284,226,165,113,76,81,7,40,38,107,3468,260,248,1598,172,6836,1139,612,1307,2834,944]
[{"$nulls":6},"NO MINSA",null,893,175,189,170,174,185]
["040110","AREQUIPA","AREQUIPA","AREQUIPA","MIRAFLORES",{"$nulls":3},{"v":67421,"d":"67,421"},694,728,655,774,898,{"v":1015,"d":"1,015"},{"v":1027,"d":"1,027"},{"v":1065,"d":"1,065"},{"v":1130,"d":"1,130"},991,{"v":1029,"d":"1,029"},988,985,984,938,862,927,885,908,977,{"v":5186,"d":"5,186"},{"v":5886,"d":"5,886"},{"v":5814,"d":"5,814"},{"v":5236,"d":"5,236"},{"v":5156,"d":"5,156"},{"v":4800,"d":"4,800"},{"v":4136,"d":"4,136"},{"v":3414,"d":"3,414"},{"v":2817,"d":"2,817"},{"v":2187,"d":"2,187"},{"v":1591,"d":"1,591"},{"v":1136,"d":"1,136"},760,842,47,330,364,{"v":1004,"d":"1,004"},{"v":34188,"d":"34,188"},{"v":2487,"d":"2,487"},{"v":2342,"d":"2,342"},{"v":16033,"d":"16,033"},{"v":1709,"d":"1,709"},{"v":67421,"d":"67,421"},{"v":10994,"d":"10,994"},{"v":5581,"d":"5,581"},{"v":12957,"d":"12,957"},{"v":28556,"d":"28,556"},{"v":9333,"d":"9,333"}]
[{"$nulls":5},1293,"CENTRO DE SALUD MIRAFLORES",34,22754,83,233,218,266,306,345,349,362,384,337,350,336,335,335,319,293,315,301,309,332,1763,2001,1977,1780,1753,1632,1406,1161,958,744,541,386,258,286,16,112,124,341,11624,846,796,5451,581,22923,3738,1898,4405,9709,3173]
[{"$nulls":5},1292,"CENTRO DE SALUD EDIFICADORES MISTI",40,26539,240,198,178,211,244,406,411,426,453,397,412,395,393,393,375,345,371,353,362,391,2074,2354,2326,2094,2063,1920,1654,1366,1127,874,637,454,304,338,18,133,146,403,13675,994,938,6413,683,26968,4397,2233,5182,11423,3733]
[{"$nulls":5},1306,"CENTRO DE SALUD PORVENIR-MIRAFLORES",10,6647,67,50,45,52,61,102,103,107,113,99,103,99,99,98,94,86,93,89,91,98,519,589,581,524,516,480,414,341,282,219,159,114,76,84,5,33,36,100,3419,249,234,1603,171,6742,1099,558,1296,2856,933]
[{"$nulls":5},1307,"CENTRO DE SALUD MATEO PUMACAHUA",8,5335,78,39,35,42,49,81,82,85,90,79,82,79,79,79,75,69,74,71,73,78,415,471,465,419,412,384,331,273,225,175,127,91,61,67,4,26,29,80,2735,199,187,1283,137,5394,880,446,1037,2284,747]
[{"$nulls":5},1305,"PUESTO DE SALUD TOMASA T. COMDEMAYTA",8,5335,78,39,35,42,49,81,82,85,90,79,82,79,79,79,75,69,74,71,73,78,415,471,465,419,412,384,331,273,225,175,127,91,61,67,4,26,29,80,2735,199,187,1283,137,5394,880,446,1037,2284,747]
[{"$nulls":6},"NO MINSA",null,811,148,169,144,161,189]
["040111","AREQUIPA","AREQUIPA","AREQUIPA","MOLLEBAYA",{"$nulls":3},{"v":8012,"d":"8,012"},70,79,61,72,64,69,114,173,163,134,126,129,103,111,125,124,121,111,125,84,496,702,884,783,677,624,366,355,309,234,177,122,62,63,2,36,34,103,{"v":4067,"d":"4,067"},299,280,{"v":2163,"d":"2,163"},177,{"v":8012,"d":"8,012"},{"v":1254,"d":"1,254"},695,{"v":1407,"d":"1,407"},{"v":3689,"d":"3,689"},967]
[{"$nulls":5},1285,"PUESTO DE SALUD MOLLEBAYA",30,2406,21,24,18,22,19,21,34,52,49,40,38,39,31,33,38,37,36,33,38,25,149,211,265,235,203,187,110,107,93,70,53,37,19,19,1,11,10,31,1220,90,84,649,53,2404,376,209,422,1107,290]
[{"$nulls":5},11677,"PUESTO DE SALUD MACHAHUAYA",70,5606,49,55,43,50,45,48,80,121,114,94,88,90,72,78,87,87,85,78,87,59,347,491,619,548,474,437,256,248,216,164,124,85,43,44,1,25,24,72,2847,209,196,1514,124,5608,878,486,985,2582,677]
["040112","AREQUIPA","AREQUIPA","AREQUIPA","PAUCARPATA",{"$nulls":3},{"v":140772,"d":"140,772"},{"v":1631,"d":"1,631"},{"v":1696,"d":"1,696"},{"v":1564,"d":"1,564"},{"v":1765,"d":"1,765"},{"v":2112,"d":"2,112"},{"v":2240,"d":"2,240"},{"v":2387,"d":"2,387"},{"v":2464,"d":"2,464"},{"v":2393,"d":"2,393"},{"v":2325,"d":"2,325"},{"v":2296,"d":"2,296"},{"v":2311,"d":"2,311"},{"v":2378,"d":"2,378"},{"v":2337,"d":"2,337"},{"v":2157,"d":"2,157"},{"v":2153,"d":"2,153"},{"v":2184,"d":"2,184"},{"v":2083,"d":"2,083"},{"v":2075,"d":"2,075"},{"v":2078,"d":"2,078"},{"v":10701,"d":"10,701"},{"v":11915,"d":"11,915"},{"v":11683,"d":"11,683"},{"v":10943,"d":"10,943"},{"v":10729,"d":"10,729"},{"v":9925,"d":"9,925"},{"v":8298,"d":"8,298"},{"v":6379,"d":"6,379"},{"v":4826,"d":"4,826"},{"v":4095,"d":"4,095"},{"v":3161,"d":"3,161"},{"v":2486,"d":"2,486"},{"v":1566,"d":"1,566"},{"v":1436,"d":"1,436"},104,793,838,{"v":2163,"d":"2,163"},{"v":71362,"d":"71,362"},{"v":5684,"d":"5,684"},{"v":5356,"d":"5,356"},{"v":32861,"d":"32,861"},{"v":3488,"d":"3,488"},{"v":140772,"d":"140,772"},{"v":25184,"d":"25,184"},{"v":13292,"d":"13,292"},{"v":26769,"d":"26,769"},{"v":57957,"d":"57,957"},{"v":17570,"d":"17,570"}]
[{"$nulls":5},1298,"CENTRO DE SALUD 15 DE AGOSTO",11,15165,124,125,118,131,158,247,263,272,264,254,250,254,263,256,235,239,240,228,227,230,1177,1310,1284,1205,1181,1090,912,702,530,447,348,273,172,156,14,88,91,239,7851,625,590,3615,383,15485,2770,1464,2942,6373,1931]
[{"$nulls":5},1316,"PUESTO DE SALUD MIGUEL GRAU  MODULO A",8,11036,88,92,85,96,115,179,191,197,191,186,184,185,190,187,173,172,175,167,166,166,856,953,935,875,858,794,664,510,386,328,253,199,125,115,8,63,67,173,5709,455,428,2629,279,11262,2015,1063,2142,4637,1406]
[{"$nulls":5},1317,"CENTRO DE SALUD MIGUEL GRAU  B",7,9661,78,81,74,84,101,157,167,172,168,163,161,162,166,164,151,151,153,146,145,145,749,834,818,766,751,695,581,447,338,287,221,174,110,101,7,56,59,151,4995,398,375,2300,244,9854,1763,930,1874,4057,1230]
[{"$nulls":5},1318,"PUESTO DE SALUD MIGUEL GRAU  MODULO C-D",7.5,10344,83,86,80,90,107,168,179,185,179,174,172,173,178,175,162,161,164,156,156,156,803,894,876,821,805,744,622,478,362,307,237,186,117,108,8,59,63,162,5352,426,402,2465,262,10558,1889,997,2008,4347,1318]
[{"$nulls":5},1296,"CENTRO DE SALUD  AMPLIACIÓN PAUCARPATA",10,13800,111,116,106,120,143,224,239,246,239,233,230,231,238,234,216,215,218,208,208,208,1070,1192,1168,1094,1073,993,830,638,483,410,316,249,157,144,10,79,84,216,7136,568,536,3286,349,14077,2518,1329,2677,5796,1757]
[{"$nulls":5},1310,"CENTRO DE SALUD MANUEL PRADO",8,11036,88,92,85,96,115,179,191,197,191,186,184,185,190,187,173,172,175,167,166,166,856,953,935,875,858,794,664,510,386,328,253,199,125,115,8,63,67,173,5709,455,428,2629,279,11262,2015,1063,2142,4637,1406]
[{"$nulls":5},1313,"CENTRO DE SALUD NUEVA ALBORADA",8,11036,88,92,85,96,115,179,191,197,191,186,184,185,190,187,173,172,175,167,166,166,856,953,935,875,858,794,664,510,386,328,253,199,125,115,8,63,67,173,5709,455,428,2629,279,11262,2015,1063,2142,4637,1406]
[{"$nulls":5},1315,"CENTRO DE SALUD CAMPO MARTE",7,9661,78,81,74,84,101,157,167,172,168,163,161,162,166,164,151,151,153,146,145,145,749,834,818,766,751,695,581,447,338,287,221,174,110,101,7,56,59,151,4995,398,375,2300,244,9854,1763,930,1874,4057,1230]
[{"$nulls":5},1297,"CENTRO DE SALUD CIUDAD BLANCA",10,13800,111,116,106,120,143,224,239,246,239,233,230,231,238,234,216,215,218,208,208,208,1070,1192,1168,1094,1073,993,830,638,483,410,316,249,157,144,10,79,84,216,7136,568,536,3286,349,14077,2518,1329,2677,5796,1757]
[{"$nulls":5},1314,"SAN JUAN DE CIUDAD BLANCA",8,11036,88,92,85,96,115,179,191,197,191,186,184,185,190,187,173,172,175,167,166,166,856,953,935,875,858,794,664,510,386,328,253,199,125,115,8,63,67,173,5709,455,428,2629,279,11262,2015,1063,2142,4637,1406]
[{"$nulls":5},1311,"ALTO JESUS",4,5516,44,46,43,48,57,90,95,99,96,93,92,92,95,93,86,86,87,83,83,83,428,477,467,438,429,397,332,255,193,164,126,99,63,57,4,32,34,87,2854,227,214,1314,140,5631,1007,532,1071,2318,703]
[{"$nulls":5},1312,"ISRAEL",6,8282,67,69,64,72,86,134,143,148,144,140,138,139,143,140,129,129,131,125,125,125,642,715,701,657,644,596,498,383,290,246,190,149,94,86,6,48,50,130,4282,341,321,1972,209,8446,1511,798,1606,3477,1054]
[{"$nulls":5},7744,"P.S. VILLA JESUS",5.5,7588,61,63,58,66,79,123,131,136,132,128,126,127,131,129,119,118,120,115,114,114,589,655,643,602,590,546,456,351,265,225,174,137,86,79,6,44,46,119,3925,313,295,1807,192,7742,1385,731,1472,3188,966]
[{"$nulls":6},"NO MINSA",null,2811,522,545,501,566,677]
["040113","AREQUIPA","AREQUIPA","AREQUIPA","POCSI",{"$nulls":3},471,9,5,2,9,10,6,2,2,2,2,3,2,3,5,3,3,3,3,5,4,24,40,44,34,37,39,34,30,28,21,17,14,15,11,0,3,6,12,234,7,7,106,10,471,54,20,73,218,106]
[{"$nulls":5},1288,"PUESTO DE SALUD POCSI",56,266,5,3,1,5,6,3,1,1,1,1,2,1,2,3,2,2,2,2,3,2,13,22,25,19,21,22,19,17,16,12,10,8,8,6,0,2,3,7,131,4,4,59,6,264,30,11,41,122,59]
[{"$nulls":5},1289,"PUESTO DE SALUD PIACA",44,205,4,2,1,4,4,3,1,1,1,1,1,1,1,2,1,1,1,1,2,2,11,18,19,15,16,17,15,13,12,9,7,6,7,5,0,1,3,5,103,3,3,47,4,207,24,9,32,96,47]
["040114","AREQUIPA","AREQUIPA","AREQUIPA","POLOBAYA",{"$nulls":3},798,10,14,11,17,7,12,3,5,6,9,9,9,9,8,9,7,8,5,7,16,52,64,65,56,52,47,47,60,51,45,31,15,16,16,0,6,4,22,398,21,20,166,28,798,112,46,139,327,174]
[{"$nulls":5},1262,"PUESTO DE SALUD POLOBAYA",100,798,10,14,11,17,7,12,3,5,6,9,9,9,9,8,9,7,8,5,7,16,52,64,65,56,52,47,47,60,51,45,31,15,16,16,0,6,4,22,398,21,20,166,28,798,112,46,139,327,174]
["040115","AREQUIPA","AREQUIPA","AREQUIPA","QUEQUEÑA",{"$nulls":3},{"v":7974,"d":"7,974"},42,44,53,41,34,33,111,108,67,94,111,86,98,76,85,95,86,89,110,86,389,582,830,911,688,655,599,483,417,286,210,173,101,101,3,17,25,91,{"v":4054,"d":"4,054"},218,237,{"v":2143,"d":"2,143"},132,{"v":7974,"d":"7,974"},824,529,{"v":1167,"d":"1,167"},{"v":4166,"d":"4,166"},{"v":1288,"d":"1,288"}]
[{"$nulls":5},1286,"PUESTO DE SALUD QUEQUEÑA",100,7974,42,44,53,41,34,33,111,108,67,94,111,86,98,76,85,95,86,89,110,86,389,582,830,911,688,655,599,483,417,286,210,173,101,101,3,17,25,91,4054,218,237,2143,132,7974,824,529,1167,4166,1288]
["040116","AREQUIPA","AREQUIPA","AREQUIPA","SABANDIA",{"$nulls":3},{"v":4963,"d":"4,963"},84,79,102,94,97,87,75,71,88,65,68,75,81,64,62,69,64,59,64,59,340,406,370,414,374,343,278,221,175,157,141,97,79,61,5,42,42,148,{"v":2516,"d":"2,516"},173,159,{"v":1145,"d":"1,145"},198,{"v":4963,"d":"4,963"},985,399,869,{"v":2000,"d":"2,000"},710]
[{"$nulls":5},1284,"PUESTO DE SALUD LEOPOLDO RONDON - SABANDIA",100,4963,84,79,102,94,97,87,75,71,88,65,68,75,81,64,62,69,64,59,64,59,340,406,370,414,374,343,278,221,175,157,141,97,79,61,5,42,42,148,2516,173,159,1145,198,4963,985,399,869,2000,710]
["040117","AREQUIPA","AREQUIPA","AREQUIPA","SACHACA",{"$nulls":3},{"v":29929,"d":"29,929"},367,342,368,446,450,509,509,526,500,470,436,464,496,464,461,446,424,444,429,437,{"v":2286,"d":"2,286"},{"v":2359,"d":"2,359"},{"v":2437,"d":"2,437"},{"v":2258,"d":"2,258"},{"v":2211,"d":"2,211"},{"v":2010,"d":"2,010"},{"v":1680,"d":"1,680"},{"v":1427,"d":"1,427"},{"v":1182,"d":"1,182"},{"v":1056,"d":"1,056"},774,564,354,343,21,171,196,512,{"v":15229,"d":"15,229"},{"v":1137,"d":"1,137"},{"v":1114,"d":"1,114"},{"v":6824,"d":"6,824"},662,{"v":29929,"d":"29,929"},{"v":5387,"d":"5,387"},{"v":2735,"d":"2,735"},{"v":5511,"d":"5,511"},{"v":12023,"d":"12,023"},{"v":4273,"d":"4,273"}]
[{"$nulls":5},1282,"PUESTO DE SALUD SACHACA",65,19045,163,151,163,197,199,331,331,342,325,305,283,302,322,302,300,290,276,289,279,284,1486,1533,1584,1468,1437,1306,1092,928,768,686,503,367,230,223,14,111,127,333,9899,739,724,4436,430,19454,3502,1778,3582,7815,2777]
[{"$nulls":5},1283,"PUESTO DE SALUD PAMPA DE CAMARONES",35,10254,87,82,88,106,107,178,178,184,175,165,153,162,174,162,161,156,148,155,150,153,800,826,853,790,774,704,588,499,414,370,271,197,124,120,7,60,69,179,5330,398,390,2388,232,10475,1885,957,1929,4208,1496]
[{"$nulls":6},"NO MINSA",null,630,117,109,117,143,144]
["040118","AREQUIPA","AREQUIPA","AREQUIPA","SAN JUAN DE SIGUAS",{"$nulls":3},552,8,8,10,9,6,16,4,7,4,5,9,8,10,4,5,4,11,5,7,4,38,42,45,36,41,30,42,38,27,28,17,11,5,8,1,5,3,15,274,21,15,115,42,552,94,39,91,232,96]
[{"$nulls":5},1339,"PUESTO DE SALUD SAN JUAN DE SIGUAS - TAMBILLO",100,552,8,8,10,9,6,16,4,7,4,5,9,8,10,4,5,4,11,5,7,4,38,42,45,36,41,30,42,38,27,28,17,11,5,8,1,5,3,15,274,21,15,115,42,552,94,39,91,232,96]
["040119","AREQUIPA","AREQUIPA","AREQUIPA","SAN JUAN DE TARUCANI",{"$nulls":3},{"v":1280,"d":"1,280"},22,28,17,25,23,29,7,10,9,11,11,10,7,16,8,14,8,15,12,12,68,95,97,110,122,98,85,87,65,51,35,27,24,22,0,6,16,30,647,24,30,315,46,{"v":1280,"d":"1,280"},202,68,187,599,224]
[{"$nulls":5},1319,"PUESTO DE SALUD SAN JUAN DE TARUCANI",80,1026,18,22,14,20,18,23,6,8,7,9,9,8,6,13,6,11,6,12,10,10,54,76,78,88,98,78,68,70,52,41,28,22,19,18,0,5,13,24,518,19,24,252,37,1024,162,54,150,479,179]
[{"$nulls":5},1321,"PUESTO DE SALUD SALINAS HUITO",20,254,4,6,3,5,5,6,1,2,2,2,2,2,1,3,2,3,2,3,2,2,14,19,19,22,24,20,17,17,13,10,7,5,5,4,0,1,3,6,129,5,6,63,9,256,40,14,37,120,45]
["040120","AREQUIPA","AREQUIPA","AREQUIPA","SANTA ISABEL DE SIGUAS",{"$nulls":3},639,5,4,4,13,6,8,9,10,8,7,8,10,9,9,6,9,9,14,7,7,52,48,52,35,35,43,47,38,36,30,19,16,14,12,0,2,3,8,318,27,21,132,13,639,92,56,114,250,127]
[{"$nulls":5},1336,"SANTA ISABEL DE SIGUAS",74,467,3,2,2,9,4,6,7,8,6,5,6,8,7,7,4,7,7,10,5,5,38,36,38,25,25,31,35,28,26,22,15,12,10,8,0,2,3,6,236,19,15,98,9,473,68,42,84,184,93]
[{"$nulls":5},1378,"PUESTO DE SALUD SONDOR",13,86,1,1,1,2,1,1,1,1,1,1,1,1,1,1,1,1,1,2,1,1,7,6,7,5,5,6,6,5,5,4,2,2,2,2,0,0,0,1,41,4,3,17,2,83,12,7,15,33,17]
[{"$nulls":5},1337,"PUESTO DE SALUD PITAY",13,86,1,1,1,2,1,1,1,1,1,1,1,1,1,1,1,1,1,2,1,1,7,6,7,5,5,6,6,5,5,4,2,2,2,2,0,0,0,1,41,4,3,17,2,83,12,7,15,33,17]
["040121","AREQUIPA","AREQUIPA","AREQUIPA","SANTA RITA DE SIGUAS",{"$nulls":3},{"v":8403,"d":"8,403"},100,91,111,107,98,102,164,175,141,137,168,140,151,156,126,150,120,121,130,151,703,890,910,810,655,472,354,319,249,143,110,72,43,34,2,52,48,168,{"v":4271,"d":"4,271"},374,344,{"v":2240,"d":"2,240"},244,{"v":8403,"d":"8,403"},{"v":1534,"d":"1,534"},824,{"v":1874,"d":"1,874"},{"v":3520,"d":"3,520"},651]
[{"$nulls":5},1335,"CENTRO  DE SALUD SANTA RITA DE SIGUAS",100,8241,68,62,75,73,67,102,164,175,141,137,168,140,151,156,126,150,120,121,130,151,703,890,910,810,655,472,354,319,249,143,110,72,43,34,2,52,48,168,4271,374,344,2240,244,8403,1534,824,1874,3520,651]
[{"$nulls":6},"NO MINSA",null,162,32,29,36,34,31]
["040122","AREQUIPA","AREQUIPA","AREQUIPA","SOCABAYA",{"$nulls":3},{"v":86938,"d":"86,938"},720,625,761,922,{"v":1093,"d":"1,093"},{"v":1116,"d":"1,116"},{"v":1401,"d":"1,401"},{"v":1468,"d":"1,468"},{"v":1478,"d":"1,478"},{"v":1484,"d":"1,484"},{"v":1338,"d":"1,338"},{"v":1456,"d":"1,456"},{"v":1461,"d":"1,461"},{"v":1461,"d":"1,461"},{"v":1299,"d":"1,299"},{"v":1294,"d":"1,294"},{"v":1393,"d":"1,393"},{"v":1296,"d":"1,296"},{"v":1369,"d":"1,369"},{"v":1376,"d":"1,376"},{"v":7186,"d":"7,186"},{"v":7891,"d":"7,891"},{"v":7486,"d":"7,486"},{"v":6877,"d":"6,877"},{"v":6557,"d":"6,557"},{"v":5974,"d":"5,974"},{"v":4848,"d":"4,848"},{"v":4144,"d":"4,144"},{"v":3413,"d":"3,413"},{"v":2900,"d":"2,900"},{"v":1930,"d":"1,930"},{"v":1357,"d":"1,357"},803,761,60,336,384,{"v":1155,"d":"1,155"},{"v":44141,"d":"44,141"},{"v":3568,"d":"3,568"},{"v":3359,"d":"3,359"},{"v":21030,"d":"21,030"},{"v":1443,"d":"1,443"},{"v":86938,"d":"86,938"},{"v":13862,"d":"13,862"},{"v":8204,"d":"8,204"},{"v":17822,"d":"17,822"},{"v":35886,"d":"35,886"},{"v":11164,"d":"11,164"}]
[{"$nulls":5},1258,"CENTRO DE SALUD SAN MARTIN DE SOCABAYA",21,17981,103,89,109,131,156,234,295,308,311,312,281,306,307,307,272,272,292,272,288,289,1509,1657,1572,1445,1378,1254,1017,870,716,609,404,286,170,160,12,71,81,242,9269,749,706,4415,302,18257,2911,1723,3742,7536,2344]
[{"$nulls":5},1269,"PUESTO DE SALUD CIUDAD MI TRABAJO",16,13700,78,68,83,101,119,179,224,235,236,237,214,233,234,234,208,207,223,207,219,220,1150,1263,1198,1100,1049,956,776,663,546,464,309,217,128,122,10,54,61,185,7063,571,537,3365,231,13910,2218,1313,2852,5742,1786]
[{"$nulls":5},1270,"PUESTO DE SALUD LARA",16,13700,78,68,83,101,119,179,224,235,236,237,214,233,234,234,208,207,223,207,219,220,1150,1263,1198,1100,1049,956,776,663,546,464,309,217,128,122,10,54,61,185,7063,571,537,3365,231,13910,2218,1313,2852,5742,1786]
[{"$nulls":5},1271,"CENTRO DE SALUD SAN FERNANDO",6,5138,29,26,31,37,45,67,84,88,89,89,80,87,88,88,78,78,84,78,82,83,431,473,449,413,393,358,291,249,205,174,116,81,48,46,4,20,23,69,2648,214,202,1262,87,5216,832,492,1069,2153,670]
[{"$nulls":5},1272,"PUESTO DE SALUD SALAVERRY",12,10272,58,51,62,75,89,134,168,176,177,178,161,175,175,175,156,155,167,156,164,165,862,947,898,825,787,717,582,497,410,348,232,163,96,91,7,40,46,139,5297,428,403,2524,173,10433,1663,984,2139,4306,1340]
[{"$nulls":5},1268,"CENTRO DE SALUD 4 DE OCTUBRE",20,17124,98,85,103,125,149,223,280,294,296,297,268,291,292,292,260,259,279,259,274,275,1437,1578,1497,1375,1311,1195,970,829,683,580,386,271,161,152,12,67,77,231,8828,714,672,4206,289,17388,2772,1641,3564,7177,2233]
[{"$nulls":5},23338,"PUESTO DE SALUD HORACIO ZEBALLOS GÁMEZ",9,7702,44,38,46,56,67,100,126,132,133,134,120,131,131,131,117,116,125,117,123,124,647,710,674,619,590,538,436,373,307,261,174,122,72,68,5,30,35,104,3973,321,302,1893,130,7824,1248,738,1604,3230,1005]
[{"$nulls":6},"NO MINSA",null,1321,232,200,244,296,349]
["040123","AREQUIPA","AREQUIPA","AREQUIPA","TIABAYA",{"$nulls":3},{"v":18168,"d":"18,168"},270,248,232,296,274,299,294,358,287,279,250,279,280,281,272,246,238,272,228,258,{"v":1371,"d":"1,371"},{"v":1645,"d":"1,645"},{"v":1629,"d":"1,629"},{"v":1513,"d":"1,513"},{"v":1385,"d":"1,385"},{"v":1184,"d":"1,184"},945,828,646,522,387,294,186,192,19,121,149,366,{"v":9176,"d":"9,176"},684,648,{"v":4253,"d":"4,253"},694,{"v":18168,"d":"18,168"},{"v":3366,"d":"3,366"},{"v":1589,"d":"1,589"},{"v":3502,"d":"3,502"},{"v":7484,"d":"7,484"},{"v":2227,"d":"2,227"}]
[{"$nulls":5},1260,"CENTRO DE SALUD TIABAYA",100,17746,184,169,158,201,186,299,294,358,287,279,250,279,280,281,272,246,238,272,228,258,1371,1645,1629,1513,1385,1184,945,828,646,522,387,294,186,192,19,121,149,366,9176,684,648,4253,694,18168,3366,1589,3502,7484,2227]
[{"$nulls":6},"NO MINSA",null,422,86,79,74,95,88]
["040124","AREQUIPA","AREQUIPA","AREQUIPA","UCHUMAYO",{"$nulls":3},{"v":17940,"d":"17,940"},220,227,195,250,258,265,304,294,276,259,266,278,286,261,225,239,240,231,251,244,{"v":1199,"d":"1,199"},{"v":1650,"d":"1,650"},{"v":1673,"d":"1,673"},{"v":1680,"d":"1,680"},{"v":1556,"d":"1,556"},{"v":1279,"d":"1,279"},989,838,661,541,338,232,140,95,18,122,98,280,{"v":9060,"d":"9,060"},697,626,{"v":4401,"d":"4,401"},503,{"v":17940,"d":"17,940"},{"v":3092,"d":"3,092"},{"v":1482,"d":"1,482"},{"v":3344,"d":"3,344"},{"v":8015,"d":"8,015"},{"v":2007,"d":"2,007"}]
[{"$nulls":5},1280,"CERRO VERDE",43.5,7643,65,67,58,73,76,116,132,128,120,112,115,121,125,113,98,104,105,101,109,106,521,717,728,731,677,557,430,364,287,236,147,101,61,42,8,53,42,122,3941,303,273,1915,219,7804,1345,644,1454,3486,873]
[{"$nulls":5},1281,"CONGATA",43.5,7644,65,67,58,74,76,115,132,128,120,113,116,121,124,114,98,104,104,100,109,106,522,718,728,731,677,556,430,365,288,235,147,101,61,41,8,53,43,122,3941,303,272,1914,219,7804,1345,645,1455,3487,873]
[{"$nulls":5},1290,"UCHUMAYO",13,2284,20,20,17,22,23,34,40,38,36,34,35,36,37,34,29,31,31,30,33,32,156,215,217,218,202,166,129,109,86,70,44,30,18,12,2,16,13,36,1178,91,81,572,65,2332,402,193,435,1042,261]
[{"$nulls":6},"NO MINSA",null,369,70,73,62,81,83]
["040125","AREQUIPA","AREQUIPA","AREQUIPA","VITOR",{"$nulls":3},{"v":5084,"d":"5,084"},53,33,38,36,34,45,60,87,70,76,58,84,92,85,72,89,85,94,92,89,412,463,435,428,368,309,274,272,229,190,130,78,63,61,0,25,28,71,{"v":2578,"d":"2,578"},211,236,{"v":1238,"d":"1,238"},93,{"v":5084,"d":"5,084"},674,517,{"v":1056,"d":"1,056"},{"v":2086,"d":"2,086"},751]
[{"$nulls":5},1324,"CENTRO DE SALUD VITOR",80,4016,29,18,20,20,18,36,48,70,56,61,46,67,74,68,58,71,68,75,74,71,330,370,348,342,294,247,219,218,183,152,104,62,50,49,0,20,22,57,2062,169,189,990,74,4067,539,414,845,1669,601]
[{"$nulls":5},1334,"PUESTO DE SALUD YURAMAYO",20,1019,11,7,8,7,7,9,12,17,14,15,12,17,18,17,14,18,17,19,18,18,82,93,87,86,74,62,55,54,46,38,26,16,13,12,0,5,6,14,516,42,47,248,19,1017,135,103,211,417,150]
[{"$nulls":6},"NO MINSA",null,49,13,8,10,9,9]
["040126","AREQUIPA","AREQUIPA","AREQUIPA","YANAHUARA",{"$nulls":3},{"v":28122,"d":"28,122"},227,218,301,392,419,359,382,366,398,410,374,377,359,370,323,305,336,303,338,354,{"v":1658,"d":"1,658"},{"v":1944,"d":"1,944"},{"v":2076,"d":"2,076"},{"v":1987,"d":"1,987"},{"v":1993,"d":"1,993"},{"v":2063,"d":"2,063"},{"v":1859,"d":"1,859"},{"v":1664,"d":"1,664"},{"v":1525,"d":"1,525"},{"v":1319,"d":"1,319"},{"v":1063,"d":"1,063"},819,580,661,19,141,86,379,{"v":14334,"d":"14,334"},820,752,{"v":5992,"d":"5,992"},557,{"v":28122,"d":"28,122"},{"v":4223,"d":"4,223"},{"v":1996,"d":"1,996"},{"v":4294,"d":"4,294"},{"v":11642,"d":"11,642"},{"v":5967,"d":"5,967"}]
[{"$nulls":5},1233,"CENTRO DE SALUD YANAHUARA",38,10885,133,120,144,188,207,136,145,139,151,156,142,143,136,141,123,116,128,115,128,135,630,739,789,755,757,784,706,632,580,501,404,311,220,251,7,54,33,144,5447,312,286,2277,212,10686,1605,758,1632,4424,2267]
[{"$nulls":5},1241,"PUESTO DE SALUD SUMBAY - CHASQUIPAMPA",4,1125,9,9,12,16,17,14,15,15,16,16,15,15,14,15,13,12,13,12,14,14,66,78,83,79,80,83,74,67,61,53,43,33,23,26,1,6,3,15,573,33,30,240,22,1125,169,80,172,466,239]
[{"$nulls":6},"NO MINSA",58,16112,85,89,145,188,195,209,222,212,231,238,217,219,209,214,187,177,195,176,196,205,962,1127,1204,1153,1156,1196,1079,965,884,765,616,475,337,384,11,81,50,220,8314,475,436,3475,323,16311,2449,1158,2490,6752,3461]
["040127","AREQUIPA","AREQUIPA","AREQUIPA","YARABAMBA",{"$nulls":3},{"v":1794,"d":"1,794"},49,40,31,34,23,24,15,20,16,13,19,16,15,13,12,17,15,15,25,19,113,163,191,157,146,150,107,94,75,55,46,26,18,22,6,20,29,66,899,41,44,445,74,{"v":1794,"d":"1,794"},300,87,320,845,242]
[{"$nulls":5},1287,"PUESTO DE SALUD YARABAMBA",100,1794,49,40,31,34,23,24,15,20,16,13,19,16,15,13,12,17,15,15,25,19,113,163,191,157,146,150,107,94,75,55,46,26,18,22,6,20,29,66,899,41,44,445,74,1794,300,87,320,845,242]
["040128","AREQUIPA","AREQUIPA","AREQUIPA","YURA",{"$nulls":3},{"v":46147,"d":"46,147"},585,592,605,766,871,914,983,915,911,800,844,793,867,805,697,714,642,726,802,733,{"v":3858,"d":"3,858"},{"v":4599,"d":"4,599"},{"v":4636,"d":"4,636"},{"v":3969,"d":"3,969"},{"v":3191,"d":"3,191"},{"v":2666,"d":"2,666"},{"v":2098,"d":"2,098"},{"v":1725,"d":"1,725"},{"v":1277,"d":"1,277"},{"v":1044,"d":"1,044"},664,422,230,203,56,270,315,844,{"v":23439,"d":"23,439"},{"v":1992,"d":"1,992"},{"v":1829,"d":"1,829"},{"v":11768,"d":"11,768"},{"v":1195,"d":"1,195"},{"v":46147,"d":"46,147"},{"v":9579,"d":"9,579"},{"v":4451,"d":"4,451"},{"v":9992,"d":"9,992"},{"v":18285,"d":"18,285"},{"v":3840,"d":"3,840"}]
[{"$nulls":5},1253,"CENTRO DE SALUD CIUDAD DE DIOS",85,38293,338,342,350,443,503,777,836,778,774,680,717,674,737,684,592,607,546,617,682,623,3279,3909,3941,3374,2712,2266,1783,1466,1085,887,564,359,195,173,48,229,268,717,19923,1693,1555,10003,1016,39225,8142,3783,8493,15542,3264]
[{"$nulls":5},1254,"PUESTO DE SALUD YURA",15,6761,60,61,62,78,89,137,147,137,137,120,127,119,130,121,105,107,96,109,120,110,579,690,695,595,479,400,315,259,192,157,100,63,35,30,8,41,47,127,3516,299,274,1765,179,6922,1437,668,1499,2743,576]
[{"$nulls":6},"NO MINSA",null,1093,187,189,193,245,279]
["040129","AREQUIPA","AREQUIPA","AREQUIPA","JOSE LUIS BUSTAMANTE Y RIVERO",{"$nulls":3},{"v":85718,"d":"85,718"},745,757,725,908,{"v":1043,"d":"1,043"},{"v":1009,"d":"1,009"},{"v":1245,"d":"1,245"},{"v":1300,"d":"1,300"},{"v":1332,"d":"1,332"},{"v":1263,"d":"1,263"},{"v":1239,"d":"1,239"},{"v":1240,"d":"1,240"},{"v":1329,"d":"1,329"},{"v":1182,"d":"1,182"},{"v":1164,"d":"1,164"},{"v":1167,"d":"1,167"},{"v":1164,"d":"1,164"},{"v":1193,"d":"1,193"},{"v":1170,"d":"1,170"},{"v":1216,"d":"1,216"},{"v":6484,"d":"6,484"},{"v":7240,"d":"7,240"},{"v":7391,"d":"7,391"},{"v":6697,"d":"6,697"},{"v":6535,"d":"6,535"},{"v":5973,"d":"5,973"},{"v":5075,"d":"5,075"},{"v":4289,"d":"4,289"},{"v":3626,"d":"3,626"},{"v":3049,"d":"3,049"},{"v":2550,"d":"2,550"},{"v":1958,"d":"1,958"},{"v":1270,"d":"1,270"},{"v":1190,"d":"1,190"},54,381,364,965,{"v":43563,"d":"43,563"},{"v":3019,"d":"3,019"},{"v":2963,"d":"2,963"},{"v":20015,"d":"20,015"},{"v":1691,"d":"1,691"},{"v":85718,"d":"85,718"},{"v":12806,"d":"12,806"},{"v":7199,"d":"7,199"},{"v":16110,"d":"16,110"},{"v":35960,"d":"35,960"},{"v":13643,"d":"13,643"}]
[{"$nulls":5},1257,"VICTOR RAUL HINOJOSA",57,48093,288,293,280,352,405,575,709,741,760,720,707,706,757,674,664,665,664,680,667,693,3696,4126,4213,3817,3724,3405,2892,2445,2066,1738,1453,1116,724,678,31,218,208,550,24831,1720,1689,11408,964,48859,7299,4103,9183,20498,7777]
[{"$nulls":5},1263,"PUESTO DE SALUD 13 DE ENERO",19,16407,152,162,160,205,234,192,237,247,253,240,235,236,253,225,221,222,221,227,222,231,1232,1376,1404,1272,1242,1135,964,815,689,579,485,372,241,226,10,72,69,183,8277,574,563,3803,321,16286,2433,1368,3061,6832,2592]
[{"$nulls":5},1264,"CENTRO DE SALUD LAS ESMERALDAS",14,11833,91,72,69,86,99,141,174,182,186,177,173,174,186,165,163,163,163,167,164,170,908,1014,1035,938,915,836,711,600,508,427,357,274,178,167,8,53,51,135,6099,423,415,2802,237,12001,1793,1008,2255,5034,1910]
[{"$nulls":5},1267,"CERRO JULI",10,8441,51,52,50,62,71,101,125,130,133,126,124,124,133,118,116,117,116,119,117,122,648,724,739,670,654,597,508,429,363,305,255,196,127,119,5,38,36,97,4356,302,296,2002,169,8572,1281,720,1611,3596,1364]
[{"$nulls":5},1266,"FELIX NAQUIRA VILDOSO",0,0,0,0,0,0,0,0,0,0,0,0,0,0,0,0,0,0,0,0,0,0,0,0,0,0,0,0,0,0,0,0,0,0,0,0,0,0,0,0,0,0,0,0,0,0,0,0,0,0,0]
[{"$nulls":5},1265,"HUGO LUMBRERAS CRUZ",0,0,0,0,0,0,0,0,0,0,0,0,0,0,0,0,0,0,0,0,0,0,0,0,0,0,0,0,0,0,0,0,0,0,0,0,0,0,0,0,0,0,0,0,0,0,0,0,0,0,0]
[{"$nulls":6},"NO MINSA",null,944,163,178,166,203,234]
["040201","AREQUIPA","AREQUIPA","CAMANA","CAMANA",{"$nulls":3},{"v":13589,"d":"13,589"},138,81,30,13,80,81,210,237,245,205,229,224,230,246,239,259,224,247,220,230,{"v":1163,"d":"1,163"},{"v":1154,"d":"1,154"},{"v":1105,"d":"1,105"},921,863,898,849,747,689,512,380,270,195,175,12,81,57,200,{"v":6878,"d":"6,878"},570,610,{"v":3042,"d":"3,042"},225,{"v":13589,"d":"13,589"},{"v":1773,"d":"1,773"},{"v":1445,"d":"1,445"},{"v":2767,"d":"2,767"},{"v":5383,"d":"5,383"},{"v":2221,"d":"2,221"}]
[{"$nulls":5},1344,"HOSPITAL DE CAMANA",100,13589,138,81,30,13,80,81,210,237,245,205,229,224,230,246,239,259,224,247,220,230,1163,1154,1105,921,863,898,849,747,689,512,380,270,195,175,12,81,57,200,6878,570,610,3042,225,13589,1773,1445,2767,5383,2221]
["040202","AREQUIPA","AREQUIPA","CAMANA","JOSE MARIA QUIMPER",{"$nulls":3},{"v":5306,"d":"5,306"},82,66,46,77,80,88,80,115,108,73,70,97,95,79,78,80,80,65,72,67,347,463,430,424,363,322,279,283,265,222,126,82,54,48,5,43,39,103,{"v":2689,"d":"2,689"},218,194,{"v":1205,"d":"1,205"},110,{"v":5306,"d":"5,306"},982,477,949,{"v":2101,"d":"2,101"},797]
[{"$nulls":5},1355,"EL CARDO",10,533,8,7,5,8,8,9,8,12,11,7,7,10,10,8,8,8,8,7,7,7,35,46,43,42,36,32,28,28,27,22,13,8,5,5,1,4,4,10,269,22,19,121,11,531,98,48,95,210,80]
[{"$nulls":5},1354,"PUESTO DE SALUD LUIS FERNANDEZ CORTEGANA - HUACAPUY",45,2382,37,29,20,34,36,39,36,51,48,33,31,43,42,35,35,36,36,29,33,30,156,209,193,191,164,145,125,128,119,100,56,37,25,21,2,20,17,47,1210,98,88,542,49,2387,442,214,427,946,358]
[{"$nulls":5},1356,"PUESTO DE SALUD EL PUENTE",45,2391,37,30,21,35,36,40,36,52,49,33,32,44,43,36,35,36,36,29,32,30,156,208,194,191,163,145,126,127,119,100,57,37,24,22,2,19,18,46,1210,98,87,542,50,2388,442,215,427,945,359]
["040203","AREQUIPA","AREQUIPA","CAMANA","MARIANO NICOLAS VALCARCEL",{"$nulls":3},{"v":8909,"d":"8,909"},136,150,176,162,214,276,162,126,103,140,127,169,163,131,126,97,101,94,73,43,348,647,{"v":1056,"d":"1,056"},{"v":1018,"d":"1,018"},775,656,529,492,283,174,77,37,32,16,9,76,60,236,{"v":4488,"d":"4,488"},413,215,{"v":2426,"d":"2,426"},201,{"v":8909,"d":"8,909"},{"v":1941,"d":"1,941"},712,{"v":1111,"d":"1,111"},{"v":4526,"d":"4,526"},619]
[{"$nulls":5},1365,"PUESTO DE SALUD URASQUI",15,1333,20,23,26,24,32,41,24,19,15,21,19,25,24,20,19,15,15,14,11,6,52,97,158,153,116,98,79,74,42,26,12,6,5,2,1,11,9,35,673,62,32,364,30,1336,291,107,167,679,93]
[{"$nulls":5},18691,"PUESTO DE SALUD SECOCHA",75,6683,102,112,132,122,161,207,122,94,78,105,95,127,123,98,94,72,76,71,55,33,261,485,792,763,581,492,397,369,213,131,57,27,24,12,7,57,45,177,3366,310,161,1819,151,6682,1456,534,833,3394,464]
[{"$nulls":5},1366,"LA EUGENIA",10,893,14,15,18,16,21,28,16,13,10,14,13,17,16,13,13,10,10,9,7,4,35,65,106,102,78,66,53,49,28,17,8,4,3,2,1,8,6,24,449,41,22,243,20,891,194,71,111,453,62]
["040204","AREQUIPA","AREQUIPA","CAMANA","MARISCAL CACERES",{"$nulls":3},{"v":7394,"d":"7,394"},106,79,76,108,94,104,106,107,118,107,103,113,101,102,107,108,106,113,114,97,463,681,632,622,567,541,483,388,320,252,162,91,67,56,7,53,53,125,{"v":3743,"d":"3,743"},250,277,{"v":1821,"d":"1,821"},282,{"v":7394,"d":"7,394"},{"v":1221,"d":"1,221"},637,{"v":1355,"d":"1,355"},{"v":3233,"d":"3,233"},948]
[{"$nulls":5},1345,"CENTRO DE SALUD SAN JOSE",20,1477,21,16,15,22,19,21,21,21,24,21,21,23,20,20,21,22,21,23,23,19,93,136,126,124,113,108,97,78,64,50,32,18,13,11,1,11,11,25,749,50,55,364,56,1479,244,127,271,647,190]
[{"$nulls":5},1353,"CENTRO DE SALUD PUCCHUN",80,5917,85,63,61,86,75,83,85,86,94,86,82,90,81,82,86,86,85,90,91,78,370,545,506,498,454,433,386,310,256,202,130,73,54,45,6,42,42,100,2994,200,222,1457,226,5915,977,510,1084,2586,758]
["040205","AREQUIPA","AREQUIPA","CAMANA","NICOLAS DE PIEROLA",{"$nulls":3},{"v":8512,"d":"8,512"},95,91,82,120,108,133,124,161,147,138,147,146,149,153,127,129,138,126,134,127,588,673,695,671,604,560,514,461,386,289,201,140,82,73,7,43,52,134,{"v":4313,"d":"4,313"},349,320,{"v":1978,"d":"1,978"},232,{"v":8512,"d":"8,512"},{"v":1492,"d":"1,492"},822,{"v":1522,"d":"1,522"},{"v":3505,"d":"3,505"},{"v":1171,"d":"1,171"}]
[{"$nulls":5},1347,"CENTRO DE SALUD SAN GREGORIO",65,5531,62,59,53,78,70,86,81,105,95,89,95,95,97,100,82,83,89,81,87,82,382,438,452,437,393,364,334,300,251,188,131,91,53,48,5,28,34,87,2804,227,208,1285,150,5533,970,535,990,2278,762]
[{"$nulls":5},1360,"PUESTO DE SALUD HACIENDA DEL MEDIO",33,2809,31,30,27,40,36,44,41,53,49,46,49,48,49,50,42,43,46,42,44,42,194,222,229,221,199,185,170,152,127,95,66,46,27,24,2,14,17,44,1423,115,106,653,77,2809,492,271,502,1157,386]
[{"$nulls":5},1361,"SONAY",2,172,2,2,2,2,2,3,2,3,3,3,3,3,3,3,3,3,3,3,3,3,12,13,14,13,12,11,10,9,8,6,4,3,2,1,0,1,1,3,86,7,6,40,5,170,30,16,30,70,23]
["040206","AREQUIPA","AREQUIPA","CAMANA","OCOÑA",{"$nulls":3},{"v":4330,"d":"4,330"},54,41,44,66,59,54,66,71,61,49,61,58,52,57,63,69,63,84,56,53,265,348,280,313,317,285,294,266,244,188,147,85,59,58,3,25,29,91,{"v":2196,"d":"2,196"},152,172,952,92,{"v":4330,"d":"4,330"},684,388,722,{"v":1755,"d":"1,755"},781]
[{"$nulls":5},1348,"CENTRO DE SALUD OCOÑA",78,3375,42,32,34,51,46,42,51,55,48,39,48,45,40,44,50,54,50,65,44,41,206,272,218,244,247,222,229,207,190,147,115,66,46,45,3,19,23,71,1713,118,134,742,72,3377,533,303,563,1369,609]
[{"$nulls":5},1363,"LA PLANCHADA",15,651,8,6,7,10,9,8,10,11,9,7,9,9,8,9,9,10,9,13,8,8,40,52,42,47,48,43,44,40,37,28,22,13,9,9,0,4,4,14,329,23,26,143,14,650,103,58,108,263,117]
[{"$nulls":5},1364,"PESCADORES",7,304,4,3,3,5,4,4,5,5,4,3,4,4,4,4,4,5,4,6,4,4,19,24,20,22,22,20,21,19,17,13,10,6,4,4,0,2,2,6,154,11,12,67,6,303,48,27,51,123,55]
["040207","AREQUIPA","AREQUIPA","CAMANA","QUILCA",{"$nulls":3},{"v":1250,"d":"1,250"},17,17,15,11,13,15,21,16,11,19,16,17,12,18,21,16,18,18,10,16,65,93,111,114,97,89,83,66,81,45,37,24,14,14,1,12,5,31,623,48,43,296,38,{"v":1250,"d":"1,250"},188,103,184,560,215]
[{"$nulls":5},1362,"PUESTO DE SALUD QUILCA",100,1250,17,17,15,11,13,15,21,16,11,19,16,17,12,18,21,16,18,18,10,16,65,93,111,114,97,89,83,66,81,45,37,24,14,14,1,12,5,31,623,48,43,296,38,1250,188,103,184,560,215]
["040208","AREQUIPA","AREQUIPA","CAMANA","SAMUEL PASTOR",{"$nulls":3},{"v":17615,"d":"17,615"},236,257,244,307,322,331,328,320,319,294,282,335,316,280,287,283,287,281,285,263,{"v":1357,"d":"1,357"},{"v":1538,"d":"1,538"},{"v":1451,"d":"1,451"},{"v":1405,"d":"1,405"},{"v":1225,"d":"1,225"},{"v":1128,"d":"1,128"},994,813,664,461,292,192,117,121,10,108,128,376,{"v":8951,"d":"8,951"},751,693,{"v":4161,"d":"4,161"},486,{"v":17615,"d":"17,615"},{"v":3575,"d":"3,575"},{"v":1734,"d":"1,734"},{"v":3443,"d":"3,443"},{"v":7016,"d":"7,016"},{"v":1847,"d":"1,847"}]
[{"$nulls":5},1346,"LA PAMPA",33,5813,78,85,81,101,106,109,108,106,105,97,93,111,104,92,95,93,95,93,94,87,448,508,479,464,404,372,328,268,219,152,96,63,39,40,3,36,42,124,2954,248,229,1373,160,5813,1180,572,1136,2315,610]
[{"$nulls":5},1357,"EL CARMEN-CAMANA",36,6337,85,92,87,111,116,119,118,114,115,106,102,120,115,102,103,103,103,101,102,95,488,553,521,505,441,406,358,293,239,166,105,69,41,43,4,39,46,136,3221,269,249,1498,175,6342,1287,625,1240,2527,665]
[{"$nulls":5},1359,"JUAN PABLO VIZCARDO GUZMAN",13,2291,31,33,32,40,42,43,43,42,41,38,37,44,41,36,37,37,37,37,37,34,176,200,189,183,159,147,129,106,86,60,38,25,15,16,1,14,17,49,1164,98,90,541,63,2290,465,225,448,912,240]
[{"$nulls":5},1358,"PUESTO DE SALUD LA PUNTA",3,531,7,8,7,9,10,10,10,10,10,9,8,10,9,8,9,8,9,8,9,8,41,46,44,42,37,34,30,24,20,14,9,6,4,4,0,3,4,11,269,23,21,125,15,528,107,52,103,210,55]
[{"$nulls":5},7723,"PUESTO DE SALUD SOLIDARIDAD",15,2643,35,39,37,46,48,50,49,48,48,44,42,50,47,42,43,42,43,42,43,39,204,231,218,211,184,169,149,122,100,69,44,29,18,18,2,16,19,56,1343,113,104,624,73,2642,536,260,516,1052,277]
["040301","AREQUIPA","AREQUIPA","CARAVELI","CARAVELI",{"$nulls":3},{"v":4806,"d":"4,806"},90,85,74,68,70,83,84,79,63,62,73,50,79,71,65,76,91,78,97,90,422,458,382,339,278,287,277,211,174,141,93,74,69,73,6,42,48,111,{"v":2434,"d":"2,434"},169,219,{"v":1127,"d":"1,127"},137,{"v":4806,"d":"4,806"},881,460,{"v":1067,"d":"1,067"},{"v":1774,"d":"1,774"},624]
[{"$nulls":5},1351,"CENTRO DE SALUD CARAVELI",100,4806,90,85,74,68,70,83,84,79,63,62,73,50,79,71,65,76,91,78,97,90,422,458,382,339,278,287,277,211,174,141,93,74,69,73,6,42,48,111,2434,169,219,1127,137,4806,881,460,1067,1774,624]
["040302","AREQUIPA","AREQUIPA","CARAVELI","ACARI",{"$nulls":3},{"v":5873,"d":"5,873"},56,63,54,59,57,74,79,102,78,101,110,111,125,120,100,111,119,115,92,74,399,386,350,406,372,385,365,321,284,230,199,170,88,118,4,31,25,86,{"v":2995,"d":"2,995"},287,257,{"v":1212,"d":"1,212"},174,{"v":5873,"d":"5,873"},944,690,951,{"v":2199,"d":"2,199"},{"v":1089,"d":"1,089"}]
[{"$nulls":5},1352,"CENTRO DE SALUD ACARI",100,5873,56,63,54,59,57,74,79,102,78,101,110,111,125,120,100,111,119,115,92,74,399,386,350,406,372,385,365,321,284,230,199,170,88,118,4,31,25,86,2995,287,257,1212,174,5873,944,690,951,2199,1089]
["040303","AREQUIPA","AREQUIPA","CARAVELI","ATICO",{"$nulls":3},{"v":6346,"d":"6,346"},83,76,55,79,67,81,118,92,98,98,112,118,98,104,121,107,115,102,105,85,402,501,560,535,470,468,403,323,234,210,122,100,61,43,4,37,46,102,{"v":3220,"d":"3,220"},273,258,{"v":1518,"d":"1,518"},184,{"v":6346,"d":"6,346"},{"v":1077,"d":"1,077"},647,{"v":1093,"d":"1,093"},{"v":2759,"d":"2,759"},770]
[{"$nulls":5},1349,"CENTRO DE SALUD ATICO",100,6346,83,76,55,79,67,81,118,92,98,98,112,118,98,104,121,107,115,102,105,85,402,501,560,535,470,468,403,323,234,210,122,100,61,43,4,37,46,102,3220,273,258,1518,184,6346,1077,647,1093,2759,770]
["040304","AREQUIPA","AREQUIPA","CARAVELI","ATIQUIPA",{"$nulls":3},589,10,11,6,11,12,12,3,6,9,10,8,8,11,11,5,7,9,7,9,5,37,61,50,43,48,25,34,33,30,14,20,10,7,7,0,7,3,16,299,25,22,133,22,589,106,50,112,233,88]
[{"$nulls":5},1369,"PUESTO DE SALUD ATIQUIPA",75,437,7,8,4,8,9,9,2,4,7,7,6,6,8,8,4,5,7,5,7,4,28,46,37,32,36,19,25,25,22,10,15,7,5,5,0,5,2,12,224,19,16,100,16,442,79,37,84,175,66]
[{"$nulls":5},1368,"PUESTO DE SALUD SANTA ROSA",25,152,3,3,2,3,3,3,1,2,2,3,2,2,3,3,1,2,2,2,2,1,9,15,13,11,12,6,9,8,8,4,5,3,2,2,0,2,1,4,75,6,6,33,6,147,27,13,28,58,22]
["040305","AREQUIPA","AREQUIPA","CARAVELI","BELLA UNION",{"$nulls":3},{"v":3180,"d":"3,180"},44,45,46,41,37,33,55,46,48,43,30,45,55,42,38,48,66,46,48,50,217,265,239,266,244,240,181,163,135,93,88,65,39,39,2,15,29,70,{"v":1596,"d":"1,596"},104,140,763,123,{"v":3180,"d":"3,180"},513,295,580,{"v":1333,"d":"1,333"},459]
[{"$nulls":5},1374,"PUESTO DE SALUD BELLA UNION",100,3180,44,45,46,41,37,33,55,46,48,43,30,45,55,42,38,48,66,46,48,50,217,265,239,266,244,240,181,163,135,93,88,65,39,39,2,15,29,70,1596,104,140,763,123,3180,513,295,580,1333,459]
["040306","AREQUIPA","AREQUIPA","CARAVELI","CAHUACHO",{"$nulls":3},915,16,9,34,9,6,7,7,7,18,13,9,13,19,17,16,16,11,15,16,17,49,66,55,52,61,49,54,46,36,39,36,30,28,39,1,11,5,59,461,41,41,159,233,915,148,94,148,317,208]
[{"$nulls":5},1377,"PUESTO DE SALUD CAHUACHO",31,283,5,3,11,3,2,2,2,2,6,4,3,4,6,5,5,5,3,5,5,5,15,20,17,16,19,15,17,14,11,12,11,9,9,12,0,3,2,18,143,13,13,49,72,284,46,29,46,98,64]
[{"$nulls":5},1338,"PUESTO DE SALUD SONDOR - CARAVELI",33,300,5,3,11,3,2,2,2,2,6,4,3,4,6,6,5,5,4,5,5,6,16,22,18,17,20,16,18,15,12,13,12,10,9,13,0,4,2,19,152,14,14,52,77,302,49,31,49,105,69]
[{"$nulls":5},1379,"PUESTO DE SALUD AYROCA",36,332,6,3,12,3,2,3,3,3,6,5,3,5,7,6,6,6,4,5,6,6,18,24,20,19,22,18,19,17,13,14,13,11,10,14,1,4,1,22,166,14,14,58,84,329,53,34,53,114,75]
["040307","AREQUIPA","AREQUIPA","CARAVELI","CHALA",{"$nulls":3},{"v":10962,"d":"10,962"},177,179,155,188,171,161,230,236,266,228,226,211,191,192,194,208,213,192,160,164,750,856,950,{"v":1009,"d":"1,009"},806,695,555,439,341,255,152,87,59,66,6,97,80,255,{"v":5560,"d":"5,560"},480,482,{"v":2747,"d":"2,747"},362,{"v":10962,"d":"10,962"},{"v":2428,"d":"2,428"},{"v":1190,"d":"1,190"},{"v":1930,"d":"1,930"},{"v":4454,"d":"4,454"},960]
[{"$nulls":5},1350,"CENTRO DE SALUD CHALA",100,10962,177,179,155,188,171,161,230,236,266,228,226,211,191,192,194,208,213,192,160,164,750,856,950,1009,806,695,555,439,341,255,152,87,59,66,6,97,80,255,5560,480,482,2747,362,10962,2428,1190,1930,4454,960]
["040308","AREQUIPA","AREQUIPA","CARAVELI","CHAPARRA",{"$nulls":3},{"v":3571,"d":"3,571"},44,54,46,60,80,49,51,52,45,55,55,79,67,61,67,71,61,66,45,40,190,207,321,344,320,252,210,212,107,88,76,30,31,35,3,12,32,69,{"v":1790,"d":"1,790"},193,179,776,95,{"v":3571,"d":"3,571"},670,393,482,{"v":1659,"d":"1,659"},367]
[{"$nulls":5},1370,"PUESTO DE SALUD CHAPARRA",80,2860,35,43,37,48,64,39,41,42,36,44,44,63,54,49,54,57,49,53,36,32,152,166,257,275,256,202,168,170,86,70,61,24,25,28,2,10,26,55,1432,154,143,621,76,2857,536,314,386,1327,294]
[{"$nulls":5},1371,"PUESTO DE SALUD ACHANIZO",20,711,9,11,9,12,16,10,10,10,9,11,11,16,13,12,13,14,12,13,9,8,38,41,64,69,64,50,42,42,21,18,15,6,6,7,1,2,6,14,358,39,36,155,19,714,134,79,96,332,73]
["040309","AREQUIPA","AREQUIPA","CARAVELI","HUANUHUANU",{"$nulls":3},{"v":3261,"d":"3,261"},43,45,43,53,31,41,41,48,40,53,46,66,66,85,74,56,58,51,44,44,183,258,353,325,244,254,202,146,114,65,35,11,15,28,2,16,27,59,{"v":1623,"d":"1,623"},201,135,776,103,{"v":3261,"d":"3,261"},550,390,529,{"v":1524,"d":"1,524"},268]
[{"$nulls":5},25072,"PUESTO DE SALUD MOLLEHUACA",20,655,9,9,9,11,6,8,8,10,8,11,9,13,13,17,15,11,12,10,9,9,37,52,71,65,49,51,40,29,23,13,7,2,3,6,0,3,5,12,325,40,27,155,21,652,110,78,106,305,54]
[{"$nulls":5},1367,"PUESTO DE SALUD TOCOTA",80,2606,34,36,34,42,25,33,33,38,32,42,37,53,53,68,59,45,46,41,35,35,146,206,282,260,195,203,162,117,91,52,28,9,12,22,2,13,22,47,1298,161,108,621,82,2609,440,312,423,1219,214]
["040310","AREQUIPA","AREQUIPA","CARAVELI","JAQUI",{"$nulls":3},{"v":1738,"d":"1,738"},23,17,19,28,20,17,27,27,27,21,24,46,44,29,28,36,31,29,28,21,101,140,116,98,109,118,114,107,95,77,44,28,24,25,1,10,13,29,880,88,79,344,54,{"v":1738,"d":"1,738"},296,197,290,662,293]
[{"$nulls":5},1373,"PUESTO DE SALUD JAQUI",100,1738,23,17,19,28,20,17,27,27,27,21,24,46,44,29,28,36,31,29,28,21,101,140,116,98,109,118,114,107,95,77,44,28,24,25,1,10,13,29,880,88,79,344,54,1738,296,197,290,662,293]
["040311","AREQUIPA","AREQUIPA","CARAVELI","LOMAS",{"$nulls":3},{"v":1637,"d":"1,637"},23,27,21,17,13,27,24,19,25,33,24,27,21,26,20,23,24,20,17,17,118,139,140,136,130,127,97,94,82,49,35,24,9,9,0,10,13,35,825,59,55,396,41,{"v":1637,"d":"1,637"},280,134,291,724,208]
[{"$nulls":5},1376,"PUESTO DE SALUD LOMAS",100,1637,23,27,21,17,13,27,24,19,25,33,24,27,21,26,20,23,24,20,17,17,118,139,140,136,130,127,97,94,82,49,35,24,9,9,0,10,13,35,825,59,55,396,41,1637,280,134,291,724,208]
["040312","AREQUIPA","AREQUIPA","CARAVELI","QUICACHA",{"$nulls":3},{"v":2126,"d":"2,126"},27,29,22,42,16,27,40,36,32,37,45,48,43,49,35,48,45,45,32,38,165,149,150,155,124,128,112,102,83,70,46,34,26,46,2,17,10,39,{"v":1077,"d":"1,077"},132,105,425,67,{"v":2126,"d":"2,126"},401,265,384,771,305]
[{"$nulls":5},1372,"PUESTO DE SALUD QUICACHA",100,2126,27,29,22,42,16,27,40,36,32,37,45,48,43,49,35,48,45,45,32,38,165,149,150,155,124,128,112,102,83,70,46,34,26,46,2,17,10,39,1077,132,105,425,67,2126,401,265,384,771,305]
["040313","AREQUIPA","AREQUIPA","CARAVELI","YAUCA",{"$nulls":3},{"v":2396,"d":"2,396"},31,30,16,21,14,22,35,39,38,51,43,44,42,34,47,35,40,30,24,29,153,198,156,148,167,163,146,166,145,93,75,50,28,43,1,16,15,39,{"v":1213,"d":"1,213"},116,70,529,46,{"v":2396,"d":"2,396"},384,228,404,946,434]
[{"$nulls":5},1375,"PUESTO DE SALUD YAUCA",100,2396,31,30,16,21,14,22,35,39,38,51,43,44,42,34,47,35,40,30,24,29,153,198,156,148,167,163,146,166,145,93,75,50,28,43,1,16,15,39,1213,116,70,529,46,2396,384,228,404,946,434]
["040401","AREQUIPA","AREQUIPA","CASTILLA","APLAO",{"$nulls":3},{"v":9465,"d":"9,465"},118,113,117,146,125,133,130,129,135,118,144,164,200,154,152,131,180,174,145,147,706,789,716,657,609,620,563,538,402,345,253,189,104,119,14,55,63,140,{"v":4789,"d":"4,789"},394,415,{"v":2134,"d":"2,134"},241,{"v":9465,"d":"9,465"},{"v":1572,"d":"1,572"},991,{"v":1787,"d":"1,787"},{"v":3703,"d":"3,703"},{"v":1412,"d":"1,412"}]
[{"$nulls":5},1382,"HOSPITAL APLAO",48,4541,56,54,55,69,59,64,62,62,64,56,70,80,96,75,73,62,86,84,69,70,339,379,343,315,292,298,271,258,194,165,122,91,51,57,7,25,31,68,2299,189,198,1025,116,4542,755,476,858,1778,677]
[{"$nulls":5},1393,"PUESTO DE SALUD ACOY",5,473,6,6,6,7,6,7,7,6,7,6,7,8,10,8,8,7,9,9,7,7,35,39,36,33,30,31,28,27,20,17,13,9,5,6,1,3,3,7,239,20,21,107,12,473,79,50,89,185,71]
[{"$nulls":5},1396,"PUESTO DE SALUD EL CASTILLO",10,948,12,11,12,15,13,13,13,13,14,12,14,16,20,15,15,13,18,17,15,15,71,79,72,66,61,62,56,54,40,35,25,19,10,12,1,6,6,14,479,39,42,213,24,947,157,99,179,370,141]
[{"$nulls":5},1395,"CENTRO DE SALUD LA REAL",21,1987,25,24,25,31,26,28,27,27,28,25,30,34,42,32,32,28,38,37,30,31,148,166,150,138,128,130,118,113,84,72,53,40,22,25,3,12,13,29,1006,83,87,448,51,1988,330,208,375,778,297]
[{"$nulls":5},1394,"PUESTO DE SALUD HUATIAPILLA",10,948,12,11,12,15,13,13,13,13,14,12,14,16,20,15,15,13,18,17,15,15,71,79,72,66,61,62,56,54,40,35,25,19,10,12,1,6,6,14,479,39,42,213,24,947,157,99,179,370,141]
[{"$nulls":5},1397,"PUESTO DE SALUD LA CENTRAL",6,568,7,7,7,9,8,8,8,8,8,7,9,10,12,9,9,8,11,10,9,9,42,47,43,39,37,37,34,32,24,21,15,11,6,7,1,3,4,8,287,24,25,128,14,568,94,59,107,222,85]
["040402","AREQUIPA","AREQUIPA","CASTILLA","ANDAGUA",{"$nulls":3},928,11,10,9,13,9,8,13,13,9,14,14,13,13,19,12,8,19,13,13,8,78,56,53,55,61,61,60,53,52,43,38,33,17,27,0,5,6,22,466,38,30,173,21,928,136,84,155,343,210]
[{"$nulls":5},1387,"CENTRO DE SALUD ANDAGUA",83,773,9,8,7,11,7,7,11,11,7,12,12,11,11,16,10,7,16,11,11,7,65,46,44,46,51,51,50,44,43,36,32,27,14,22,0,4,5,18,387,32,25,144,17,770,113,70,129,285,174]
[{"$nulls":5},1408,"PUESTO DE SALUD SOPORO",17,155,2,2,2,2,2,1,2,2,2,2,2,2,2,3,2,1,3,2,2,1,13,10,9,9,10,10,10,9,9,7,6,6,3,5,0,1,1,4,79,6,5,29,4,158,23,14,26,58,36]
["040403","AREQUIPA","AREQUIPA","CASTILLA","AYO",{"$nulls":3},284,4,2,6,3,3,5,2,2,2,1,0,4,1,2,2,1,3,3,1,2,6,12,17,23,20,17,24,17,20,20,11,19,11,18,0,2,2,9,142,6,3,44,10,284,34,12,21,118,99]
[{"$nulls":5},1404,"PUESTO DE SALUD AYO",100,284,4,2,6,3,3,5,2,2,2,1,0,4,1,2,2,1,3,3,1,2,6,12,17,23,20,17,24,17,20,20,11,19,11,18,0,2,2,9,142,6,3,44,10,284,34,12,21,118,99]
["040404","AREQUIPA","AREQUIPA","CASTILLA","CHACHAS",{"$nulls":3},{"v":1668,"d":"1,668"},34,28,29,32,30,23,22,24,28,27,39,29,33,32,28,41,26,35,21,23,130,130,140,126,85,91,75,89,67,48,30,26,18,29,1,21,13,59,834,86,78,320,68,{"v":1668,"d":"1,668"},345,195,304,606,218]
[{"$nulls":5},1442,"PUESTO DE SALUD TOLCONI",63,1048,21,18,18,20,19,14,14,15,18,17,25,18,21,20,18,26,16,22,13,14,82,82,88,79,54,57,47,56,42,30,19,16,11,18,1,13,8,37,525,54,49,202,43,1051,217,123,192,382,137]
[{"$nulls":5},1405,"CHACHAS",37,620,13,10,11,12,11,9,8,9,10,10,14,11,12,12,10,15,10,13,8,9,48,48,52,47,31,34,28,33,25,18,11,10,7,11,0,8,5,22,309,32,29,118,25,617,128,72,112,224,81]
["040405","AREQUIPA","AREQUIPA","CASTILLA","CHILCAYMARCA",{"$nulls":3},{"v":1073,"d":"1,073"},13,12,10,10,10,6,17,17,20,20,18,19,10,12,18,23,18,23,18,8,68,93,97,101,99,82,62,47,43,30,17,13,11,8,0,6,7,19,544,34,50,271,23,{"v":1073,"d":"1,073"},172,104,187,488,122]
[{"$nulls":5},1406,"PUESTO DE SALUD CHAPACOCO",30,321,4,4,3,3,3,2,5,5,6,6,5,6,3,4,5,7,5,7,5,2,20,28,29,30,30,25,19,14,13,9,5,4,3,2,0,2,2,6,163,10,15,81,7,322,52,31,56,146,37]
[{"$nulls":5},14382,"PUESTO DE SALUD CHILCAYMARCA",70,752,9,8,7,7,7,4,12,12,14,14,13,13,7,8,13,16,13,16,13,6,48,65,68,71,69,57,43,33,30,21,12,9,8,6,0,4,5,13,381,24,35,190,16,751,120,73,131,342,85]
["040406","AREQUIPA","AREQUIPA","CASTILLA","CHOCO",{"$nulls":3},671,12,7,3,6,6,3,6,7,5,5,4,10,7,9,7,6,11,5,10,9,38,31,49,48,57,53,44,35,39,36,27,30,20,26,1,10,2,19,335,25,22,121,25,671,74,45,88,286,178]
[{"$nulls":5},1441,"PUESTO DE SALUD CHOCO",100,671,12,7,3,6,6,3,6,7,5,5,4,10,7,9,7,6,11,5,10,9,38,31,49,48,57,53,44,35,39,36,27,30,20,26,1,10,2,19,335,25,22,121,25,671,74,45,88,286,178]
["040407","AREQUIPA","AREQUIPA","CASTILLA","HUANCARQUI",{"$nulls":3},{"v":1605,"d":"1,605"},21,14,12,27,16,14,16,15,19,18,20,14,18,14,22,21,16,22,14,19,90,106,147,125,126,115,118,107,96,70,59,37,25,32,2,8,13,27,815,43,47,343,21,{"v":1605,"d":"1,605"},206,113,229,738,319]
[{"$nulls":5},1384,"CENTRO DE SALUD HUANCARQUI",100,1605,21,14,12,27,16,14,16,15,19,18,20,14,18,14,22,21,16,22,14,19,90,106,147,125,126,115,118,107,96,70,59,37,25,32,2,8,13,27,815,43,47,343,21,1605,206,113,229,738,319]
["040408","AREQUIPA","AREQUIPA","CASTILLA","MACHAGUAY",{"$nulls":3},418,9,3,4,3,7,3,2,4,2,5,3,6,5,5,7,5,7,9,6,6,24,20,18,15,23,27,30,28,29,16,28,16,19,24,0,1,8,14,210,16,16,63,8,418,51,38,56,141,132]
[{"$nulls":5},1402,"PUESTO DE SALUD MACHAGUAY",100,418,9,3,4,3,7,3,2,4,2,5,3,6,5,5,7,5,7,9,6,6,24,20,18,15,23,27,30,28,29,16,28,16,19,24,0,1,8,14,210,16,16,63,8,418,51,38,56,141,132]
["040409","AREQUIPA","AREQUIPA","CASTILLA","ORCOPAMPA",{"$nulls":3},{"v":8560,"d":"8,560"},65,74,52,90,74,119,148,168,199,187,202,197,180,192,188,241,207,240,164,128,723,715,668,693,594,486,375,371,267,201,151,88,57,56,5,38,27,77,{"v":4336,"d":"4,336"},493,504,{"v":1945,"d":"1,945"},114,{"v":8560,"d":"8,560"},{"v":1575,"d":"1,575"},{"v":1248,"d":"1,248"},{"v":1730,"d":"1,730"},{"v":3187,"d":"3,187"},820]
[{"$nulls":5},1407,"CENTRO DE SALUD ORCOPAMPA",100,8560,65,74,52,90,74,119,148,168,199,187,202,197,180,192,188,241,207,240,164,128,723,715,668,693,594,486,375,371,267,201,151,88,57,56,5,38,27,77,4336,493,504,1945,114,8560,1575,1248,1730,3187,820]
["040410","AREQUIPA","AREQUIPA","CASTILLA","PAMPACOLCA",{"$nulls":3},{"v":1861,"d":"1,861"},27,17,32,34,20,23,23,21,33,23,34,32,31,31,27,37,35,37,22,34,140,111,97,84,95,111,107,127,84,73,53,75,64,67,2,7,20,54,940,75,89,304,116,{"v":1861,"d":"1,861"},319,198,307,621,416]
[{"$nulls":5},1385,"CENTRO DE SALUD PAMPACOLCA",80,1486,22,14,25,27,16,18,18,16,26,18,27,25,25,25,22,30,28,30,17,27,112,89,77,67,76,89,85,102,67,58,43,60,51,54,2,5,16,44,752,60,71,244,93,1489,255,158,245,496,333]
[{"$nulls":5},1398,"PUESTO DE SALUD SAN ANTONIO",12,223,3,2,4,4,2,3,3,3,4,3,4,4,4,4,3,4,4,4,3,4,17,13,12,10,11,13,13,15,10,9,6,9,8,8,0,1,2,6,113,9,11,36,14,223,38,24,37,75,50]
[{"$nulls":5},1399,"PUESTO DE SALUD PISCOPAMPA",8,152,2,1,3,3,2,2,2,2,3,2,3,3,2,2,2,3,3,3,2,3,11,9,8,7,8,9,9,10,7,6,4,6,5,5,0,1,2,4,75,6,7,24,9,149,26,16,25,50,33]
["040411","AREQUIPA","AREQUIPA","CASTILLA","TIPAN",{"$nulls":3},406,4,4,3,2,0,3,5,6,3,3,1,5,5,8,4,6,3,8,9,8,22,21,22,18,25,22,22,32,29,24,21,27,8,23,0,4,0,9,205,13,20,57,6,406,39,34,60,141,132]
[{"$nulls":5},1400,"PUESTO DE SALUD TIPAN",43,171,2,2,1,1,0,1,2,3,1,1,0,2,2,3,2,3,1,3,4,3,9,9,9,8,11,9,9,14,12,10,9,12,3,10,0,2,0,4,88,6,9,25,3,175,17,15,26,61,57]
[{"$nulls":5},1401,"PUESTO DE SALUD TAGRE",57,235,2,2,2,1,0,2,3,3,2,2,1,3,3,5,2,3,2,5,5,5,13,12,13,10,14,13,13,18,17,14,12,15,5,13,0,2,0,5,117,7,11,32,3,231,22,19,34,80,75]
["040412","AREQUIPA","AREQUIPA","CASTILLA","UÑON",{"$nulls":3},233,3,2,2,2,0,2,4,0,3,4,2,1,0,1,5,2,2,2,0,3,8,20,15,15,17,20,18,13,20,14,11,8,7,7,0,0,3,6,119,5,6,46,14,233,25,12,31,98,67]
[{"$nulls":5},1403,"PUESTO DE SALUD UÑON",100,233,3,2,2,2,0,2,4,0,3,4,2,1,0,1,5,2,2,2,0,3,8,20,15,15,17,20,18,13,20,14,11,8,7,7,0,0,3,6,119,5,6,46,14,233,25,12,31,98,67]
["040413","AREQUIPA","AREQUIPA","CASTILLA","URACA",{"$nulls":3},{"v":6288,"d":"6,288"},68,75,70,65,80,91,84,90,86,86,84,83,94,98,81,112,120,96,87,105,450,540,449,477,459,411,393,360,297,230,176,117,84,90,3,28,40,119,{"v":3184,"d":"3,184"},235,281,{"v":1401,"d":"1,401"},167,{"v":6288,"d":"6,288"},962,601,{"v":1182,"d":"1,182"},{"v":2549,"d":"2,549"},994]
[{"$nulls":5},1383,"CENTRO DE SALUD CORIRE",70,4400,48,52,49,45,56,64,59,63,60,60,59,58,66,68,57,79,84,66,61,73,315,378,314,334,321,288,276,252,207,161,123,82,59,63,3,20,28,83,2229,164,197,981,117,4401,674,421,827,1784,696]
[{"$nulls":5},1390,"PUESTO DE SALUD TORAN",12,754,8,9,8,8,10,11,10,11,10,10,10,10,11,12,10,13,14,12,10,13,54,65,54,57,55,49,47,43,36,28,21,14,10,11,0,3,5,14,382,28,34,168,20,755,115,72,142,306,119]
[{"$nulls":5},1391,"PUESTO DE SALUD EL PEDREGAL",8,503,5,6,6,5,6,7,7,7,7,7,7,7,8,8,6,9,10,8,7,8,36,43,36,38,37,33,31,29,24,18,14,9,7,7,0,2,3,10,255,19,22,112,13,503,77,48,95,204,80]
[{"$nulls":5},1392,"PUESTO DE SALUD ESCALERILLAS",10,631,7,8,7,7,8,9,8,9,9,9,8,8,9,10,8,11,12,10,9,11,45,54,45,48,46,41,39,36,30,23,18,12,8,9,0,3,4,12,318,24,28,140,17,629,96,60,118,255,99]
["040414","AREQUIPA","AREQUIPA","CASTILLA","VIRACO",{"$nulls":3},{"v":1416,"d":"1,416"},16,12,15,13,13,11,20,18,15,15,11,19,25,20,19,17,21,29,18,18,84,90,71,64,90,91,89,81,92,89,64,61,50,55,1,10,6,34,721,58,61,239,42,{"v":1416,"d":"1,416"},178,131,210,486,411]
[{"$nulls":5},1386,"CENTRO DE SALUD VIRACO",90,1273,14,11,13,12,12,10,18,16,13,13,10,17,22,18,17,15,19,26,16,16,76,81,64,58,81,82,80,73,83,80,58,55,45,49,1,9,5,31,649,52,55,215,38,1274,160,118,189,437,370]
[{"$nulls":5},6766,"PUESTO DE SALUD HUAMI",10,143,2,1,2,1,1,1,2,2,2,2,1,2,3,2,2,2,2,3,2,2,8,9,7,6,9,9,9,8,9,9,6,6,5,6,0,1,1,3,72,6,6,24,4,142,18,13,21,49,41]
["040501","AREQUIPA","AREQUIPA","CAYLLOMA","CHIVAY",{"$nulls":3},{"v":6917,"d":"6,917"},68,95,50,85,80,105,123,129,131,130,126,135,152,131,126,144,148,138,140,121,672,639,580,495,412,368,288,322,227,158,134,125,62,78,1,28,40,95,{"v":3495,"d":"3,495"},324,338,{"v":1587,"d":"1,587"},123,{"v":6917,"d":"6,917"},{"v":1257,"d":"1,257"},839,{"v":1572,"d":"1,572"},{"v":2465,"d":"2,465"},784]
[{"$nulls":5},1419,"CENTRO DE SALUD CHIVAY",90,6114,41,58,31,52,49,94,111,116,118,117,113,121,137,118,113,130,133,124,126,109,605,575,522,445,371,331,259,290,204,142,121,112,56,70,1,25,36,85,3145,292,304,1428,111,6225,1131,755,1415,2218,706]
[{"$nulls":5},1423,"PUESTO DE SALUD CANOCOTA",10,695,7,10,5,9,8,11,12,13,13,13,13,14,15,13,13,14,15,14,14,12,67,64,58,50,41,37,29,32,23,16,13,13,6,8,0,3,4,10,350,32,34,159,12,692,126,84,157,247,78]
[{"$nulls":6},"NO MINSA",null,108,20,27,14,24,23]
["040502","AREQUIPA","AREQUIPA","CAYLLOMA","ACHOMA",{"$nulls":3},997,13,13,12,7,6,11,10,10,8,5,6,11,13,6,10,12,9,12,7,17,73,91,69,53,70,80,71,73,60,43,36,28,26,26,0,2,11,18,508,23,31,209,22,997,112,62,188,416,219]
[{"$nulls":5},1429,"PUESTO DE SALUD ACHOMA",100,997,13,13,12,7,6,11,10,10,8,5,6,11,13,6,10,12,9,12,7,17,73,91,69,53,70,80,71,73,60,43,36,28,26,26,0,2,11,18,508,23,31,209,22,997,112,62,188,416,219]
["040503","AREQUIPA","AREQUIPA","CAYLLOMA","CABANACONDE",{"$nulls":3},{"v":2455,"d":"2,455"},19,20,20,28,15,21,37,29,23,20,25,28,28,39,32,27,48,35,31,30,167,194,166,145,166,164,170,199,121,117,82,65,68,76,0,9,10,30,{"v":1241,"d":"1,241"},72,89,489,57,{"v":2455,"d":"2,455"},285,209,422,{"v":1010,"d":"1,010"},529]
[{"$nulls":5},1420,"CABANACONDE",80,1964,15,16,16,22,12,17,30,23,18,16,20,22,22,31,26,22,38,28,25,24,134,155,133,116,133,131,136,159,97,94,66,52,54,61,0,7,8,24,993,58,71,391,46,1964,228,167,338,808,423]
[{"$nulls":5},1432,"PUESTO DE SALUD PINCHOLLO",20,491,4,4,4,6,3,4,7,6,5,4,5,6,6,8,6,5,10,7,6,6,33,39,33,29,33,33,34,40,24,23,16,13,14,15,0,2,2,6,248,14,18,98,11,491,57,42,84,202,106]
["040504","AREQUIPA","AREQUIPA","CAYLLOMA","CALLALLI",{"$nulls":3},{"v":1726,"d":"1,726"},26,20,19,31,10,17,21,14,17,22,17,26,17,27,14,17,22,15,19,17,120,148,130,116,99,131,129,120,99,82,66,42,25,31,1,10,16,39,875,52,54,358,51,{"v":1726,"d":"1,726"},240,112,304,725,345]
[{"$nulls":5},1421,"CENTRO DE SALUD CALLALLI",100,1726,26,20,19,31,10,17,21,14,17,22,17,26,17,27,14,17,22,15,19,17,120,148,130,116,99,131,129,120,99,82,66,42,25,31,1,10,16,39,875,52,54,358,51,1726,240,112,304,725,345]
["040505","AREQUIPA","AREQUIPA","CAYLLOMA","CAYLLOMA",{"$nulls":3},{"v":4501,"d":"4,501"},48,59,63,60,54,46,55,72,84,83,89,92,100,74,90,91,82,93,92,70,414,416,334,337,290,257,224,210,173,130,87,63,38,31,4,26,22,95,{"v":2281,"d":"2,281"},239,218,{"v":1018,"d":"1,018"},228,{"v":4501,"d":"4,501"},805,530,992,{"v":1652,"d":"1,652"},522]
[{"$nulls":5},1422,"CENTRO DE SALUD CAYLLOMA",77,3465,37,45,49,46,42,35,42,55,65,64,69,71,77,57,69,70,63,72,71,54,319,320,257,259,223,198,172,162,133,100,67,49,29,24,3,20,17,73,1756,184,168,784,176,3466,620,408,764,1272,402]
[{"$nulls":5},1418,"PUESTO DE SALUD JACHAÑA",23,1036,11,14,14,14,12,11,13,17,19,19,20,21,23,17,21,21,19,21,21,16,95,96,77,78,67,59,52,48,40,30,20,14,9,7,1,6,5,22,525,55,50,234,52,1035,185,122,228,380,120]
["040506","AREQUIPA","AREQUIPA","CAYLLOMA","COPORAQUE",{"$nulls":3},{"v":1307,"d":"1,307"},13,15,11,16,17,9,22,20,15,16,7,13,15,13,9,17,18,14,15,18,77,106,90,112,134,87,77,70,71,55,45,35,26,29,0,7,6,19,663,28,41,312,34,{"v":1307,"d":"1,307"},174,86,216,570,261]
[{"$nulls":5},1424,"PUESTO DE SALUD COPORAQUE",100,1307,13,15,11,16,17,9,22,20,15,16,7,13,15,13,9,17,18,14,15,18,77,106,90,112,134,87,77,70,71,55,45,35,26,29,0,7,6,19,663,28,41,312,34,1307,174,86,216,570,261]
["040507","AREQUIPA","AREQUIPA","CAYLLOMA","HUAMBO",{"$nulls":3},771,9,6,6,6,7,7,8,8,2,5,13,9,8,6,11,10,17,17,10,5,49,55,50,41,50,42,53,53,36,59,31,28,27,27,0,2,7,11,389,27,34,134,16,771,86,69,119,289,208]
[{"$nulls":5},1433,"PUESTO DE SALUD HUAMBO",100,771,9,6,6,6,7,7,8,8,2,5,13,9,8,6,11,10,17,17,10,5,49,55,50,41,50,42,53,53,36,59,31,28,27,27,0,2,7,11,389,27,34,134,16,771,86,69,119,289,208]
["040508","AREQUIPA","AREQUIPA","CAYLLOMA","HUANCA",{"$nulls":3},{"v":1180,"d":"1,180"},16,11,12,8,3,12,6,6,7,10,9,8,10,12,9,7,14,16,11,15,64,75,70,80,93,99,93,80,84,68,56,42,34,40,1,11,5,30,596,24,35,224,38,{"v":1180,"d":"1,180"},108,68,165,515,324]
[{"$nulls":5},1239,"PUESTO DE SALUD HUANCA",100,1180,16,11,12,8,3,12,6,6,7,10,9,8,10,12,9,7,14,16,11,15,64,75,70,80,93,99,93,80,84,68,56,42,34,40,1,11,5,30,596,24,35,224,38,1180,108,68,165,515,324]
["040509","AREQUIPA","AREQUIPA","CAYLLOMA","ICHUPAMPA",{"$nulls":3},760,11,12,7,14,3,7,7,8,10,7,9,12,13,7,11,7,10,12,3,10,45,60,70,57,50,50,44,45,38,41,30,21,15,14,0,2,9,20,385,26,19,172,29,760,107,60,118,316,159]
[{"$nulls":5},1425,"PUESTO DE SALUD ICHUPAMPA",100,760,11,12,7,14,3,7,7,8,10,7,9,12,13,7,11,7,10,12,3,10,45,60,70,57,50,50,44,45,38,41,30,21,15,14,0,2,9,20,385,26,19,172,29,760,107,60,118,316,159]
["040510","AREQUIPA","AREQUIPA","CAYLLOMA","LARI",{"$nulls":3},{"v":1062,"d":"1,062"},16,17,12,15,11,8,11,13,6,14,17,16,12,23,15,17,18,15,19,20,83,94,91,57,71,72,62,58,48,43,23,22,26,17,0,6,10,26,535,45,46,224,31,{"v":1062,"d":"1,062"},156,100,216,411,179]
[{"$nulls":5},1426,"PUESTO DE SALUD LARI",100,1062,16,17,12,15,11,8,11,13,6,14,17,16,12,23,15,17,18,15,19,20,83,94,91,57,71,72,62,58,48,43,23,22,26,17,0,6,10,26,535,45,46,224,31,1062,156,100,216,411,179]
["040511","AREQUIPA","AREQUIPA","CAYLLOMA","LLUTA",{"$nulls":3},943,20,22,7,8,7,5,3,6,11,5,7,14,12,16,10,15,10,16,15,7,48,47,59,65,68,73,65,67,52,41,46,39,28,29,1,13,7,26,474,30,39,167,43,943,115,79,117,397,235]
[{"$nulls":5},1255,"PUESTO DE SALUD LLUTA",60,562,12,13,4,5,4,3,1,4,6,3,4,9,7,9,6,9,6,9,9,4,29,28,35,39,40,44,39,41,31,25,27,23,17,17,1,8,4,16,284,18,23,101,26,566,69,48,70,239,141]
[{"$nulls":5},1256,"PUESTO DE SALUD TAYA",23,219,5,5,2,2,2,1,1,1,3,1,2,3,3,4,2,3,2,4,3,2,11,11,14,15,16,17,15,15,12,9,11,9,6,7,0,3,2,6,109,7,9,38,10,217,26,18,27,91,54]
[{"$nulls":5},1340,"PUESTO DE SALUD QUERQUE",17,162,3,4,1,1,1,1,1,1,2,1,1,2,2,3,2,3,2,3,3,1,8,8,10,11,12,12,11,11,9,7,8,7,5,5,0,2,1,4,81,5,7,28,7,160,20,13,20,67,40]
["040512","AREQUIPA","AREQUIPA","CAYLLOMA","MACA",{"$nulls":3},841,5,4,7,3,6,3,5,10,9,6,6,6,7,6,8,11,9,13,6,14,56,61,49,72,69,69,58,53,40,48,33,44,19,26,0,1,4,9,427,13,24,182,19,841,70,54,137,370,210]
[{"$nulls":5},1430,"PUESTO DE SALUD MACA",100,841,5,4,7,3,6,3,5,10,9,6,6,6,7,6,8,11,9,13,6,14,56,61,49,72,69,69,58,53,40,48,33,44,19,26,0,1,4,9,427,13,24,182,19,841,70,54,137,370,210]
["040513","AREQUIPA","AREQUIPA","CAYLLOMA","MADRIGAL",{"$nulls":3},770,6,5,4,2,6,3,4,5,5,5,7,2,10,8,7,7,12,10,7,8,52,49,47,58,49,62,47,47,57,51,38,35,24,31,0,5,1,7,395,20,28,146,12,770,54,54,116,310,236]
[{"$nulls":5},1427,"PUESTO DE SALUD MADRIGAL",100,770,6,5,4,2,6,3,4,5,5,5,7,2,10,8,7,7,12,10,7,8,52,49,47,58,49,62,47,47,57,51,38,35,24,31,0,5,1,7,395,20,28,146,12,770,54,54,116,310,236]
["040514","AREQUIPA","AREQUIPA","CAYLLOMA","SAN ANTONIO DE CHUCA",{"$nulls":3},{"v":1003,"d":"1,003"},14,10,12,10,12,7,15,16,14,15,21,18,12,14,15,15,21,24,18,13,68,70,60,75,72,66,63,65,52,37,37,20,12,10,0,9,5,27,502,38,45,215,24,{"v":1003,"d":"1,003"},164,101,169,401,168]
[{"$nulls":5},1242,"PUESTO DE SALUD IMATA",60,601,8,6,7,6,7,4,9,10,8,9,13,11,7,8,9,9,13,14,11,8,41,42,36,45,43,40,38,39,31,22,22,12,7,6,0,5,3,16,301,23,27,129,14,602,98,61,101,241,101]
[{"$nulls":5},1243,"PUESTO DE SALUD PILLONES",40,402,6,4,5,4,5,3,6,6,6,6,8,7,5,6,6,6,8,10,7,5,27,28,24,30,29,26,25,26,21,15,15,8,5,4,0,4,2,11,201,15,18,86,10,401,66,40,68,160,67]
["040515","AREQUIPA","AREQUIPA","CAYLLOMA","SIBAYO",{"$nulls":3},883,13,10,3,10,7,6,4,12,6,12,8,13,10,11,9,17,15,14,11,11,74,74,73,66,68,76,46,48,45,33,27,25,12,14,2,7,6,18,451,20,32,217,17,883,104,76,170,377,156]
[{"$nulls":5},1435,"PUESTO DE SALUD SANTA ROSA DE SIBAYO",100,883,13,10,3,10,7,6,4,12,6,12,8,13,10,11,9,17,15,14,11,11,74,74,73,66,68,76,46,48,45,33,27,25,12,14,2,7,6,18,451,20,32,217,17,883,104,76,170,377,156]
["040516","AREQUIPA","AREQUIPA","CAYLLOMA","TAPAY",{"$nulls":3},917,8,6,9,8,9,3,10,9,10,8,4,9,10,8,17,10,13,10,10,10,50,71,66,84,74,64,51,54,55,52,41,27,27,20,0,3,5,29,461,27,33,191,32,917,93,68,141,393,222]
[{"$nulls":5},1434,"PUESTO DE SALUD TAPAY",100,917,8,6,9,8,9,3,10,9,10,8,4,9,10,8,17,10,13,10,10,10,50,71,66,84,74,64,51,54,55,52,41,27,27,20,0,3,5,29,461,27,33,191,32,917,93,68,141,393,222]
["040517","AREQUIPA","AREQUIPA","CAYLLOMA","TISCO",{"$nulls":3},{"v":1782,"d":"1,782"},12,13,13,12,16,16,23,20,21,20,17,24,34,25,33,32,28,37,35,23,158,138,120,113,127,122,116,117,89,67,52,57,28,24,0,3,9,17,899,64,77,378,34,{"v":1782,"d":"1,782"},207,189,354,715,317]
[{"$nulls":5},1438,"PUESTO DE SALUD TISCO",39,695,5,5,5,5,6,6,8,8,8,8,7,9,13,10,13,12,11,14,14,8,62,54,47,44,50,48,45,46,35,26,21,22,11,9,0,1,4,7,350,25,31,147,13,695,80,74,138,278,124]
[{"$nulls":5},1431,"PUESTO DE SALUD COTACOTA",37,658,4,5,5,4,6,6,9,7,8,7,6,9,13,9,12,12,10,14,13,9,58,51,44,42,47,45,43,43,33,25,19,21,10,9,0,1,3,6,333,24,28,140,13,659,77,70,131,265,117]
[{"$nulls":5},6891,"PUESTO DE SALUD TARUCAMARCA",24,429,3,3,3,3,4,4,6,5,5,5,4,6,8,6,8,8,7,9,8,6,38,33,29,27,30,29,28,28,21,16,12,14,7,6,0,1,2,4,216,15,18,91,8,428,50,45,85,172,76]
["040518","AREQUIPA","AREQUIPA","CAYLLOMA","TUTI",{"$nulls":3},818,10,9,6,10,5,7,14,13,6,9,12,12,11,6,9,10,19,12,15,19,67,63,62,65,64,54,42,41,35,27,36,24,12,12,0,4,6,15,416,25,30,191,21,818,113,67,164,328,146]
[{"$nulls":5},1436,"PUESTO DE SALUD TUTI",100,818,10,9,6,10,5,7,14,13,6,9,12,12,11,6,9,10,19,12,15,19,67,63,62,65,64,54,42,41,35,27,36,24,12,12,0,4,6,15,416,25,30,191,21,818,113,67,164,328,146]
["040519","AREQUIPA","AREQUIPA","CAYLLOMA","YANQUE",{"$nulls":3},{"v":2607,"d":"2,607"},30,25,25,39,24,23,33,32,25,30,35,27,39,33,27,27,34,45,41,43,200,239,227,198,193,183,143,131,119,105,96,53,42,41,1,18,12,38,{"v":1318,"d":"1,318"},87,85,621,80,{"v":2607,"d":"2,607"},348,205,523,{"v":1075,"d":"1,075"},456]
[{"$nulls":5},1428,"PUESTO DE SALUD YANQUE",54,1407,16,13,13,21,13,12,18,17,13,16,19,15,21,18,15,15,18,24,22,23,108,129,123,107,104,99,77,71,64,57,52,29,23,22,1,10,6,21,712,47,46,335,43,1408,188,111,282,580,246]
[{"$nulls":5},1437,"PUESTO DE SALUD CHALHUANCA",46,1200,14,12,12,18,11,11,15,15,12,14,16,12,18,15,12,12,16,21,19,20,92,110,104,91,89,84,66,60,55,48,44,24,19,19,0,8,6,17,606,40,39,286,37,1199,160,94,241,495,210]
["040520","AREQUIPA","AREQUIPA","CAYLLOMA","MAJES",{"$nulls":3},{"v":76440,"d":"76,440"},{"v":1062,"d":"1,062"},{"v":1182,"d":"1,182"},{"v":1219,"d":"1,219"},{"v":1311,"d":"1,311"},{"v":1326,"d":"1,326"},{"v":1292,"d":"1,292"},{"v":1326,"d":"1,326"},{"v":1432,"d":"1,432"},{"v":1241,"d":"1,241"},{"v":1249,"d":"1,249"},{"v":1197,"d":"1,197"},{"v":1261,"d":"1,261"},{"v":1255,"d":"1,255"},{"v":1251,"d":"1,251"},{"v":1211,"d":"1,211"},{"v":1053,"d":"1,053"},{"v":1247,"d":"1,247"},{"v":1216,"d":"1,216"},{"v":1187,"d":"1,187"},{"v":1132,"d":"1,132"},{"v":5593,"d":"5,593"},{"v":6645,"d":"6,645"},{"v":6774,"d":"6,774"},{"v":6736,"d":"6,736"},{"v":5958,"d":"5,958"},{"v":5300,"d":"5,300"},{"v":4193,"d":"4,193"},{"v":3355,"d":"3,355"},{"v":2507,"d":"2,507"},{"v":1838,"d":"1,838"},{"v":1298,"d":"1,298"},836,428,329,76,546,516,{"v":1643,"d":"1,643"},{"v":38745,"d":"38,745"},{"v":3085,"d":"3,085"},{"v":2878,"d":"2,878"},{"v":18981,"d":"18,981"},{"v":2090,"d":"2,090"},{"v":76440,"d":"76,440"},{"v":15098,"d":"15,098"},{"v":7233,"d":"7,233"},{"v":14557,"d":"14,557"},{"v":32316,"d":"32,316"},{"v":7236,"d":"7,236"}]
[{"$nulls":5},16721,"HOSPITAL CENTRAL DE MAJES ING. ANGEL GABRIEL CHURA GALLEGOS",0,0,0,0,0,0,0,0,0,0,0,0,0,0,0,0,0,0,0,0,0,0,0,0,0,0,0,0,0,0,0,0,0,0,0,0,0,0,0,0,0,0,0,0,0,0,0,0,0,0,0]
[{"$nulls":5},1326,"CENTRO DE SALUD LA COLINA",41,30544,296,330,340,366,370,530,544,587,509,512,491,517,515,513,497,432,511,499,487,464,2293,2724,2777,2762,2443,2173,1719,1376,1028,754,532,343,175,135,31,224,212,674,15885,1265,1180,7782,857,31340,6190,2966,5968,13250,2967]
[{"$nulls":5},1325,"CENTRO DE SALUD  SANDRITA PEREZ EL PEDREGAL",46,34258,333,369,381,409,414,594,609,659,571,575,550,580,577,575,556,484,574,559,546,521,2572,3057,3117,3098,2741,2438,1928,1543,1154,845,597,384,197,151,35,251,237,755,17823,1419,1324,8731,962,35163,6945,3327,6697,14865,3328]
[{"$nulls":5},1341,"ASENTAMIENTO B-1",7,5215,50,56,58,63,63,90,93,100,87,87,84,88,88,88,85,74,87,85,83,79,392,465,474,472,417,371,294,235,175,129,91,59,30,23,5,38,36,115,2712,216,201,1329,146,5351,1057,506,1019,2262,507]
[{"$nulls":5},1342,"PUESTO DE SALUD  B-2",6,4471,44,48,50,54,54,78,80,86,74,75,72,76,75,75,73,63,75,73,71,68,336,399,406,404,357,318,252,201,150,110,78,50,26,20,5,33,31,99,2325,185,173,1139,125,4586,906,434,873,1939,434]
[{"$nulls":6},"NO MINSA",null,1952,339,379,390,419,425]
["040601","AREQUIPA","AREQUIPA","CONDESUYOS","CHUQUIBAMBA",{"$nulls":3},{"v":3282,"d":"3,282"},38,32,36,42,42,57,46,51,55,59,54,57,65,51,64,70,58,61,58,48,253,250,211,177,209,193,163,159,129,120,125,84,73,92,2,14,24,53,{"v":1678,"d":"1,678"},151,132,665,61,{"v":3282,"d":"3,282"},569,369,609,{"v":1112,"d":"1,112"},623]
[{"$nulls":5},1388,"CENTRO DE SALUD CHUQUIBAMBA",100,3282,38,32,36,42,42,57,46,51,55,59,54,57,65,51,64,70,58,61,58,48,253,250,211,177,209,193,163,159,129,120,125,84,73,92,2,14,24,53,1678,151,132,665,61,3282,569,369,609,1112,623]
["040602","AREQUIPA","AREQUIPA","CONDESUYOS","ANDARAY",{"$nulls":3},668,8,6,3,4,4,2,5,2,6,8,6,6,5,7,3,8,5,10,5,10,35,62,42,60,37,53,42,37,44,31,41,21,19,31,0,4,4,11,335,14,17,143,8,668,60,38,112,271,187]
[{"$nulls":5},1415,"PUESTO DE SALUD ANDARAY",100,668,8,6,3,4,4,2,5,2,6,8,6,6,5,7,3,8,5,10,5,10,35,62,42,60,37,53,42,37,44,31,41,21,19,31,0,4,4,11,335,14,17,143,8,668,60,38,112,271,187]
["040603","AREQUIPA","AREQUIPA","CONDESUYOS","CAYARANI",{"$nulls":3},{"v":3168,"d":"3,168"},36,31,44,34,38,47,52,53,55,54,56,59,53,72,59,82,76,70,67,68,316,277,243,209,178,188,134,166,105,92,54,34,32,34,3,21,15,76,{"v":1591,"d":"1,591"},156,192,680,76,{"v":3168,"d":"3,168"},559,412,728,{"v":1118,"d":"1,118"},351]
[{"$nulls":5},1440,"CENTRO DE SALUD CAYARANI",80,2534,29,25,35,27,30,38,42,42,44,43,45,47,42,58,47,66,61,56,54,54,253,222,194,167,142,150,107,133,84,74,43,27,26,27,2,17,12,61,1273,125,154,544,61,2534,447,330,582,894,281]
[{"$nulls":5},7407,"PUESTO DE SALUD ARCATA",20,634,7,6,9,7,8,9,10,11,11,11,11,12,11,14,12,16,15,14,13,14,63,55,49,42,36,38,27,33,21,18,11,7,6,7,1,4,3,15,318,31,38,136,15,634,112,82,146,224,70]
["040604","AREQUIPA","AREQUIPA","CONDESUYOS","CHICHAS",{"$nulls":3},677,8,7,5,3,1,6,7,6,6,6,9,9,8,9,6,8,9,12,6,8,30,36,38,35,32,45,55,51,37,45,26,35,28,45,0,3,5,13,338,22,22,104,15,677,73,52,80,256,216]
[{"$nulls":5},1410,"PUESTO DE SALUD CHICHAS",30,207,2,2,2,1,0,2,2,2,2,2,3,3,2,3,2,2,3,4,2,2,9,11,11,11,10,14,17,15,11,14,8,11,8,14,0,1,2,4,101,7,7,31,5,203,22,16,24,77,65]
[{"$nulls":5},1411,"PUESTO DE SALUD YACHANGUILLO",30,207,2,2,2,1,0,2,2,2,2,2,3,3,2,3,2,2,3,4,2,2,9,11,11,11,10,14,17,15,11,14,8,11,8,14,0,1,2,4,101,7,7,31,5,203,22,16,24,77,65]
[{"$nulls":5},1416,"YANQUE",40,263,4,3,1,1,1,2,3,2,2,2,3,3,4,3,2,4,3,4,2,4,12,14,16,13,12,17,21,21,15,17,10,13,12,17,0,1,1,5,136,8,8,42,5,271,29,20,32,102,86]
["040605","AREQUIPA","AREQUIPA","CONDESUYOS","IRAY",{"$nulls":3},636,9,5,9,6,6,2,8,6,8,5,8,9,9,10,4,4,10,12,6,3,37,41,38,31,38,37,49,41,39,35,24,28,24,35,0,1,8,15,325,19,18,112,17,636,81,49,87,234,185]
[{"$nulls":5},1409,"IRAY",100,636,9,5,9,6,6,2,8,6,8,5,8,9,9,10,4,4,10,12,6,3,37,41,38,31,38,37,49,41,39,35,24,28,24,35,0,1,8,15,325,19,18,112,17,636,81,49,87,234,185]
["040606","AREQUIPA","AREQUIPA","CONDESUYOS","RIO GRANDE",{"$nulls":3},{"v":3571,"d":"3,571"},49,50,33,48,56,70,54,55,45,42,43,43,45,45,49,52,76,63,34,44,220,273,236,297,273,263,231,214,164,133,91,70,54,56,4,29,20,67,{"v":1814,"d":"1,814"},118,134,785,114,{"v":3571,"d":"3,571"},588,330,571,{"v":1514,"d":"1,514"},568]
[{"$nulls":5},1380,"IQUIPI",88,3143,43,44,29,42,49,62,48,48,40,37,38,38,40,40,43,46,67,55,30,39,194,240,208,261,240,231,203,188,144,117,80,62,48,49,4,26,18,59,1596,104,118,691,100,3142,517,290,502,1332,500]
[{"$nulls":5},1381,"PUESTO DE SALUD PIUCA",12,428,6,6,4,6,7,8,6,7,5,5,5,5,5,5,6,6,9,8,4,5,26,33,28,36,33,32,28,26,20,16,11,8,6,7,0,3,2,8,218,14,16,94,14,429,71,40,69,182,68]
["040607","AREQUIPA","AREQUIPA","CONDESUYOS","SALAMANCA",{"$nulls":3},407,7,6,4,3,4,6,4,3,5,4,4,6,4,2,8,4,6,7,5,4,26,22,22,23,22,25,27,28,21,22,19,20,19,15,1,3,4,9,204,10,12,62,13,407,56,31,57,147,116]
[{"$nulls":5},1412,"PUESTO DE SALUD SALAMANCA",70,282,5,4,3,2,3,4,3,2,3,3,3,4,3,1,6,3,4,5,3,3,18,15,15,16,15,17,19,20,15,15,13,14,13,10,1,2,3,6,143,7,8,43,9,285,39,22,40,103,81]
[{"$nulls":5},1413,"PUESTO DE SALUD PUCUNCHO",30,125,2,2,1,1,1,2,1,1,2,1,1,2,1,1,2,1,2,2,2,1,8,7,7,7,7,8,8,8,6,7,6,6,6,5,0,1,1,3,61,3,4,19,4,122,17,9,17,44,35]
["040608","AREQUIPA","AREQUIPA","CONDESUYOS","YANAQUIHUA",{"$nulls":3},{"v":3887,"d":"3,887"},56,70,46,47,34,33,37,33,43,53,52,59,49,39,48,59,62,79,64,42,245,343,280,318,313,282,239,215,168,142,92,77,75,93,4,22,34,78,{"v":1967,"d":"1,967"},124,174,842,105,{"v":3887,"d":"3,887"},563,336,694,{"v":1647,"d":"1,647"},647]
[{"$nulls":5},1389,"CENTRO DE SALUD YANAQUIHUA",51,1983,29,36,23,24,17,17,19,17,22,27,27,30,25,20,24,30,32,40,33,21,125,175,143,162,160,144,122,110,86,72,47,39,38,47,2,11,17,40,1003,63,89,429,54,1982,287,171,354,840,330]
[{"$nulls":5},1414,"PUESTO DE SALUD ISPACAS",49,1904,27,34,23,23,17,16,18,16,21,26,25,29,24,19,24,29,30,39,31,21,120,168,137,156,153,138,117,105,82,70,45,38,37,46,2,11,17,38,964,61,85,413,51,1905,276,165,340,807,317]
["040701","AREQUIPA","AREQUIPA","ISLAY","MOLLENDO",{"$nulls":3},{"v":26815,"d":"26,815"},262,291,314,308,379,345,381,431,390,400,370,378,396,385,391,369,400,376,381,375,{"v":1896,"d":"1,896"},{"v":2039,"d":"2,039"},{"v":1926,"d":"1,926"},{"v":1875,"d":"1,875"},{"v":1951,"d":"1,951"},{"v":1933,"d":"1,933"},{"v":1690,"d":"1,690"},{"v":1482,"d":"1,482"},{"v":1263,"d":"1,263"},{"v":1069,"d":"1,069"},862,653,464,390,19,131,131,406,{"v":13590,"d":"13,590"},974,980,{"v":5886,"d":"5,886"},577,{"v":26815,"d":"26,815"},{"v":4249,"d":"4,249"},{"v":2317,"d":"2,317"},{"v":4691,"d":"4,691"},{"v":10857,"d":"10,857"},{"v":4701,"d":"4,701"}]
[{"$nulls":5},1444,"CENTRO DE SALUD ALTO INCLAN",42,11261,110,122,132,129,159,145,160,181,164,168,155,159,166,162,164,155,168,158,160,158,796,856,809,788,819,812,710,622,530,449,362,274,195,164,8,55,55,171,5708,409,412,2472,242,11262,1785,973,1970,4560,1974]
[{"$nulls":5},13295,"HOSPITAL II MANUEL DE TORRES MUÑOZ -  MOLLENDO",46,12336,121,134,144,142,175,159,175,198,179,184,171,174,182,177,180,170,184,173,175,172,872,938,886,862,898,889,777,682,581,492,397,301,213,179,9,60,60,186,6251,448,450,2708,266,12335,1954,1066,2158,4994,2163]
[{"$nulls":5},1447,"PUESTO DE SALUD VILLA LOURDES",12,3218,31,35,38,37,45,41,46,52,47,48,44,45,48,46,47,44,48,45,46,45,228,245,231,225,234,232,203,178,152,128,103,78,56,47,2,16,16,49,1631,117,118,706,69,3218,510,278,563,1303,564]
["040702","AREQUIPA","AREQUIPA","ISLAY","COCACHACRA",{"$nulls":3},{"v":8517,"d":"8,517"},104,95,94,97,114,107,95,112,133,98,94,100,98,118,112,119,100,114,110,120,566,683,694,711,638,593,569,549,401,357,222,165,114,121,9,45,59,147,{"v":4300,"d":"4,300"},268,292,{"v":1952,"d":"1,952"},272,{"v":8517,"d":"8,517"},{"v":1243,"d":"1,243"},661,{"v":1479,"d":"1,479"},{"v":3754,"d":"3,754"},{"v":1380,"d":"1,380"}]
[{"$nulls":5},1445,"CENTRO DE SALUD COCACHACRA",74,6299,77,70,69,71,84,80,70,83,98,72,69,74,72,87,83,88,74,84,82,89,419,505,513,526,472,438,421,406,297,265,165,122,84,90,7,33,44,108,3182,198,215,1445,202,6303,919,489,1094,2778,1021]
[{"$nulls":5},1453,"PUESTO DE SALUD EL TORO",2,167,2,2,2,2,2,2,2,2,3,2,2,2,2,2,2,2,2,2,2,2,11,14,14,14,13,12,11,11,8,7,4,3,2,2,0,1,1,3,86,5,6,39,5,170,25,13,30,75,28]
[{"$nulls":5},1452,"PUESTO DE SALUD EL FISCAL",6,513,6,6,6,6,7,6,6,7,8,6,6,6,6,7,7,7,6,7,7,7,34,41,42,43,38,36,34,33,24,21,13,10,7,7,1,3,4,9,258,16,18,117,16,511,75,40,89,225,83]
[{"$nulls":5},1454,"PUESTO DE SALUD LA PASCANA",4,343,4,4,4,4,5,4,4,4,5,4,4,4,4,5,4,5,4,5,4,5,23,27,28,28,26,24,23,22,16,14,9,7,5,5,0,2,2,6,172,11,12,78,11,341,50,26,59,150,55]
[{"$nulls":5},1343,"SAN CAMILO 7",14,1195,15,13,13,14,16,15,13,16,19,14,13,14,14,17,16,17,14,16,15,17,79,96,97,100,89,83,80,77,56,50,31,23,16,17,1,6,8,21,602,38,41,273,38,1192,174,93,207,526,193]
["040703","AREQUIPA","AREQUIPA","ISLAY","DEAN VALDIVIA",{"$nulls":3},{"v":7376,"d":"7,376"},94,101,101,98,87,104,114,106,94,103,99,94,121,92,95,112,124,98,102,103,562,648,667,563,554,480,417,381,309,251,176,126,95,105,4,45,49,154,{"v":3756,"d":"3,756"},247,278,{"v":1763,"d":"1,763"},199,{"v":7376,"d":"7,376"},{"v":1195,"d":"1,195"},642,{"v":1415,"d":"1,415"},{"v":3062,"d":"3,062"},{"v":1062,"d":"1,062"}]
[{"$nulls":5},1451,"PUESTO DE SALUD EL ARENAL",32,2357,30,32,32,31,28,33,36,34,30,33,32,30,39,29,30,36,40,31,33,33,180,207,213,180,177,154,133,122,99,80,56,40,30,34,1,14,16,49,1202,79,89,564,64,2360,382,205,453,980,340]
[{"$nulls":5},1449,"CENTRO DE SALUD LA CURVA",53,3914,50,54,54,52,46,55,61,56,50,55,52,50,64,49,51,59,65,52,54,55,298,344,354,299,294,254,221,202,164,133,94,67,51,55,2,24,26,82,1991,131,147,935,105,3910,634,341,750,1623,563]
[{"$nulls":5},1450,"PUESTO DE SALUD ALTO ENSENADA",15,1105,14,15,15,15,13,16,17,16,14,15,15,14,18,14,14,17,19,15,15,15,84,97,100,84,83,72,63,57,46,38,26,19,14,16,1,7,7,23,563,37,42,264,30,1106,179,96,212,459,159]
["040704","AREQUIPA","AREQUIPA","ISLAY","ISLAY",{"$nulls":3},{"v":5261,"d":"5,261"},83,85,81,94,80,94,97,86,83,95,83,90,86,83,61,79,101,96,90,78,373,442,426,429,394,384,313,247,172,147,100,66,18,25,5,36,47,115,{"v":2654,"d":"2,654"},195,237,{"v":1250,"d":"1,250"},188,{"v":5261,"d":"5,261"},{"v":1051,"d":"1,051"},506,983,{"v":2193,"d":"2,193"},528]
[{"$nulls":5},1443,"CENTRO DE SALUD MATARANI",100,5261,83,85,81,94,80,94,97,86,83,95,83,90,86,83,61,79,101,96,90,78,373,442,426,429,394,384,313,247,172,147,100,66,18,25,5,36,47,115,2654,195,237,1250,188,5261,1051,506,983,2193,528]
["040705","AREQUIPA","AREQUIPA","ISLAY","MEJIA",{"$nulls":3},{"v":1332,"d":"1,332"},15,18,16,16,12,20,13,14,13,15,18,14,11,14,14,7,11,11,14,16,89,95,95,107,110,86,95,96,94,53,51,32,25,22,1,6,9,28,674,35,23,311,37,{"v":1332,"d":"1,332"},184,68,214,589,277]
[{"$nulls":5},1448,"PUESTO DE SALUD MEJIA",100,1332,15,18,16,16,12,20,13,14,13,15,18,14,11,14,14,7,11,11,14,16,89,95,95,107,110,86,95,96,94,53,51,32,25,22,1,6,9,28,674,35,23,311,37,1332,184,68,214,589,277]
["040706","AREQUIPA","AREQUIPA","ISLAY","PUNTA DE BOMBON",{"$nulls":3},{"v":6646,"d":"6,646"},84,88,76,104,80,91,84,81,88,74,81,116,91,84,78,105,92,102,91,88,458,535,499,533,465,433,409,366,336,291,196,143,86,118,6,35,49,125,{"v":3357,"d":"3,357"},233,245,{"v":1458,"d":"1,458"},161,{"v":6646,"d":"6,646"},{"v":1047,"d":"1,047"},552,{"v":1172,"d":"1,172"},{"v":2705,"d":"2,705"},{"v":1170,"d":"1,170"}]
[{"$nulls":5},1446,"CENTRO DE SALUD LA PUNTA",100,6646,84,88,76,104,80,91,84,81,88,74,81,116,91,84,78,105,92,102,91,88,458,535,499,533,465,433,409,366,336,291,196,143,86,118,6,35,49,125,3357,233,245,1458,161,6646,1047,552,1172,2705,1170]
["040801","AREQUIPA","AREQUIPA","LA UNION","COTAHUASI",{"$nulls":3},{"v":2919,"d":"2,919"},40,41,54,50,54,51,45,44,43,43,56,55,61,53,50,51,68,55,66,56,228,194,154,176,176,166,144,140,121,91,80,67,61,85,2,18,22,88,{"v":1473,"d":"1,473"},136,159,554,103,{"v":2919,"d":"2,919"},576,338,544,956,505]
[{"$nulls":5},1455,"CENTRO DE SALUD COTAHUASI",100,2919,40,41,54,50,54,51,45,44,43,43,56,55,61,53,50,51,68,55,66,56,228,194,154,176,176,166,144,140,121,91,80,67,61,85,2,18,22,88,1473,136,159,554,103,2919,576,338,544,956,505]
["040802","AREQUIPA","AREQUIPA","LA UNION","ALCA",{"$nulls":3},{"v":1752,"d":"1,752"},32,29,32,28,26,18,27,34,37,33,27,29,26,23,32,34,33,40,40,32,150,116,106,91,85,96,94,94,76,63,44,51,36,38,1,18,14,41,890,75,98,309,61,{"v":1752,"d":"1,752"},352,188,338,566,308]
[{"$nulls":5},1464,"CENTRO DE SALUD ALCA",100,1752,32,29,32,28,26,18,27,34,37,33,27,29,26,23,32,34,33,40,40,32,150,116,106,91,85,96,94,94,76,63,44,51,36,38,1,18,14,41,890,75,98,309,61,1752,352,188,338,566,308]
["040803","AREQUIPA","AREQUIPA","LA UNION","CHARCANA",{"$nulls":3},614,12,8,8,10,5,5,13,14,8,14,10,13,14,9,10,11,11,14,11,4,40,45,36,36,34,41,32,32,20,24,22,22,12,14,1,9,3,18,312,38,30,106,19,614,120,69,100,211,114]
[{"$nulls":5},1467,"PUESTO DE SALUD CHARCANA",68,417,8,5,5,7,3,3,9,10,5,10,7,9,10,6,7,7,7,10,7,3,27,31,24,24,23,28,22,22,14,16,15,15,8,10,1,6,2,12,212,26,20,72,13,418,82,47,68,143,78]
[{"$nulls":5},1466,"PUESTO DE SALUD ANDAMARCA",32,197,4,3,3,3,2,2,4,4,3,4,3,4,4,3,3,4,4,4,4,1,13,14,12,12,11,13,10,10,6,8,7,7,4,4,0,3,1,6,100,12,10,34,6,196,38,22,32,68,36]
["040804","AREQUIPA","AREQUIPA","LA UNION","HUAYNACOTAS",{"$nulls":3},{"v":1898,"d":"1,898"},36,29,41,35,21,26,39,32,36,33,33,39,34,37,34,38,40,41,35,31,173,140,98,95,112,114,103,96,62,64,46,37,29,39,1,17,19,74,955,84,93,357,103,{"v":1898,"d":"1,898"},400,224,379,618,277]
[{"$nulls":5},1463,"PUESTO DE SALUD HUAYNACOTAS",61,1158,22,18,25,22,13,16,24,19,22,20,20,24,21,22,21,23,25,25,22,18,106,86,59,58,68,69,62,59,38,39,28,22,18,24,1,10,12,45,582,51,56,218,62,1157,244,137,231,377,169]
[{"$nulls":5},7265,"PUESTO DE SALUD HUARCAYA",21,399,8,6,9,7,4,5,8,7,8,7,7,8,7,8,7,8,8,9,7,7,36,29,21,20,24,24,22,20,13,13,10,8,6,8,0,4,4,16,201,18,20,75,22,399,84,47,80,130,58]
[{"$nulls":5},1461,"PUESTO DE SALUD TAURISMA",18,341,6,5,7,6,4,5,7,6,6,6,6,7,6,7,6,7,7,7,6,6,31,25,18,17,20,21,19,17,11,12,8,7,5,7,0,3,3,13,172,15,17,64,19,342,72,40,68,111,50]
["040805","AREQUIPA","AREQUIPA","LA UNION","PAMPAMARCA",{"$nulls":3},{"v":1158,"d":"1,158"},91,36,7,14,11,12,10,15,14,23,18,18,26,15,22,23,20,28,28,17,95,57,73,66,70,61,52,47,40,53,32,27,16,21,2,58,33,91,578,61,56,191,33,{"v":1158,"d":"1,158"},269,134,197,369,189]
[{"$nulls":5},1462,"PUESTO DE SALUD PAMPAMARCA",67,775,61,25,5,9,7,8,6,10,9,16,12,12,17,10,15,16,13,19,19,11,64,38,49,44,46,41,35,32,27,35,21,18,11,14,2,39,22,61,387,41,38,128,22,776,181,90,132,248,127]
[{"$nulls":5},1460,"PUESTO DE SALUD MUNGUI",18,209,16,6,1,3,2,2,2,3,3,4,3,3,5,3,4,4,4,5,5,3,17,10,13,12,13,11,9,8,7,10,6,5,3,4,0,10,6,16,104,11,10,34,6,208,48,24,35,66,34]
[{"$nulls":5},1459,"PUESTO DE SALUD HUARHUA",15,174,14,5,1,2,2,2,2,2,2,3,3,3,4,2,3,3,3,4,4,3,14,9,11,10,11,9,8,7,6,8,5,4,2,3,0,9,5,14,87,9,8,29,5,174,40,20,30,55,28]
["040806","AREQUIPA","AREQUIPA","LA UNION","PUYCA",{"$nulls":3},{"v":2379,"d":"2,379"},34,37,46,30,38,33,43,56,53,57,58,58,55,66,54,69,59,59,48,41,202,143,148,116,131,116,119,105,88,68,58,42,29,20,1,24,10,60,{"v":1196,"d":"1,196"},143,141,407,130,{"v":2379,"d":"2,379"},543,362,434,735,305]
[{"$nulls":5},1465,"PUESTO DE SALUD PUYCA",73,1737,25,27,34,22,28,24,31,41,39,42,42,42,40,48,39,50,43,43,35,30,147,104,108,85,96,85,87,77,64,50,42,31,21,15,1,18,7,44,873,104,103,297,95,1737,396,264,317,537,223]
[{"$nulls":5},1471,"PUESTO DE SALUD CHURCA",27,642,9,10,12,8,10,9,12,15,14,15,16,16,15,18,15,19,16,16,13,11,55,39,40,31,35,31,32,28,24,18,16,11,8,5,0,6,3,16,323,39,38,110,35,642,147,98,117,198,82]
["040807","AREQUIPA","AREQUIPA","LA UNION","QUECHUALLA",{"$nulls":3},334,3,1,0,1,3,4,2,2,4,4,1,1,1,2,0,2,2,2,4,2,8,24,38,29,22,25,20,28,28,25,13,12,9,12,1,3,0,5,167,4,7,72,14,334,26,9,38,162,99]
[{"$nulls":5},1468,"PUESTO DE SALUD VELINGA",100,334,3,1,0,1,3,4,2,2,4,4,1,1,1,2,0,2,2,2,4,2,8,24,38,29,22,25,20,28,28,25,13,12,9,12,1,3,0,5,167,4,7,72,14,334,26,9,38,162,99]
["040808","AREQUIPA","AREQUIPA","LA UNION","SAYLA",{"$nulls":3},296,9,4,4,2,0,4,2,4,3,3,4,3,7,4,3,4,8,9,6,6,19,20,19,18,17,19,12,17,10,17,11,7,6,15,1,4,5,18,143,12,20,46,14,296,42,35,51,102,66]
[{"$nulls":5},1469,"PUESTO DE SALUD SAYLA",100,296,9,4,4,2,0,4,2,4,3,3,4,3,7,4,3,4,8,9,6,6,19,20,19,18,17,19,12,17,10,17,11,7,6,15,1,4,5,18,143,12,20,46,14,296,42,35,51,102,66]
["040809","AREQUIPA","AREQUIPA","LA UNION","TAURIA",{"$nulls":3},393,7,10,3,10,10,7,6,3,9,3,6,4,7,3,4,5,10,9,3,8,24,23,31,32,27,14,9,18,18,9,16,16,13,16,0,2,5,12,193,19,21,59,17,393,78,38,58,131,88]
[{"$nulls":5},1470,"PUESTO DE SALUD TAURIA",100,393,7,10,3,10,10,7,6,3,9,3,6,4,7,3,4,5,10,9,3,8,24,23,31,32,27,14,9,18,18,9,16,16,13,16,0,2,5,12,193,19,21,59,17,393,78,38,58,131,88]
["040810","AREQUIPA","AREQUIPA","LA UNION","TOMEPAMPA",{"$nulls":3},639,6,7,5,7,7,4,10,4,11,7,9,10,7,13,12,8,14,14,9,8,47,39,45,31,40,42,48,29,34,33,21,22,17,19,0,6,0,8,325,26,26,123,13,639,87,68,103,235,146]
[{"$nulls":5},1456,"PUESTO DE SALUD TOMEPAMPA",100,639,6,7,5,7,7,4,10,4,11,7,9,10,7,13,12,8,14,14,9,8,47,39,45,31,40,42,48,29,34,33,21,22,17,19,0,6,0,8,325,26,26,123,13,639,87,68,103,235,146]
["040811","AREQUIPA","AREQUIPA","LA UNION","TORO",{"$nulls":3},504,7,1,5,6,1,3,4,3,3,7,6,5,5,3,7,4,6,10,5,8,29,35,23,28,26,40,40,38,28,20,18,21,27,32,1,5,2,8,255,14,17,89,11,504,51,35,77,195,146]
[{"$nulls":5},1457,"PUESTO DE SALUD TORO",51,261,4,1,3,3,1,2,2,2,2,4,3,3,3,2,4,2,3,5,3,4,15,18,12,14,13,20,20,19,14,10,9,11,14,16,1,3,1,4,130,7,9,45,6,257,26,18,39,99,74]
[{"$nulls":5},1458,"PUESTO DE SALUD CASPI",49,243,3,0,2,3,0,1,2,1,1,3,3,2,2,1,3,2,3,5,2,4,14,17,11,14,13,20,20,19,14,10,9,10,13,16,0,2,1,4,125,7,8,44,5,247,25,17,38,96,72]
[]
["NOTA: LA POBLACION ESTIMADA DE EDADES  SIMPLES Y GRUPOS DE EDAD DE DISTRITOS, CORRESPONDEN A CIFRAS REFERENCIALES HASTA OBTENER LAS CIFRAS DE LAS PROYECCIONES DEL INEI"]
["FUENTE: CENSO NACIONAL XI DE POBLACION Y VI DE VIVIENDA 2017/- BOLETIN DEMOGRAFICO Nº 26,37, 39 / RENIEC / Padrón Nominal/ CNV"]
["La población de 0-5 años corresponden al reporte de la poblacion del Padrón Nominal con corte al 31/12/2023 con ajuste en el grupo de edad de 0 años"]
["OFICINA DE GESTION DE LA INFORMACION - MINISTERIO DE SALUD"]

{"sheet":"RED DE SALUD AREQUIPA CAYLLOMA","index":4,"n_rows":241,"n_cols":58,"rows_kept":241,"merged":[[5,43,5,45],[5,46,6,46],[5,47,6,47],[5,48,5,50],[5,51,6,51]]}
[]
[]
[]
["POBLACION ESTIMADA POR EDADES SIMPLES Y GRUPOS DE EDAD, SEGÚN DEPARTAMENTO y PROVINCIA. 2024"]
["* Actualizado con datos INEI"]
["POBLACION 2024",{"$nulls":8},"POBLACION TOTAL, POR EDADS SIMPLES",{"$nulls":19},"POBLACIÓN TOTAL,  POR GRUPOS QUINQUEN ALES DE EDAD",{"$nulls":13},"EDADES ESPECIALES",null,null,"NACIMIENTOS VIVOS","POBLACION FEMENINA TOTAL","POBLACION FEMENINA",null,null,"GESTANTES  ESPERADAS"]
["UBIGEO","DIRESA","DEPARTAMENTO","PROVINCIA","DISTRITO",{"$nulls":3},"Total","0",1,2,3,4,5,6,7,8,9,10,11,12,13,14,15,16,17,18,19,"20-24","25-29","30-34","35-39","40-44","45-49","50-54","55-59","60-64","65-69","70-74","75-79","80-84","85-+","28 DIAS","0-5 MESES","6-11 MESES",null,null,"10 - 14","15- 19","20- 49",null,"TOTAL","NIÑO","Adolescente","Joven","Adulto","Adulto Mayor"]
[{"$nulls":5},"IPRESS","ESTABLECIMIENTO","%",{"v":1594091,"d":"1,594,091"},{"v":17582,"d":"17,582"},{"v":17584,"d":"17,584"},{"v":17595,"d":"17,595"},{"v":20559,"d":"20,559"},{"v":22083,"d":"22,083"},{"v":22837,"d":"22,837"},{"v":26471,"d":"26,471"},{"v":26959,"d":"26,959"},{"v":27070,"d":"27,070"},{"v":26055,"d":"26,055"},{"v":25314,"d":"25,314"},{"v":25751,"d":"25,751"},{"v":26392,"d":"26,392"},{"v":25372,"d":"25,372"},{"v":23695,"d":"23,695"},{"v":23769,"d":"23,769"},{"v":23977,"d":"23,977"},{"v":23863,"d":"23,863"},{"v":23424,"d":"23,424"},{"v":23557,"d":"23,557"},{"v":121848,"d":"121,848"},{"v":138442,"d":"138,442"},{"v":137846,"d":"137,846"},{"v":127608,"d":"127,608"},{"v":118255,"d":"118,255"},{"v":107124,"d":"107,124"},{"v":89802,"d":"89,802"},{"v":76209,"d":"76,209"},{"v":61196,"d":"61,196"},{"v":49581,"d":"49,581"},{"v":36235,"d":"36,235"},{"v":26050,"d":"26,050"},{"v":16960,"d":"16,960"},{"v":17026,"d":"17,026"},{"v":1236,"d":"1,236"},{"v":8823,"d":"8,823"},{"v":8759,"d":"8,759"},{"v":25610,"d":"25,610"},{"v":809259,"d":"809,259"},{"v":63041,"d":"63,041"},{"v":59690,"d":"59,690"},{"v":378691,"d":"378,691"},{"v":40721,"d":"40,721"},{"v":1594091,"d":"1,594,091"},{"v":275860,"d":"275,860"},{"v":147068,"d":"147,068"},{"v":307271,"d":"307,271"},{"v":656844,"d":"656,844"},{"v":207048,"d":"207,048"}]
["040101","AREQUIPA","AREQUIPA","AREQUIPA","AREQUIPA",{"$nulls":3},{"v":56005,"d":"56,005"},555,468,486,639,730,816,638,688,689,635,631,642,648,630,613,616,603,596,570,595,{"v":3349,"d":"3,349"},{"v":3685,"d":"3,685"},{"v":3994,"d":"3,994"},{"v":3717,"d":"3,717"},{"v":3804,"d":"3,804"},{"v":4016,"d":"4,016"},{"v":3956,"d":"3,956"},{"v":3803,"d":"3,803"},{"v":3486,"d":"3,486"},{"v":2989,"d":"2,989"},{"v":2343,"d":"2,343"},{"v":1745,"d":"1,745"},{"v":1261,"d":"1,261"},{"v":1369,"d":"1,369"},35,283,272,802,{"v":28454,"d":"28,454"},{"v":1502,"d":"1,502"},{"v":1445,"d":"1,445"},{"v":11187,"d":"11,187"},{"v":1752,"d":"1,752"},{"v":56005,"d":"56,005"},{"v":7617,"d":"7,617"},{"v":3706,"d":"3,706"},{"v":8199,"d":"8,199"},{"v":23290,"d":"23,290"},{"v":13193,"d":"13,193"}]
[{"$nulls":5},7397,"INSTITUTO REGIONAL DE ENFERMEDADES NEOPLASICAS",0,0,0,0,0,0,0,0,0,0,0,0,0,0,0,0,0,0,0,0,0,0,0,0,0,0,0,0,0,0,0,0,0,0,0,0,0,0,0,0,0,0,0,0,0,0,0,0,0,0,0]
[{"$nulls":5},1232,"HOSPITAL GOYENECHE",0,0,0,0,0,0,0,0,0,0,0,0,0,0,0,0,0,0,0,0,0,0,0,0,0,0,0,0,0,0,0,0,0,0,0,0,0,0,0,0,0,0,0,0,0,0,0,0,0,0,0]
[{"$nulls":5},1231,"HOSPITAL REGIONAL HONORIO DELGADO ESPINOZA",0,0,0,0,0,0,0,0,0,0,0,0,0,0,0,0,0,0,0,0,0,0,0,0,0,0,0,0,0,0,0,0,0,0,0,0,0,0,0,0,0,0,0,0,0,0,0,0,0,0,0]
[{"$nulls":5},1291,"CENTRO DE SALUD ALTO SELVA ALEGRE",20,{"$f":"SUM(J13:AQ13)","v":11193},111,92,98,127,146,164,126,136,137,127,127,130,128,126,121,124,119,120,114,119,669,737,798,745,760,804,792,759,698,597,467,349,253,273,7,55,56,162,5690,302,289,2239,352,11201,1525,742,1639,4658,2637]
[{"$nulls":5},1294,"CENTRO DE SALUD MARIANO MELGAR",20,{"$f":"SUM(J14:AQ14)","v":11203},111,94,97,128,146,163,128,138,138,127,126,128,130,126,123,123,121,119,114,119,670,737,799,743,761,803,791,761,697,598,469,349,252,274,7,57,54,160,5691,300,289,2237,350,11201,1523,741,1640,4658,2639]
[{"$nulls":5},1293,"CENTRO DE SALUD MIRAFLORES",20,11203,111,94,97,128,146,163,128,138,138,127,126,128,130,126,123,123,121,119,114,119,670,737,799,743,761,803,791,761,697,598,469,349,252,274,7,57,54,160,5691,300,289,2237,350,11201,1523,741,1640,4658,2639]
[{"$nulls":5},1233,"CENTRO DE SALUD YANAHUARA",20,11203,111,94,97,128,146,163,128,138,138,127,126,128,130,126,123,123,121,119,114,119,670,737,799,743,761,803,791,761,697,598,469,349,252,274,7,57,54,160,5691,300,289,2237,350,11201,1523,741,1640,4658,2639]
[{"$nulls":5},1263,"PUESTO DE SALUD 13 DE ENERO (VRH)",20,11203,111,94,97,128,146,163,128,138,138,127,126,128,130,126,123,123,121,119,114,119,670,737,799,743,761,803,791,761,697,598,469,349,252,274,7,57,54,160,5691,300,289,2237,350,11201,1523,741,1640,4658,2639]
[]
[{"$nulls":6},"RED DE SALUD AREQUIPA CAYLLOMA",null,{"$f":"+I21+I33+I42+I50+I57+I62+I68+I72+I78+I85+I92+I103+I115+I124+I128+I134+I142+I148+I154+I162+I168+I179+I189+I196+I204+I214+I221+I229","v":1260476},{"$f":"+J21+J33+J42+J50+J57+J62+J68+J72+J78+J85+J92+J103+J115+J124+J128+J134+J142+J148+J154+J162+J168+J179+J189+J196+J204+J214+J221+J229","v":{"v":10022,"d":"10,022"}},{"v":10148,"d":"10,148"},{"v":10280,"d":"10,280"},{"v":12049,"d":"12,049"},{"v":13055,"d":"13,055"},{"v":18294,"d":"18,294"},{"v":21843,"d":"21,843"},{"v":22145,"d":"22,145"},{"v":22291,"d":"22,291"},{"v":21457,"d":"21,457"},{"v":20739,"d":"20,739"},{"v":20865,"d":"20,865"},{"v":21472,"d":"21,472"},{"v":20668,"d":"20,668"},{"v":19084,"d":"19,084"},{"v":18989,"d":"18,989"},{"v":19111,"d":"19,111"},{"v":19036,"d":"19,036"},{"v":19047,"d":"19,047"},{"v":19339,"d":"19,339"},{"v":100324,"d":"100,324"},{"v":114365,"d":"114,365"},{"v":113646,"d":"113,646"},{"v":104217,"d":"104,217"},{"v":96200,"d":"96,200"},{"v":85956,"d":"85,956"},{"v":70684,"d":"70,684"},{"v":58927,"d":"58,927"},{"v":46695,"d":"46,695"},{"v":37736,"d":"37,736"},{"v":27470,"d":"27,470"},{"v":19626,"d":"19,626"},{"v":12467,"d":"12,467"},{"v":12229,"d":"12,229"},{"v":1003,"d":"1,003"},{"v":6909,"d":"6,909"},{"v":6777,"d":"6,777"},{"v":19871,"d":"19,871"},{"v":650638,"d":"650,638"},{"v":51090,"d":"51,090"},{"v":47853,"d":"47,853"},{"v":309623,"d":"309,623"},{"v":31967,"d":"31,967"},{"v":1281054,"d":"1,281,054"},{"v":223765,"d":"223,765"},{"v":118360,"d":"118,360"},{"v":253076,"d":"253,076"},{"v":529631,"d":"529,631"},{"v":156224,"d":"156,224"}]
[]
["040501","AREQUIPA","AREQUIPA","CAYLLOMA","CHIVAY",null,"MR CHIVAY",null,{"$f":"SUM(I22:I30)","v":13953},{"$f":"SUM(J22:J30)","v":128},{"$f":"SUM(K22:K30)","v":147},102,139,119,158,200,212,197,199,197,210,243,212,201,230,242,238,219,231,{"v":1166,"d":"1,166"},{"v":1229,"d":"1,229"},{"v":1119,"d":"1,119"},{"v":1011,"d":"1,011"},959,887,724,739,605,496,391,339,221,243,{"$f":"SUM(AR22:AR30)","v":2},{"$f":"SUM(AS22:AS30)","v":61},{"$f":"SUM(AT22:AT30)","v":87},{"$f":"SUM(AU22:AU30)","v":215},{"$f":"SUM(AV22:AV30)","v":{"v":7120,"d":"7,120"}},{"$f":"SUM(AW22:AW30)","v":526},{"$f":"SUM(AX22:AX30)","v":573},{"$f":"SUM(AY22:AY30)","v":{"v":3167,"d":"3,167"}},{"$f":"SUM(AZ22:AZ30)","v":313},{"$f":"SUM(BA22:BA30)","v":{"v":14062,"d":"14,062"}},{"$f":"SUM(BB22:BB30)","v":{"v":2118,"d":"2,118"}},{"$f":"SUM(BC22:BC30)","v":{"v":1366,"d":"1,366"}},{"$f":"SUM(BD22:BD30)","v":{"v":2845,"d":"2,845"}},{"$f":"SUM(BE22:BE30)","v":{"v":5438,"d":"5,438"}},{"$f":"SUM(BF22:BF30)","v":{"v":2294,"d":"2,294"}}]
[{"$nulls":5},1419,"CENTRO DE SALUD CHIVAY",90,6114,41,58,31,52,49,94,111,116,118,117,113,121,137,118,113,130,133,124,126,109,605,575,522,445,371,331,259,290,204,142,121,112,56,70,1,25,36,85,3145,292,304,1428,111,6225,1131,755,1415,2218,706]
[{"$nulls":5},1423,"PUESTO DE SALUD CANOCOTA",10,695,7,10,5,9,8,11,12,13,13,13,13,14,15,13,13,14,15,14,14,12,67,64,58,50,41,37,29,32,23,16,13,13,6,8,0,3,4,10,350,32,34,159,12,692,126,84,157,247,78]
["040502","AREQUIPA","AREQUIPA","CAYLLOMA","ACHOMA",1429,"PUESTO DE SALUD ACHOMA",100,997,13,13,12,7,6,11,10,10,8,5,6,11,13,6,10,12,9,12,7,17,73,91,69,53,70,80,71,73,60,43,36,28,26,26,0,2,11,18,508,23,31,209,22,997,112,62,188,416,219]
["040506","AREQUIPA","AREQUIPA","CAYLLOMA","COPORAQUE",1424,"PUESTO DE SALUD COPORAQUE",100,1307,13,15,11,16,17,9,22,20,15,16,7,13,15,13,9,17,18,14,15,18,77,106,90,112,134,87,77,70,71,55,45,35,26,29,0,7,6,19,663,28,41,312,34,1307,174,86,216,570,261]
["040509","AREQUIPA","AREQUIPA","CAYLLOMA","ICHUPAMPA",1425,"PUESTO DE SALUD ICHUPAMPA",100,760,11,12,7,14,3,7,7,8,10,7,9,12,13,7,11,7,10,12,3,10,45,60,70,57,50,50,44,45,38,41,30,21,15,14,0,2,9,20,385,26,19,172,29,760,107,60,118,316,159]
["040510","AREQUIPA","AREQUIPA","CAYLLOMA","LARI",1426,"PUESTO DE SALUD LARI",100,1062,16,17,12,15,11,8,11,13,6,14,17,16,12,23,15,17,18,15,19,20,83,94,91,57,71,72,62,58,48,43,23,22,26,17,0,6,10,26,535,45,46,224,31,1062,156,100,216,411,179]
["040512","AREQUIPA","AREQUIPA","CAYLLOMA","MACA",1430,"PUESTO DE SALUD MACA",100,841,5,4,7,3,6,3,5,10,9,6,6,6,7,6,8,11,9,13,6,14,56,61,49,72,69,69,58,53,40,48,33,44,19,26,0,1,4,9,427,13,24,182,19,841,70,54,137,370,210]
["040513","AREQUIPA","AREQUIPA","CAYLLOMA","MADRIGAL",1427,"PUESTO DE SALUD MADRIGAL",100,770,6,5,4,2,6,3,4,5,5,5,7,2,10,8,7,7,12,10,7,8,52,49,47,58,49,62,47,47,57,51,38,35,24,31,0,5,1,7,395,20,28,146,12,770,54,54,116,310,236]
["040519","AREQUIPA","AREQUIPA","CAYLLOMA","YANQUE",1428,"PUESTO DE SALUD YANQUE",54,1407,16,13,13,21,13,12,18,17,13,16,19,15,21,18,15,15,18,24,22,23,108,129,123,107,104,99,77,71,64,57,52,29,23,22,1,10,6,21,712,47,46,335,43,1408,188,111,282,580,246]
[{"$nulls":6},"NO MINSA",null,108,20,27,14,24,23]
[]
["040504","AREQUIPA","AREQUIPA","CAYLLOMA","CALLALLI",null,"MR CALLALLI",null,{"$f":"SUM(I34:I40)","v":{"v":6409,"d":"6,409"}},{"$f":"SUM(J34:J40)","v":75},{"$f":"SUM(K34:K40)","v":64},53,81,49,57,77,74,62,77,70,87,90,84,77,88,100,99,99,90,511,533,489,451,447,467,399,386,323,257,225,172,96,100,3,32,43,106,{"v":3247,"d":"3,247"},201,232,{"v":1430,"d":"1,430"},160,{"v":6408,"d":"6,408"},824,538,{"v":1233,"d":"1,233"},{"v":2640,"d":"2,640"},{"v":1174,"d":"1,174"}]
["040504","AREQUIPA","AREQUIPA","CAYLLOMA","CALLALLI",1421,"CENTRO DE SALUD CALLALLI",100,{"$f":"SUM(J34:AQ34)","v":1726},26,20,19,31,10,17,21,14,17,22,17,26,17,27,14,17,22,15,19,17,120,148,130,116,99,131,129,120,99,82,66,42,25,31,1,10,16,39,875,52,54,358,51,1726,240,112,304,725,345]
["040517","AREQUIPA","AREQUIPA","CAYLLOMA","TISCO",1438,"PUESTO DE SALUD TISCO",39,{"$f":"SUM(J35:AQ35)","v":695},5,5,5,5,6,6,8,8,8,8,7,9,13,10,13,12,11,14,14,8,62,54,47,44,50,48,45,46,35,26,21,22,11,9,0,1,4,7,350,25,31,147,13,695,80,74,138,278,124]
[{"$nulls":5},1431,"PUESTO DE SALUD COTACOTA",37,658,4,5,5,4,6,6,9,7,8,7,6,9,13,9,12,12,10,14,13,9,58,51,44,42,47,45,43,43,33,25,19,21,10,9,0,1,3,6,333,24,28,140,13,659,77,70,131,265,117]
[{"$nulls":5},6891,"PUESTO DE SALUD TARUCAMARCA",24,429,3,3,3,3,4,4,6,5,5,5,4,6,8,6,8,8,7,9,8,6,38,33,29,27,30,29,28,28,21,16,12,14,7,6,0,1,2,4,216,15,18,91,8,428,50,45,85,172,76]
["040518","AREQUIPA","AREQUIPA","CAYLLOMA","TUTI",1436,"PUESTO DE SALUD TUTI",100,818,10,9,6,10,5,7,14,13,6,9,12,12,11,6,9,10,19,12,15,19,67,63,62,65,64,54,42,41,35,27,36,24,12,12,0,4,6,15,416,25,30,191,21,818,113,67,164,328,146]
["040515","AREQUIPA","AREQUIPA","CAYLLOMA","SIBAYO",1435,"PUESTO DE SALUD SANTA ROSA DE SIBAYO",100,883,13,10,3,10,7,6,4,12,6,12,8,13,10,11,9,17,15,14,11,11,74,74,73,66,68,76,46,48,45,33,27,25,12,14,2,7,6,18,451,20,32,217,17,883,104,76,170,377,156]
["040519","AREQUIPA","AREQUIPA","CAYLLOMA","YANQUE",1437,"PUESTO DE SALUD CHALHUANCA",46,1200,14,12,12,18,11,11,15,15,12,14,16,12,18,15,12,12,16,21,19,20,92,110,104,91,89,84,66,60,55,48,44,24,19,19,0,8,6,17,606,40,39,286,37,1199,160,94,241,495,210]
[]
["040503","AREQUIPA","AREQUIPA","CAYLLOMA","CABANACONDE",null,"MR CABANACONDE",null,{"$f":"SUM(I43:I47)","v":4814},{"$f":"SUM(J43:J47)","v":48},{"$f":"SUM(K43:K47)","v":39},38,48,37,34,61,53,40,38,46,56,53,62,67,53,89,67,61,54,304,351,331,318,347,323,318,341,251,264,181,150,142,149,1,24,24,89,2426,151,178,935,130,4814,538,391,770,1978,1137]
["040503","AREQUIPA","AREQUIPA","CAYLLOMA","CABANACONDE",1420,"CABANACONDE",80,1964,15,16,16,22,12,17,30,23,18,16,20,22,22,31,26,22,38,28,25,24,134,155,133,116,133,131,136,159,97,94,66,52,54,61,0,7,8,24,993,58,71,391,46,1964,228,167,338,808,423]
[{"$nulls":5},1432,"PUESTO DE SALUD PINCHOLLO",20,491,4,4,4,6,3,4,7,6,5,4,5,6,6,8,6,5,10,7,6,6,33,39,33,29,33,33,34,40,24,23,16,13,14,15,0,2,2,6,248,14,18,98,11,491,57,42,84,202,106]
["040507","AREQUIPA","AREQUIPA","CAYLLOMA","HUAMBO",1433,"PUESTO DE SALUD HUAMBO",100,771,9,6,6,6,7,7,8,8,2,5,13,9,8,6,11,10,17,17,10,5,49,55,50,41,50,42,53,53,36,59,31,28,27,27,0,2,7,11,389,27,34,134,16,771,86,69,119,289,208]
["040516","AREQUIPA","AREQUIPA","CAYLLOMA","TAPAY",1434,"PUESTO DE SALUD TAPAY",100,917,8,6,9,8,9,3,10,9,10,8,4,9,10,8,17,10,13,10,10,10,50,71,66,84,74,64,51,54,55,52,41,27,27,20,0,3,5,29,461,27,33,191,32,917,93,68,141,393,222]
["040406","AREQUIPA","AREQUIPA","CASTILLA","CHOCO",1441,"PUESTO DE SALUD CHOCO",100,671,12,7,3,6,6,3,6,7,5,5,4,10,7,9,7,6,11,5,10,9,38,31,49,48,57,53,44,35,39,36,27,30,20,26,1,10,2,19,335,25,22,121,25,671,74,45,88,286,178]
[]
[]
["040505","AREQUIPA","AREQUIPA","CAYLLOMA","CAYLLOMA",null,"MR CAYLLOMA",null,{"$f":"SUM(I51:I55)","v":{"v":8717,"d":"8,717"}},{"$f":"SUM(J51:J55)","v":105},{"$f":"SUM(K51:K55)","v":108},125,114,111,107,121,140,157,154,170,169,174,166,167,199,174,185,172,152,812,775,665,625,522,502,405,432,320,252,160,113,81,83,8,60,45,208,{"v":4397,"d":"4,397"},449,459,{"v":1900,"d":"1,900"},347,{"v":8720,"d":"8,720"},{"v":1581,"d":"1,581"},{"v":1065,"d":"1,065"},{"v":1912,"d":"1,912"},{"v":3152,"d":"3,152"},{"v":1010,"d":"1,010"}]
["040505","AREQUIPA","AREQUIPA","CAYLLOMA","CAYLLOMA",1422,"CENTRO DE SALUD CAYLLOMA",77,3465,37,45,49,46,42,35,42,55,65,64,69,71,77,57,69,70,63,72,71,54,319,320,257,259,223,198,172,162,133,100,67,49,29,24,3,20,17,73,1756,184,168,784,176,3466,620,408,764,1272,402]
[{"$nulls":5},1418,"PUESTO DE SALUD JACHAÑA",23,1036,11,14,14,14,12,11,13,17,19,19,20,21,23,17,21,21,19,21,21,16,95,96,77,78,67,59,52,48,40,30,20,14,9,7,1,6,5,22,525,55,50,234,52,1035,185,122,228,380,120]
["040603","AREQUIPA","AREQUIPA","CONDESUYOS","CAYARANI",1440,"CENTRO DE SALUD CAYARANI",80,2534,29,25,35,27,30,38,42,42,44,43,45,47,42,58,47,66,61,56,54,54,253,222,194,167,142,150,107,133,84,74,43,27,26,27,2,17,12,61,1273,125,154,544,61,2534,447,330,582,894,281]
[{"$nulls":5},7407,"PUESTO DE SALUD ARCATA",20,634,7,6,9,7,8,9,10,11,11,11,11,12,11,14,12,16,15,14,13,14,63,55,49,42,36,38,27,33,21,18,11,7,6,7,1,4,3,15,318,31,38,136,15,634,112,82,146,224,70]
["040404","AREQUIPA","AREQUIPA","CASTILLA","CHACHAS",1442,"PUESTO DE SALUD TOLCONI",63,1048,21,18,18,20,19,14,14,15,18,17,25,18,21,20,18,26,16,22,13,14,82,82,88,79,54,57,47,56,42,30,19,16,11,18,1,13,8,37,525,54,49,202,43,1051,217,123,192,382,137]
[]
["040103","AREQUIPA","AREQUIPA","AREQUIPA","CAYMA",null,"MR FRANCISCO BOLOGNESI",null,{"$f":"SUM(I58:I60)","v":{"v":48603,"d":"48,603"}},{"$f":"SUM(J58:J60)","v":379},{"$f":"SUM(K58:K60)","v":402},377,442,507,756,906,889,881,832,808,808,867,799,731,757,681,717,725,709,{"v":3851,"d":"3,851"},{"v":4485,"d":"4,485"},{"v":4705,"d":"4,705"},{"v":4168,"d":"4,168"},{"v":3599,"d":"3,599"},{"v":3139,"d":"3,139"},{"v":2622,"d":"2,622"},{"v":2218,"d":"2,218"},{"v":1826,"d":"1,826"},{"v":1446,"d":"1,446"},{"v":1015,"d":"1,015"},714,409,433,40,276,281,771,{"v":25178,"d":"25,178"},{"v":1969,"d":"1,969"},{"v":1764,"d":"1,764"},{"v":12030,"d":"12,030"},{"v":1181,"d":"1,181"},{"v":49596,"d":"49,596"},{"v":8981,"d":"8,981"},{"v":4552,"d":"4,552"},{"v":9770,"d":"9,770"},{"v":20452,"d":"20,452"},{"v":5842,"d":"5,842"}]
[{"$nulls":5},1234,"CENTRO DE SALUD FRANCISCO BOLOGNESI",16,17300,155,143,134,157,180,269,322,316,313,296,287,287,308,284,260,269,242,255,258,252,1369,1595,1673,1482,1280,1116,932,789,649,514,361,254,145,154,14,98,100,274,8952,700,627,4277,420,17634,3193,1619,3474,7272,2077]
[{"$nulls":5},1244,"PUESTO DE SALUD LA TOMILLA",8,8640,67,71,67,79,90,134,161,158,157,148,144,144,154,142,130,135,121,127,129,126,685,797,836,741,640,558,466,394,325,257,180,127,73,77,7,49,50,137,4476,350,314,2139,210,8817,1597,809,1737,3636,1039]
[{"$nulls":5},6890,"PUESTO DE SALUD RAFAEL BELAUNDE",21,22663,157,188,176,206,237,353,423,415,411,388,377,377,405,373,341,353,318,335,338,331,1797,2093,2196,1945,1679,1465,1224,1035,852,675,474,333,191,202,19,129,131,360,11750,919,823,5614,551,23145,4191,2124,4559,9544,2726]
[]
["040103","AREQUIPA","AREQUIPA","AREQUIPA","CAYMA",null,"MR BUENOS AIRES DE CAYMA",null,{"$f":"SUM(I63:I65)","v":{"v":59408,"d":"59,408"}},{"$f":"SUM(J63:J65)","v":463},{"$f":"SUM(K63:K65)","v":494},460,541,621,924,{"v":1108,"d":"1,108"},{"v":1087,"d":"1,087"},{"v":1077,"d":"1,077"},{"v":1016,"d":"1,016"},988,988,{"v":1061,"d":"1,061"},977,891,926,833,876,886,867,{"v":4706,"d":"4,706"},{"v":5481,"d":"5,481"},{"v":5751,"d":"5,751"},{"v":5094,"d":"5,094"},{"v":4398,"d":"4,398"},{"v":3838,"d":"3,838"},{"v":3205,"d":"3,205"},{"v":2711,"d":"2,711"},{"v":2232,"d":"2,232"},{"v":1768,"d":"1,768"},{"v":1241,"d":"1,241"},873,499,527,50,338,343,941,{"v":30775,"d":"30,775"},{"v":2409,"d":"2,409"},{"v":2156,"d":"2,156"},{"v":14703,"d":"14,703"},{"v":1444,"d":"1,444"},{"v":60619,"d":"60,619"},{"v":10977,"d":"10,977"},{"v":5564,"d":"5,564"},{"v":11940,"d":"11,940"},{"v":24996,"d":"24,996"},{"v":7141,"d":"7,141"}]
[{"$nulls":5},1235,"BUENOS AIRES DE CAYMA",20,21605,168,179,167,196,226,336,403,396,391,369,360,360,386,356,324,337,303,318,322,316,1711,1993,2092,1853,1599,1396,1166,986,811,643,452,318,181,191,18,123,124,342,11191,876,784,5346,525,22044,3991,2024,4341,9089,2597]
[{"$nulls":5},1245,"SAN JOSE",20,21563,129,180,167,197,226,336,403,395,392,370,359,359,386,355,324,337,303,319,322,315,1711,1993,2091,1852,1599,1395,1165,986,812,643,451,317,182,192,18,123,125,342,11191,876,784,5347,525,22043,3992,2023,4342,9090,2597]
[{"$nulls":5},1246,"DEAN VALDIVIA",15,16240,166,135,126,148,169,252,302,296,294,277,269,269,289,266,243,252,227,239,242,236,1284,1495,1568,1389,1200,1047,874,739,609,482,338,238,136,144,14,92,94,257,8393,657,588,4010,394,16532,2994,1517,3257,6817,1947]
[{"$nulls":6},"NO MINSA",null,2204,396,422,394,461,531]
[]
["040104","AREQUIPA","AREQUIPA","AREQUIPA","CERRO COLORADO",null,"MR CERRO COLORADO",null,{"$f":"SUM(I69:I70)","v":{"v":47854,"d":"47,854"}},{"$f":"SUM(J69:J70)","v":216},{"$f":"SUM(K69:K70)","v":334},358,413,456,655,925,925,{"v":1006,"d":"1,006"},962,900,893,903,860,769,791,760,787,776,804,{"v":4137,"d":"4,137"},{"v":4573,"d":"4,573"},{"v":4521,"d":"4,521"},{"v":4080,"d":"4,080"},{"v":3765,"d":"3,765"},{"v":3182,"d":"3,182"},{"v":2477,"d":"2,477"},{"v":1956,"d":"1,956"},{"v":1417,"d":"1,417"},{"v":1146,"d":"1,146"},853,558,360,336,40,264,220,737,{"v":24918,"d":"24,918"},{"v":2140,"d":"2,140"},{"v":1953,"d":"1,953"},{"v":12355,"d":"12,355"},{"v":1322,"d":"1,322"},{"v":48856,"d":"48,856"},{"v":9045,"d":"9,045"},{"v":4871,"d":"4,871"},{"v":10291,"d":"10,291"},{"v":19980,"d":"19,980"},{"v":4671,"d":"4,671"}]
[{"$nulls":5},1236,"CERRO COLORADO",11,{"v":26308,"d":"26,308"},107,184,197,227,251,360,509,509,553,529,495,491,497,473,423,435,418,433,427,442,{"v":2275,"d":"2,275"},{"v":2515,"d":"2,515"},{"v":2487,"d":"2,487"},{"v":2244,"d":"2,244"},{"v":2071,"d":"2,071"},{"v":1750,"d":"1,750"},{"v":1362,"d":"1,362"},{"v":1076,"d":"1,076"},779,630,469,307,198,185,22,145,121,405,{"v":13705,"d":"13,705"},{"v":1177,"d":"1,177"},{"v":1074,"d":"1,074"},{"v":6795,"d":"6,795"},727,{"v":26871,"d":"26,871"},{"v":4975,"d":"4,975"},{"v":2679,"d":"2,679"},{"v":5660,"d":"5,660"},{"v":10989,"d":"10,989"},{"v":2569,"d":"2,569"}]
[{"$nulls":5},1248,"ALTO LIBERTAD",9,21546,109,150,161,186,205,295,416,416,453,433,405,402,406,387,346,356,342,354,349,362,1862,2058,2034,1836,1694,1432,1115,880,638,516,384,251,162,151,18,119,99,332,11213,963,879,5560,595,21985,4070,2192,4631,8991,2102]
[]
["040104","AREQUIPA","AREQUIPA","AREQUIPA","CERRO COLORADO",null,"MR MARISCAL CASTILLA",null,{"$f":"SUM(I73:I76)","v":{"v":47931,"d":"47,931"}},{"$f":"SUM(J73:J76)","v":296},{"$f":"SUM(K73:K76)","v":335},358,412,456,655,925,925,{"v":1005,"d":"1,005"},962,900,893,902,860,769,793,760,787,775,803,{"v":4138,"d":"4,138"},{"v":4573,"d":"4,573"},{"v":4520,"d":"4,520"},{"v":4080,"d":"4,080"},{"v":3765,"d":"3,765"},{"v":3182,"d":"3,182"},{"v":2478,"d":"2,478"},{"v":1955,"d":"1,955"},{"v":1418,"d":"1,418"},{"v":1145,"d":"1,145"},853,558,360,335,40,263,220,738,{"v":24918,"d":"24,918"},{"v":2140,"d":"2,140"},{"v":1953,"d":"1,953"},{"v":12355,"d":"12,355"},{"v":1322,"d":"1,322"},{"v":48857,"d":"48,857"},{"v":9045,"d":"9,045"},{"v":4871,"d":"4,871"},{"v":10291,"d":"10,291"},{"v":19980,"d":"19,980"},{"v":4671,"d":"4,671"}]
[{"$nulls":5},1238,"CENTRO DE SALUD MARISCAL CASTILLA",8,19184,131,134,143,165,182,262,370,370,402,385,360,357,361,344,308,317,304,315,310,321,1655,1829,1808,1632,1506,1273,991,782,567,458,341,223,144,134,16,105,88,295,9967,856,781,4942,529,19543,3618,1948,4116,7992,1868]
[{"$nulls":5},1249,"CENTRO DE SALUD SEMI RURAL PACHACUTEC",8,19153,100,134,143,165,182,262,370,370,402,385,360,357,361,344,308,317,304,315,310,321,1655,1829,1808,1632,1506,1273,991,782,567,458,341,223,144,134,16,105,88,295,9967,856,781,4942,529,19543,3618,1948,4116,7992,1868]
[{"$nulls":5},1250,"PUESTO DE SALUD JOSE SANTOS ATAHUALPA",3,7196,49,50,54,62,69,98,139,139,151,144,135,134,135,129,115,119,114,118,116,121,621,686,678,612,565,477,372,293,213,172,128,84,54,50,6,40,33,111,3738,321,293,1853,198,7328,1357,731,1544,2997,701]
[{"$nulls":5},1252,"PUESTO DE SALUD EL CURAL",1,2398,16,17,18,20,23,33,46,46,50,48,45,45,45,43,38,40,38,39,39,40,207,229,226,204,188,159,124,98,71,57,43,28,18,17,2,13,11,37,1246,107,98,618,66,2443,452,244,515,999,234]
[]
["040104","AREQUIPA","AREQUIPA","AREQUIPA","CERRO COLORADO",null,"MR MARITZA CAMPOS - ZAMACOLA",null,{"$f":"SUM(I79:I82)","v":{"v":144053,"d":"144,053"}},{"$f":"SUM(J79:J82)","v":{"v":1130,"d":"1,130"}},{"$f":"SUM(K79:K82)","v":{"v":1002,"d":"1,002"}},{"$f":"SUM(L79:L82)","v":{"v":1075,"d":"1,075"}},{"$f":"SUM(M79:M82)","v":{"v":1242,"d":"1,242"}},{"$f":"SUM(N79:N82)","v":{"v":1367,"d":"1,367"}},{"$f":"SUM(O79:O82)","v":{"v":1964,"d":"1,964"}},{"v":2775,"d":"2,775"},{"v":2774,"d":"2,774"},{"v":3018,"d":"3,018"},{"v":2886,"d":"2,886"},{"v":2704,"d":"2,704"},{"v":2677,"d":"2,677"},{"v":2710,"d":"2,710"},{"v":2578,"d":"2,578"},{"v":2308,"d":"2,308"},{"v":2373,"d":"2,373"},{"v":2281,"d":"2,281"},{"v":2360,"d":"2,360"},{"v":2330,"d":"2,330"},{"v":2411,"d":"2,411"},{"v":12411,"d":"12,411"},{"v":13719,"d":"13,719"},{"v":13564,"d":"13,564"},{"v":12239,"d":"12,239"},{"v":11293,"d":"11,293"},{"v":9548,"d":"9,548"},{"v":7431,"d":"7,431"},{"v":5867,"d":"5,867"},{"v":4251,"d":"4,251"},{"v":3438,"d":"3,438"},{"v":2561,"d":"2,561"},{"v":1674,"d":"1,674"},{"v":1083,"d":"1,083"},{"v":1009,"d":"1,009"},117,790,657,{"v":2209,"d":"2,209"},{"v":74751,"d":"74,751"},{"v":6420,"d":"6,420"},{"v":5856,"d":"5,856"},{"v":37064,"d":"37,064"},{"v":3965,"d":"3,965"},{"v":146569,"d":"146,569"},{"v":27133,"d":"27,133"},{"v":14609,"d":"14,609"},{"v":30868,"d":"30,868"},{"v":59943,"d":"59,943"},{"v":14013,"d":"14,013"}]
[{"$nulls":5},1237,"MARITZA CAMPOS DIAZ - ZAMACOLA",13,31239,274,217,233,269,296,426,601,601,654,625,586,580,587,559,500,514,494,511,505,522,2689,2972,2939,2652,2447,2069,1610,1271,921,745,555,363,234,218,26,171,143,479,16196,1391,1269,8031,859,31757,5879,3166,6689,12987,3036]
[{"$nulls":5},1251,"PUESTO DE SALUD NAZARENO",17,40746,248,284,304,352,388,557,786,786,855,818,766,759,768,731,654,673,646,669,660,683,3517,3887,3843,3468,3200,2705,2106,1662,1205,974,725,474,307,286,33,224,186,626,21180,1819,1660,10502,1124,41528,7688,4140,8747,16984,3970]
[{"$nulls":5},1247,"PUESTO DE SALUD CIUDAD MUNICIPAL",19,45641,382,317,341,394,432,621,879,878,956,914,857,847,858,815,731,751,723,747,738,764,3930,4345,4295,3875,3575,3024,2353,1858,1346,1089,812,530,344,320,36,250,207,699,23670,2033,1853,11736,1255,46413,8591,4624,9772,18983,4438]
[{"$nulls":5},11023,"PUESTO DE SALUD PERUARBO",11,26427,226,184,197,227,251,360,509,509,553,529,495,491,497,473,423,435,418,433,427,442,2275,2515,2487,2244,2071,1750,1362,1076,779,630,469,307,198,185,22,145,121,405,13705,1177,1074,6795,727,26871,4975,2679,5660,10989,2569]
[{"$nulls":6},"NO MINSA",null,4444,772,786,839,973,1074]
[]
["040126","AREQUIPA","AREQUIPA","AREQUIPA","YANAHUARA",null,"MR YANAHUARA",null,{"v":28122,"d":"28,122"},227,218,301,392,419,359,382,366,398,410,374,377,359,370,323,305,336,303,338,354,{"v":1658,"d":"1,658"},{"v":1944,"d":"1,944"},{"v":2076,"d":"2,076"},{"v":1987,"d":"1,987"},{"v":1993,"d":"1,993"},{"v":2063,"d":"2,063"},{"v":1859,"d":"1,859"},{"v":1664,"d":"1,664"},{"v":1525,"d":"1,525"},{"v":1319,"d":"1,319"},{"v":1063,"d":"1,063"},819,580,661,19,141,86,379,{"v":14334,"d":"14,334"},820,752,{"v":5992,"d":"5,992"},557,{"v":28122,"d":"28,122"},{"v":4223,"d":"4,223"},{"v":1996,"d":"1,996"},{"v":4294,"d":"4,294"},{"v":11642,"d":"11,642"},{"v":5967,"d":"5,967"}]
[{"$nulls":5},1233,"CENTRO DE SALUD YANAHUARA",38,10885,133,120,144,188,207,136,145,139,151,156,142,143,136,141,123,116,128,115,128,135,630,739,789,755,757,784,706,632,580,501,404,311,220,251,7,54,33,144,5447,312,286,2277,212,10686,1605,758,1632,4424,2267]
["040117","AREQUIPA","AREQUIPA","AREQUIPA","SACHACA",1282,"PUESTO DE SALUD SACHACA",65,19045,163,151,163,197,199,331,331,342,325,305,283,302,322,302,300,290,276,289,279,284,1486,1533,1584,1468,1437,1306,1092,928,768,686,503,367,230,223,14,111,127,333,9899,739,724,4436,430,19454,3502,1778,3582,7815,2777]
[{"$nulls":5},1283,"PUESTO DE SALUD PAMPA DE CAMARONES",35,10254,87,82,88,106,107,178,178,184,175,165,153,162,174,162,161,156,148,155,150,153,800,826,853,790,774,704,588,499,414,370,271,197,124,120,7,60,69,179,5330,398,390,2388,232,10475,1885,957,1929,4208,1496]
[{"$nulls":6},"NO MINSA",58,16112,85,89,145,188,195,209,222,212,231,238,217,219,209,214,187,177,195,176,196,205,962,1127,1204,1153,1156,1196,1079,965,884,765,616,475,337,384,11,81,50,220,8314,475,436,3475,323,16311,2449,1158,2490,6752,3461]
[{"$nulls":6},"NO MINSA",null,630,117,109,117,143,144]
[]
["040128","AREQUIPA","AREQUIPA","AREQUIPA","YURA",null,"MR CIUDAD DE DIOS",null,{"$f":"SUM(I93:I100)","v":{"v":49143,"d":"49,143"}},{"$f":"SUM(J93:J100)","v":454},{"$f":"SUM(K93:K100)","v":451},454,562,630,951,{"v":1021,"d":"1,021"},957,957,845,895,846,913,859,742,760,698,791,857,781,{"v":4096,"d":"4,096"},{"v":4861,"d":"4,861"},{"v":4898,"d":"4,898"},{"v":4257,"d":"4,257"},{"v":3492,"d":"3,492"},{"v":2975,"d":"2,975"},{"v":2382,"d":"2,382"},{"v":1993,"d":"1,993"},{"v":1517,"d":"1,517"},{"v":1236,"d":"1,236"},838,549,322,303,59,307,334,938,{"v":25503,"d":"25,503"},{"v":2112,"d":"2,112"},{"v":1971,"d":"1,971"},{"v":12586,"d":"12,586"},{"v":1315,"d":"1,315"},{"v":50238,"d":"50,238"},{"v":10115,"d":"10,115"},{"v":4766,"d":"4,766"},{"v":10595,"d":"10,595"},{"v":19997,"d":"19,997"},{"v":4766,"d":"4,766"}]
["040128","AREQUIPA","AREQUIPA","AREQUIPA","YURA",1253,"CENTRO DE SALUD CIUDAD DE DIOS",85,38293,338,342,350,443,503,777,836,778,774,680,717,674,737,684,592,607,546,617,682,623,3279,3909,3941,3374,2712,2266,1783,1466,1085,887,564,359,195,173,48,229,268,717,19923,1693,1555,10003,1016,39225,8142,3783,8493,15542,3264]
[{"$nulls":5},1254,"PUESTO DE SALUD YURA",15,6761,60,61,62,78,89,137,147,137,137,120,127,119,130,121,105,107,96,109,120,110,579,690,695,595,479,400,315,259,192,157,100,63,35,30,8,41,47,127,3516,299,274,1765,179,6922,1437,668,1499,2743,576]
["040126","AREQUIPA","AREQUIPA","AREQUIPA","YANAHUARA",1241,"PUESTO DE SALUD SUMBAY - CHASQUIPAMPA",4,1125,9,9,12,16,17,14,15,15,16,16,15,15,14,15,13,12,13,12,14,14,66,78,83,79,80,83,74,67,61,53,43,33,23,26,1,6,3,15,573,33,30,240,22,1125,169,80,172,466,239]
["040508","AREQUIPA","AREQUIPA","CAYLLOMA","HUANCA",1239,"PUESTO DE SALUD HUANCA",100,1180,16,11,12,8,3,12,6,6,7,10,9,8,10,12,9,7,14,16,11,15,64,75,70,80,93,99,93,80,84,68,56,42,34,40,1,11,5,30,596,24,35,224,38,1180,108,68,165,515,324]
["040511","AREQUIPA","AREQUIPA","CAYLLOMA","LLUTA",1255,"PUESTO DE SALUD LLUTA",60,562,12,13,4,5,4,3,1,4,6,3,4,9,7,9,6,9,6,9,9,4,29,28,35,39,40,44,39,41,31,25,27,23,17,17,1,8,4,16,284,18,23,101,26,566,69,48,70,239,141]
[{"$nulls":5},1256,"PUESTO DE SALUD TAYA",23,219,5,5,2,2,2,1,1,1,3,1,2,3,3,4,2,3,2,4,3,2,11,11,14,15,16,17,15,15,12,9,11,9,6,7,0,3,2,6,109,7,9,38,10,217,26,18,27,91,54]
["040514","AREQUIPA","AREQUIPA","CAYLLOMA","SAN ANTONIO DE CHUCA",1242,"PUESTO DE SALUD IMATA",60,601,8,6,7,6,7,4,9,10,8,9,13,11,7,8,9,9,13,14,11,8,41,42,36,45,43,40,38,39,31,22,22,12,7,6,0,5,3,16,301,23,27,129,14,602,98,61,101,241,101]
[{"$nulls":5},1243,"PUESTO DE SALUD PILLONES",40,402,6,4,5,4,5,3,6,6,6,6,8,7,5,6,6,6,8,10,7,5,27,28,24,30,29,26,25,26,21,15,15,8,5,4,0,4,2,11,201,15,18,86,10,401,66,40,68,160,67]
[{"$nulls":6},"NO MINSA",null,1093,187,189,193,245,279]
[]
["040520","AREQUIPA","AREQUIPA","CAYLLOMA","MAJES",null,"MR SANDRITA PEREZ- PEDREGAL",null,{"$f":"SUM(I104:I112)","v":{"v":75841,"d":"75,841"}},{"$f":"SUM(J104:J112)","v":739},{"$f":"SUM(K104:K112)","v":819},844,915,914,{"v":1317,"d":"1,317"},{"v":1340,"d":"1,340"},{"v":1450,"d":"1,450"},{"v":1255,"d":"1,255"},{"v":1262,"d":"1,262"},{"v":1215,"d":"1,215"},{"v":1281,"d":"1,281"},{"v":1276,"d":"1,276"},{"v":1267,"d":"1,267"},{"v":1224,"d":"1,224"},{"v":1069,"d":"1,069"},{"v":1269,"d":"1,269"},{"v":1238,"d":"1,238"},{"v":1204,"d":"1,204"},{"v":1144,"d":"1,144"},{"v":5691,"d":"5,691"},{"v":6743,"d":"6,743"},{"v":6881,"d":"6,881"},{"v":6818,"d":"6,818"},{"v":6046,"d":"6,046"},{"v":5385,"d":"5,385"},{"v":4293,"d":"4,293"},{"v":3442,"d":"3,442"},{"v":2579,"d":"2,579"},{"v":1903,"d":"1,903"},{"v":1342,"d":"1,342"},870,452,354,77,555,523,{"v":1670,"d":"1,670"},{"v":39418,"d":"39,418"},{"v":3138,"d":"3,138"},{"v":2921,"d":"2,921"},{"v":19256,"d":"19,256"},{"v":2152,"d":"2,152"},{"v":77791,"d":"77,791"},{"v":15304,"d":"15,304"},{"v":7341,"d":"7,341"},{"v":14782,"d":"14,782"},{"v":32865,"d":"32,865"},{"v":7499,"d":"7,499"}]
[{"$nulls":5},1325,"CENTRO DE SALUD  SANDRITA PEREZ EL PEDREGAL",46,34258,333,369,381,409,414,594,609,659,571,575,550,580,577,575,556,484,574,559,546,521,2572,3057,3117,3098,2741,2438,1928,1543,1154,845,597,384,197,151,35,251,237,755,17823,1419,1324,8731,962,35163,6945,3327,6697,14865,3328]
[{"$nulls":5},1326,"CENTRO DE SALUD LA COLINA",41,30544,296,330,340,366,370,530,544,587,509,512,491,517,515,513,497,432,511,499,487,464,2293,2724,2777,2762,2443,2173,1719,1376,1028,754,532,343,175,135,31,224,212,674,15885,1265,1180,7782,857,31340,6190,2966,5968,13250,2967]
[{"$nulls":5},1341,"ASENTAMIENTO B-1",7,5215,50,56,58,63,63,90,93,100,87,87,84,88,88,88,85,74,87,85,83,79,392,465,474,472,417,371,294,235,175,129,91,59,30,23,5,38,36,115,2712,216,201,1329,146,5351,1057,506,1019,2262,507]
[{"$nulls":5},1342,"PUESTO DE SALUD  B-2",6,4471,44,48,50,54,54,78,80,86,74,75,72,76,75,75,73,63,75,73,71,68,336,399,406,404,357,318,252,201,150,110,78,50,26,20,5,33,31,99,2325,185,173,1139,125,4586,906,434,873,1939,434]
["040511","AREQUIPA","AREQUIPA","CAYLLOMA","LLUTA",1340,"PUESTO DE SALUD QUERQUE",17,162,3,4,1,1,1,1,1,1,2,1,1,2,2,3,2,3,2,3,3,1,8,8,10,11,12,12,11,11,9,7,8,7,5,5,0,2,1,4,81,5,7,28,7,160,20,13,20,67,40]
["040120","AREQUIPA","AREQUIPA","AREQUIPA","SANTA ISABEL DE SIGUAS",1336,"SANTA ISABEL DE SIGUAS",74,467,3,2,2,9,4,6,7,8,6,5,6,8,7,7,4,7,7,10,5,5,38,36,38,25,25,31,35,28,26,22,15,12,10,8,0,2,3,6,236,19,15,98,9,473,68,42,84,184,93]
[{"$nulls":5},1378,"PUESTO DE SALUD SONDOR",13,86,1,1,1,2,1,1,1,1,1,1,1,1,1,1,1,1,1,2,1,1,7,6,7,5,5,6,6,5,5,4,2,2,2,2,0,0,0,1,41,4,3,17,2,83,12,7,15,33,17]
[{"$nulls":5},1337,"PUESTO DE SALUD PITAY",13,86,1,1,1,2,1,1,1,1,1,1,1,1,1,1,1,1,1,2,1,1,7,6,7,5,5,6,6,5,5,4,2,2,2,2,0,0,0,1,41,4,3,17,2,83,12,7,15,33,17]
["040118","AREQUIPA","AREQUIPA","AREQUIPA","SAN JUAN DE SIGUAS",1339,"PUESTO DE SALUD SAN JUAN DE SIGUAS - TAMBILLO",100,552,8,8,10,9,6,16,4,7,4,5,9,8,10,4,5,4,11,5,7,4,38,42,45,36,41,30,42,38,27,28,17,11,5,8,1,5,3,15,274,21,15,115,42,552,94,39,91,232,96]
[{"$nulls":6},"NO MINSA",null,1952,339,379,390,419,425]
[]
["040102","AREQUIPA","AREQUIPA","AREQUIPA","ALTO SELVA ALEGRE",null,"MR ALTO SELVA ALEGRE",null,{"$f":"SUM(I116:I121)","v":{"v":91276,"d":"91,276"}},{"$f":"SUM(J116:J121)","v":672},{"$f":"SUM(K116:K121)","v":615},750,957,996,{"v":1402,"d":"1,402"},{"v":1531,"d":"1,531"},{"v":1585,"d":"1,585"},{"v":1570,"d":"1,570"},{"v":1494,"d":"1,494"},{"v":1464,"d":"1,464"},{"v":1484,"d":"1,484"},{"v":1486,"d":"1,486"},{"v":1472,"d":"1,472"},{"v":1391,"d":"1,391"},{"v":1277,"d":"1,277"},{"v":1341,"d":"1,341"},{"v":1311,"d":"1,311"},{"v":1236,"d":"1,236"},{"v":1375,"d":"1,375"},{"v":7392,"d":"7,392"},{"v":8867,"d":"8,867"},{"v":8611,"d":"8,611"},{"v":7400,"d":"7,400"},{"v":6642,"d":"6,642"},{"v":5831,"d":"5,831"},{"v":5134,"d":"5,134"},{"v":4544,"d":"4,544"},{"v":3827,"d":"3,827"},{"v":2796,"d":"2,796"},{"v":1830,"d":"1,830"},{"v":1232,"d":"1,232"},837,924,71,497,382,{"v":1262,"d":"1,262"},{"v":47028,"d":"47,028"},{"v":3537,"d":"3,537"},{"v":3215,"d":"3,215"},{"v":22515,"d":"22,515"},{"v":2425,"d":"2,425"},{"v":92580,"d":"92,580"},{"v":15824,"d":"15,824"},{"v":8278,"d":"8,278"},{"v":18870,"d":"18,870"},{"v":38162,"d":"38,162"},{"v":11446,"d":"11,446"}]
[{"$nulls":5},1291,"CENTRO DE SALUD ALTO SELVA ALEGRE",28,25809,212,217,258,330,350,393,429,444,440,418,410,416,416,412,389,358,375,367,346,385,2070,2483,2411,2072,1860,1633,1438,1272,1072,783,512,345,234,259,20,139,107,353,13168,990,900,6304,679,25922,4431,2318,5284,10685,3205]
[{"$nulls":5},1300,"APURIMAC",11,9997,66,61,75,96,99,154,168,174,173,164,161,163,163,162,153,140,148,144,136,151,813,975,947,814,731,641,565,500,421,308,201,136,92,102,8,55,42,139,5173,389,354,2477,267,10184,1741,911,2076,4198,1259]
[{"$nulls":5},1302,"INDEPENDENCIA",33,29993,197,182,226,287,296,463,505,523,518,494,483,489,491,486,460,422,442,433,408,454,2440,2926,2842,2442,2191,1924,1694,1500,1263,921,604,406,277,304,23,163,126,417,15519,1168,1061,7430,800,30551,5221,2732,6227,12594,3777]
[{"$nulls":5},1301,"LEONES DEL MISTI",9,8180,54,50,61,78,81,126,138,143,141,134,132,134,134,132,125,115,121,118,111,124,665,798,775,666,598,525,462,409,344,252,165,111,75,83,6,45,34,114,4233,318,289,2026,218,8332,1424,745,1698,3435,1030]
[{"$nulls":5},1303,"SAN JUAN BAUTISTA",7,6373,52,39,48,61,63,98,107,111,110,105,102,104,104,103,97,89,94,92,87,96,517,621,603,518,465,408,359,318,268,196,128,86,59,65,5,35,27,88,3292,248,225,1576,170,6481,1108,579,1321,2671,801]
[{"$nulls":5},1304,"HEROES DEL CENEPA",12,10924,91,66,82,105,107,168,184,190,188,179,176,178,178,177,167,153,161,157,148,165,887,1064,1033,888,797,700,616,545,459,336,220,148,100,111,9,60,46,151,5643,424,386,2702,291,11110,1899,993,2264,4579,1374]
[{"$nulls":6},"NO MINSA",null,1304,207,195,255,324,323]
[]
["040109","AREQUIPA","AREQUIPA","AREQUIPA","MARIANO MELGAR",null,"MR MARIANO MELGAR",null,{"$f":"SUM(I125:I126)","v":{"v":33903,"d":"33,903"}},{"$f":"SUM(J125:J126)","v":315},{"$f":"SUM(K125:K126)","v":331},317,367,402,462,548,534,560,547,511,525,536,530,515,501,507,471,480,505,{"v":2581,"d":"2,581"},{"v":2967,"d":"2,967"},{"v":2957,"d":"2,957"},{"v":2608,"d":"2,608"},{"v":2501,"d":"2,501"},{"v":2343,"d":"2,343"},{"v":2032,"d":"2,032"},{"v":1728,"d":"1,728"},{"v":1419,"d":"1,419"},{"v":1131,"d":"1,131"},827,563,378,404,33,200,188,533,{"v":17341,"d":"17,341"},{"v":1302,"d":"1,302"},{"v":1239,"d":"1,239"},{"v":7988,"d":"7,988"},857,{"v":34178,"d":"34,178"},{"v":5693,"d":"5,693"},{"v":3059,"d":"3,059"},{"v":6532,"d":"6,532"},{"v":14171,"d":"14,171"},{"v":4721,"d":"4,721"}]
[{"$nulls":5},1294,"CENTRO DE SALUD MARIANO MELGAR",30,20547,270,224,216,255,281,277,329,320,336,328,307,315,321,318,309,301,305,282,288,303,1548,1781,1774,1564,1501,1405,1219,1036,851,678,497,338,227,243,19,120,113,320,10405,781,743,4792,514,20506,3415,1835,3919,8502,2832]
[{"$nulls":5},1308,"PUESTO DE SALUD ATALAYA",20,13356,45,107,101,112,121,185,219,214,224,219,204,210,215,212,206,200,202,189,192,202,1033,1186,1183,1044,1000,938,813,692,568,453,330,225,151,161,14,80,75,213,6936,521,496,3196,343,13672,2278,1224,2613,5669,1889]
[]
["040109","AREQUIPA","AREQUIPA","AREQUIPA","MARIANO MELGAR",null,"MR GENERALISIMO SAN AMRTIN",null,{"$f":"SUM(I129:I131)","v":{"v":33562,"d":"33,562"}},{"$f":"SUM(J129:J131)","v":286},{"$f":"SUM(K129:K131)","v":268},252,280,303,462,548,535,560,547,510,525,537,530,515,500,505,472,480,505,{"v":2582,"d":"2,582"},{"v":2965,"d":"2,965"},{"v":2957,"d":"2,957"},{"v":2610,"d":"2,610"},{"v":2500,"d":"2,500"},{"v":2345,"d":"2,345"},{"v":2032,"d":"2,032"},{"v":1730,"d":"1,730"},{"v":1420,"d":"1,420"},{"v":1132,"d":"1,132"},825,563,378,403,35,200,188,533,{"v":17340,"d":"17,340"},{"v":1302,"d":"1,302"},{"v":1240,"d":"1,240"},{"v":7990,"d":"7,990"},858,{"v":34180,"d":"34,180"},{"v":5695,"d":"5,695"},{"v":3060,"d":"3,060"},{"v":6533,"d":"6,533"},{"v":14172,"d":"14,172"},{"v":4722,"d":"4,722"}]
[{"$nulls":5},1295,"CENTRO DE SALUD GENERALISIMO SAN MARTIN",20,13439,128,107,101,112,121,185,219,214,224,219,204,210,215,212,206,200,202,189,192,202,1033,1186,1183,1044,1000,938,813,692,568,453,330,225,151,161,14,80,75,213,6936,521,496,3196,343,13672,2278,1224,2613,5669,1889]
[{"$nulls":5},1309,"JERUSALEN",20,13416,105,107,101,112,121,185,219,214,224,219,204,210,215,212,206,200,202,189,192,202,1033,1186,1183,1044,1000,938,813,692,568,453,330,225,151,161,14,80,75,213,6936,521,496,3196,343,13672,2278,1224,2613,5669,1889]
[{"$nulls":5},7722,"EL MIRADOR",10,6707,53,54,50,56,61,92,110,107,112,109,102,105,107,106,103,100,101,94,96,101,516,593,591,522,500,469,406,346,284,226,165,113,76,81,7,40,38,107,3468,260,248,1598,172,6836,1139,612,1307,2834,944]
[{"$nulls":6},"NO MINSA",null,893,175,189,170,174,185]
[]
["040110","AREQUIPA","AREQUIPA","AREQUIPA","MIRAFLORES",null,"MR EDIFICADORES MISTI",null,{"$f":"SUM(I135:I139)","v":{"v":66610,"d":"66,610"}},{"$f":"SUM(J135:J139)","v":546},{"$f":"SUM(K135:K139)","v":559},511,613,709,{"v":1015,"d":"1,015"},{"v":1027,"d":"1,027"},{"v":1065,"d":"1,065"},{"v":1130,"d":"1,130"},991,{"v":1029,"d":"1,029"},988,985,984,938,862,927,885,908,977,{"v":5186,"d":"5,186"},{"v":5886,"d":"5,886"},{"v":5814,"d":"5,814"},{"v":5236,"d":"5,236"},{"v":5156,"d":"5,156"},{"v":4800,"d":"4,800"},{"v":4136,"d":"4,136"},{"v":3414,"d":"3,414"},{"v":2817,"d":"2,817"},{"v":2187,"d":"2,187"},{"v":1591,"d":"1,591"},{"v":1136,"d":"1,136"},760,842,47,330,364,{"v":1004,"d":"1,004"},{"v":34188,"d":"34,188"},{"v":2487,"d":"2,487"},{"v":2342,"d":"2,342"},{"v":16033,"d":"16,033"},{"v":1709,"d":"1,709"},{"v":67421,"d":"67,421"},{"v":10994,"d":"10,994"},{"v":5581,"d":"5,581"},{"v":12957,"d":"12,957"},{"v":28556,"d":"28,556"},{"v":9333,"d":"9,333"}]
[{"$nulls":5},1293,"CENTRO DE SALUD MIRAFLORES",34,22754,83,233,218,266,306,345,349,362,384,337,350,336,335,335,319,293,315,301,309,332,1763,2001,1977,1780,1753,1632,1406,1161,958,744,541,386,258,286,16,112,124,341,11624,846,796,5451,581,22923,3738,1898,4405,9709,3173]
[{"$nulls":5},1292,"CENTRO DE SALUD EDIFICADORES MISTI",40,26539,240,198,178,211,244,406,411,426,453,397,412,395,393,393,375,345,371,353,362,391,2074,2354,2326,2094,2063,1920,1654,1366,1127,874,637,454,304,338,18,133,146,403,13675,994,938,6413,683,26968,4397,2233,5182,11423,3733]
[{"$nulls":5},1306,"CENTRO DE SALUD PORVENIR-MIRAFLORES",10,6647,67,50,45,52,61,102,103,107,113,99,103,99,99,98,94,86,93,89,91,98,519,589,581,524,516,480,414,341,282,219,159,114,76,84,5,33,36,100,3419,249,234,1603,171,6742,1099,558,1296,2856,933]
[{"$nulls":5},1307,"CENTRO DE SALUD MATEO PUMACAHUA",8,5335,78,39,35,42,49,81,82,85,90,79,82,79,79,79,75,69,74,71,73,78,415,471,465,419,412,384,331,273,225,175,127,91,61,67,4,26,29,80,2735,199,187,1283,137,5394,880,446,1037,2284,747]
[{"$nulls":5},1305,"PUESTO DE SALUD TOMASA T. COMDEMAYTA",8,5335,78,39,35,42,49,81,82,85,90,79,82,79,79,79,75,69,74,71,73,78,415,471,465,419,412,384,331,273,225,175,127,91,61,67,4,26,29,80,2735,199,187,1283,137,5394,880,446,1037,2284,747]
[{"$nulls":6},"NO MINSA",null,811,148,169,144,161,189]
[]
["040112","AREQUIPA","AREQUIPA","AREQUIPA","PAUCARPATA",null,"MR 15 DE AGOSTO",null,{"$f":"SUM(I143:I146)","v":{"v":46206,"d":"46,206"}},{"$f":"SUM(J143:J146)","v":373},{"$f":"SUM(K143:K146)","v":384},357,401,481,751,800,826,802,777,767,774,797,782,721,723,732,697,694,697,{"v":3585,"d":"3,585"},{"v":3991,"d":"3,991"},{"v":3913,"d":"3,913"},{"v":3667,"d":"3,667"},{"v":3595,"d":"3,595"},{"v":3323,"d":"3,323"},{"v":2779,"d":"2,779"},{"v":2137,"d":"2,137"},{"v":1616,"d":"1,616"},{"v":1369,"d":"1,369"},{"v":1059,"d":"1,059"},832,524,480,37,266,280,725,{"v":23907,"d":"23,907"},{"v":1904,"d":"1,904"},{"v":1795,"d":"1,795"},{"v":11009,"d":"11,009"},{"v":1168,"d":"1,168"},{"v":47159,"d":"47,159"},{"v":8437,"d":"8,437"},{"v":4454,"d":"4,454"},{"v":8966,"d":"8,966"},{"v":19414,"d":"19,414"},{"v":5885,"d":"5,885"}]
[{"$nulls":5},1298,"CENTRO DE SALUD 15 DE AGOSTO",11,15165,124,125,118,131,158,247,263,272,264,254,250,254,263,256,235,239,240,228,227,230,1177,1310,1284,1205,1181,1090,912,702,530,447,348,273,172,156,14,88,91,239,7851,625,590,3615,383,15485,2770,1464,2942,6373,1931]
[{"$nulls":5},1316,"PUESTO DE SALUD MIGUEL GRAU  MODULO A",8,11036,88,92,85,96,115,179,191,197,191,186,184,185,190,187,173,172,175,167,166,166,856,953,935,875,858,794,664,510,386,328,253,199,125,115,8,63,67,173,5709,455,428,2629,279,11262,2015,1063,2142,4637,1406]
[{"$nulls":5},1317,"CENTRO DE SALUD MIGUEL GRAU  B",7,9661,78,81,74,84,101,157,167,172,168,163,161,162,166,164,151,151,153,146,145,145,749,834,818,766,751,695,581,447,338,287,221,174,110,101,7,56,59,151,4995,398,375,2300,244,9854,1763,930,1874,4057,1230]
[{"$nulls":5},1318,"PUESTO DE SALUD MIGUEL GRAU  MODULO C-D",7.5,10344,83,86,80,90,107,168,179,185,179,174,172,173,178,175,162,161,164,156,156,156,803,894,876,821,805,744,622,478,362,307,237,186,117,108,8,59,63,162,5352,426,402,2465,262,10558,1889,997,2008,4347,1318]
[]
["040112","AREQUIPA","AREQUIPA","AREQUIPA","PAUCARPATA",null,"MR AMPLIACION PAUCARPATA",null,{"$f":"SUM(I149:I152)","v":{"v":45533,"d":"45,533"}},{"$f":"SUM(J149:J152)","v":365},{"$f":"SUM(K149:K152)","v":381},350,396,474,739,788,812,789,768,759,763,784,772,713,710,721,688,685,685,{"v":3531,"d":"3,531"},{"v":3932,"d":"3,932"},{"v":3856,"d":"3,856"},{"v":3610,"d":"3,610"},{"v":3540,"d":"3,540"},{"v":3276,"d":"3,276"},{"v":2739,"d":"2,739"},{"v":2105,"d":"2,105"},{"v":1593,"d":"1,593"},{"v":1353,"d":"1,353"},{"v":1043,"d":"1,043"},821,517,475,33,261,277,713,{"v":23549,"d":"23,549"},{"v":1876,"d":"1,876"},{"v":1767,"d":"1,767"},{"v":10844,"d":"10,844"},{"v":1151,"d":"1,151"},{"v":46455,"d":"46,455"},{"v":8311,"d":"8,311"},{"v":4385,"d":"4,385"},{"v":8835,"d":"8,835"},{"v":19127,"d":"19,127"},{"v":5799,"d":"5,799"}]
[{"$nulls":5},1296,"CENTRO DE SALUD  AMPLIACIÓN PAUCARPATA",10,13800,111,116,106,120,143,224,239,246,239,233,230,231,238,234,216,215,218,208,208,208,1070,1192,1168,1094,1073,993,830,638,483,410,316,249,157,144,10,79,84,216,7136,568,536,3286,349,14077,2518,1329,2677,5796,1757]
[{"$nulls":5},1310,"CENTRO DE SALUD MANUEL PRADO",8,11036,88,92,85,96,115,179,191,197,191,186,184,185,190,187,173,172,175,167,166,166,856,953,935,875,858,794,664,510,386,328,253,199,125,115,8,63,67,173,5709,455,428,2629,279,11262,2015,1063,2142,4637,1406]
[{"$nulls":5},1313,"CENTRO DE SALUD NUEVA ALBORADA",8,11036,88,92,85,96,115,179,191,197,191,186,184,185,190,187,173,172,175,167,166,166,856,953,935,875,858,794,664,510,386,328,253,199,125,115,8,63,67,173,5709,455,428,2629,279,11262,2015,1063,2142,4637,1406]
[{"$nulls":5},1315,"CENTRO DE SALUD CAMPO MARTE",7,9661,78,81,74,84,101,157,167,172,168,163,161,162,166,164,151,151,153,146,145,145,749,834,818,766,751,695,581,447,338,287,221,174,110,101,7,56,59,151,4995,398,375,2300,244,9854,1763,930,1874,4057,1230]
[]
["040112","AREQUIPA","AREQUIPA","AREQUIPA","PAUCARPATA",null,"MR CIUDAD BLANCA",null,{"$f":"SUM(I155:I159)","v":{"v":46222,"d":"46,222"}},{"$f":"SUM(J155:J159)","v":371},{"$f":"SUM(K155:K159)","v":386},356,402,480,750,799,826,802,780,770,774,797,783,723,720,731,698,696,696,{"v":3585,"d":"3,585"},{"v":3992,"d":"3,992"},{"v":3914,"d":"3,914"},{"v":3666,"d":"3,666"},{"v":3594,"d":"3,594"},{"v":3326,"d":"3,326"},{"v":2780,"d":"2,780"},{"v":2137,"d":"2,137"},{"v":1617,"d":"1,617"},{"v":1373,"d":"1,373"},{"v":1059,"d":"1,059"},833,525,481,34,266,281,725,{"v":23906,"d":"23,906"},{"v":1904,"d":"1,904"},{"v":1794,"d":"1,794"},{"v":11008,"d":"11,008"},{"v":1169,"d":"1,169"},{"v":47158,"d":"47,158"},{"v":8436,"d":"8,436"},{"v":4453,"d":"4,453"},{"v":8968,"d":"8,968"},{"v":19416,"d":"19,416"},{"v":5886,"d":"5,886"}]
[{"$nulls":5},1297,"CENTRO DE SALUD CIUDAD BLANCA",10,13800,111,116,106,120,143,224,239,246,239,233,230,231,238,234,216,215,218,208,208,208,1070,1192,1168,1094,1073,993,830,638,483,410,316,249,157,144,10,79,84,216,7136,568,536,3286,349,14077,2518,1329,2677,5796,1757]
[{"$nulls":5},1314,"SAN JUAN DE CIUDAD BLANCA",8,11036,88,92,85,96,115,179,191,197,191,186,184,185,190,187,173,172,175,167,166,166,856,953,935,875,858,794,664,510,386,328,253,199,125,115,8,63,67,173,5709,455,428,2629,279,11262,2015,1063,2142,4637,1406]
[{"$nulls":5},1311,"ALTO JESUS",4,5516,44,46,43,48,57,90,95,99,96,93,92,92,95,93,86,86,87,83,83,83,428,477,467,438,429,397,332,255,193,164,126,99,63,57,4,32,34,87,2854,227,214,1314,140,5631,1007,532,1071,2318,703]
[{"$nulls":5},1312,"ISRAEL",6,8282,67,69,64,72,86,134,143,148,144,140,138,139,143,140,129,129,131,125,125,125,642,715,701,657,644,596,498,383,290,246,190,149,94,86,6,48,50,130,4282,341,321,1972,209,8446,1511,798,1606,3477,1054]
[{"$nulls":5},7744,"P.S. VILLA JESUS",5.5,7588,61,63,58,66,79,123,131,136,132,128,126,127,131,129,119,118,120,115,114,114,589,655,643,602,590,546,456,351,265,225,174,137,86,79,6,44,46,119,3925,313,295,1807,192,7742,1385,731,1472,3188,966]
[{"$nulls":6},"NO MINSA",null,2811,522,545,501,566,677]
[]
["040106","AREQUIPA","AREQUIPA","AREQUIPA","CHIGUATA",null,"MR CHIGUATA",null,{"$f":"SUM(I163:I166)","v":{"v":4667,"d":"4,667"}},{"$f":"SUM(J163:J166)","v":76},{"$f":"SUM(K163:K166)","v":77},70,94,83,75,55,67,62,60,53,67,47,51,54,62,34,56,54,52,303,364,402,383,360,313,282,256,194,184,140,92,72,73,8,28,48,113,{"v":2354,"d":"2,354"},129,126,{"v":1113,"d":"1,113"},216,{"v":4667,"d":"4,667"},839,304,773,{"v":1996,"d":"1,996"},755]
[{"$nulls":5},1299,"CENTRO DE SALUD CHIGUATA",80,2708,43,39,42,55,48,37,38,46,42,39,34,46,32,28,37,38,21,33,34,32,188,215,244,218,190,172,158,135,103,106,84,52,38,41,6,18,26,66,1366,84,77,638,136,2710,510,189,469,1118,425]
[{"$nulls":5},1320,"PUESTO DE SALUD ARENALES",20,679,11,10,11,14,12,9,10,11,11,10,8,11,8,7,9,10,5,8,8,8,47,54,61,55,48,43,39,34,26,27,21,13,10,10,2,4,6,17,341,21,19,160,34,677,127,47,117,279,106]
["040119","AREQUIPA","AREQUIPA","AREQUIPA","SAN JUAN DE TARUCANI",1319,"PUESTO DE SALUD SAN JUAN DE TARUCANI",80,{"v":1026,"d":"1,026"},18,22,14,20,18,23,6,8,7,9,9,8,6,13,6,11,6,12,10,10,54,76,78,88,98,78,68,70,52,41,28,22,19,18,0,5,13,24,518,19,24,252,37,{"v":1024,"d":"1,024"},162,54,150,479,179]
[{"$nulls":5},1321,"PUESTO DE SALUD SALINAS HUITO",20,254,4,6,3,5,5,6,1,2,2,2,2,2,1,3,2,3,2,3,2,2,14,19,19,22,24,20,17,17,13,10,7,5,5,4,0,1,3,6,129,5,6,63,9,256,40,14,37,120,45]
[]
["040105","AREQUIPA","AREQUIPA","AREQUIPA","CHARACATO",null,"MR CHARACATO",null,{"$f":"SUM(I169:I177)","v":{"v":42305,"d":"42,305"}},{"$f":"SUM(J169:J177)","v":431},{"$f":"SUM(K169:K177)","v":455},425,461,448,431,696,713,622,605,635,611,635,586,563,583,569,525,606,601,{"v":2858,"d":"2,858"},{"v":3457,"d":"3,457"},{"v":3901,"d":"3,901"},{"v":3880,"d":"3,880"},{"v":3476,"d":"3,476"},{"v":3184,"d":"3,184"},{"v":2462,"d":"2,462"},{"v":2102,"d":"2,102"},{"v":1710,"d":"1,710"},{"v":1366,"d":"1,366"},{"v":1028,"d":"1,028"},754,489,437,22,195,236,669,{"v":21449,"d":"21,449"},{"v":1492,"d":"1,492"},{"v":1436,"d":"1,436"},{"v":10634,"d":"10,634"},988,{"v":42305,"d":"42,305"},{"v":6533,"d":"6,533"},{"v":3461,"d":"3,461"},{"v":7522,"d":"7,522"},{"v":19005,"d":"19,005"},{"v":5784,"d":"5,784"}]
[{"$nulls":5},1261,"CENTRO DE SALUD DE CHARACATO",100,18293,167,194,165,194,213,200,376,334,280,288,299,294,326,309,267,268,272,243,270,333,1444,1500,1517,1525,1502,1326,1031,859,655,568,406,307,198,163,6,71,96,227,9281,733,689,4466,369,18293,3004,1685,3547,7760,2297]
["040111","AREQUIPA","AREQUIPA","AREQUIPA","MOLLEBAYA",1285,"PUESTO DE SALUD MOLLEBAYA",30,2406,21,24,18,22,19,21,34,52,49,40,38,39,31,33,38,37,36,33,38,25,149,211,265,235,203,187,110,107,93,70,53,37,19,19,1,11,10,31,1220,90,84,649,53,2404,376,209,422,1107,290]
[{"$nulls":5},11677,"PUESTO DE SALUD MACHAHUAYA",70,5606,49,55,43,50,45,48,80,121,114,94,88,90,72,78,87,87,85,78,87,59,347,491,619,548,474,437,256,248,216,164,124,85,43,44,1,25,24,72,2847,209,196,1514,124,5608,878,486,985,2582,677]
["040113","AREQUIPA","AREQUIPA","AREQUIPA","POCSI",1288,"PUESTO DE SALUD POCSI",56,266,5,3,1,5,6,3,1,1,1,1,2,1,2,3,2,2,2,2,3,2,13,22,25,19,21,22,19,17,16,12,10,8,8,6,0,2,3,7,131,4,4,59,6,264,30,11,41,122,59]
[{"$nulls":5},1289,"PUESTO DE SALUD PIACA",44,205,4,2,1,4,4,3,1,1,1,1,1,1,1,2,1,1,1,1,2,2,11,18,19,15,16,17,15,13,12,9,7,6,7,5,0,1,3,5,103,3,3,47,4,207,24,9,32,96,47]
["040114","AREQUIPA","AREQUIPA","AREQUIPA","POLOBAYA",1262,"PUESTO DE SALUD POLOBAYA",100,798,10,14,11,17,7,12,3,5,6,9,9,9,9,8,9,7,8,5,7,16,52,64,65,56,52,47,47,60,51,45,31,15,16,16,0,6,4,22,398,21,20,166,28,798,112,46,139,327,174]
["040115","AREQUIPA","AREQUIPA","AREQUIPA","QUEQUEÑA",1286,"PUESTO DE SALUD QUEQUEÑA",100,7974,42,44,53,41,34,33,111,108,67,94,111,86,98,76,85,95,86,89,110,86,389,582,830,911,688,655,599,483,417,286,210,173,101,101,3,17,25,91,4054,218,237,2143,132,7974,824,529,1167,4166,1288]
["040116","AREQUIPA","AREQUIPA","AREQUIPA","SABANDIA",1284,"PUESTO DE SALUD LEOPOLDO RONDON - SABANDIA",100,4963,84,79,102,94,97,87,75,71,88,65,68,75,81,64,62,69,64,59,64,59,340,406,370,414,374,343,278,221,175,157,141,97,79,61,5,42,42,148,2516,173,159,1145,198,4963,985,399,869,2000,710]
["040127","AREQUIPA","AREQUIPA","AREQUIPA","YARABAMBA",1287,"PUESTO DE SALUD YARABAMBA",100,1794,49,40,31,34,23,24,15,20,16,13,19,16,15,13,12,17,15,15,25,19,113,163,191,157,146,150,107,94,75,55,46,26,18,22,6,20,29,66,899,41,44,445,74,1794,300,87,320,845,242]
[]
["040107","AREQUIPA","AREQUIPA","AREQUIPA","JACOBO HUNTER",null,"MR JAVIER LLOSA - HUNTER",null,{"$f":"SUM(I180:I186)","v":{"v":53600,"d":"53,600"}},{"$f":"SUM(J180:J186)","v":379},{"$f":"SUM(K180:K186)","v":397},402,483,509,770,992,960,942,915,863,847,931,914,767,786,819,826,748,753,{"v":4209,"d":"4,209"},{"v":4773,"d":"4,773"},{"v":4586,"d":"4,586"},{"v":4493,"d":"4,493"},{"v":4207,"d":"4,207"},{"v":3783,"d":"3,783"},{"v":3132,"d":"3,132"},{"v":2598,"d":"2,598"},{"v":2013,"d":"2,013"},{"v":1678,"d":"1,678"},{"v":1184,"d":"1,184"},878,531,532,38,284,273,759,{"v":27727,"d":"27,727"},{"v":2145,"d":"2,145"},{"v":2010,"d":"2,010"},{"v":12987,"d":"12,987"},{"v":1397,"d":"1,397"},{"v":54617,"d":"54,617"},{"v":9476,"d":"9,476"},{"v":5043,"d":"5,043"},{"v":10483,"d":"10,483"},{"v":22799,"d":"22,799"},{"v":6816,"d":"6,816"}]
[{"$nulls":5},1259,"CENTRO DE SALUD JAVIER LLOSA GARCIA -  HUNTER",33,17684,124,131,133,159,167,254,328,317,311,303,285,279,307,303,253,258,269,273,247,249,1389,1574,1512,1484,1387,1250,1033,856,665,554,390,290,175,175,13,93,89,251,9151,707,662,4285,459,18022,3127,1665,3461,7523,2250]
[{"$nulls":5},1273,"PUESTO DE SALUD DANIEL ALCIDES CARRION",15,8042,57,60,61,72,76,116,149,144,141,137,129,127,140,137,115,118,123,124,112,113,631,716,688,674,631,567,470,390,302,252,178,132,80,80,6,43,41,114,4159,322,302,1948,210,8193,1421,756,1572,3420,1022]
[{"$nulls":5},1274,"PUESTO DE SALUD PAMPAS DEL CUZCO",16,8575,61,63,64,77,82,123,159,154,151,146,138,136,149,146,123,126,131,132,120,120,673,764,734,719,673,605,501,416,322,268,189,140,85,85,6,45,44,121,4436,343,322,2078,224,8739,1516,807,1677,3648,1091]
[{"$nulls":5},1275,"PUESTO DE SALUD CHILPINILLA",9,4825,34,36,36,44,46,69,89,86,85,82,78,76,84,82,69,71,74,74,67,68,379,430,413,404,379,340,282,234,181,151,107,79,48,48,3,26,25,68,2495,193,181,1169,126,4916,853,454,943,2052,613]
[{"$nulls":5},1276,"CENTRO DE SALUD CAMINOS DEL INCA",10,5359,38,39,40,48,51,77,99,96,94,92,86,85,93,91,77,79,82,83,75,75,421,477,459,449,421,378,313,260,201,168,118,88,53,53,4,28,27,76,2773,215,201,1299,140,5462,948,504,1048,2280,682]
[{"$nulls":5},1277,"ALTO ALIANZA",8,4290,31,32,32,39,41,62,79,77,75,73,69,68,74,73,61,63,66,66,60,60,337,382,367,359,337,303,251,208,161,134,95,70,42,43,3,23,22,61,2218,172,161,1039,112,4369,758,403,839,1824,545]
[{"$nulls":5},1279,"PUESTO DE SALUD UPIS PAISAJISTA",9,4825,34,36,36,44,46,69,89,86,85,82,78,76,84,82,69,71,74,74,67,68,379,430,413,404,379,340,282,234,181,151,107,79,48,48,3,26,25,68,2495,193,181,1169,126,4916,853,454,943,2052,613]
[{"$nulls":6},"NO MINSA",null,1017,178,187,188,226,238]
[]
["040129","AREQUIPA","AREQUIPA","AREQUIPA","JOSE LUIS BUSTAMANTE Y RIVERO",null,"MR VICTIR RAUL HINOJOSA LLERENA",null,{"$f":"SUM(I190:I193)","v":{"v":84774,"d":"84,774"}},{"$f":"SUM(J190:J193)","v":582},{"$f":"SUM(K190:K193)","v":579},{"$f":"SUM(L190:L193)","v":559},705,809,{"v":1009,"d":"1,009"},{"v":1245,"d":"1,245"},{"v":1300,"d":"1,300"},{"v":1332,"d":"1,332"},{"v":1263,"d":"1,263"},{"v":1239,"d":"1,239"},{"v":1240,"d":"1,240"},{"v":1329,"d":"1,329"},{"v":1182,"d":"1,182"},{"v":1164,"d":"1,164"},{"v":1167,"d":"1,167"},{"v":1164,"d":"1,164"},{"v":1193,"d":"1,193"},{"v":1170,"d":"1,170"},{"v":1216,"d":"1,216"},{"v":6484,"d":"6,484"},{"v":7240,"d":"7,240"},{"v":7391,"d":"7,391"},{"v":6697,"d":"6,697"},{"v":6535,"d":"6,535"},{"v":5973,"d":"5,973"},{"v":5075,"d":"5,075"},{"v":4289,"d":"4,289"},{"v":3626,"d":"3,626"},{"v":3049,"d":"3,049"},{"v":2550,"d":"2,550"},{"v":1958,"d":"1,958"},{"v":1270,"d":"1,270"},{"v":1190,"d":"1,190"},54,381,364,965,{"v":43563,"d":"43,563"},{"v":3019,"d":"3,019"},{"v":2963,"d":"2,963"},{"v":20015,"d":"20,015"},{"v":1691,"d":"1,691"},{"v":85718,"d":"85,718"},{"v":12806,"d":"12,806"},{"v":7199,"d":"7,199"},{"v":16110,"d":"16,110"},{"v":35960,"d":"35,960"},{"v":13643,"d":"13,643"}]
[{"$nulls":5},1257,"VICTOR RAUL HINOJOSA",57,48093,288,293,280,352,405,575,709,741,760,720,707,706,757,674,664,665,664,680,667,693,3696,4126,4213,3817,3724,3405,2892,2445,2066,1738,1453,1116,724,678,31,218,208,550,24831,1720,1689,11408,964,48859,7299,4103,9183,20498,7777]
[{"$nulls":5},1263,"PUESTO DE SALUD 13 DE ENERO",19,16407,152,162,160,205,234,192,237,247,253,240,235,236,253,225,221,222,221,227,222,231,1232,1376,1404,1272,1242,1135,964,815,689,579,485,372,241,226,10,72,69,183,8277,574,563,3803,321,16286,2433,1368,3061,6832,2592]
[{"$nulls":5},1264,"CENTRO DE SALUD LAS ESMERALDAS",14,11833,91,72,69,86,99,141,174,182,186,177,173,174,186,165,163,163,163,167,164,170,908,1014,1035,938,915,836,711,600,508,427,357,274,178,167,8,53,51,135,6099,423,415,2802,237,12001,1793,1008,2255,5034,1910]
[{"$nulls":5},1267,"CERRO JULI",10,8441,51,52,50,62,71,101,125,130,133,126,124,124,133,118,116,117,116,119,117,122,648,724,739,670,654,597,508,429,363,305,255,196,127,119,5,38,36,97,4356,302,296,2002,169,8572,1281,720,1611,3596,1364]
[{"$nulls":6},"NO MINSA",null,944,163,178,166,203,234]
[]
["040123","AREQUIPA","AREQUIPA","AREQUIPA","TIABAYA",null,"MR TIABAYA",null,{"$f":"SUM(I197:I200)","v":{"v":35317,"d":"35,317"}},{"$f":"SUM(J197:J200)","v":334},{"$f":"SUM(K197:K200)","v":323},291,370,361,564,598,652,563,538,516,557,566,542,497,485,478,503,479,502,{"v":2570,"d":"2,570"},{"v":3295,"d":"3,295"},{"v":3302,"d":"3,302"},{"v":3193,"d":"3,193"},{"v":2941,"d":"2,941"},{"v":2463,"d":"2,463"},{"v":1934,"d":"1,934"},{"v":1666,"d":"1,666"},{"v":1307,"d":"1,307"},{"v":1063,"d":"1,063"},725,526,326,287,37,243,247,646,{"v":18236,"d":"18,236"},{"v":1381,"d":"1,381"},{"v":1274,"d":"1,274"},{"v":8654,"d":"8,654"},{"v":1197,"d":"1,197"},{"v":36108,"d":"36,108"},{"v":6458,"d":"6,458"},{"v":3071,"d":"3,071"},{"v":6846,"d":"6,846"},{"v":15499,"d":"15,499"},{"v":4234,"d":"4,234"}]
[{"$nulls":5},1260,"CENTRO DE SALUD TIABAYA",100,17746,184,169,158,201,186,299,294,358,287,279,250,279,280,281,272,246,238,272,228,258,1371,1645,1629,1513,1385,1184,945,828,646,522,387,294,186,192,19,121,149,366,9176,684,648,4253,694,18168,3366,1589,3502,7484,2227]
["040124","AREQUIPA","AREQUIPA","AREQUIPA","UCHUMAYO",1280,"CERRO VERDE",43.5,7643,65,67,58,73,76,116,132,128,120,112,115,121,125,113,98,104,105,101,109,106,521,717,728,731,677,557,430,364,287,236,147,101,61,42,8,53,42,122,3941,303,273,1915,219,7804,1345,644,1454,3486,873]
[{"$nulls":5},1281,"CONGATA",43.5,7644,65,67,58,74,76,115,132,128,120,113,116,121,124,114,98,104,104,100,109,106,522,718,728,731,677,556,430,365,288,235,147,101,61,41,8,53,43,122,3941,303,272,1914,219,7804,1345,645,1455,3487,873]
[{"$nulls":5},1290,"UCHUMAYO",13,2284,20,20,17,22,23,34,40,38,36,34,35,36,37,34,29,31,31,30,33,32,156,215,217,218,202,166,129,109,86,70,44,30,18,12,2,16,13,36,1178,91,81,572,65,2332,402,193,435,1042,261]
[{"$nulls":6},"NO MINSA",null,422,86,79,74,95,88]
[{"$nulls":6},"NO MINSA",null,369,70,73,62,81,83]
[]
["040122","AREQUIPA","AREQUIPA","AREQUIPA","SOCABAYA",null,"MR SOCABAYA",null,{"$f":"SUM(I205:I211)","v":{"v":85617,"d":"85,617"}},{"$f":"SUM(J205:J211)","v":488},{"$f":"SUM(K205:K211)","v":425},517,626,744,{"v":1116,"d":"1,116"},{"v":1401,"d":"1,401"},{"v":1468,"d":"1,468"},{"v":1478,"d":"1,478"},{"v":1484,"d":"1,484"},{"v":1338,"d":"1,338"},{"v":1456,"d":"1,456"},{"v":1461,"d":"1,461"},{"v":1461,"d":"1,461"},{"v":1299,"d":"1,299"},{"v":1294,"d":"1,294"},{"v":1393,"d":"1,393"},{"v":1296,"d":"1,296"},{"v":1369,"d":"1,369"},{"v":1376,"d":"1,376"},{"v":7186,"d":"7,186"},{"v":7891,"d":"7,891"},{"v":7486,"d":"7,486"},{"v":6877,"d":"6,877"},{"v":6557,"d":"6,557"},{"v":5974,"d":"5,974"},{"v":4848,"d":"4,848"},{"v":4144,"d":"4,144"},{"v":3413,"d":"3,413"},{"v":2900,"d":"2,900"},{"v":1930,"d":"1,930"},{"v":1357,"d":"1,357"},803,761,60,336,384,{"v":1155,"d":"1,155"},{"v":44141,"d":"44,141"},{"v":3568,"d":"3,568"},{"v":3359,"d":"3,359"},{"v":21030,"d":"21,030"},{"v":1443,"d":"1,443"},{"v":86938,"d":"86,938"},{"v":13862,"d":"13,862"},{"v":8204,"d":"8,204"},{"v":17822,"d":"17,822"},{"v":35886,"d":"35,886"},{"v":11164,"d":"11,164"}]
[{"$nulls":5},1258,"CENTRO DE SALUD SAN MARTIN DE SOCABAYA",21,17981,103,89,109,131,156,234,295,308,311,312,281,306,307,307,272,272,292,272,288,289,1509,1657,1572,1445,1378,1254,1017,870,716,609,404,286,170,160,12,71,81,242,9269,749,706,4415,302,18257,2911,1723,3742,7536,2344]
[{"$nulls":5},1269,"PUESTO DE SALUD CIUDAD MI TRABAJO",16,13700,78,68,83,101,119,179,224,235,236,237,214,233,234,234,208,207,223,207,219,220,1150,1263,1198,1100,1049,956,776,663,546,464,309,217,128,122,10,54,61,185,7063,571,537,3365,231,13910,2218,1313,2852,5742,1786]
[{"$nulls":5},1270,"PUESTO DE SALUD LARA",16,13700,78,68,83,101,119,179,224,235,236,237,214,233,234,234,208,207,223,207,219,220,1150,1263,1198,1100,1049,956,776,663,546,464,309,217,128,122,10,54,61,185,7063,571,537,3365,231,13910,2218,1313,2852,5742,1786]
[{"$nulls":5},1271,"CENTRO DE SALUD SAN FERNANDO",6,5138,29,26,31,37,45,67,84,88,89,89,80,87,88,88,78,78,84,78,82,83,431,473,449,413,393,358,291,249,205,174,116,81,48,46,4,20,23,69,2648,214,202,1262,87,5216,832,492,1069,2153,670]
[{"$nulls":5},1272,"PUESTO DE SALUD SALAVERRY",12,10272,58,51,62,75,89,134,168,176,177,178,161,175,175,175,156,155,167,156,164,165,862,947,898,825,787,717,582,497,410,348,232,163,96,91,7,40,46,139,5297,428,403,2524,173,10433,1663,984,2139,4306,1340]
[{"$nulls":5},1268,"CENTRO DE SALUD 4 DE OCTUBRE",20,17124,98,85,103,125,149,223,280,294,296,297,268,291,292,292,260,259,279,259,274,275,1437,1578,1497,1375,1311,1195,970,829,683,580,386,271,161,152,12,67,77,231,8828,714,672,4206,289,17388,2772,1641,3564,7177,2233]
[{"$nulls":5},23338,"PUESTO DE SALUD HORACIO ZEBALLOS GÁMEZ",9,7702,44,38,46,56,67,100,126,132,133,134,120,131,131,131,117,116,125,117,123,124,647,710,674,619,590,538,436,373,307,261,174,122,72,68,5,30,35,104,3973,321,302,1893,130,7824,1248,738,1604,3230,1005]
[{"$nulls":6},"NO MINSA",null,1321,232,200,244,296,349]
[]
["040108","AREQUIPA","AREQUIPA","AREQUIPA","LA JOYA",null,"MR LA JOYA",null,{"$f":"SUM(I215:I219)","v":{"v":29346,"d":"29,346"}},{"$f":"SUM(J215:J219)","v":293},{"$f":"SUM(K215:K219)","v":284},288,299,288,462,523,478,565,581,553,519,550,515,527,511,532,522,542,527,{"v":2553,"d":"2,553"},{"v":2860,"d":"2,860"},{"v":2551,"d":"2,551"},{"v":2436,"d":"2,436"},{"v":2029,"d":"2,029"},{"v":1893,"d":"1,893"},{"v":1433,"d":"1,433"},{"v":1211,"d":"1,211"},940,783,486,369,234,209,25,161,226,574,{"v":15247,"d":"15,247"},{"v":1382,"d":"1,382"},{"v":1352,"d":"1,352"},{"v":7298,"d":"7,298"},792,{"v":29990,"d":"29,990"},{"v":5776,"d":"5,776"},{"v":3155,"d":"3,155"},{"v":6483,"d":"6,483"},{"v":11555,"d":"11,555"},{"v":3022,"d":"3,022"}]
[{"$nulls":5},1322,"LA JOYA",20,8289,104,80,82,84,82,130,147,134,159,164,156,146,155,145,148,144,150,147,153,148,719,806,719,686,572,533,404,341,265,220,137,104,66,59,7,46,64,162,4295,389,381,2056,223,8448,1627,889,1826,3255,851]
[{"$nulls":5},1327,"PUESTO DE SALUD CERRITO BUENA VISTA",14,5782,52,56,57,59,57,91,103,94,111,115,109,102,108,102,104,101,105,103,107,104,504,564,503,480,400,373,283,239,186,154,96,73,46,41,5,32,45,113,3006,272,267,1439,156,5913,1139,622,1278,2278,596]
[{"$nulls":5},1330,"EL CRUCE - TRIUNFO",27,11147,101,108,109,114,109,177,199,182,215,220,210,197,209,196,201,194,203,198,206,201,970,1088,969,926,771,721,544,461,357,299,185,140,88,79,9,61,85,219,5798,527,514,2775,301,11405,2196,1200,2465,4394,1149]
[{"$nulls":5},1328,"LOS MEDANOS",5,2064,18,20,20,21,20,32,37,34,40,41,39,37,39,36,37,36,37,37,38,37,180,201,180,172,143,133,101,85,66,55,34,26,17,15,2,11,16,40,1074,97,95,514,56,2112,407,222,457,814,213]
[{"$nulls":5},1329,"BENITO LAZO",5,2064,18,20,20,21,20,32,37,34,40,41,39,37,39,36,37,36,37,37,38,37,180,201,180,172,143,133,101,85,66,55,34,26,17,15,2,11,16,40,1074,97,95,514,56,2112,407,222,457,814,213]
[]
["040108","AREQUIPA","AREQUIPA","AREQUIPA","LA JOYA",null,"MR SAN ISIDRO",null,{"$f":"SUM(I222:I226)","v":{"v":13414,"d":"13,414"}},{"$f":"SUM(J222:J226)","v":143},{"$f":"SUM(K222:K226)","v":184},187,194,190,202,227,210,250,251,239,226,237,229,230,225,230,230,236,232,{"v":1123,"d":"1,123"},{"v":1265,"d":"1,265"},{"v":1140,"d":"1,140"},{"v":1095,"d":"1,095"},918,857,665,571,441,369,230,173,112,103,11,73,100,255,{"v":6828,"d":"6,828"},602,593,{"v":3254,"d":"3,254"},361,{"v":13441,"d":"13,441"},{"v":2533,"d":"2,533"},{"v":1382,"d":"1,382"},{"v":2855,"d":"2,855"},{"v":5244,"d":"5,244"},{"v":1427,"d":"1,427"}]
[{"$nulls":5},1323,"SAN ISIDRO",13,5459,41,77,78,81,78,84,96,87,103,106,101,95,100,95,96,93,97,96,99,96,468,524,467,446,372,347,262,222,172,143,89,67,43,38,5,30,41,105,2791,253,248,1336,145,5491,1058,578,1187,2115,553]
[{"$nulls":5},1333,"SAN JOSE",3,1269,16,18,18,19,18,19,22,20,24,25,23,22,23,22,22,22,22,22,23,22,108,121,108,103,86,80,61,51,40,33,21,16,10,9,1,7,10,24,644,58,57,308,33,1267,244,133,274,488,128]
[{"$nulls":5},1332,"PUESTO DE SALUD SAN CAMILO 6",6,2535,33,35,36,37,36,39,44,40,48,49,47,44,46,44,44,43,45,44,46,45,216,242,216,206,171,160,121,102,80,66,41,31,20,18,2,14,19,48,1288,117,114,617,67,2534,488,267,548,976,255]
[{"$nulls":5},1331,"LA CANO",7,2956,38,41,42,43,42,45,52,47,56,57,55,51,54,51,52,50,52,52,53,52,252,282,252,240,200,187,141,119,93,77,48,36,23,21,2,16,22,57,1503,136,133,720,78,2957,569,311,639,1139,298]
["040702","AREQUIPA","AREQUIPA","ISLAY","COCACHACRA",1343,"SAN CAMILO 7",14,1195,15,13,13,14,16,15,13,16,19,14,13,14,14,17,16,17,14,16,15,17,79,96,97,100,89,83,80,77,56,50,31,23,16,17,1,6,8,21,602,38,41,273,38,1192,174,93,207,526,193]
[{"$nulls":6},"NO MINSA",null,674,125,136,136,141,136]
[]
["040125","AREQUIPA","AREQUIPA","AREQUIPA","VITOR",null,"MR VITOR",null,{"$f":"SUM(I230:I232)","v":{"v":13276,"d":"13,276"}},{"$f":"SUM(J230:J232)","v":108},{"$f":"SUM(K230:K232)","v":87},103,100,92,147,224,262,211,213,226,224,243,241,198,239,205,215,222,240,{"v":1115,"d":"1,115"},{"v":1353,"d":"1,353"},{"v":1345,"d":"1,345"},{"v":1238,"d":"1,238"},{"v":1023,"d":"1,023"},781,628,591,478,333,240,150,106,95,2,77,76,239,{"v":6849,"d":"6,849"},585,580,{"v":3478,"d":"3,478"},337,{"v":13487,"d":"13,487"},{"v":2208,"d":"2,208"},{"v":1341,"d":"1,341"},{"v":2930,"d":"2,930"},{"v":5606,"d":"5,606"},{"v":1402,"d":"1,402"}]
[{"$nulls":5},1324,"CENTRO DE SALUD VITOR",80,4016,29,18,20,20,18,36,48,70,56,61,46,67,74,68,58,71,68,75,74,71,330,370,348,342,294,247,219,218,183,152,104,62,50,49,0,20,22,57,2062,169,189,990,74,4067,539,414,845,1669,601]
[{"$nulls":5},1334,"PUESTO DE SALUD YURAMAYO",20,1019,11,7,8,7,7,9,12,17,14,15,12,17,18,17,14,18,17,19,18,18,82,93,87,86,74,62,55,54,46,38,26,16,13,12,0,5,6,14,516,42,47,248,19,1017,135,103,211,417,150]
["040121","AREQUIPA","AREQUIPA","AREQUIPA","SANTA RITA DE SIGUAS",1335,"CENTRO  DE SALUD SANTA RITA DE SIGUAS",100,8241,68,62,75,73,67,102,164,175,141,137,168,140,151,156,126,150,120,121,130,151,703,890,910,810,655,472,354,319,249,143,110,72,43,34,2,52,48,168,4271,374,344,2240,244,8403,1534,824,1874,3520,651]
[{"$nulls":6},"NO MINSA",null,49,13,8,10,9,9]
[{"$nulls":6},"NO MINSA",null,162,32,29,36,34,31]
[]
[]
[]
["NOTA: LA POBLACION ESTIMADA DE EDADES  SIMPLES Y GRUPOS DE EDAD DE DISTRITOS, CORRESPONDEN A CIFRAS REFERENCIALES HASTA OBTENER LAS CIFRAS DE LAS PROYECCIONES DEL INEI"]
["FUENTE: CENSO NACIONAL XI DE POBLACION Y VI DE VIVIENDA 2017/- BOLETIN DEMOGRAFICO Nº 26,37, 39 / RENIEC / Padrón Nominal/ CNV"]
["La población de 0-5 años corresponden al reporte de la poblacion del Padrón Nominal con corte al 31/12/2023 con ajuste en el grupo de edad de 0 años"]
["OFICINA DE GESTION DE LA INFORMACION - MINISTERIO DE SALUD"]

{"sheet":"Pob x Genero","index":5,"n_rows":122,"n_cols":133,"rows_kept":122,"merged":[[5,6,6,6],[5,41,5,43],[5,44,6,44],[5,45,6,45],[5,80,5,82],[5,83,6,83],[5,84,6,84]]}
[]
[]
[]
["POBLACION ESTIMADA POR EDADES SIMPLES, GRUPOS DE EDAD y GÉNERO, SEGÚN DEPARTAMENTO, PROVINCIA Y DISTRITO. 2024"]
["* Actualizado con datos INEI"]
["POBLACION 2024",{"$nulls":5},"Total Hombres","HOMBRES",{"$nulls":19},"POBLACIÓN TOTAL,  POR GRUPOS QUINQUEN ALES DE EDAD",{"$nulls":13},"EDADES ESPECIALES",null,null,"NACIMIENTOS VIVOS","Total Mujeres","MUJERES",{"$nulls":19},"POBLACIÓN TOTAL,  POR GRUPOS QUINQUEN ALES DE EDAD",{"$nulls":13},"EDADES ESPECIALES",null,null,"NACIMIENTOS VIVOS","GESTANTES  ESPERADAS",null,null,"Hombre",{"$nulls":4},"Mujer",{"$nulls":4},"Hombre",{"$nulls":17},"Mujer"]
["UBIGEO","DIRESA","DEPARTAMENTO","PROVINCIA","DISTRITO","TOTAL",null,"0",1,2,3,4,5,6,7,8,9,10,11,12,13,14,15,16,17,18,19,"20-24","25-29","30-34","35-39","40-44","45-49","50-54","55-59","60-64","65-69","70-74","75-79","80-84","85-+","28 DIAS","0-5 MESES","6-11 MESES",null,null,"0",1,2,3,4,5,6,7,8,9,10,11,12,13,14,15,16,17,18,19,"20-24","25-29","30-34","35-39","40-44","45-49","50-54","55-59","60-64","65-69","70-74","75-79","80-84","85-+","28 DIAS","0-5 MESES","6-11 MESES",{"$nulls":4},"NIÑO","Adolescente","Joven","Adulto","Adulto Mayor","NIÑO","Adolescente","Joven","Adulto","Adulto Mayor","00-04","05-09","10-14","15-19","20-24","25-29","30-34","35-39","40-44","45-49","50-54","55-59","60-64","65-69","70-74","75-79","80-84","85-+","00-04","05-09","10-14","15-19","20-24","25-29","30-34","35-39","40-44","45-49","50-54","55-59","60-64","65-69","70-74","75-79","80-84","85-+"]
["000000","PERU","PERU","PERU","PERU",{"$f":"G8+AT8","v":{"v":1594091,"d":"1,594,091"}},{"$f":"SUM(G9:G117)","v":{"v":784832,"d":"784,832"}},{"v":8961,"d":"8,961"},{"v":8918,"d":"8,918"},{"v":8942,"d":"8,942"},{"v":10506,"d":"10,506"},{"v":11265,"d":"11,265"},{"v":11667,"d":"11,667"},{"v":13016,"d":"13,016"},{"v":13226,"d":"13,226"},{"v":13466,"d":"13,466"},{"v":13051,"d":"13,051"},{"v":12586,"d":"12,586"},{"v":12995,"d":"12,995"},{"v":13223,"d":"13,223"},{"v":12803,"d":"12,803"},{"v":11876,"d":"11,876"},{"v":11762,"d":"11,762"},{"v":11904,"d":"11,904"},{"v":11819,"d":"11,819"},{"v":11602,"d":"11,602"},{"v":11813,"d":"11,813"},{"v":60892,"d":"60,892"},{"v":68808,"d":"68,808"},{"v":68490,"d":"68,490"},{"v":63491,"d":"63,491"},{"v":58540,"d":"58,540"},{"v":52211,"d":"52,211"},{"v":43438,"d":"43,438"},{"v":36326,"d":"36,326"},{"v":29311,"d":"29,311"},{"v":23449,"d":"23,449"},{"v":17254,"d":"17,254"},{"$f":"SUM(AM9:AM117)","v":{"v":12239,"d":"12,239"}},{"v":7844,"d":"7,844"},{"v":7138,"d":"7,138"},602,{"v":4498,"d":"4,498"},{"v":4463,"d":"4,463"},{"v":13090,"d":"13,090"},{"v":809259,"d":"809,259"},{"v":8621,"d":"8,621"},{"v":8666,"d":"8,666"},{"v":8653,"d":"8,653"},{"v":10053,"d":"10,053"},{"v":10818,"d":"10,818"},{"v":11170,"d":"11,170"},{"v":13455,"d":"13,455"},{"v":13733,"d":"13,733"},{"v":13604,"d":"13,604"},{"v":13004,"d":"13,004"},{"v":12728,"d":"12,728"},{"v":12756,"d":"12,756"},{"v":13169,"d":"13,169"},{"v":12569,"d":"12,569"},{"v":11819,"d":"11,819"},{"v":12007,"d":"12,007"},{"v":12073,"d":"12,073"},{"v":12044,"d":"12,044"},{"v":11822,"d":"11,822"},{"v":11744,"d":"11,744"},{"v":60956,"d":"60,956"},{"v":69634,"d":"69,634"},{"v":69356,"d":"69,356"},{"v":64117,"d":"64,117"},{"$f":"SUM(BS9:BS117)","v":{"v":59715,"d":"59,715"}},{"v":54913,"d":"54,913"},{"v":46364,"d":"46,364"},{"v":39883,"d":"39,883"},{"v":31885,"d":"31,885"},{"v":26132,"d":"26,132"},{"v":18981,"d":"18,981"},{"v":13811,"d":"13,811"},{"v":9116,"d":"9,116"},{"v":9888,"d":"9,888"},634,{"v":4325,"d":"4,325"},{"v":4296,"d":"4,296"},{"v":12520,"d":"12,520"},{"v":40721,"d":"40,721"},null,null,{"$f":"SUM(CJ9:CJ117)","v":{"v":138599,"d":"138,599"}},{"v":73387,"d":"73,387"},{"v":153115,"d":"153,115"},{"v":322496,"d":"322,496"},{"v":97235,"d":"97,235"},{"v":137261,"d":"137,261"},{"v":73681,"d":"73,681"},{"v":154156,"d":"154,156"},{"v":334348,"d":"334,348"},{"v":109813,"d":"109,813"},{"v":48592,"d":"48,592"},{"v":64426,"d":"64,426"},{"v":63483,"d":"63,483"},{"v":58900,"d":"58,900"},{"v":60892,"d":"60,892"},{"v":68808,"d":"68,808"},{"v":68490,"d":"68,490"},{"v":63491,"d":"63,491"},{"v":58540,"d":"58,540"},{"v":52211,"d":"52,211"},{"v":43438,"d":"43,438"},{"v":36326,"d":"36,326"},{"v":29311,"d":"29,311"},{"v":23449,"d":"23,449"},{"v":17254,"d":"17,254"},{"v":12239,"d":"12,239"},{"v":7844,"d":"7,844"},{"v":7138,"d":"7,138"},{"v":46811,"d":"46,811"},{"v":64966,"d":"64,966"},{"v":63041,"d":"63,041"},{"v":59690,"d":"59,690"},{"v":60956,"d":"60,956"},{"v":69634,"d":"69,634"},{"v":69356,"d":"69,356"},{"v":64117,"d":"64,117"},{"v":59715,"d":"59,715"},{"v":54913,"d":"54,913"},{"v":46364,"d":"46,364"},{"v":39883,"d":"39,883"},{"v":31885,"d":"31,885"},{"v":26132,"d":"26,132"},{"v":18981,"d":"18,981"},{"v":13811,"d":"13,811"},{"v":9116,"d":"9,116"},{"v":9888,"d":"9,888"}]
["040101","AREQUIPA","AREQUIPA","AREQUIPA","AREQUIPA",{"$f":"G9+AT9","v":56005},{"$f":"SUM(H9:AO9)","v":27551},282,225,250,331,367,395,351,365,350,329,346,347,341,327,301,312,305,305,290,323,{"v":1731,"d":"1,731"},{"v":1902,"d":"1,902"},{"v":2080,"d":"2,080"},{"v":1853,"d":"1,853"},{"v":1844,"d":"1,844"},{"v":1968,"d":"1,968"},{"v":1936,"d":"1,936"},{"v":1801,"d":"1,801"},{"v":1657,"d":"1,657"},{"v":1368,"d":"1,368"},{"v":1071,"d":"1,071"},795,560,543,24,152,130,406,{"$f":"SUM(AU9:CB9)","v":{"v":28454,"d":"28,454"}},273,243,236,308,363,421,287,323,339,306,285,295,307,303,312,304,298,291,280,272,{"v":1618,"d":"1,618"},{"v":1783,"d":"1,783"},{"v":1914,"d":"1,914"},{"v":1864,"d":"1,864"},{"v":1960,"d":"1,960"},{"v":2048,"d":"2,048"},{"v":2020,"d":"2,020"},{"v":2002,"d":"2,002"},{"v":1829,"d":"1,829"},{"v":1621,"d":"1,621"},{"v":1272,"d":"1,272"},950,701,826,11,131,142,396,{"v":1752,"d":"1,752"},null,null,{"$f":"SUM(H9:S9)","v":{"v":3938,"d":"3,938"}},{"$f":"SUM(T9:Y9)","v":{"v":1891,"d":"1,891"}},{"$f":"SUM(Z9:AC9)","v":{"v":4246,"d":"4,246"}},{"$f":"SUM(AD9:AI9)","v":{"v":11482,"d":"11,482"}},{"$f":"SUM(AJ9:AO9)","v":{"v":5994,"d":"5,994"}},{"$f":"SUM(AU9:BF9)","v":{"v":3679,"d":"3,679"}},{"$f":"SUM(BG9:BL9)","v":{"v":1815,"d":"1,815"}},{"$f":"SUM(BM9:BP9)","v":{"v":3953,"d":"3,953"}},{"$f":"SUM(BQ9:BV9)","v":{"v":11808,"d":"11,808"}},{"$f":"SUM(BW9:CB9)","v":{"v":7199,"d":"7,199"}},{"$f":"SUM(H9:L9)","v":{"v":1455,"d":"1,455"}},{"$f":"SUM(M9:Q9)","v":{"v":1790,"d":"1,790"}},{"$f":"SUM(R9:V9)","v":{"v":1662,"d":"1,662"}},{"$f":"SUM(W9:AA9)","v":{"v":1535,"d":"1,535"}},{"$f":"AB9","v":{"v":1731,"d":"1,731"}},{"$f":"AC9","v":{"v":1902,"d":"1,902"}},{"$f":"AD9","v":{"v":2080,"d":"2,080"}},{"$f":"AE9","v":{"v":1853,"d":"1,853"}},{"$f":"AF9","v":{"v":1844,"d":"1,844"}},{"$f":"AG9","v":{"v":1968,"d":"1,968"}},{"$f":"AH9","v":{"v":1936,"d":"1,936"}},{"$f":"AI9","v":{"v":1801,"d":"1,801"}},{"$f":"AJ9","v":{"v":1657,"d":"1,657"}},{"$f":"AK9","v":{"v":1368,"d":"1,368"}},{"$f":"AL9","v":{"v":1071,"d":"1,071"}},{"$f":"AM9","v":795},{"$f":"AN9","v":560},{"$f":"AO9","v":543},{"$f":"SUM(AU9:AY9)","v":{"v":1423,"d":"1,423"}},{"$f":"SUM(AZ9:BD9)","v":{"v":1676,"d":"1,676"}},{"$f":"SUM(BE9:BI9)","v":{"v":1502,"d":"1,502"}},{"$f":"SUM(BJ9:BN9)","v":{"v":1445,"d":"1,445"}},{"$f":"BO9","v":{"v":1618,"d":"1,618"}},{"$f":"BP9","v":{"v":1783,"d":"1,783"}},{"$f":"BQ9","v":{"v":1914,"d":"1,914"}},{"$f":"BR9","v":{"v":1864,"d":"1,864"}},{"$f":"BS9","v":{"v":1960,"d":"1,960"}},{"$f":"BT9","v":{"v":2048,"d":"2,048"}},{"$f":"BU9","v":{"v":2020,"d":"2,020"}},{"$f":"BV9","v":{"v":2002,"d":"2,002"}},{"$f":"BW9","v":{"v":1829,"d":"1,829"}},{"$f":"BX9","v":{"v":1621,"d":"1,621"}},{"$f":"BY9","v":{"v":1272,"d":"1,272"}},{"$f":"BZ9","v":950},{"$f":"CA9","v":701},{"$f":"CB9","v":826}]
["040102","AREQUIPA","AREQUIPA","AREQUIPA","ALTO SELVA ALEGRE",92580,45552,421,407,502,683,635,721,748,853,791,782,773,770,752,745,720,646,705,647,637,690,{"v":3685,"d":"3,685"},{"v":4370,"d":"4,370"},{"v":4345,"d":"4,345"},{"v":3741,"d":"3,741"},{"v":3343,"d":"3,343"},{"v":2744,"d":"2,744"},{"v":2306,"d":"2,306"},{"v":2114,"d":"2,114"},{"v":1782,"d":"1,782"},{"v":1306,"d":"1,306"},856,564,379,389,37,254,167,619,{"v":47028,"d":"47,028"},458,403,503,598,684,681,783,732,779,712,691,714,734,727,671,631,636,664,599,685,{"v":3707,"d":"3,707"},{"v":4497,"d":"4,497"},{"v":4266,"d":"4,266"},{"v":3659,"d":"3,659"},{"v":3299,"d":"3,299"},{"v":3087,"d":"3,087"},{"v":2828,"d":"2,828"},{"v":2430,"d":"2,430"},{"v":2045,"d":"2,045"},{"v":1490,"d":"1,490"},974,668,458,535,34,243,215,643,{"v":2425,"d":"2,425"},null,null,{"v":8086,"d":"8,086"},{"v":4215,"d":"4,215"},{"v":9382,"d":"9,382"},{"v":18593,"d":"18,593"},{"v":5276,"d":"5,276"},{"v":7738,"d":"7,738"},{"v":4063,"d":"4,063"},{"v":9488,"d":"9,488"},{"v":19569,"d":"19,569"},{"v":6170,"d":"6,170"},{"v":2648,"d":"2,648"},{"v":3895,"d":"3,895"},{"v":3760,"d":"3,760"},{"v":3325,"d":"3,325"},{"v":3685,"d":"3,685"},{"v":4370,"d":"4,370"},{"v":4345,"d":"4,345"},{"v":3741,"d":"3,741"},{"v":3343,"d":"3,343"},{"v":2744,"d":"2,744"},{"v":2306,"d":"2,306"},{"v":2114,"d":"2,114"},{"v":1782,"d":"1,782"},{"v":1306,"d":"1,306"},856,564,379,389,{"v":2646,"d":"2,646"},{"v":3687,"d":"3,687"},{"v":3537,"d":"3,537"},{"v":3215,"d":"3,215"},{"v":3707,"d":"3,707"},{"v":4497,"d":"4,497"},{"v":4266,"d":"4,266"},{"v":3659,"d":"3,659"},{"v":3299,"d":"3,299"},{"v":3087,"d":"3,087"},{"v":2828,"d":"2,828"},{"v":2430,"d":"2,430"},{"v":2045,"d":"2,045"},{"v":1490,"d":"1,490"},974,668,458,535]
["040103","AREQUIPA","AREQUIPA","AREQUIPA","CAYMA",110215,54262,621,648,622,749,870,877,{"v":1010,"d":"1,010"},943,{"v":1002,"d":"1,002"},956,893,910,982,911,844,847,723,815,846,826,{"v":4344,"d":"4,344"},{"v":5058,"d":"5,058"},{"v":5217,"d":"5,217"},{"v":4567,"d":"4,567"},{"v":3917,"d":"3,917"},{"v":3379,"d":"3,379"},{"v":2718,"d":"2,718"},{"v":2244,"d":"2,244"},{"v":1898,"d":"1,898"},{"v":1452,"d":"1,452"},{"v":1052,"d":"1,052"},723,397,401,47,316,305,889,{"v":55953,"d":"55,953"},617,670,609,695,789,803,{"v":1004,"d":"1,004"},{"v":1033,"d":"1,033"},956,892,903,886,946,865,778,836,791,778,765,750,{"v":4213,"d":"4,213"},{"v":4908,"d":"4,908"},{"v":5239,"d":"5,239"},{"v":4695,"d":"4,695"},{"v":4080,"d":"4,080"},{"v":3598,"d":"3,598"},{"v":3109,"d":"3,109"},{"v":2685,"d":"2,685"},{"v":2160,"d":"2,160"},{"v":1762,"d":"1,762"},{"v":1204,"d":"1,204"},864,511,559,43,298,319,823,{"v":2625,"d":"2,625"},null,null,{"v":10101,"d":"10,101"},{"v":5122,"d":"5,122"},{"v":11074,"d":"11,074"},{"v":22042,"d":"22,042"},{"v":5923,"d":"5,923"},{"v":9857,"d":"9,857"},{"v":4994,"d":"4,994"},{"v":10636,"d":"10,636"},{"v":23406,"d":"23,406"},{"v":7060,"d":"7,060"},{"v":3510,"d":"3,510"},{"v":4788,"d":"4,788"},{"v":4540,"d":"4,540"},{"v":4057,"d":"4,057"},{"v":4344,"d":"4,344"},{"v":5058,"d":"5,058"},{"v":5217,"d":"5,217"},{"v":4567,"d":"4,567"},{"v":3917,"d":"3,917"},{"v":3379,"d":"3,379"},{"v":2718,"d":"2,718"},{"v":2244,"d":"2,244"},{"v":1898,"d":"1,898"},{"v":1452,"d":"1,452"},{"v":1052,"d":"1,052"},723,397,401,{"v":3380,"d":"3,380"},{"v":4688,"d":"4,688"},{"v":4378,"d":"4,378"},{"v":3920,"d":"3,920"},{"v":4213,"d":"4,213"},{"v":4908,"d":"4,908"},{"v":5239,"d":"5,239"},{"v":4695,"d":"4,695"},{"v":4080,"d":"4,080"},{"v":3598,"d":"3,598"},{"v":3109,"d":"3,109"},{"v":2685,"d":"2,685"},{"v":2160,"d":"2,160"},{"v":1762,"d":"1,762"},{"v":1204,"d":"1,204"},864,511,559]
["040104","AREQUIPA","AREQUIPA","AREQUIPA","CERRO COLORADO",244282,119695,{"v":1230,"d":"1,230"},{"v":1266,"d":"1,266"},{"v":1339,"d":"1,339"},{"v":1604,"d":"1,604"},{"v":1721,"d":"1,721"},{"v":1659,"d":"1,659"},{"v":2106,"d":"2,106"},{"v":2040,"d":"2,040"},{"v":2497,"d":"2,497"},{"v":2432,"d":"2,432"},{"v":2234,"d":"2,234"},{"v":2299,"d":"2,299"},{"v":2257,"d":"2,257"},{"v":2204,"d":"2,204"},{"v":1932,"d":"1,932"},{"v":1986,"d":"1,986"},{"v":1961,"d":"1,961"},{"v":1953,"d":"1,953"},{"v":1901,"d":"1,901"},{"v":2028,"d":"2,028"},{"v":10497,"d":"10,497"},{"v":11319,"d":"11,319"},{"v":11016,"d":"11,016"},{"v":9989,"d":"9,989"},{"v":9145,"d":"9,145"},{"v":7550,"d":"7,550"},{"v":6100,"d":"6,100"},{"v":4609,"d":"4,609"},{"v":3368,"d":"3,368"},{"v":2620,"d":"2,620"},{"v":2042,"d":"2,042"},{"v":1275,"d":"1,275"},814,702,88,677,553,{"v":1889,"d":"1,889"},{"v":124587,"d":"124,587"},{"v":1184,"d":"1,184"},{"v":1191,"d":"1,191"},{"v":1291,"d":"1,291"},{"v":1436,"d":"1,436"},{"v":1632,"d":"1,632"},{"v":1615,"d":"1,615"},{"v":2519,"d":"2,519"},{"v":2584,"d":"2,584"},{"v":2532,"d":"2,532"},{"v":2378,"d":"2,378"},{"v":2270,"d":"2,270"},{"v":2164,"d":"2,164"},{"v":2258,"d":"2,258"},{"v":2094,"d":"2,094"},{"v":1914,"d":"1,914"},{"v":1971,"d":"1,971"},{"v":1840,"d":"1,840"},{"v":1981,"d":"1,981"},{"v":1980,"d":"1,980"},{"v":1990,"d":"1,990"},{"v":10189,"d":"10,189"},{"v":11546,"d":"11,546"},{"v":11589,"d":"11,589"},{"v":10410,"d":"10,410"},{"v":9678,"d":"9,678"},{"v":8362,"d":"8,362"},{"v":6286,"d":"6,286"},{"v":5169,"d":"5,169"},{"v":3718,"d":"3,718"},{"v":3109,"d":"3,109"},{"v":2225,"d":"2,225"},{"v":1515,"d":"1,515"},989,978,109,640,544,{"v":1795,"d":"1,795"},{"v":6609,"d":"6,609"},null,null,{"v":22427,"d":"22,427"},{"v":12293,"d":"12,293"},{"v":25745,"d":"25,745"},{"v":48409,"d":"48,409"},{"v":10821,"d":"10,821"},{"v":22796,"d":"22,796"},{"v":12058,"d":"12,058"},{"v":25705,"d":"25,705"},{"v":51494,"d":"51,494"},{"v":12534,"d":"12,534"},{"v":7160,"d":"7,160"},{"v":10734,"d":"10,734"},{"v":10926,"d":"10,926"},{"v":9829,"d":"9,829"},{"v":10497,"d":"10,497"},{"v":11319,"d":"11,319"},{"v":11016,"d":"11,016"},{"v":9989,"d":"9,989"},{"v":9145,"d":"9,145"},{"v":7550,"d":"7,550"},{"v":6100,"d":"6,100"},{"v":4609,"d":"4,609"},{"v":3368,"d":"3,368"},{"v":2620,"d":"2,620"},{"v":2042,"d":"2,042"},{"v":1275,"d":"1,275"},814,702,{"v":6734,"d":"6,734"},{"v":11628,"d":"11,628"},{"v":10700,"d":"10,700"},{"v":9762,"d":"9,762"},{"v":10189,"d":"10,189"},{"v":11546,"d":"11,546"},{"v":11589,"d":"11,589"},{"v":10410,"d":"10,410"},{"v":9678,"d":"9,678"},{"v":8362,"d":"8,362"},{"v":6286,"d":"6,286"},{"v":5169,"d":"5,169"},{"v":3718,"d":"3,718"},{"v":3109,"d":"3,109"},{"v":2225,"d":"2,225"},{"v":1515,"d":"1,515"},989,978]
["040105","AREQUIPA","AREQUIPA","AREQUIPA","CHARACATO",18293,9012,89,106,83,92,99,94,173,158,121,148,147,155,167,172,121,120,154,127,136,160,729,738,760,776,708,637,509,412,322,269,220,152,92,66,5,40,49,126,{"v":9281,"d":"9,281"},78,88,82,102,114,106,203,176,159,140,152,139,159,137,146,148,118,116,134,173,715,762,757,749,794,689,522,447,333,299,186,155,106,97,1,31,47,101,369,null,null,{"v":1465,"d":"1,465"},861,{"v":1763,"d":"1,763"},{"v":3802,"d":"3,802"},{"v":1121,"d":"1,121"},{"v":1539,"d":"1,539"},824,{"v":1784,"d":"1,784"},{"v":3958,"d":"3,958"},{"v":1176,"d":"1,176"},469,694,762,697,729,738,760,776,708,637,509,412,322,269,220,152,92,66,464,784,733,689,715,762,757,749,794,689,522,447,333,299,186,155,106,97]
["040106","AREQUIPA","AREQUIPA","AREQUIPA","CHIGUATA",3387,1680,28,26,30,41,24,26,27,32,25,23,23,27,25,20,20,25,12,22,19,23,117,128,154,135,103,100,93,82,59,66,57,35,26,27,6,13,15,46,{"v":1707,"d":"1,707"},26,23,23,28,36,20,21,25,28,26,19,30,15,15,26,23,14,19,23,17,118,141,151,138,135,115,104,87,70,67,48,30,22,24,2,9,17,37,170,null,null,332,124,287,667,270,305,112,299,730,261,149,133,115,101,117,128,154,135,103,100,93,82,59,66,57,35,26,27,136,120,105,96,118,141,151,138,135,115,104,87,70,67,48,30,22,24]
["040107","AREQUIPA","AREQUIPA","AREQUIPA","JACOBO HUNTER",54617,26890,285,317,296,369,381,402,486,481,441,460,428,404,482,450,413,369,400,406,369,378,{"v":2108,"d":"2,108"},{"v":2388,"d":"2,388"},{"v":2330,"d":"2,330"},{"v":2277,"d":"2,277"},{"v":2143,"d":"2,143"},{"v":1818,"d":"1,818"},{"v":1470,"d":"1,470"},{"v":1207,"d":"1,207"},924,799,538,408,239,224,14,143,142,408,{"v":27727,"d":"27,727"},272,267,294,340,366,368,506,479,501,455,435,443,449,464,354,417,419,420,379,375,{"v":2101,"d":"2,101"},{"v":2385,"d":"2,385"},{"v":2256,"d":"2,256"},{"v":2216,"d":"2,216"},{"v":2064,"d":"2,064"},{"v":1965,"d":"1,965"},{"v":1662,"d":"1,662"},{"v":1391,"d":"1,391"},{"v":1089,"d":"1,089"},879,646,470,292,308,24,141,131,351,{"v":1397,"d":"1,397"},null,null,{"v":4750,"d":"4,750"},{"v":2520,"d":"2,520"},{"v":5243,"d":"5,243"},{"v":11245,"d":"11,245"},{"v":3132,"d":"3,132"},{"v":4726,"d":"4,726"},{"v":2523,"d":"2,523"},{"v":5240,"d":"5,240"},{"v":11554,"d":"11,554"},{"v":3684,"d":"3,684"},{"v":1648,"d":"1,648"},{"v":2270,"d":"2,270"},{"v":2177,"d":"2,177"},{"v":1922,"d":"1,922"},{"v":2108,"d":"2,108"},{"v":2388,"d":"2,388"},{"v":2330,"d":"2,330"},{"v":2277,"d":"2,277"},{"v":2143,"d":"2,143"},{"v":1818,"d":"1,818"},{"v":1470,"d":"1,470"},{"v":1207,"d":"1,207"},924,799,538,408,239,224,{"v":1539,"d":"1,539"},{"v":2309,"d":"2,309"},{"v":2145,"d":"2,145"},{"v":2010,"d":"2,010"},{"v":2101,"d":"2,101"},{"v":2385,"d":"2,385"},{"v":2256,"d":"2,256"},{"v":2216,"d":"2,216"},{"v":2064,"d":"2,064"},{"v":1965,"d":"1,965"},{"v":1662,"d":"1,662"},{"v":1391,"d":"1,391"},{"v":1089,"d":"1,089"},879,646,470,292,308]
["040108","AREQUIPA","AREQUIPA","AREQUIPA","LA JOYA",42239,20766,290,302,298,311,341,318,350,323,383,419,395,348,350,358,354,360,360,378,371,335,{"v":1763,"d":"1,763"},{"v":1996,"d":"1,996"},{"v":1788,"d":"1,788"},{"v":1677,"d":"1,677"},{"v":1396,"d":"1,396"},{"v":1277,"d":"1,277"},998,831,647,536,357,248,160,148,19,122,168,428,{"v":21473,"d":"21,473"},256,289,300,309,257,331,387,349,413,399,384,383,423,369,387,359,388,358,392,407,{"v":1834,"d":"1,834"},{"v":2033,"d":"2,033"},{"v":1806,"d":"1,806"},{"v":1754,"d":"1,754"},{"v":1462,"d":"1,462"},{"v":1390,"d":"1,390"},{"v":1020,"d":"1,020"},874,678,566,328,271,170,147,16,106,150,380,{"v":1115,"d":"1,115"},null,null,{"v":4078,"d":"4,078"},{"v":2160,"d":"2,160"},{"v":4465,"d":"4,465"},{"v":7967,"d":"7,967"},{"v":2096,"d":"2,096"},{"v":4057,"d":"4,057"},{"v":2284,"d":"2,284"},{"v":4666,"d":"4,666"},{"v":8306,"d":"8,306"},{"v":2160,"d":"2,160"},{"v":1542,"d":"1,542"},{"v":1793,"d":"1,793"},{"v":1805,"d":"1,805"},{"v":1804,"d":"1,804"},{"v":1763,"d":"1,763"},{"v":1996,"d":"1,996"},{"v":1788,"d":"1,788"},{"v":1677,"d":"1,677"},{"v":1396,"d":"1,396"},{"v":1277,"d":"1,277"},998,831,647,536,357,248,160,148,{"v":1411,"d":"1,411"},{"v":1879,"d":"1,879"},{"v":1946,"d":"1,946"},{"v":1904,"d":"1,904"},{"v":1834,"d":"1,834"},{"v":2033,"d":"2,033"},{"v":1806,"d":"1,806"},{"v":1754,"d":"1,754"},{"v":1462,"d":"1,462"},{"v":1390,"d":"1,390"},{"v":1020,"d":"1,020"},874,678,566,328,271,170,147]
["040109","AREQUIPA","AREQUIPA","AREQUIPA","MARIANO MELGAR",68358,33677,406,403,371,405,466,471,582,537,552,526,509,548,523,528,522,485,506,443,478,535,{"v":2620,"d":"2,620"},{"v":2964,"d":"2,964"},{"v":2990,"d":"2,990"},{"v":2578,"d":"2,578"},{"v":2511,"d":"2,511"},{"v":2275,"d":"2,275"},{"v":1951,"d":"1,951"},{"v":1669,"d":"1,669"},{"v":1331,"d":"1,331"},{"v":1045,"d":"1,045"},766,517,352,312,31,212,194,557,{"v":34681,"d":"34,681"},370,385,368,416,424,453,514,532,568,568,512,502,550,532,508,516,506,500,482,475,{"v":2543,"d":"2,543"},{"v":2968,"d":"2,968"},{"v":2924,"d":"2,924"},{"v":2640,"d":"2,640"},{"v":2490,"d":"2,490"},{"v":2413,"d":"2,413"},{"v":2113,"d":"2,113"},{"v":1789,"d":"1,789"},{"v":1508,"d":"1,508"},{"v":1218,"d":"1,218"},886,609,404,495,37,188,182,509,{"v":1715,"d":"1,715"},null,null,{"v":5776,"d":"5,776"},{"v":3007,"d":"3,007"},{"v":6597,"d":"6,597"},{"v":13974,"d":"13,974"},{"v":4323,"d":"4,323"},{"v":5612,"d":"5,612"},{"v":3112,"d":"3,112"},{"v":6468,"d":"6,468"},{"v":14369,"d":"14,369"},{"v":5120,"d":"5,120"},{"v":2051,"d":"2,051"},{"v":2668,"d":"2,668"},{"v":2630,"d":"2,630"},{"v":2447,"d":"2,447"},{"v":2620,"d":"2,620"},{"v":2964,"d":"2,964"},{"v":2990,"d":"2,990"},{"v":2578,"d":"2,578"},{"v":2511,"d":"2,511"},{"v":2275,"d":"2,275"},{"v":1951,"d":"1,951"},{"v":1669,"d":"1,669"},{"v":1331,"d":"1,331"},{"v":1045,"d":"1,045"},766,517,352,312,{"v":1963,"d":"1,963"},{"v":2635,"d":"2,635"},{"v":2604,"d":"2,604"},{"v":2479,"d":"2,479"},{"v":2543,"d":"2,543"},{"v":2968,"d":"2,968"},{"v":2924,"d":"2,924"},{"v":2640,"d":"2,640"},{"v":2490,"d":"2,490"},{"v":2413,"d":"2,413"},{"v":2113,"d":"2,113"},{"v":1789,"d":"1,789"},{"v":1508,"d":"1,508"},{"v":1218,"d":"1,218"},886,609,404,495]
["040110","AREQUIPA","AREQUIPA","AREQUIPA","MIRAFLORES",67421,33233,356,357,336,396,485,532,564,529,571,507,478,490,486,496,487,402,455,427,450,483,{"v":2626,"d":"2,626"},{"v":2976,"d":"2,976"},{"v":2914,"d":"2,914"},{"v":2635,"d":"2,635"},{"v":2558,"d":"2,558"},{"v":2336,"d":"2,336"},{"v":2019,"d":"2,019"},{"v":1600,"d":"1,600"},{"v":1343,"d":"1,343"},{"v":1030,"d":"1,030"},736,505,334,334,24,161,195,493,{"v":34188,"d":"34,188"},338,371,319,378,413,483,463,536,559,484,551,498,499,488,451,460,472,458,458,494,{"v":2560,"d":"2,560"},{"v":2910,"d":"2,910"},{"v":2900,"d":"2,900"},{"v":2601,"d":"2,601"},{"v":2598,"d":"2,598"},{"v":2464,"d":"2,464"},{"v":2117,"d":"2,117"},{"v":1814,"d":"1,814"},{"v":1474,"d":"1,474"},{"v":1157,"d":"1,157"},855,631,426,508,23,169,169,511,{"v":1709,"d":"1,709"},null,null,{"v":5601,"d":"5,601"},{"v":2753,"d":"2,753"},{"v":6535,"d":"6,535"},{"v":14062,"d":"14,062"},{"v":4282,"d":"4,282"},{"v":5393,"d":"5,393"},{"v":2828,"d":"2,828"},{"v":6422,"d":"6,422"},{"v":14494,"d":"14,494"},{"v":5051,"d":"5,051"},{"v":1930,"d":"1,930"},{"v":2703,"d":"2,703"},{"v":2437,"d":"2,437"},{"v":2217,"d":"2,217"},{"v":2626,"d":"2,626"},{"v":2976,"d":"2,976"},{"v":2914,"d":"2,914"},{"v":2635,"d":"2,635"},{"v":2558,"d":"2,558"},{"v":2336,"d":"2,336"},{"v":2019,"d":"2,019"},{"v":1600,"d":"1,600"},{"v":1343,"d":"1,343"},{"v":1030,"d":"1,030"},736,505,334,334,{"v":1819,"d":"1,819"},{"v":2525,"d":"2,525"},{"v":2487,"d":"2,487"},{"v":2342,"d":"2,342"},{"v":2560,"d":"2,560"},{"v":2910,"d":"2,910"},{"v":2900,"d":"2,900"},{"v":2601,"d":"2,601"},{"v":2598,"d":"2,598"},{"v":2464,"d":"2,464"},{"v":2117,"d":"2,117"},{"v":1814,"d":"1,814"},{"v":1474,"d":"1,474"},{"v":1157,"d":"1,157"},855,631,426,508]
["040111","AREQUIPA","AREQUIPA","AREQUIPA","MOLLEBAYA",8012,3945,33,42,34,40,22,34,58,90,87,58,76,69,45,43,62,62,54,64,67,38,243,288,444,385,329,314,189,173,162,113,91,78,29,29,1,17,16,52,{"v":4067,"d":"4,067"},37,37,27,32,42,35,56,83,76,76,50,60,58,68,63,62,67,47,58,46,253,414,440,398,348,310,177,182,147,121,86,44,33,34,1,19,18,51,177,null,null,643,330,636,{"v":1834,"d":"1,834"},502,611,365,771,{"v":1855,"d":"1,855"},465,171,327,295,285,243,288,444,385,329,314,189,173,162,113,91,78,29,29,175,326,299,280,253,414,440,398,348,310,177,182,147,121,86,44,33,34]
["040112","AREQUIPA","AREQUIPA","AREQUIPA","PAUCARPATA",140772,69410,830,844,785,892,{"v":1091,"d":"1,091"},{"v":1107,"d":"1,107"},{"v":1203,"d":"1,203"},{"v":1201,"d":"1,201"},{"v":1171,"d":"1,171"},{"v":1134,"d":"1,134"},{"v":1132,"d":"1,132"},{"v":1156,"d":"1,156"},{"v":1217,"d":"1,217"},{"v":1225,"d":"1,225"},{"v":1065,"d":"1,065"},{"v":1073,"d":"1,073"},{"v":1068,"d":"1,068"},{"v":1030,"d":"1,030"},{"v":1016,"d":"1,016"},{"v":1030,"d":"1,030"},{"v":5344,"d":"5,344"},{"v":6021,"d":"6,021"},{"v":5866,"d":"5,866"},{"v":5493,"d":"5,493"},{"v":5410,"d":"5,410"},{"v":4901,"d":"4,901"},{"v":4011,"d":"4,011"},{"v":3053,"d":"3,053"},{"v":2263,"d":"2,263"},{"v":1854,"d":"1,854"},{"v":1397,"d":"1,397"},{"v":1175,"d":"1,175"},729,623,55,410,420,{"v":1087,"d":"1,087"},{"v":71362,"d":"71,362"},801,852,779,873,{"v":1021,"d":"1,021"},{"v":1133,"d":"1,133"},{"v":1184,"d":"1,184"},{"v":1263,"d":"1,263"},{"v":1222,"d":"1,222"},{"v":1191,"d":"1,191"},{"v":1164,"d":"1,164"},{"v":1155,"d":"1,155"},{"v":1161,"d":"1,161"},{"v":1112,"d":"1,112"},{"v":1092,"d":"1,092"},{"v":1080,"d":"1,080"},{"v":1116,"d":"1,116"},{"v":1053,"d":"1,053"},{"v":1059,"d":"1,059"},{"v":1048,"d":"1,048"},{"v":5357,"d":"5,357"},{"v":5894,"d":"5,894"},{"v":5817,"d":"5,817"},{"v":5450,"d":"5,450"},{"v":5319,"d":"5,319"},{"v":5024,"d":"5,024"},{"v":4287,"d":"4,287"},{"v":3326,"d":"3,326"},{"v":2563,"d":"2,563"},{"v":2241,"d":"2,241"},{"v":1764,"d":"1,764"},{"v":1311,"d":"1,311"},837,813,49,383,418,{"v":1076,"d":"1,076"},{"v":3488,"d":"3,488"},null,null,{"v":12546,"d":"12,546"},{"v":6678,"d":"6,678"},{"v":13411,"d":"13,411"},{"v":28734,"d":"28,734"},{"v":8041,"d":"8,041"},{"v":12638,"d":"12,638"},{"v":6614,"d":"6,614"},{"v":13358,"d":"13,358"},{"v":29223,"d":"29,223"},{"v":9529,"d":"9,529"},{"v":4442,"d":"4,442"},{"v":5816,"d":"5,816"},{"v":5795,"d":"5,795"},{"v":5217,"d":"5,217"},{"v":5344,"d":"5,344"},{"v":6021,"d":"6,021"},{"v":5866,"d":"5,866"},{"v":5493,"d":"5,493"},{"v":5410,"d":"5,410"},{"v":4901,"d":"4,901"},{"v":4011,"d":"4,011"},{"v":3053,"d":"3,053"},{"v":2263,"d":"2,263"},{"v":1854,"d":"1,854"},{"v":1397,"d":"1,397"},{"v":1175,"d":"1,175"},729,623,{"v":4326,"d":"4,326"},{"v":5993,"d":"5,993"},{"v":5684,"d":"5,684"},{"v":5356,"d":"5,356"},{"v":5357,"d":"5,357"},{"v":5894,"d":"5,894"},{"v":5817,"d":"5,817"},{"v":5450,"d":"5,450"},{"v":5319,"d":"5,319"},{"v":5024,"d":"5,024"},{"v":4287,"d":"4,287"},{"v":3326,"d":"3,326"},{"v":2563,"d":"2,563"},{"v":2241,"d":"2,241"},{"v":1764,"d":"1,764"},{"v":1311,"d":"1,311"},837,813]
["040113","AREQUIPA","AREQUIPA","AREQUIPA","POCSI",471,237,5,4,1,4,6,2,1,1,1,1,2,1,1,3,2,2,2,2,2,3,11,20,24,20,20,17,17,13,14,9,7,7,7,5,0,1,4,7,234,4,1,1,5,4,4,1,1,1,1,1,1,2,2,1,1,1,1,3,1,13,20,20,14,17,22,17,17,14,12,10,7,8,6,0,2,2,5,10,null,null,29,12,36,111,49,25,8,37,107,57,20,6,9,11,11,20,24,20,20,17,17,13,14,9,7,7,7,5,15,8,7,7,13,20,20,14,17,22,17,17,14,12,10,7,8,6]
["040114","AREQUIPA","AREQUIPA","AREQUIPA","POLOBAYA",798,400,4,6,3,8,4,5,1,2,4,7,6,5,3,4,5,3,4,3,4,9,23,34,30,30,31,22,23,29,30,21,13,11,8,5,0,0,4,9,398,6,8,8,9,3,7,2,3,2,2,3,4,6,4,4,4,4,2,3,7,29,30,35,26,21,25,24,31,21,24,18,4,8,11,0,6,0,13,28,null,null,55,22,70,165,88,57,24,69,162,86,25,19,23,23,23,34,30,30,31,22,23,29,30,21,13,11,8,5,34,16,21,20,29,30,35,26,21,25,24,31,21,24,18,4,8,11]
["040115","AREQUIPA","AREQUIPA","AREQUIPA","QUEQUEÑA",7974,3920,20,24,31,21,18,18,56,46,32,50,67,39,43,43,46,56,32,35,56,50,181,312,337,462,319,301,287,238,245,146,107,85,64,53,1,6,14,42,{"v":4054,"d":"4,054"},22,20,22,20,16,15,55,62,35,44,44,47,55,33,39,39,54,54,54,36,208,270,493,449,369,354,312,245,172,140,103,88,37,48,2,11,11,49,132,null,null,422,255,599,{"v":1944,"d":"1,944"},700,402,274,568,{"v":2222,"d":"2,222"},588,114,202,238,229,181,312,337,462,319,301,287,238,245,146,107,85,64,53,100,211,218,237,208,270,493,449,369,354,312,245,172,140,103,88,37,48]
["040116","AREQUIPA","AREQUIPA","AREQUIPA","SABANDIA",4963,2447,41,37,49,48,51,47,36,37,50,30,36,38,42,31,30,34,32,24,37,29,177,191,187,206,178,163,132,102,82,82,67,50,40,31,2,22,19,69,{"v":2516,"d":"2,516"},43,42,53,46,46,40,39,34,38,35,32,37,39,33,32,35,32,35,27,30,163,215,183,208,196,180,146,119,93,75,74,47,39,30,3,20,23,79,198,null,null,500,193,434,968,352,485,206,435,{"v":1032,"d":"1,032"},358,226,200,177,156,177,191,187,206,178,163,132,102,82,82,67,50,40,31,230,186,173,159,163,215,183,208,196,180,146,119,93,75,74,47,39,30]
["040117","AREQUIPA","AREQUIPA","AREQUIPA","SACHACA",29929,14700,169,171,181,241,253,278,268,275,248,232,236,231,253,219,245,209,206,234,211,206,{"v":1163,"d":"1,163"},{"v":1211,"d":"1,211"},{"v":1195,"d":"1,195"},{"v":1126,"d":"1,126"},{"v":1061,"d":"1,061"},981,799,673,533,476,356,252,161,147,9,84,85,239,{"v":15229,"d":"15,229"},198,171,187,205,197,231,241,251,252,238,200,233,243,245,216,237,218,210,218,231,{"v":1123,"d":"1,123"},{"v":1148,"d":"1,148"},{"v":1242,"d":"1,242"},{"v":1132,"d":"1,132"},{"v":1150,"d":"1,150"},{"v":1029,"d":"1,029"},881,754,649,580,418,312,193,196,12,87,111,273,662,null,null,{"v":2783,"d":"2,783"},{"v":1366,"d":"1,366"},{"v":2791,"d":"2,791"},{"v":5835,"d":"5,835"},{"v":1925,"d":"1,925"},{"v":2604,"d":"2,604"},{"v":1369,"d":"1,369"},{"v":2720,"d":"2,720"},{"v":6188,"d":"6,188"},{"v":2348,"d":"2,348"},{"v":1015,"d":"1,015"},{"v":1301,"d":"1,301"},{"v":1184,"d":"1,184"},{"v":1066,"d":"1,066"},{"v":1163,"d":"1,163"},{"v":1211,"d":"1,211"},{"v":1195,"d":"1,195"},{"v":1126,"d":"1,126"},{"v":1061,"d":"1,061"},981,799,673,533,476,356,252,161,147,958,{"v":1213,"d":"1,213"},{"v":1137,"d":"1,137"},{"v":1114,"d":"1,114"},{"v":1123,"d":"1,123"},{"v":1148,"d":"1,148"},{"v":1242,"d":"1,242"},{"v":1132,"d":"1,132"},{"v":1150,"d":"1,150"},{"v":1029,"d":"1,029"},881,754,649,580,418,312,193,196]
["040118","AREQUIPA","AREQUIPA","AREQUIPA","SAN JUAN DE SIGUAS",552,278,5,5,4,4,5,10,3,3,3,3,3,3,4,2,3,3,5,3,3,2,18,22,20,17,24,16,21,19,13,13,6,7,3,3,1,2,3,9,274,3,3,6,5,1,6,1,4,1,2,6,5,6,2,2,1,6,2,4,2,20,20,25,19,17,14,21,19,14,15,11,4,2,5,0,3,0,6,42,null,null,51,20,45,117,45,43,19,46,115,51,23,22,15,16,18,22,20,17,24,16,21,19,13,13,6,7,3,3,18,14,21,15,20,20,25,19,17,14,21,19,14,15,11,4,2,5]
["040119","AREQUIPA","AREQUIPA","AREQUIPA","SAN JUAN DE TARUCANI",1280,633,14,16,10,13,12,20,5,5,6,8,6,7,4,6,5,6,5,10,7,3,35,37,50,50,53,50,42,41,30,24,21,13,10,9,0,3,11,19,647,8,12,7,12,11,9,2,5,3,3,5,3,3,10,3,8,3,5,5,9,33,58,47,60,69,48,43,46,35,27,14,14,14,13,0,3,5,11,46,null,null,122,36,82,286,107,80,32,105,313,117,65,44,28,31,35,37,50,50,53,50,42,41,30,24,21,13,10,9,50,22,24,30,33,58,47,60,69,48,43,46,35,27,14,14,14,13]
["040120","AREQUIPA","AREQUIPA","AREQUIPA","SANTA ISABEL DE SIGUAS",639,321,3,3,2,7,4,2,4,3,3,4,2,4,4,1,4,4,4,7,6,4,28,23,24,19,18,21,27,19,19,16,12,4,9,7,0,0,3,5,318,2,1,2,6,2,6,5,7,5,3,6,6,5,8,2,5,5,7,1,3,24,25,28,16,17,22,20,19,17,14,7,12,5,5,0,2,0,3,13,null,null,41,24,61,128,67,51,32,53,122,60,19,16,15,25,28,23,24,19,18,21,27,19,19,16,12,4,9,7,13,26,27,21,24,25,28,16,17,22,20,19,17,14,7,12,5,5]
["040121","AREQUIPA","AREQUIPA","AREQUIPA","SANTA RITA DE SIGUAS",8403,4132,45,42,57,55,50,44,67,93,72,67,91,66,73,77,60,62,57,59,63,87,347,427,441,411,325,249,173,143,129,72,67,35,15,11,2,21,24,77,{"v":4271,"d":"4,271"},55,49,54,52,48,58,97,82,69,70,77,74,78,79,66,88,63,62,67,64,356,463,469,399,330,223,181,176,120,71,43,37,28,23,0,31,24,91,244,null,null,749,388,924,{"v":1742,"d":"1,742"},329,785,436,950,{"v":1778,"d":"1,778"},322,249,343,367,328,347,427,441,411,325,249,173,143,129,72,67,35,15,11,258,376,374,344,356,463,469,399,330,223,181,176,120,71,43,37,28,23]
["040122","AREQUIPA","AREQUIPA","AREQUIPA","SOCABAYA",86938,42797,375,310,403,470,549,549,693,745,772,748,656,707,723,702,659,650,684,647,689,699,{"v":3631,"d":"3,631"},{"v":3927,"d":"3,927"},{"v":3771,"d":"3,771"},{"v":3480,"d":"3,480"},{"v":3262,"d":"3,262"},{"v":2870,"d":"2,870"},{"v":2291,"d":"2,291"},{"v":1899,"d":"1,899"},{"v":1589,"d":"1,589"},{"v":1359,"d":"1,359"},909,649,386,344,24,173,202,599,{"v":44141,"d":"44,141"},345,315,358,452,544,567,708,723,706,736,682,749,738,759,640,644,709,649,680,677,{"v":3555,"d":"3,555"},{"v":3964,"d":"3,964"},{"v":3715,"d":"3,715"},{"v":3397,"d":"3,397"},{"v":3295,"d":"3,295"},{"v":3104,"d":"3,104"},{"v":2557,"d":"2,557"},{"v":2245,"d":"2,245"},{"v":1824,"d":"1,824"},{"v":1541,"d":"1,541"},{"v":1021,"d":"1,021"},708,417,417,36,163,182,556,{"v":1443,"d":"1,443"},null,null,{"v":6977,"d":"6,977"},{"v":4065,"d":"4,065"},{"v":8946,"d":"8,946"},{"v":17573,"d":"17,573"},{"v":5236,"d":"5,236"},{"v":6885,"d":"6,885"},{"v":4139,"d":"4,139"},{"v":8876,"d":"8,876"},{"v":18313,"d":"18,313"},{"v":5928,"d":"5,928"},{"v":2107,"d":"2,107"},{"v":3507,"d":"3,507"},{"v":3447,"d":"3,447"},{"v":3369,"d":"3,369"},{"v":3631,"d":"3,631"},{"v":3927,"d":"3,927"},{"v":3771,"d":"3,771"},{"v":3480,"d":"3,480"},{"v":3262,"d":"3,262"},{"v":2870,"d":"2,870"},{"v":2291,"d":"2,291"},{"v":1899,"d":"1,899"},{"v":1589,"d":"1,589"},{"v":1359,"d":"1,359"},909,649,386,344,{"v":2014,"d":"2,014"},{"v":3440,"d":"3,440"},{"v":3568,"d":"3,568"},{"v":3359,"d":"3,359"},{"v":3555,"d":"3,555"},{"v":3964,"d":"3,964"},{"v":3715,"d":"3,715"},{"v":3397,"d":"3,397"},{"v":3295,"d":"3,295"},{"v":3104,"d":"3,104"},{"v":2557,"d":"2,557"},{"v":2245,"d":"2,245"},{"v":1824,"d":"1,824"},{"v":1541,"d":"1,541"},{"v":1021,"d":"1,021"},708,417,417]
["040123","AREQUIPA","AREQUIPA","AREQUIPA","TIABAYA",18168,8992,140,119,113,142,143,161,137,172,134,128,126,141,121,150,140,126,108,131,105,124,707,849,866,779,696,577,446,393,323,229,178,123,88,77,9,55,85,189,{"v":9176,"d":"9,176"},130,129,119,154,131,138,157,186,153,151,124,138,159,131,132,120,130,141,123,134,664,796,763,734,689,607,499,435,323,293,209,171,98,115,10,66,64,177,694,null,null,{"v":1656,"d":"1,656"},776,{"v":1785,"d":"1,785"},{"v":3757,"d":"3,757"},{"v":1018,"d":"1,018"},{"v":1710,"d":"1,710"},813,{"v":1717,"d":"1,717"},{"v":3727,"d":"3,727"},{"v":1209,"d":"1,209"},657,732,678,594,707,849,866,779,696,577,446,393,323,229,178,123,88,77,663,785,684,648,664,796,763,734,689,607,499,435,323,293,209,171,98,115]
["040124","AREQUIPA","AREQUIPA","AREQUIPA","UCHUMAYO",17940,8880,113,125,97,139,133,142,142,146,126,130,125,137,126,125,106,111,116,116,122,114,585,846,886,893,804,622,476,394,286,230,161,102,67,37,8,68,45,147,{"v":9060,"d":"9,060"},107,102,98,111,125,123,162,148,150,129,141,141,160,136,119,128,124,115,129,130,614,804,787,787,752,657,513,444,375,311,177,130,73,58,10,54,53,133,503,null,null,{"v":1555,"d":"1,555"},700,{"v":1667,"d":"1,667"},{"v":4075,"d":"4,075"},883,{"v":1537,"d":"1,537"},782,{"v":1677,"d":"1,677"},{"v":3940,"d":"3,940"},{"v":1124,"d":"1,124"},607,686,619,579,585,846,886,893,804,622,476,394,286,230,161,102,67,37,543,712,697,626,614,804,787,787,752,657,513,444,375,311,177,130,73,58]
["040125","AREQUIPA","AREQUIPA","AREQUIPA","VITOR",5084,2506,28,17,15,23,14,26,24,43,36,37,22,46,51,30,31,41,52,45,41,34,193,217,233,202,187,145,136,129,132,103,69,43,33,28,0,15,13,34,{"v":2578,"d":"2,578"},25,16,23,13,20,19,36,44,34,39,36,38,41,55,41,48,33,49,51,55,219,246,202,226,181,164,138,143,97,87,61,35,30,33,0,10,15,37,93,null,null,331,250,485,{"v":1032,"d":"1,032"},408,343,267,571,{"v":1054,"d":"1,054"},343,97,166,180,213,193,217,233,202,187,145,136,129,132,103,69,43,33,28,97,172,211,236,219,246,202,226,181,164,138,143,97,87,61,35,30,33]
["040126","AREQUIPA","AREQUIPA","AREQUIPA","YANAHUARA",28122,13788,126,118,176,186,233,176,205,194,222,222,197,218,190,206,172,167,187,154,172,204,828,987,997,994,955,968,912,761,677,618,485,381,238,262,11,74,52,216,{"v":14334,"d":"14,334"},101,100,125,206,186,183,177,172,176,188,177,159,169,164,151,138,149,149,166,150,830,957,{"v":1079,"d":"1,079"},993,{"v":1038,"d":"1,038"},{"v":1095,"d":"1,095"},947,903,848,701,578,438,342,399,8,67,34,163,557,null,null,{"v":2273,"d":"2,273"},{"v":1076,"d":"1,076"},{"v":2191,"d":"2,191"},{"v":5587,"d":"5,587"},{"v":2661,"d":"2,661"},{"v":1950,"d":"1,950"},920,{"v":2103,"d":"2,103"},{"v":6055,"d":"6,055"},{"v":3306,"d":"3,306"},839,{"v":1019,"d":"1,019"},983,884,828,987,997,994,955,968,912,761,677,618,485,381,238,262,718,896,820,752,830,957,{"v":1079,"d":"1,079"},993,{"v":1038,"d":"1,038"},{"v":1095,"d":"1,095"},947,903,848,701,578,438,342,399]
["040127","AREQUIPA","AREQUIPA","AREQUIPA","YARABAMBA",1794,895,25,19,17,16,11,17,8,9,7,7,10,6,8,4,6,8,8,6,13,12,61,82,92,87,75,78,54,41,30,23,25,13,8,9,3,11,14,30,899,24,21,14,18,12,7,7,11,9,6,9,10,7,9,6,9,7,9,12,7,52,81,99,70,71,72,53,53,45,32,21,13,10,13,3,9,15,36,74,null,null,152,40,168,427,108,148,47,152,418,134,88,48,34,47,61,82,92,87,75,78,54,41,30,23,25,13,8,9,89,40,41,44,52,81,99,70,71,72,53,53,45,32,21,13,10,13]
["040128","AREQUIPA","AREQUIPA","AREQUIPA","YURA",46147,22708,295,327,311,369,425,469,513,460,474,383,417,385,465,402,345,364,318,359,381,366,{"v":1910,"d":"1,910"},{"v":2272,"d":"2,272"},{"v":2202,"d":"2,202"},{"v":1960,"d":"1,960"},{"v":1569,"d":"1,569"},{"v":1238,"d":"1,238"},{"v":1004,"d":"1,004"},804,645,537,321,198,115,105,27,127,168,434,{"v":23439,"d":"23,439"},290,265,294,397,446,445,470,455,437,417,427,408,402,403,352,350,324,367,421,367,{"v":1948,"d":"1,948"},{"v":2327,"d":"2,327"},{"v":2434,"d":"2,434"},{"v":2009,"d":"2,009"},{"v":1622,"d":"1,622"},{"v":1428,"d":"1,428"},{"v":1094,"d":"1,094"},921,632,507,343,224,115,98,29,143,147,410,{"v":1195,"d":"1,195"},null,null,{"v":4828,"d":"4,828"},{"v":2253,"d":"2,253"},{"v":4929,"d":"4,929"},{"v":8777,"d":"8,777"},{"v":1921,"d":"1,921"},{"v":4751,"d":"4,751"},{"v":2198,"d":"2,198"},{"v":5063,"d":"5,063"},{"v":9508,"d":"9,508"},{"v":1919,"d":"1,919"},{"v":1727,"d":"1,727"},{"v":2299,"d":"2,299"},{"v":2014,"d":"2,014"},{"v":1788,"d":"1,788"},{"v":1910,"d":"1,910"},{"v":2272,"d":"2,272"},{"v":2202,"d":"2,202"},{"v":1960,"d":"1,960"},{"v":1569,"d":"1,569"},{"v":1238,"d":"1,238"},{"v":1004,"d":"1,004"},804,645,537,321,198,115,105,{"v":1692,"d":"1,692"},{"v":2224,"d":"2,224"},{"v":1992,"d":"1,992"},{"v":1829,"d":"1,829"},{"v":1948,"d":"1,948"},{"v":2327,"d":"2,327"},{"v":2434,"d":"2,434"},{"v":2009,"d":"2,009"},{"v":1622,"d":"1,622"},{"v":1428,"d":"1,428"},{"v":1094,"d":"1,094"},921,632,507,343,224,115,98]
["040129","AREQUIPA","AREQUIPA","AREQUIPA","JOSE LUIS BUSTAMANTE Y RIVERO",85718,42155,379,404,370,440,507,510,639,677,700,628,638,641,669,618,569,578,574,576,606,613,{"v":3214,"d":"3,214"},{"v":3657,"d":"3,657"},{"v":3757,"d":"3,757"},{"v":3386,"d":"3,386"},{"v":3337,"d":"3,337"},{"v":2954,"d":"2,954"},{"v":2370,"d":"2,370"},{"v":1966,"d":"1,966"},{"v":1652,"d":"1,652"},{"v":1348,"d":"1,348"},{"v":1166,"d":"1,166"},895,607,510,28,194,185,517,{"v":43563,"d":"43,563"},366,353,355,468,536,499,606,623,632,635,601,599,660,564,595,589,590,617,564,603,{"v":3270,"d":"3,270"},{"v":3583,"d":"3,583"},{"v":3634,"d":"3,634"},{"v":3311,"d":"3,311"},{"v":3198,"d":"3,198"},{"v":3019,"d":"3,019"},{"v":2705,"d":"2,705"},{"v":2323,"d":"2,323"},{"v":1974,"d":"1,974"},{"v":1701,"d":"1,701"},{"v":1384,"d":"1,384"},{"v":1063,"d":"1,063"},663,680,26,187,179,448,{"v":1691,"d":"1,691"},null,null,{"v":6533,"d":"6,533"},{"v":3584,"d":"3,584"},{"v":8090,"d":"8,090"},{"v":17770,"d":"17,770"},{"v":6178,"d":"6,178"},{"v":6273,"d":"6,273"},{"v":3615,"d":"3,615"},{"v":8020,"d":"8,020"},{"v":18190,"d":"18,190"},{"v":7465,"d":"7,465"},{"v":2100,"d":"2,100"},{"v":3154,"d":"3,154"},{"v":3135,"d":"3,135"},{"v":2947,"d":"2,947"},{"v":3214,"d":"3,214"},{"v":3657,"d":"3,657"},{"v":3757,"d":"3,757"},{"v":3386,"d":"3,386"},{"v":3337,"d":"3,337"},{"v":2954,"d":"2,954"},{"v":2370,"d":"2,370"},{"v":1966,"d":"1,966"},{"v":1652,"d":"1,652"},{"v":1348,"d":"1,348"},{"v":1166,"d":"1,166"},895,607,510,{"v":2078,"d":"2,078"},{"v":2995,"d":"2,995"},{"v":3019,"d":"3,019"},{"v":2963,"d":"2,963"},{"v":3270,"d":"3,270"},{"v":3583,"d":"3,583"},{"v":3634,"d":"3,634"},{"v":3311,"d":"3,311"},{"v":3198,"d":"3,198"},{"v":3019,"d":"3,019"},{"v":2705,"d":"2,705"},{"v":2323,"d":"2,323"},{"v":1974,"d":"1,974"},{"v":1701,"d":"1,701"},{"v":1384,"d":"1,384"},{"v":1063,"d":"1,063"},663,680]
["040201","AREQUIPA","AREQUIPA","CAMANA","CAMANA",13589,6711,67,41,10,6,39,42,98,116,113,109,105,125,114,130,124,133,109,115,109,104,585,608,582,452,399,436,410,359,348,256,185,125,85,72,5,37,30,99,{"v":6878,"d":"6,878"},71,40,20,7,41,39,112,121,132,96,124,99,116,116,115,126,115,132,111,126,578,546,523,469,464,462,439,388,341,256,195,145,110,103,7,44,27,101,225,null,null,871,725,{"v":1406,"d":"1,406"},{"v":2638,"d":"2,638"},{"v":1071,"d":"1,071"},902,720,{"v":1361,"d":"1,361"},{"v":2745,"d":"2,745"},{"v":1150,"d":"1,150"},163,478,598,570,585,608,582,452,399,436,410,359,348,256,185,125,85,72,179,500,570,610,578,546,523,469,464,462,439,388,341,256,195,145,110,103]
["040202","AREQUIPA","AREQUIPA","CAMANA","JOSE MARIA QUIMPER",5306,2617,42,30,25,37,32,44,45,60,57,31,30,51,46,42,32,42,32,35,30,31,171,212,220,202,181,158,134,148,122,131,63,51,24,26,3,23,19,46,{"v":2689,"d":"2,689"},40,36,21,40,48,44,35,55,51,42,40,46,49,37,46,38,48,30,42,36,176,251,210,222,182,164,145,135,143,91,63,31,30,22,2,20,20,57,110,null,null,484,229,444,{"v":1043,"d":"1,043"},417,498,248,505,{"v":1058,"d":"1,058"},380,166,237,201,170,171,212,220,202,181,158,134,148,122,131,63,51,24,26,185,227,218,194,176,251,210,222,182,164,145,135,143,91,63,31,30,22]
["040203","AREQUIPA","AREQUIPA","CAMANA","MARIANO NICOLAS VALCARCEL",8909,4421,67,70,90,85,112,130,78,59,62,62,46,67,68,52,70,37,52,48,32,24,151,233,411,494,426,359,324,321,170,114,52,24,21,10,5,37,30,113,{"v":4488,"d":"4,488"},69,80,86,77,102,146,84,67,41,78,81,102,95,79,56,60,49,46,41,19,197,414,645,524,349,297,205,171,113,60,25,13,11,6,4,39,30,123,201,null,null,928,327,440,{"v":2335,"d":"2,335"},391,{"v":1013,"d":"1,013"},385,671,{"v":2191,"d":"2,191"},228,424,391,303,193,151,233,411,494,426,359,324,321,170,114,52,24,21,10,414,416,413,215,197,414,645,524,349,297,205,171,113,60,25,13,11,6]
["040204","AREQUIPA","AREQUIPA","CAMANA","MARISCAL CACERES",7394,3651,65,44,37,48,47,53,53,55,60,48,56,62,57,48,53,49,59,46,60,47,224,325,305,288,282,261,249,199,166,125,78,49,33,20,5,31,34,78,{"v":3743,"d":"3,743"},41,35,39,60,47,51,53,52,58,59,47,51,44,54,54,59,47,67,54,50,239,356,327,334,285,280,234,189,154,127,84,42,34,36,2,22,19,47,282,null,null,628,312,656,{"v":1584,"d":"1,584"},471,593,325,699,{"v":1649,"d":"1,649"},477,241,269,276,261,224,325,305,288,282,261,249,199,166,125,78,49,33,20,222,273,250,277,239,356,327,334,285,280,234,189,154,127,84,42,34,36]
["040205","AREQUIPA","AREQUIPA","CAMANA","NICOLAS DE PIEROLA",8512,4199,47,42,45,56,58,69,64,80,78,73,89,74,73,71,66,72,68,64,67,63,268,327,329,306,302,281,234,224,206,146,101,71,45,40,3,17,30,66,{"v":4313,"d":"4,313"},48,49,37,64,50,64,60,81,69,65,58,72,76,82,61,57,70,62,67,64,320,346,366,365,302,279,280,237,180,143,100,69,37,33,4,26,22,68,232,null,null,775,414,725,{"v":1676,"d":"1,676"},609,717,408,797,{"v":1829,"d":"1,829"},562,248,364,373,334,268,327,329,306,302,281,234,224,206,146,101,71,45,40,248,339,349,320,320,346,366,365,302,279,280,237,180,143,100,69,37,33]
["040206","AREQUIPA","AREQUIPA","CAMANA","OCOÑA",4330,2134,27,20,27,33,26,34,31,41,29,17,35,29,24,22,29,32,24,47,26,24,130,148,136,145,151,146,147,152,121,98,83,42,29,29,1,15,12,40,{"v":2196,"d":"2,196"},27,21,17,33,33,20,35,30,32,32,26,29,28,35,34,37,39,37,30,29,135,200,144,168,166,139,147,114,123,90,64,43,30,29,2,10,17,51,92,null,null,349,178,328,877,402,335,210,394,878,379,133,152,139,153,130,148,136,145,151,146,147,152,121,98,83,42,29,29,131,149,152,172,135,200,144,168,166,139,147,114,123,90,64,43,30,29]
["040207","AREQUIPA","AREQUIPA","CAMANA","QUILCA",1250,627,9,11,12,6,7,7,6,6,5,10,8,5,7,8,8,8,6,9,6,6,27,37,62,51,44,52,45,39,37,27,25,18,9,4,0,5,4,18,623,8,6,3,5,6,8,15,10,6,9,8,12,5,10,13,8,12,9,4,10,38,56,49,63,53,37,38,27,44,18,12,6,5,10,1,7,1,13,38,null,null,92,46,76,293,120,96,57,108,267,95,45,34,36,35,27,37,62,51,44,52,45,39,37,27,25,18,9,4,28,48,48,43,38,56,49,63,53,37,38,27,44,18,12,6,5,10]
["040208","AREQUIPA","AREQUIPA","CAMANA","SAMUEL PASTOR",17615,8664,117,124,131,153,164,153,153,162,142,172,136,172,151,139,151,143,143,136,155,129,670,751,700,676,582,564,468,397,341,227,145,99,57,61,3,47,70,186,{"v":8951,"d":"8,951"},119,133,113,154,158,178,175,158,177,122,146,163,165,141,136,140,144,145,130,134,687,787,751,729,643,564,526,416,323,234,147,93,60,60,7,61,58,190,486,null,null,{"v":1779,"d":"1,779"},863,{"v":1705,"d":"1,705"},{"v":3387,"d":"3,387"},930,{"v":1796,"d":"1,796"},871,{"v":1738,"d":"1,738"},{"v":3629,"d":"3,629"},917,689,782,749,706,670,751,700,676,582,564,468,397,341,227,145,99,57,61,677,810,751,693,687,787,751,729,643,564,526,416,323,234,147,93,60,60]
["040301","AREQUIPA","AREQUIPA","CARAVELI","CARAVELI",4806,2372,48,43,41,36,40,43,36,38,26,37,29,27,38,37,38,47,50,43,37,36,187,215,189,176,137,135,154,110,88,71,52,33,22,33,3,20,28,59,{"v":2434,"d":"2,434"},42,42,33,32,30,40,48,41,37,25,44,23,41,34,27,29,41,35,60,54,235,243,193,163,141,152,123,101,86,70,41,41,47,40,3,22,20,52,137,null,null,444,253,475,901,299,437,207,592,873,325,208,180,169,213,187,215,189,176,137,135,154,110,88,71,52,33,22,33,179,191,169,219,235,243,193,163,141,152,123,101,86,70,41,41,47,40]
["040302","AREQUIPA","AREQUIPA","CARAVELI","ACARI",5873,2878,24,30,24,27,22,43,41,55,34,45,49,55,65,55,55,50,62,55,50,37,208,176,134,201,178,189,177,177,160,106,98,92,37,67,2,18,6,40,{"v":2995,"d":"2,995"},32,33,30,32,35,31,38,47,44,56,61,56,60,65,45,61,57,60,42,37,191,210,216,205,194,196,188,144,124,124,101,78,51,51,2,13,19,46,174,null,null,449,342,471,{"v":1056,"d":"1,056"},560,495,348,480,{"v":1143,"d":"1,143"},529,127,218,279,254,208,176,134,201,178,189,177,177,160,106,98,92,37,67,162,216,287,257,191,210,216,205,194,196,188,144,124,124,101,78,51,51]
["040303","AREQUIPA","AREQUIPA","CARAVELI","ATICO",6346,3126,40,37,25,48,29,40,51,44,48,44,54,59,59,47,61,47,64,53,51,41,209,229,254,249,244,233,212,169,124,105,63,42,38,13,2,17,23,48,{"v":3220,"d":"3,220"},43,39,30,31,38,41,67,48,50,54,58,59,39,57,60,60,51,49,54,44,193,272,306,286,226,235,191,154,110,105,59,58,23,30,2,20,23,54,184,null,null,519,331,530,{"v":1361,"d":"1,361"},385,558,316,563,{"v":1398,"d":"1,398"},385,179,227,280,256,209,229,254,249,244,233,212,169,124,105,63,42,38,13,181,260,273,258,193,272,306,286,226,235,191,154,110,105,59,58,23,30]
["040304","AREQUIPA","AREQUIPA","CARAVELI","ATIQUIPA",589,290,6,6,3,6,7,5,2,2,5,6,1,4,4,7,2,6,2,1,2,4,19,31,25,20,24,12,14,17,16,6,9,6,4,6,0,3,3,7,299,4,5,3,5,5,7,1,4,4,4,7,4,7,4,3,1,7,6,7,1,18,30,25,23,24,13,20,16,14,8,11,4,3,1,0,4,0,9,22,null,null,53,22,56,112,47,53,28,56,121,41,28,20,18,15,19,31,25,20,24,12,14,17,16,6,9,6,4,6,22,20,25,22,18,30,25,23,24,13,20,16,14,8,11,4,3,1]
["040305","AREQUIPA","AREQUIPA","CARAVELI","BELLA UNION",3180,1584,28,26,29,20,16,16,23,21,24,23,16,20,31,16,23,18,32,14,28,26,103,106,116,121,129,133,97,87,71,43,48,41,25,14,1,9,19,46,{"v":1596,"d":"1,596"},16,19,17,21,21,17,32,25,24,20,14,25,24,26,15,30,34,32,20,24,114,159,123,145,115,107,84,76,64,50,40,24,14,25,1,6,10,24,123,null,null,262,134,263,683,242,251,161,317,650,217,119,107,106,118,103,106,116,121,129,133,97,87,71,43,48,41,25,14,94,118,104,140,114,159,123,145,115,107,84,76,64,50,40,24,14,25]
["040306","AREQUIPA","AREQUIPA","CARAVELI","CAHUACHO",915,454,7,2,18,4,4,2,2,5,9,6,2,6,8,8,9,9,6,8,5,6,26,35,26,32,27,27,27,21,18,21,20,14,17,17,0,5,2,23,461,9,7,16,5,2,5,5,2,9,7,7,7,11,9,7,7,5,7,11,11,23,31,29,20,34,22,27,25,18,18,16,16,11,22,1,6,3,36,233,null,null,67,48,72,160,107,81,46,76,157,101,35,24,33,34,26,35,26,32,27,27,27,21,18,21,20,14,17,17,39,28,41,41,23,31,29,20,34,22,27,25,18,18,16,16,11,22]
["040307","AREQUIPA","AREQUIPA","CARAVELI","CHALA",10962,5402,90,87,88,92,97,93,113,129,148,131,106,114,106,113,95,102,93,104,63,93,346,383,441,435,350,364,270,245,166,144,82,50,33,36,3,51,39,129,{"v":5560,"d":"5,560"},87,92,67,96,74,68,117,107,118,97,120,97,85,79,99,106,120,88,97,71,404,473,509,574,456,331,285,194,175,111,70,37,26,30,3,46,41,126,362,null,null,{"v":1288,"d":"1,288"},613,885,{"v":2105,"d":"2,105"},511,{"v":1140,"d":"1,140"},577,{"v":1045,"d":"1,045"},{"v":2349,"d":"2,349"},449,454,614,534,455,346,383,441,435,350,364,270,245,166,144,82,50,33,36,416,507,480,482,404,473,509,574,456,331,285,194,175,111,70,37,26,30]
["040308","AREQUIPA","AREQUIPA","CARAVELI","CHAPARRA",3571,1781,19,19,18,35,39,36,20,18,20,29,17,33,33,32,21,19,23,19,23,20,84,106,177,178,162,151,130,102,67,46,43,12,13,17,2,5,14,28,{"v":1790,"d":"1,790"},25,35,28,25,41,13,31,34,25,26,38,46,34,29,46,52,38,47,22,20,106,101,144,166,158,101,80,110,40,42,33,18,18,18,1,7,18,41,95,null,null,303,147,233,900,198,367,246,249,759,169,130,123,136,104,84,106,177,178,162,151,130,102,67,46,43,12,13,17,154,129,193,179,106,101,144,166,158,101,80,110,40,42,33,18,18,18]
["040309","AREQUIPA","AREQUIPA","CARAVELI","HUANUHUANU",3261,1638,26,33,18,32,21,19,14,27,14,16,19,27,34,29,27,21,31,19,30,17,69,128,182,196,138,128,111,76,65,40,14,6,4,7,1,11,15,37,{"v":1623,"d":"1,623"},17,12,25,21,10,22,27,21,26,37,27,39,32,56,47,35,27,32,14,27,114,130,171,129,106,126,91,70,49,25,21,5,11,21,1,5,12,22,103,null,null,266,161,244,831,136,284,229,285,693,132,130,90,136,118,69,128,182,196,138,128,111,76,65,40,14,6,4,7,85,133,201,135,114,130,171,129,106,126,91,70,49,25,21,5,11,21]
["040310","AREQUIPA","AREQUIPA","CARAVELI","JAQUI",1738,858,9,9,7,17,9,7,18,10,14,8,12,22,23,14,12,15,14,14,14,9,46,75,55,51,55,56,57,59,45,47,24,12,10,9,1,4,5,12,880,14,8,12,11,11,10,9,17,13,13,12,24,21,15,16,21,17,15,14,12,55,65,61,47,54,62,57,48,50,30,20,16,14,16,0,6,8,17,54,null,null,142,92,144,333,147,154,105,146,329,146,51,57,83,66,46,75,55,51,55,56,57,59,45,47,24,12,10,9,56,62,88,79,55,65,61,47,54,62,57,48,50,30,20,16,14,16]
["040311","AREQUIPA","AREQUIPA","CARAVELI","LOMAS",1637,812,11,9,8,12,10,14,12,14,5,12,12,17,7,15,8,9,10,9,12,6,61,61,68,69,67,68,45,50,45,24,15,15,8,4,0,4,7,13,825,12,18,13,5,3,13,12,5,20,21,12,10,14,11,12,14,14,11,5,11,57,78,72,67,63,59,52,44,37,25,20,9,1,5,0,6,6,22,41,null,null,136,58,140,367,111,144,76,151,357,97,50,57,59,46,61,61,68,69,67,68,45,50,45,24,15,15,8,4,51,71,59,55,57,78,72,67,63,59,52,44,37,25,20,9,1,5]
["040312","AREQUIPA","AREQUIPA","CARAVELI","QUICACHA",{"$f":"G57+AT57","v":2126},1049,15,17,9,22,9,14,15,12,19,21,18,18,20,19,13,27,23,18,17,18,82,67,82,77,65,73,53,56,45,37,24,17,12,15,0,9,6,25,{"v":1077,"d":"1,077"},12,12,13,20,7,13,25,24,13,16,27,30,23,30,22,21,22,27,15,20,83,82,68,78,59,55,59,46,38,33,22,17,14,31,2,8,4,14,67,null,null,189,120,184,406,150,212,145,200,365,155,72,81,88,103,82,67,82,77,65,73,53,56,45,37,24,17,12,15,64,91,132,105,83,82,68,78,59,55,59,46,38,33,22,17,14,31]
["040313","AREQUIPA","AREQUIPA","CARAVELI","YAUCA",2396,1183,17,16,8,9,6,8,18,20,23,25,21,21,12,19,21,22,21,16,17,12,76,88,67,64,86,75,71,78,88,52,42,28,19,17,1,10,7,19,{"v":1213,"d":"1,213"},14,14,8,12,8,14,17,19,15,26,22,23,30,15,26,13,19,14,7,17,77,110,89,84,81,88,75,88,57,41,33,22,9,26,0,6,8,20,46,null,null,{"$f":"SUM(H58:S58)","v":192},{"$f":"SUM(T58:Y58)","v":111},{"$f":"SUM(Z58:AC58)","v":193},{"$f":"SUM(AD58:AI58)","v":441},{"$f":"SUM(AJ58:AO58)","v":246},192,117,211,505,188,{"$f":"SUM(H58:L58)","v":56},{"$f":"SUM(M58:Q58)","v":94},{"$f":"SUM(R58:V58)","v":94},{"$f":"SUM(W58:AA58)","v":88},{"$f":"AB58","v":76},{"$f":"AC58","v":88},{"$f":"AD58","v":67},{"$f":"AE58","v":64},{"$f":"AF58","v":86},{"$f":"AG58","v":75},{"$f":"AH58","v":71},{"$f":"AI58","v":78},{"$f":"AJ58","v":88},{"$f":"AK58","v":52},{"$f":"AL58","v":42},{"$f":"AM58","v":28},{"$f":"AN58","v":19},{"$f":"AO58","v":17},56,91,116,70,77,110,89,84,81,88,75,88,57,41,33,22,9,26]
["040401","AREQUIPA","AREQUIPA","CASTILLA","APLAO",9465,{"$f":"SUM(H59:AO59)","v":4676},64,65,51,74,63,69,64,65,69,60,79,81,98,88,74,63,83,90,60,66,324,379,355,313,293,299,282,271,214,176,144,95,52,53,7,26,38,82,{"$f":"SUM(AU59:CB59)","v":{"v":4789,"d":"4,789"}},54,48,66,72,62,64,66,64,66,58,65,83,102,66,78,68,97,84,85,81,382,410,361,344,316,321,281,267,188,169,109,94,52,66,7,29,25,58,241,null,null,804,496,829,{"v":1813,"d":"1,813"},734,{"$f":"SUM(AU59:BF59)","v":768},{"$f":"SUM(BG59:BL59)","v":495},{"$f":"SUM(BM59:BP59)","v":958},{"$f":"SUM(BQ59:BV59)","v":{"v":1890,"d":"1,890"}},{"$f":"SUM(BW59:CB59)","v":678},317,327,420,362,324,379,355,313,293,299,282,271,214,176,144,95,52,53,{"$f":"SUM(AU59:AY59)","v":302},{"$f":"SUM(AZ59:BD59)","v":318},{"$f":"SUM(BE59:BI59)","v":394},{"$f":"SUM(BJ59:BN59)","v":415},{"$f":"BO59","v":382},{"$f":"BP59","v":410},{"$f":"BQ59","v":361},{"$f":"BR59","v":344},{"$f":"BS59","v":316},{"$f":"BT59","v":321},{"$f":"BU59","v":281},{"$f":"BV59","v":267},{"$f":"BW59","v":188},{"$f":"BX59","v":169},{"$f":"BY59","v":109},{"$f":"BZ59","v":94},{"$f":"CA59","v":52},{"$f":"CB59","v":66}]
["040402","AREQUIPA","AREQUIPA","CASTILLA","ANDAGUA",928,462,7,8,3,5,4,2,6,9,7,6,6,6,6,10,5,6,9,6,6,4,37,32,30,26,33,33,34,25,22,21,20,12,6,10,0,2,5,17,466,4,2,6,8,5,6,7,4,2,8,8,7,7,9,7,2,10,7,7,4,41,24,23,29,28,28,26,28,30,22,18,21,11,17,0,3,1,5,21,null,null,69,42,79,181,91,67,42,76,162,119,27,30,33,31,37,32,30,26,33,33,34,25,22,21,20,12,6,10,25,27,38,30,41,24,23,29,28,28,26,28,30,22,18,21,11,17]
["040403","AREQUIPA","AREQUIPA","CASTILLA","AYO",284,142,2,1,4,1,1,4,1,1,1,1,0,1,0,1,1,1,2,2,1,1,5,5,8,13,10,10,8,7,10,10,7,9,7,6,0,0,2,4,142,2,1,2,2,2,1,1,1,1,0,0,3,1,1,1,0,1,1,0,1,1,7,9,10,10,7,16,10,10,10,4,10,4,12,0,2,0,5,10,null,null,18,7,12,56,49,16,5,9,62,50,9,8,3,7,5,5,8,13,10,10,8,7,10,10,7,9,7,6,9,4,6,3,1,7,9,10,10,7,16,10,10,10,4,10,4,12]
["040404","AREQUIPA","AREQUIPA","CASTILLA","CHACHAS",1668,834,14,8,14,17,18,11,14,6,15,8,14,15,17,19,10,17,15,16,10,10,68,63,76,69,55,51,42,42,28,22,19,16,5,10,0,8,6,19,834,20,20,15,15,12,12,8,18,13,19,25,14,16,13,18,24,11,19,11,13,62,67,64,57,30,40,33,47,39,26,11,10,13,19,1,13,7,40,68,null,null,154,94,151,335,100,191,101,153,271,118,71,54,75,68,68,63,76,69,55,51,42,42,28,22,19,16,5,10,82,70,86,78,62,67,64,57,30,40,33,47,39,26,11,10,13,19]
["040405","AREQUIPA","AREQUIPA","CASTILLA","CHILCAYMARCA",1073,529,6,5,4,3,3,4,7,12,7,10,10,7,7,6,13,8,7,10,10,5,31,41,52,50,47,48,33,24,23,15,6,8,5,2,0,2,4,9,544,7,7,6,7,7,2,10,5,13,10,8,12,3,6,5,15,11,13,8,3,37,52,45,51,52,34,29,23,20,15,11,5,6,6,0,4,3,10,23,null,null,78,51,87,254,59,94,53,100,234,63,21,40,43,40,31,41,52,50,47,48,33,24,23,15,6,8,5,2,34,40,34,50,37,52,45,51,52,34,29,23,20,15,11,5,6,6]
["040406","AREQUIPA","AREQUIPA","CASTILLA","CHOCO",671,336,7,5,1,4,3,1,3,4,2,2,1,3,4,3,1,2,4,4,4,5,21,14,31,28,26,35,23,17,19,14,12,10,12,11,1,5,2,11,335,5,2,2,2,3,2,3,3,3,3,3,7,3,6,6,4,7,1,6,4,17,17,18,20,31,18,21,18,20,22,15,20,8,15,0,5,0,8,25,null,null,36,18,44,160,78,38,27,44,126,100,20,12,12,19,21,14,31,28,26,35,23,17,19,14,12,10,12,11,14,14,25,22,17,17,18,20,31,18,21,18,20,22,15,20,8,15]
["040407","AREQUIPA","AREQUIPA","CASTILLA","HUANCARQUI",1605,790,9,5,7,9,5,8,6,8,7,10,10,11,7,7,10,8,10,10,6,11,40,60,70,64,69,63,59,47,41,36,32,19,14,12,0,3,6,13,815,12,9,5,18,11,6,10,7,12,8,10,3,11,7,12,13,6,12,8,8,50,46,77,61,57,52,59,60,55,34,27,18,11,20,2,5,7,14,21,null,null,95,52,117,372,154,111,61,112,366,165,35,39,45,45,40,60,70,64,69,63,59,47,41,36,32,19,14,12,55,43,43,47,50,46,77,61,57,52,59,60,55,34,27,18,11,20]
["040408","AREQUIPA","AREQUIPA","CASTILLA","MACHAGUAY",418,208,7,1,3,1,5,1,0,2,0,4,2,1,3,2,2,2,4,7,3,1,10,11,11,9,11,12,13,16,14,7,16,8,9,10,0,1,6,11,210,2,2,1,2,2,2,2,2,2,1,1,5,2,3,5,3,3,2,3,5,14,9,7,6,12,15,17,12,15,9,12,8,10,14,0,0,2,3,8,null,null,27,20,25,72,64,24,18,31,69,68,17,7,10,17,10,11,11,9,11,12,13,16,14,7,16,8,9,10,9,9,16,16,14,9,7,6,12,15,17,12,15,9,12,8,10,14]
["040409","AREQUIPA","AREQUIPA","CASTILLA","ORCOPAMPA",8560,4224,38,46,25,47,38,57,78,83,91,101,98,95,95,91,87,114,99,134,72,57,351,391,316,359,293,224,195,174,123,96,65,42,23,26,3,24,14,43,{"v":4336,"d":"4,336"},27,28,27,43,36,62,70,85,108,86,104,102,85,101,101,127,108,106,92,71,372,324,352,334,301,262,180,197,144,105,86,46,34,30,2,14,13,34,114,null,null,797,620,871,{"v":1561,"d":"1,561"},375,778,628,859,{"v":1626,"d":"1,626"},445,194,410,466,476,351,391,316,359,293,224,195,174,123,96,65,42,23,26,161,411,493,504,372,324,352,334,301,262,180,197,144,105,86,46,34,30]
["040410","AREQUIPA","AREQUIPA","CASTILLA","PAMPACOLCA",1861,921,15,8,14,16,5,12,14,10,16,8,19,16,15,17,13,18,14,18,8,18,69,63,50,42,48,62,50,68,38,40,23,40,29,25,1,5,10,30,940,12,9,18,18,15,11,9,11,17,15,15,16,16,14,14,19,21,19,14,16,71,48,47,42,47,49,57,59,46,33,30,35,35,42,1,2,10,24,116,null,null,153,95,158,320,195,166,103,149,301,221,58,60,80,76,69,63,50,42,48,62,50,68,38,40,23,40,29,25,72,63,75,89,71,48,47,42,47,49,57,59,46,33,30,35,35,42]
["040411","AREQUIPA","AREQUIPA","CASTILLA","TIPAN",406,201,2,1,2,0,0,1,3,4,1,0,0,2,3,4,1,2,0,4,4,4,10,15,12,11,12,13,10,20,16,10,8,12,4,10,0,2,0,5,205,2,3,1,2,0,2,2,2,2,3,1,3,2,4,3,4,3,4,5,4,12,6,10,7,13,9,12,12,13,14,13,15,4,13,0,2,0,4,6,null,null,16,14,33,78,60,23,20,27,63,72,5,9,10,14,10,15,12,11,12,13,10,20,16,10,8,12,4,10,8,11,13,20,12,6,10,7,13,9,12,12,13,14,13,15,4,13]
["040412","AREQUIPA","AREQUIPA","CASTILLA","UÑON",233,114,2,1,0,2,0,2,0,0,2,0,2,0,0,0,2,1,1,1,0,0,4,7,8,11,8,11,11,4,10,7,8,3,4,2,0,0,2,4,119,1,1,2,0,0,0,4,0,1,4,0,1,0,1,3,1,1,1,0,3,4,13,7,4,9,9,7,9,10,7,3,5,3,5,0,0,1,2,14,null,null,11,5,11,53,34,14,7,20,45,33,5,4,4,3,4,7,8,11,8,11,11,4,10,7,8,3,4,2,4,9,5,6,4,13,7,4,9,9,7,9,10,7,3,5,3,5]
["040413","AREQUIPA","AREQUIPA","CASTILLA","URACA",6288,3104,32,36,41,37,43,40,41,35,42,40,31,40,45,49,40,55,49,39,39,57,233,285,219,229,222,197,201,179,159,117,91,59,43,39,0,12,20,56,{"v":3184,"d":"3,184"},36,39,29,28,37,51,43,55,44,46,53,43,49,49,41,57,71,57,48,48,217,255,230,248,237,214,192,181,138,113,85,58,41,51,3,16,20,63,167,null,null,458,277,614,{"v":1247,"d":"1,247"},508,504,324,568,{"v":1302,"d":"1,302"},486,189,198,205,239,233,285,219,229,222,197,201,179,159,117,91,59,43,39,169,239,235,281,217,255,230,248,237,214,192,181,138,113,85,58,41,51]
["040414","AREQUIPA","AREQUIPA","CASTILLA","VIRACO",1416,695,8,5,12,9,7,6,7,7,7,4,5,7,8,8,8,6,4,17,6,9,38,47,35,34,49,48,50,40,48,53,28,31,26,18,0,5,3,15,721,8,7,3,4,6,5,13,11,8,11,6,12,17,12,11,11,17,12,12,9,46,43,36,30,41,43,39,41,44,36,36,30,24,37,1,5,3,19,42,null,null,84,51,100,256,204,94,80,110,230,207,41,31,36,42,38,47,35,34,49,48,50,40,48,53,28,31,26,18,28,48,58,61,46,43,36,30,41,43,39,41,44,36,36,30,24,37]
["040501","AREQUIPA","AREQUIPA","CAYLLOMA","CHIVAY",6917,3422,37,53,19,38,35,62,46,67,60,63,59,78,74,62,73,82,77,69,66,59,335,316,294,256,187,191,141,151,121,77,60,54,30,30,0,13,24,50,{"v":3495,"d":"3,495"},31,42,31,47,45,43,77,62,71,67,67,57,78,69,53,62,71,69,74,62,337,323,286,239,225,177,147,171,106,81,74,71,32,48,1,15,16,45,123,null,null,617,437,776,{"v":1220,"d":"1,220"},372,640,402,796,{"v":1245,"d":"1,245"},412,182,298,346,353,335,316,294,256,187,191,141,151,121,77,60,54,30,30,196,320,324,338,337,323,286,239,225,177,147,171,106,81,74,71,32,48]
["040502","AREQUIPA","AREQUIPA","CAYLLOMA","ACHOMA",997,489,7,9,6,3,1,7,6,4,3,1,3,7,8,1,4,4,3,8,3,8,42,49,40,23,32,41,33,38,26,20,17,12,10,10,0,2,5,11,508,6,4,6,4,5,4,4,6,5,4,3,4,5,5,6,8,6,4,4,9,31,42,29,30,38,39,38,35,34,23,19,16,16,16,0,0,6,7,22,null,null,57,28,102,207,95,55,34,86,209,124,26,21,23,26,42,49,40,23,32,41,33,38,26,20,17,12,10,10,25,23,23,31,31,42,29,30,38,39,38,35,34,23,19,16,16,16]
["040503","AREQUIPA","AREQUIPA","CAYLLOMA","CABANACONDE",2455,1214,7,8,7,13,9,9,12,14,9,10,13,15,15,20,17,14,18,20,18,12,90,93,83,74,89,84,85,94,70,66,41,29,25,31,0,4,3,13,{"v":1241,"d":"1,241"},12,12,13,15,6,12,25,15,14,10,12,13,13,19,15,13,30,15,13,18,77,101,83,71,77,80,85,105,51,51,41,36,43,45,0,5,7,17,57,null,null,126,104,213,509,262,159,105,209,501,267,44,54,80,82,90,93,83,74,89,84,85,94,70,66,41,29,25,31,58,76,72,89,77,101,83,71,77,80,85,105,51,51,41,36,43,45]
["040504","AREQUIPA","AREQUIPA","CAYLLOMA","CALLALLI",1726,851,13,9,11,15,5,10,10,7,9,12,7,11,9,13,9,6,7,7,9,7,55,78,71,62,52,68,60,57,52,38,29,23,10,10,1,5,8,19,875,13,11,8,16,5,7,11,7,8,10,10,15,8,14,5,11,15,8,10,10,65,70,59,54,47,63,69,63,47,44,37,19,15,21,0,5,8,20,51,null,null,119,51,149,370,162,121,61,155,355,183,53,48,49,36,55,78,71,62,52,68,60,57,52,38,29,23,10,10,53,43,52,54,65,70,59,54,47,63,69,63,47,44,37,19,15,21]
["040505","AREQUIPA","AREQUIPA","CAYLLOMA","CAYLLOMA",4501,2220,24,28,30,36,34,24,19,42,39,39,41,41,46,33,45,43,46,53,39,29,207,205,171,180,140,127,112,109,81,62,41,24,16,14,1,15,9,49,{"v":2281,"d":"2,281"},24,31,33,24,20,22,36,30,45,44,48,51,54,41,45,48,36,40,53,41,207,211,163,157,150,130,112,101,92,68,46,39,22,17,3,11,13,46,228,null,null,397,266,480,839,238,408,264,512,813,284,152,163,206,210,207,205,171,180,140,127,112,109,81,62,41,24,16,14,132,177,239,218,207,211,163,157,150,130,112,101,92,68,46,39,22,17]
["040506","AREQUIPA","AREQUIPA","CAYLLOMA","COPORAQUE",1307,644,8,13,6,6,8,4,13,12,6,5,0,7,12,7,3,9,12,3,5,12,39,42,47,60,68,38,29,36,39,29,20,17,13,16,0,5,3,14,663,5,2,5,10,9,5,9,8,9,11,7,6,3,6,6,8,6,11,10,6,38,64,43,52,66,49,48,34,32,26,25,18,13,13,0,2,3,5,34,null,null,88,46,98,278,134,86,40,118,292,127,41,40,29,41,39,42,47,60,68,38,29,36,39,29,20,17,13,16,31,42,28,41,38,64,43,52,66,49,48,34,32,26,25,18,13,13]
["040507","AREQUIPA","AREQUIPA","CAYLLOMA","HUAMBO",771,382,6,4,3,2,5,4,4,4,1,4,6,4,4,2,4,2,8,8,5,2,22,31,30,21,23,26,26,22,21,20,11,20,12,15,0,1,5,8,389,3,2,3,4,2,3,4,4,1,1,7,5,4,4,7,8,9,9,5,3,27,24,20,20,27,16,27,31,15,39,20,8,15,12,0,1,2,3,16,null,null,47,28,60,148,99,39,41,59,141,109,20,17,20,25,22,31,30,21,23,26,26,22,21,20,11,20,12,15,14,13,27,34,27,24,20,20,27,16,27,31,15,39,20,8,15,12]
["040508","AREQUIPA","AREQUIPA","CAYLLOMA","HUANCA",1180,584,7,5,6,6,1,6,1,3,2,3,4,4,7,5,4,3,7,9,4,5,31,38,36,42,55,55,49,39,43,31,27,16,16,14,0,5,2,13,596,9,6,6,2,2,6,5,3,5,7,5,4,3,7,5,4,7,7,7,10,33,37,34,38,38,44,44,41,41,37,29,26,18,26,1,6,3,17,38,null,null,48,35,78,276,147,60,33,87,239,177,25,15,24,28,31,38,36,42,55,55,49,39,43,31,27,16,16,14,25,26,24,35,33,37,34,38,38,44,44,41,41,37,29,26,18,26]
["040509","AREQUIPA","AREQUIPA","CAYLLOMA","ICHUPAMPA",760,375,6,5,4,6,3,5,1,2,4,6,6,6,6,4,4,4,7,6,2,4,19,29,38,24,25,25,23,24,19,19,18,7,8,6,0,2,4,9,385,5,7,3,8,0,2,6,6,6,1,3,6,7,3,7,3,3,6,1,6,26,31,32,33,25,25,21,21,19,22,12,14,7,8,0,0,5,11,29,null,null,54,31,54,159,77,53,29,64,157,82,24,18,26,23,19,29,38,24,25,25,23,24,19,19,18,7,8,6,23,21,26,19,26,31,32,33,25,25,21,21,19,22,12,14,7,8]
["040510","AREQUIPA","AREQUIPA","CAYLLOMA","LARI",1062,527,9,8,8,8,5,5,5,5,5,8,7,6,6,12,7,7,8,7,9,12,39,50,52,30,36,37,28,22,27,23,9,9,11,7,0,2,7,15,535,7,9,4,7,6,3,6,8,1,6,10,10,6,11,8,10,10,8,10,8,44,44,39,27,35,35,34,36,21,20,14,13,15,10,0,4,3,11,31,null,null,79,47,110,205,86,77,53,106,206,93,38,28,38,43,39,50,52,30,36,37,28,22,27,23,9,9,11,7,33,24,45,46,44,44,39,27,35,35,34,36,21,20,14,13,15,10]
["040511","AREQUIPA","AREQUIPA","CAYLLOMA","LLUTA",943,469,10,12,4,5,5,2,1,1,4,3,2,7,4,9,7,3,5,8,3,5,21,22,34,36,39,41,33,35,25,24,21,15,13,10,0,5,5,14,474,10,10,3,3,2,3,2,5,7,2,5,7,8,7,3,12,5,8,12,2,27,25,25,29,29,32,32,32,27,17,25,24,15,19,1,8,2,12,43,null,null,56,36,51,218,108,59,43,66,179,127,36,11,29,24,21,22,34,36,39,41,33,35,25,24,21,15,13,10,28,19,30,39,27,25,25,29,29,32,32,32,27,17,25,24,15,19]
["040512","AREQUIPA","AREQUIPA","CAYLLOMA","MACA",841,414,4,4,1,0,4,0,1,5,5,3,2,5,3,3,7,6,5,7,1,10,30,33,27,35,34,35,33,22,19,17,14,19,6,14,0,0,4,8,427,1,0,6,3,2,3,4,5,4,3,4,1,4,3,1,5,4,6,5,4,26,28,22,37,35,34,25,31,21,31,19,25,13,12,0,1,0,1,19,null,null,34,31,74,186,89,36,23,63,184,121,13,14,20,29,30,33,27,35,34,35,33,22,19,17,14,19,6,14,12,19,13,24,26,28,22,37,35,34,25,31,21,31,19,25,13,12]
["040513","AREQUIPA","AREQUIPA","CAYLLOMA","MADRIGAL",770,375,3,3,2,0,4,2,2,3,3,1,5,0,5,2,2,1,8,2,3,2,26,24,28,34,25,34,25,20,25,23,18,18,12,10,0,2,1,3,395,3,2,2,2,2,1,2,2,2,4,2,2,5,6,5,6,4,8,4,6,26,25,19,24,24,28,22,27,32,28,20,17,12,21,0,3,0,4,12,null,null,28,20,55,166,106,26,34,61,144,130,12,11,14,16,26,24,28,34,25,34,25,20,25,23,18,18,12,10,11,11,20,28,26,25,19,24,24,28,22,27,32,28,20,17,12,21]
["040514","AREQUIPA","AREQUIPA","CAYLLOMA","SAN ANTONIO DE CHUCA",1003,501,8,4,6,6,7,4,9,11,7,8,9,7,8,9,9,7,10,13,8,8,33,33,29,28,42,31,33,34,27,18,18,10,4,3,0,4,4,15,502,6,6,6,4,5,3,6,5,7,7,12,11,4,5,6,8,11,11,10,5,35,37,31,47,30,35,30,31,25,19,19,10,8,7,0,5,1,12,24,null,null,86,56,82,197,80,78,45,87,204,88,31,39,42,46,33,33,29,28,42,31,33,34,27,18,18,10,4,3,27,28,38,45,35,37,31,47,30,35,30,31,25,19,19,10,8,7]
["040515","AREQUIPA","AREQUIPA","CAYLLOMA","SIBAYO",883,432,5,3,0,6,3,3,3,5,1,5,3,9,5,6,8,9,6,9,6,6,36,33,38,33,33,41,26,19,23,15,15,5,9,5,2,5,0,8,451,8,7,3,4,4,3,1,7,5,7,5,4,5,5,1,8,9,5,5,5,38,41,35,33,35,35,20,29,22,18,12,20,3,9,0,2,6,10,17,null,null,46,43,81,190,72,58,33,89,187,84,17,17,31,36,36,33,38,33,33,41,26,19,23,15,15,5,9,5,26,23,20,32,38,41,35,33,35,35,20,29,22,18,12,20,3,9]
["040516","AREQUIPA","AREQUIPA","CAYLLOMA","TAPAY",917,456,4,5,6,2,6,1,5,8,4,4,1,4,4,4,8,4,4,4,4,4,30,38,32,42,42,34,31,27,27,27,17,11,8,4,0,0,4,14,461,4,1,3,6,3,2,5,1,6,4,3,5,6,4,9,6,9,6,6,6,20,33,34,42,32,30,20,27,28,25,24,16,19,16,0,3,1,15,32,null,null,50,28,76,208,94,43,40,65,185,128,23,22,21,20,30,38,32,42,42,34,31,27,27,27,17,11,8,4,17,18,27,33,20,33,34,42,32,30,20,27,28,25,24,16,19,16]
["040517","AREQUIPA","AREQUIPA","CAYLLOMA","TISCO",1782,883,7,6,6,7,6,11,9,11,9,9,6,15,20,9,19,12,19,19,16,12,73,62,69,58,70,68,58,57,39,32,21,30,9,9,0,0,7,10,899,5,7,7,5,10,5,14,9,12,11,11,9,14,16,14,20,9,18,19,11,85,76,51,55,57,54,58,60,50,35,31,27,19,15,0,3,2,7,34,null,null,102,98,163,380,140,105,91,191,335,177,32,49,69,78,73,62,69,58,70,68,58,57,39,32,21,30,9,9,34,51,64,77,85,76,51,55,57,54,58,60,50,35,31,27,19,15]
["040518","AREQUIPA","AREQUIPA","CAYLLOMA","TUTI",818,402,5,4,2,3,3,4,8,9,3,3,5,5,5,5,5,3,12,9,8,13,32,29,27,36,29,31,23,23,14,9,15,9,6,5,0,2,3,8,416,5,5,4,7,2,3,6,4,3,6,7,7,6,1,4,7,7,3,7,6,35,34,35,29,35,23,19,18,21,18,21,15,6,7,0,2,3,7,21,null,null,54,39,82,169,58,59,28,82,159,88,17,27,25,45,32,29,27,36,29,31,23,23,14,9,15,9,6,5,23,22,25,30,35,34,35,29,35,23,19,18,21,18,21,15,6,7]
["040519","AREQUIPA","AREQUIPA","CAYLLOMA","YANQUE",2607,1289,14,14,11,16,8,11,16,14,12,12,17,14,20,14,9,15,19,23,23,25,100,123,116,98,93,89,71,60,70,56,46,32,14,14,1,8,6,17,{"v":1318,"d":"1,318"},16,11,14,23,16,12,17,18,13,18,18,13,19,19,18,12,15,22,18,18,100,116,111,100,100,94,72,71,49,49,50,21,28,27,0,10,6,21,80,null,null,159,100,271,527,232,189,105,252,548,224,63,65,74,105,100,123,116,98,93,89,71,60,70,56,46,32,14,14,80,78,87,85,100,116,111,100,100,94,72,71,49,49,50,21,28,27]
["040520","AREQUIPA","AREQUIPA","CAYLLOMA","MAJES",76440,37695,547,589,607,642,661,651,667,724,600,614,578,637,639,640,596,537,626,620,590,584,{"v":2807,"d":"2,807"},{"v":3193,"d":"3,193"},{"v":3214,"d":"3,214"},{"v":3252,"d":"3,252"},{"v":2928,"d":"2,928"},{"v":2631,"d":"2,631"},{"v":2036,"d":"2,036"},{"v":1597,"d":"1,597"},{"v":1213,"d":"1,213"},956,687,463,229,140,38,279,268,834,{"v":38745,"d":"38,745"},515,593,612,669,665,641,659,708,641,635,619,624,616,611,615,516,621,596,597,548,{"v":2786,"d":"2,786"},{"v":3452,"d":"3,452"},{"v":3560,"d":"3,560"},{"v":3484,"d":"3,484"},{"v":3030,"d":"3,030"},{"v":2669,"d":"2,669"},{"v":2157,"d":"2,157"},{"v":1758,"d":"1,758"},{"v":1294,"d":"1,294"},882,611,373,199,189,38,267,248,809,{"v":2090,"d":"2,090"},null,null,{"v":7517,"d":"7,517"},{"v":3658,"d":"3,658"},{"v":7174,"d":"7,174"},{"v":15658,"d":"15,658"},{"v":3688,"d":"3,688"},{"v":7581,"d":"7,581"},{"v":3575,"d":"3,575"},{"v":7383,"d":"7,383"},{"v":16658,"d":"16,658"},{"v":3548,"d":"3,548"},{"v":3046,"d":"3,046"},{"v":3256,"d":"3,256"},{"v":3090,"d":"3,090"},{"v":2957,"d":"2,957"},{"v":2807,"d":"2,807"},{"v":3193,"d":"3,193"},{"v":3214,"d":"3,214"},{"v":3252,"d":"3,252"},{"v":2928,"d":"2,928"},{"v":2631,"d":"2,631"},{"v":2036,"d":"2,036"},{"v":1597,"d":"1,597"},{"v":1213,"d":"1,213"},956,687,463,229,140,{"v":3054,"d":"3,054"},{"v":3284,"d":"3,284"},{"v":3085,"d":"3,085"},{"v":2878,"d":"2,878"},{"v":2786,"d":"2,786"},{"v":3452,"d":"3,452"},{"v":3560,"d":"3,560"},{"v":3484,"d":"3,484"},{"v":3030,"d":"3,030"},{"v":2669,"d":"2,669"},{"v":2157,"d":"2,157"},{"v":1758,"d":"1,758"},{"v":1294,"d":"1,294"},882,611,373,199,189]
["040601","AREQUIPA","AREQUIPA","CONDESUYOS","CHUQUIBAMBA",3282,1604,15,15,18,23,22,35,26,28,30,26,23,28,34,25,30,44,30,26,37,26,117,117,105,90,104,95,74,70,57,71,62,40,33,28,1,6,9,23,{"v":1678,"d":"1,678"},23,17,18,19,20,22,20,23,25,33,31,29,31,26,34,26,28,35,21,22,136,133,106,87,105,98,89,89,72,49,63,44,40,64,1,8,15,30,61,null,null,289,189,297,538,291,280,180,312,574,332,93,145,140,163,117,117,105,90,104,95,74,70,57,71,62,40,33,28,97,123,151,132,136,133,106,87,105,98,89,89,72,49,63,44,40,64]
["040602","AREQUIPA","AREQUIPA","CONDESUYOS","ANDARAY",668,333,5,4,3,2,1,1,2,0,2,3,3,4,3,2,1,4,4,6,2,5,18,29,24,32,18,25,23,20,18,20,17,9,11,12,0,1,4,8,335,3,2,0,2,3,1,3,2,4,5,3,2,2,5,2,4,1,4,3,5,17,33,18,28,19,28,19,17,26,11,24,12,8,19,0,3,0,3,8,null,null,30,20,54,142,87,30,18,58,129,100,15,8,13,21,18,29,24,32,18,25,23,20,18,20,17,9,11,12,10,15,14,17,17,33,18,28,19,28,19,17,26,11,24,12,8,19]
["040603","AREQUIPA","AREQUIPA","CONDESUYOS","CAYARANI",3168,1577,16,20,25,24,14,15,28,23,29,22,28,24,29,33,29,38,43,29,32,29,149,147,140,103,88,104,66,92,54,41,29,10,10,14,0,12,4,36,{"v":1591,"d":"1,591"},20,11,19,10,24,32,24,30,26,32,28,35,24,39,30,44,33,41,35,39,167,130,103,106,90,84,68,74,51,51,25,24,22,20,3,9,11,40,76,null,null,268,201,357,593,158,291,211,371,525,193,99,117,143,171,149,147,140,103,88,104,66,92,54,41,29,10,10,14,84,144,156,192,167,130,103,106,90,84,68,74,51,51,25,24,22,20]
["040604","AREQUIPA","AREQUIPA","CONDESUYOS","CHICHAS",677,339,5,6,3,2,1,4,2,2,5,2,5,5,2,5,2,3,5,5,5,3,15,19,23,14,19,22,36,28,22,18,11,13,13,14,0,2,3,7,338,3,1,2,1,0,2,5,4,1,4,4,4,6,4,4,5,4,7,1,5,15,17,15,21,13,23,19,23,15,27,15,22,15,31,0,1,2,6,15,null,null,42,22,42,142,91,31,30,38,114,125,17,15,19,21,15,19,23,14,19,22,36,28,22,18,11,13,13,14,7,16,22,22,15,17,15,21,13,23,19,23,15,27,15,22,15,31]
["040605","AREQUIPA","AREQUIPA","CONDESUYOS","IRAY",636,311,5,2,4,5,5,2,3,4,3,1,4,4,5,6,2,2,5,4,4,2,19,25,16,19,18,13,26,19,20,22,12,10,8,12,0,0,5,8,325,4,3,5,1,1,0,5,2,5,4,4,5,4,4,2,2,5,8,2,1,18,16,22,12,20,24,23,22,19,13,12,18,16,23,0,1,3,7,17,null,null,42,24,50,111,84,39,25,37,123,101,21,13,21,17,19,25,16,19,18,13,26,19,20,22,12,10,8,12,14,16,19,18,18,16,22,12,20,24,23,22,19,13,12,18,16,23]
["040606","AREQUIPA","AREQUIPA","CONDESUYOS","RIO GRANDE",3571,1757,23,24,17,24,26,38,23,29,18,20,28,22,14,23,20,33,41,27,19,15,120,126,116,134,150,131,98,127,89,60,46,34,28,14,1,15,8,39,{"v":1814,"d":"1,814"},26,26,16,24,30,32,31,26,27,22,15,21,31,22,29,19,35,36,15,29,100,147,120,163,123,132,133,87,75,73,45,36,26,42,3,14,12,28,114,null,null,292,158,280,756,271,296,172,291,758,297,114,128,107,135,120,126,116,134,150,131,98,127,89,60,46,34,28,14,122,138,118,134,100,147,120,163,123,132,133,87,75,73,45,36,26,42]
["040607","AREQUIPA","AREQUIPA","CONDESUYOS","SALAMANCA",407,203,3,3,1,3,2,3,2,1,4,2,2,4,2,0,6,3,2,3,3,3,13,13,9,14,13,16,13,15,8,11,8,7,5,6,0,2,1,5,204,4,3,3,0,2,3,2,2,1,2,2,2,2,2,2,1,4,4,2,1,13,9,13,9,9,9,14,13,13,11,11,13,14,9,1,1,3,4,13,null,null,30,16,32,80,45,26,15,25,67,71,12,12,14,14,13,13,9,14,13,16,13,15,8,11,8,7,5,6,12,10,10,12,13,9,13,9,9,9,14,13,13,11,11,13,14,9]
["040608","AREQUIPA","AREQUIPA","CONDESUYOS","YANAQUIHUA",3887,1920,32,37,24,26,20,19,10,16,17,26,24,28,26,24,21,25,34,31,25,17,108,177,162,173,155,164,140,104,77,63,43,21,25,26,1,13,19,45,{"v":1967,"d":"1,967"},24,33,22,21,14,14,27,17,26,27,28,31,23,15,27,34,28,48,39,25,137,166,118,145,158,118,99,111,91,79,49,56,50,67,3,9,15,33,105,null,null,279,161,327,898,255,284,175,367,749,392,139,88,123,132,108,177,162,173,155,164,140,104,77,63,43,21,25,26,114,111,124,174,137,166,118,145,158,118,99,111,91,79,49,56,50,67]
["040701","AREQUIPA","AREQUIPA","ISLAY","MOLLENDO",26815,13225,134,145,168,171,193,197,200,208,185,203,190,191,189,194,182,188,182,177,192,182,883,{"v":1015,"d":"1,015"},972,942,959,963,842,742,610,510,409,300,236,171,9,68,66,208,{"v":13590,"d":"13,590"},128,146,146,137,186,148,181,223,205,197,180,187,207,191,209,181,218,199,189,193,{"v":1013,"d":"1,013"},{"v":1024,"d":"1,024"},954,933,992,970,848,740,653,559,453,353,228,219,10,63,65,198,577,null,null,{"v":2185,"d":"2,185"},{"v":1112,"d":"1,112"},{"v":2272,"d":"2,272"},{"v":5420,"d":"5,420"},{"v":2236,"d":"2,236"},{"v":2064,"d":"2,064"},{"v":1205,"d":"1,205"},{"v":2419,"d":"2,419"},{"v":5437,"d":"5,437"},{"v":2465,"d":"2,465"},811,993,946,921,883,{"v":1015,"d":"1,015"},972,942,959,963,842,742,610,510,409,300,236,171,743,954,974,980,{"v":1013,"d":"1,013"},{"v":1024,"d":"1,024"},954,933,992,970,848,740,653,559,453,353,228,219]
["040702","AREQUIPA","AREQUIPA","ISLAY","COCACHACRA",8517,4217,51,41,47,52,56,59,44,48,65,48,36,52,54,54,58,62,41,53,54,61,270,336,365,362,312,288,265,275,194,195,119,86,66,48,5,26,25,66,{"v":4300,"d":"4,300"},53,54,47,45,58,48,51,64,68,50,58,48,44,64,54,57,59,61,56,59,296,347,329,349,326,305,304,274,207,162,103,79,48,73,4,19,34,81,272,null,null,599,322,721,{"v":1867,"d":"1,867"},708,644,339,758,{"v":1887,"d":"1,887"},672,247,264,254,271,270,336,365,362,312,288,265,275,194,195,119,86,66,48,257,281,268,292,296,347,329,349,326,305,304,274,207,162,103,79,48,73]
["040703","AREQUIPA","AREQUIPA","ISLAY","DEAN VALDIVIA",7376,3620,41,38,53,43,44,59,54,46,48,50,56,49,57,48,44,53,64,52,44,48,268,304,320,308,254,257,195,190,150,138,88,65,43,49,2,24,17,61,{"v":3756,"d":"3,756"},53,63,48,55,43,45,60,60,46,53,43,45,64,44,51,59,60,46,58,55,294,344,347,255,300,223,222,191,159,113,88,61,52,56,2,21,32,93,199,null,null,581,318,664,{"v":1524,"d":"1,524"},533,614,324,751,{"v":1538,"d":"1,538"},529,219,257,254,261,268,304,320,308,254,257,195,190,150,138,88,65,43,49,262,264,247,278,294,344,347,255,300,223,222,191,159,113,88,61,52,56]
["040704","AREQUIPA","AREQUIPA","ISLAY","ISLAY",5261,2607,46,45,44,55,36,51,47,38,35,42,46,41,49,42,30,38,49,45,40,35,168,204,205,221,203,197,164,121,90,77,56,26,8,13,3,25,21,60,{"v":2654,"d":"2,654"},37,40,37,39,44,43,50,48,48,53,37,49,37,41,31,41,52,51,50,43,205,238,221,208,191,187,149,126,82,70,44,40,10,12,2,11,26,55,188,null,null,526,253,447,{"v":1111,"d":"1,111"},270,525,253,536,{"v":1082,"d":"1,082"},258,226,213,208,207,168,204,205,221,203,197,164,121,90,77,56,26,8,13,197,242,195,237,205,238,221,208,191,187,149,126,82,70,44,40,10,12]
["040705","AREQUIPA","AREQUIPA","ISLAY","MEJIA",1332,658,6,7,8,7,6,13,7,7,6,10,7,8,7,7,7,6,9,5,7,9,37,44,47,46,53,44,49,45,46,28,32,21,7,10,0,0,6,13,674,9,11,8,9,6,7,6,7,7,5,11,6,4,7,7,1,2,6,7,7,52,51,48,61,57,42,46,51,48,25,19,11,18,12,1,6,3,15,37,null,null,92,41,97,284,144,92,27,117,305,133,34,43,36,36,37,44,47,46,53,44,49,45,46,28,32,21,7,10,43,32,35,23,52,51,48,61,57,42,46,51,48,25,19,11,18,12]
["040706","AREQUIPA","AREQUIPA","ISLAY","PUNTA DE BOMBON",6646,3289,41,44,38,45,33,54,39,41,37,41,39,53,47,39,39,45,46,56,42,44,225,269,244,264,238,225,195,183,167,153,104,73,36,50,2,15,26,63,{"v":3357,"d":"3,357"},43,44,38,59,47,37,45,40,51,33,42,63,44,45,39,60,46,46,49,44,233,266,255,269,227,208,214,183,169,138,92,70,50,68,4,20,23,62,161,null,null,505,272,580,{"v":1349,"d":"1,349"},583,542,280,592,{"v":1356,"d":"1,356"},587,201,212,217,233,225,269,244,264,238,225,195,183,167,153,104,73,36,50,231,206,233,245,233,266,255,269,227,208,214,183,169,138,92,70,50,68]
["040801","AREQUIPA","AREQUIPA","LA UNION","COTAHUASI",2919,1446,22,23,31,23,30,31,18,18,21,22,23,33,29,25,29,25,26,28,30,28,111,97,86,91,74,81,74,74,60,50,39,35,26,33,2,10,12,47,{"v":1473,"d":"1,473"},18,18,23,27,24,20,27,26,22,21,33,22,32,28,21,26,42,27,36,28,117,97,68,85,102,85,70,66,61,41,41,32,35,52,0,8,10,41,103,null,null,295,162,266,480,243,281,176,278,476,262,129,110,139,137,111,97,86,91,74,81,74,74,60,50,39,35,26,33,110,116,136,159,117,97,68,85,102,85,70,66,61,41,41,32,35,52]
["040802","AREQUIPA","AREQUIPA","LA UNION","ALCA",1752,862,18,13,10,18,12,11,17,15,20,14,10,11,15,11,15,16,13,18,17,17,75,57,59,48,49,47,45,47,46,25,25,20,11,17,0,10,8,18,890,14,16,22,10,14,7,10,19,17,19,17,18,11,12,17,18,20,22,23,15,75,59,47,43,36,49,49,47,30,38,19,31,25,21,1,8,6,23,61,null,null,169,88,166,295,144,183,100,172,271,164,71,77,62,81,75,57,59,48,49,47,45,47,46,25,25,20,11,17,76,72,75,98,75,59,47,43,36,49,49,47,30,38,19,31,25,21]
["040803","AREQUIPA","AREQUIPA","LA UNION","CHARCANA",614,302,6,3,5,7,5,3,4,11,5,9,4,4,5,3,2,5,6,6,2,2,22,28,19,18,18,21,15,15,4,15,7,12,6,5,1,4,2,9,312,6,5,3,3,0,2,9,3,3,5,6,9,9,6,8,6,5,8,9,2,18,17,17,18,16,20,17,17,16,9,15,10,6,9,0,5,1,9,19,null,null,66,27,54,106,49,54,42,46,105,65,26,32,18,21,22,28,19,18,18,21,15,15,4,15,7,12,6,5,17,22,38,30,18,17,17,18,16,20,17,17,16,9,15,10,6,9]
["040804","AREQUIPA","AREQUIPA","LA UNION","HUAYNACOTAS",1898,943,18,14,23,17,9,8,20,13,16,19,19,17,18,21,18,21,18,23,15,15,80,79,52,53,66,45,54,45,33,31,22,17,11,13,1,10,8,35,955,18,15,18,18,12,18,19,19,20,14,14,22,16,16,16,17,22,18,20,16,93,61,46,42,46,69,49,51,29,33,24,20,18,26,0,7,11,39,103,null,null,193,119,189,315,127,207,105,190,303,150,81,76,93,92,80,79,52,53,66,45,54,45,33,31,22,17,11,13,81,90,84,93,93,61,46,42,46,69,49,51,29,33,24,20,18,26]
["040805","AREQUIPA","AREQUIPA","LA UNION","PAMPAMARCA",1158,580,55,16,6,7,2,9,5,5,6,8,9,6,11,5,7,11,10,16,15,8,50,33,43,34,40,31,27,22,20,20,15,14,7,7,2,31,24,55,578,36,20,1,7,9,3,5,10,8,15,9,12,15,10,15,12,10,12,13,9,45,24,30,32,30,30,25,25,20,33,17,13,9,14,0,27,9,36,33,null,null,134,60,106,197,83,135,74,91,172,106,86,33,38,60,50,33,43,34,40,31,27,22,20,20,15,14,7,7,73,41,61,56,45,24,30,32,30,30,25,25,20,33,17,13,9,14]
["040806","AREQUIPA","AREQUIPA","LA UNION","PUYCA",2379,1183,19,18,21,11,16,18,18,33,27,24,33,27,23,35,30,34,29,28,21,23,102,78,74,59,70,66,63,50,37,34,29,18,11,4,0,10,9,32,{"v":1196,"d":"1,196"},15,19,25,19,22,15,25,23,26,33,25,31,32,31,24,35,30,31,27,18,100,65,74,57,61,50,56,55,51,34,29,24,18,16,1,14,1,28,130,null,null,265,179,224,382,133,278,183,210,353,172,85,120,148,135,102,78,74,59,70,66,63,50,37,34,29,18,11,4,100,122,143,141,100,65,74,57,61,50,56,55,51,34,29,24,18,16]
["040807","AREQUIPA","AREQUIPA","LA UNION","QUECHUALLA",334,167,1,0,0,1,0,2,1,1,1,1,0,0,0,1,0,1,1,1,1,1,5,7,19,16,13,14,11,13,19,13,8,7,4,4,0,1,0,1,167,2,1,0,0,3,2,1,1,3,3,1,1,1,1,0,1,1,1,3,1,3,17,19,13,9,11,9,15,9,12,5,5,5,8,1,2,0,4,14,null,null,8,4,14,86,55,18,5,24,76,44,2,6,1,5,5,7,19,16,13,14,11,13,19,13,8,7,4,4,6,10,4,7,3,17,19,13,9,11,9,15,9,12,5,5,5,8]
["040808","AREQUIPA","AREQUIPA","LA UNION","SAYLA",296,153,3,2,4,1,0,1,1,1,2,2,3,2,3,1,0,1,1,5,3,3,15,11,10,9,11,10,8,8,6,8,4,3,5,6,0,2,1,6,143,6,2,0,1,0,3,1,3,1,1,1,1,4,3,3,3,7,4,3,3,4,9,9,9,6,9,4,9,4,9,7,4,1,9,1,2,4,12,14,null,null,22,11,32,56,32,20,24,19,46,34,10,7,9,13,15,11,10,9,11,10,8,8,6,8,4,3,5,6,9,9,12,20,4,9,9,9,6,9,4,9,4,9,7,4,1,9]
["040809","AREQUIPA","AREQUIPA","LA UNION","TAURIA",393,200,5,7,1,5,5,3,2,0,6,0,2,1,0,2,0,2,6,2,2,2,17,17,16,20,15,7,6,11,9,6,9,4,6,4,0,0,5,9,193,2,3,2,5,5,4,4,3,3,3,4,3,7,1,4,3,4,7,1,6,7,6,15,12,12,7,3,7,9,3,7,12,7,12,0,2,0,3,17,null,null,37,12,38,75,38,41,26,20,56,50,23,11,5,14,17,17,16,20,15,7,6,11,9,6,9,4,6,4,17,17,19,21,7,6,15,12,12,7,3,7,9,3,7,12,7,12]
["040810","AREQUIPA","AREQUIPA","LA UNION","TOMEPAMPA",639,314,3,4,1,3,4,2,5,2,7,2,5,5,2,6,7,6,9,5,4,3,25,15,23,16,19,23,24,19,21,14,10,10,3,7,0,3,0,5,325,3,3,4,4,3,2,5,2,4,5,4,5,5,7,5,2,5,9,5,5,22,24,22,15,21,19,24,10,13,19,11,12,14,12,0,3,0,3,13,null,null,43,35,47,124,65,44,33,56,111,81,15,18,25,27,25,15,23,16,19,23,24,19,21,14,10,10,3,7,17,18,26,26,22,24,22,15,21,19,24,10,13,19,11,12,14,12]
["040811","AREQUIPA","AREQUIPA","LA UNION","TORO",504,249,5,0,2,3,1,2,3,2,2,3,1,3,4,1,3,3,1,5,3,4,11,24,15,12,13,17,20,26,14,10,7,7,10,12,0,3,2,6,255,2,1,3,3,0,1,1,1,1,4,5,2,1,2,4,1,5,5,2,4,18,11,8,16,13,23,20,12,14,10,11,14,17,20,1,2,0,2,11,null,null,27,17,42,103,60,24,18,35,92,86,11,12,12,16,11,24,15,12,13,17,20,26,14,10,7,7,10,12,9,8,14,17,18,11,8,16,13,23,20,12,14,10,11,14,17,20]
[]
["NOTA: LA POBLACION ESTIMADA DE EDADES  SIMPLES Y GRUPOS DE EDAD DE DISTRITOS, CORRESPONDEN A CIFRAS REFERENCIALES HASTA OBTENER LAS CIFRAS DE LAS PROYECCIONES DEL INEI"]
["FUENTE: CENSO NACIONAL XI DE POBLACION Y VI DE VIVIENDA 2017/- BOLETIN DEMOGRAFICO Nº 26,37, 39 / RENIEC / Padrón Nominal/ CNV"]
["La población de 0-5 años corresponden al reporte de la poblacion del Padrón Nominal con corte al 31/12/2023 con ajuste en el grupo de edad de 0 años"]
["OFICINA DE GESTION DE LA INFORMACION - MINISTERIO DE SALUD"]

{"sheet":"PIRAMIDE","index":6,"n_rows":43,"n_cols":8,"rows_kept":43}
[null,"PIRAMIDE POBLACIONAL 2024"]
{"$rows_empty":14}
[null," GRUPOS DE EDAD"]
[null,null,"Hombre","Mujer","Total general",null,"Hombre (%)","Mujer (%)"]
[null,"00-04",{"v":48592,"d":"48,592"},{"v":46811,"d":"46,811"},{"v":95403,"d":"95,403"},null,{"$f":"C18/$E$36","v":{"v":0.030482575963354665,"d":"3.0%"}},{"$f":"D18/$E$36*-1","v":{"v":-0.029365324815208167,"d":"2.9%"}}]
[null,"05-09",{"v":64426,"d":"64,426"},{"v":64966,"d":"64,966"},{"v":129392,"d":"129,392"},null,{"$f":"C19/$E$36","v":{"v":0.040415509528627915,"d":"4.0%"}},{"$f":"D19/$E$36*-1","v":{"v":-0.04075426057859934,"d":"4.1%"}}]
[null,"10-14",{"v":63483,"d":"63,483"},{"v":63041,"d":"63,041"},{"v":126524,"d":"126,524"},null,{"v":0.03982394982469633,"d":"4.0%"},{"v":-0.039546675817127126,"d":"4.0%"}]
[null,"15-19",{"v":58900,"d":"58,900"},{"v":59690,"d":"59,690"},{"v":118590,"d":"118,590"},null,{"v":0.036948957117253656,"d":"3.7%"},{"v":-0.03744453735702667,"d":"3.7%"}]
[null,"20-24",{"v":60892,"d":"60,892"},{"v":60956,"d":"60,956"},{"v":121848,"d":"121,848"},null,{"v":0.03819857210159269,"d":"3.8%"},{"v":-0.0382387203741819,"d":"3.8%"}]
[null,"25-29",{"v":68808,"d":"68,808"},{"v":69634,"d":"69,634"},{"v":138442,"d":"138,442"},null,{"v":0.04316441156747011,"d":"4.3%"},{"v":-0.04368257521057455,"d":"4.4%"}]
[null,"30-34",{"v":68490,"d":"68,490"},{"v":69356,"d":"69,356"},{"v":137846,"d":"137,846"},null,{"v":0.0429649248380425,"d":"4.3%"},{"v":-0.04350818115151519,"d":"4.4%"}]
[null,"35-39",{"v":63491,"d":"63,491"},{"v":64117,"d":"64,117"},{"v":127608,"d":"127,608"},null,{"v":0.039828968358769985,"d":"4.0%"},{"v":-0.040221668650033154,"d":"4.0%"}]
[null,"40-44",{"v":58540,"d":"58,540"},{"v":59715,"d":"59,715"},{"v":118255,"d":"118,255"},null,{"v":0.03672312308393937,"d":"3.7%"},{"v":-0.03746022027600683,"d":"3.7%"}]
[null,"45-49",{"v":52211,"d":"52,211"},{"v":54913,"d":"54,913"},{"v":107124,"d":"107,124"},null,{"v":0.03275283531492242,"d":"3.3%"},{"v":-0.034447845198297966,"d":"3.4%"}]
[null,"50-54",{"v":43438,"d":"43,438"},{"v":46364,"d":"46,364"},{"v":89802,"d":"89,802"},null,{"v":0.02724938538640517,"d":"2.7%"},{"v":-0.02908491422384293,"d":"2.9%"}]
[null,"55-59",{"v":36326,"d":"36,326"},{"v":39883,"d":"39,883"},{"v":76209,"d":"76,209"},null,{"v":0.02278790859492965,"d":"2.3%"},{"v":-0.025019274307426616,"d":"2.5%"}]
[null,"60-64",{"v":29311,"d":"29,311"},{"v":31885,"d":"31,885"},{"v":61196,"d":"61,196"},null,{"v":0.018387281529097146,"d":"1.8%"},{"v":-0.020001994867294277,"d":"2.0%"}]
[null,"65-69",{"v":23449,"d":"23,449"},{"v":26132,"d":"26,132"},{"v":49581,"d":"49,581"},null,{"v":0.014709950686629558,"d":"1.5%"},{"v":-0.016393041551580178,"d":"1.6%"}]
[null,"70-74",{"v":17254,"d":"17,254"},{"v":18981,"d":"18,981"},{"v":36235,"d":"36,235"},null,{"v":0.010823723363346258,"d":"1.1%"},{"v":-0.011907099406495614,"d":"1.2%"}]
[null,"75-79",{"v":12239,"d":"12,239"},{"v":13811,"d":"13,811"},{"v":26050,"d":"26,050"},null,{"v":0.007677729815926443,"d":"0.8%"},{"v":-0.008663871761398816,"d":"0.9%"}]
[null,"80-84",{"v":7844,"d":"7,844"},{"v":9116,"d":"9,116"},{"v":16960,"d":"16,960"},null,{"v":4.9206726592145615E-3,"d":"0.5%"},{"v":-5.7186195769250315E-3,"d":"0.6%"}]
[null,"85-+",{"v":7138,"d":"7,138"},{"v":9888,"d":"9,888"},{"v":17026,"d":"17,026"},null,{"v":0.004477787027214883,"d":"0.4%"},{"v":-0.006202908115032329,"d":"0.6%"}]
[null,"Total general",{"v":784832,"d":"784,832"},{"v":809259,"d":"809,259"},{"v":1594091,"d":"1,594,091"},null,{"$f":"SUM(G18:G35)","v":{"v":0.4923382667614333,"d":"49.23%"}},{"$f":"ABS(SUM(H18:H35))","v":{"v":0.5076617332385667,"d":"50.77%"}}]
[null,"Fuente: OGEI/OGTI-Minsa"]
[null,"* Actualizado con datos INEI"]
[]
[]
[]
[null,"FUENTE: CENSO NACIONAL XI DE POBLACION Y VI DE VIVIENDA 2017/- BOLETIN DEMOGRAFICO Nº 26,37, 39 / RENIEC / Padrón Nominal/ CNV"]
[null,"La población de 0-5 años corresponden al reporte de la poblacion del Padrón Nominal con corte al 31/12/2023 con ajuste en el grupo de edad de 0 años"]

{"sheet":"DATA","index":7,"n_rows":68077,"n_cols":9,"rows_kept":4500,"cut":true,"hidden":true,"bounds":{"rows_first":2000,"rows_last":500,"rows_between":2000,"halvings":0}}
[{"$f":"'Pob x Genero'!A7","v":"UBIGEO"},{"$f":"'Pob x Genero'!B7","v":"DIRESA"},{"$f":"'Pob x Genero'!C7","v":"DEPARTAMENTO"},{"$f":"'Pob x Genero'!D7","v":"PROVINCIA"},{"$f":"'Pob x Genero'!E7","v":"DISTRITO"},"SEXO","GRUPO DE EDAD","POBLACION","id"]
[{"$f":"'Pob x Genero'!#REF!","v":{"$error":"#REF!"}},{"$f":"'Pob x Genero'!#REF!","v":{"$error":"#REF!"}},{"$f":"'Pob x Genero'!#REF!","v":{"$error":"#REF!"}},{"$f":"'Pob x Genero'!#REF!","v":{"$error":"#REF!"}},{"$f":"'Pob x Genero'!#REF!","v":{"$error":"#REF!"}},"Hombre",{"$f":"'Pob x Genero'!CT7","v":"00-04"},{"$f":"'Pob x Genero'!#REF!","v":{"$error":"#REF!"}},1]
[{"$f":"'Pob x Genero'!#REF!","v":{"$error":"#REF!"}},{"$f":"'Pob x Genero'!#REF!","v":{"$error":"#REF!"}},{"$f":"'Pob x Genero'!#REF!","v":{"$error":"#REF!"}},{"$f":"'Pob x Genero'!#REF!","v":{"$error":"#REF!"}},{"$f":"'Pob x Genero'!#REF!","v":{"$error":"#REF!"}},{"$f":"F2","v":"Hombre"},{"$f":"G2","v":"00-04"},{"$f":"'Pob x Genero'!#REF!","v":{"$error":"#REF!"}},2]
[{"$f":"'Pob x Genero'!#REF!","v":{"$error":"#REF!"}},{"$f":"'Pob x Genero'!#REF!","v":{"$error":"#REF!"}},{"$f":"'Pob x Genero'!#REF!","v":{"$error":"#REF!"}},{"$f":"'Pob x Genero'!#REF!","v":{"$error":"#REF!"}},{"$f":"'Pob x Genero'!#REF!","v":{"$error":"#REF!"}},"Hombre","00-04",{"$f":"'Pob x Genero'!#REF!","v":{"$error":"#REF!"}},3]
[{"$f":"'Pob x Genero'!#REF!","v":{"$error":"#REF!"}},{"$f":"'Pob x Genero'!#REF!","v":{"$error":"#REF!"}},{"$f":"'Pob x Genero'!#REF!","v":{"$error":"#REF!"}},{"$f":"'Pob x Genero'!#REF!","v":{"$error":"#REF!"}},{"$f":"'Pob x Genero'!#REF!","v":{"$error":"#REF!"}},"Hombre","00-04",{"$f":"'Pob x Genero'!#REF!","v":{"$error":"#REF!"}},4]
[{"$f":"'Pob x Genero'!#REF!","v":{"$error":"#REF!"}},{"$f":"'Pob x Genero'!#REF!","v":{"$error":"#REF!"}},{"$f":"'Pob x Genero'!#REF!","v":{"$error":"#REF!"}},{"$f":"'Pob x Genero'!#REF!","v":{"$error":"#REF!"}},{"$f":"'Pob x Genero'!#REF!","v":{"$error":"#REF!"}},"Hombre","00-04",{"$f":"'Pob x Genero'!#REF!","v":{"$error":"#REF!"}},5]
[{"$f":"'Pob x Genero'!#REF!","v":{"$error":"#REF!"}},{"$f":"'Pob x Genero'!#REF!","v":{"$error":"#REF!"}},{"$f":"'Pob x Genero'!#REF!","v":{"$error":"#REF!"}},{"$f":"'Pob x Genero'!#REF!","v":{"$error":"#REF!"}},{"$f":"'Pob x Genero'!#REF!","v":{"$error":"#REF!"}},"Hombre","00-04",{"$f":"'Pob x Genero'!#REF!","v":{"$error":"#REF!"}},6]
[{"$f":"'Pob x Genero'!#REF!","v":{"$error":"#REF!"}},{"$f":"'Pob x Genero'!#REF!","v":{"$error":"#REF!"}},{"$f":"'Pob x Genero'!#REF!","v":{"$error":"#REF!"}},{"$f":"'Pob x Genero'!#REF!","v":{"$error":"#REF!"}},{"$f":"'Pob x Genero'!#REF!","v":{"$error":"#REF!"}},"Hombre","00-04",{"$f":"'Pob x Genero'!#REF!","v":{"$error":"#REF!"}},7]
[{"$f":"'Pob x Genero'!#REF!","v":{"$error":"#REF!"}},{"$f":"'Pob x Genero'!#REF!","v":{"$error":"#REF!"}},{"$f":"'Pob x Genero'!#REF!","v":{"$error":"#REF!"}},{"$f":"'Pob x Genero'!#REF!","v":{"$error":"#REF!"}},{"$f":"'Pob x Genero'!#REF!","v":{"$error":"#REF!"}},"Hombre","00-04",{"$f":"'Pob x Genero'!#REF!","v":{"$error":"#REF!"}},8]
[{"$f":"'Pob x Genero'!#REF!","v":{"$error":"#REF!"}},{"$f":"'Pob x Genero'!#REF!","v":{"$error":"#REF!"}},{"$f":"'Pob x Genero'!#REF!","v":{"$error":"#REF!"}},{"$f":"'Pob x Genero'!#REF!","v":{"$error":"#REF!"}},{"$f":"'Pob x Genero'!#REF!","v":{"$error":"#REF!"}},"Hombre","00-04",{"$f":"'Pob x Genero'!#REF!","v":{"$error":"#REF!"}},9]
[{"$f":"'Pob x Genero'!#REF!","v":{"$error":"#REF!"}},{"$f":"'Pob x Genero'!#REF!","v":{"$error":"#REF!"}},{"$f":"'Pob x Genero'!#REF!","v":{"$error":"#REF!"}},{"$f":"'Pob x Genero'!#REF!","v":{"$error":"#REF!"}},{"$f":"'Pob x Genero'!#REF!","v":{"$error":"#REF!"}},"Hombre","00-04",{"$f":"'Pob x Genero'!#REF!","v":{"$error":"#REF!"}},10]
[{"$f":"'Pob x Genero'!#REF!","v":{"$error":"#REF!"}},{"$f":"'Pob x Genero'!#REF!","v":{"$error":"#REF!"}},{"$f":"'Pob x Genero'!#REF!","v":{"$error":"#REF!"}},{"$f":"'Pob x Genero'!#REF!","v":{"$error":"#REF!"}},{"$f":"'Pob x Genero'!#REF!","v":{"$error":"#REF!"}},"Hombre","00-04",{"$f":"'Pob x Genero'!#REF!","v":{"$error":"#REF!"}},11]
[{"$f":"'Pob x Genero'!#REF!","v":{"$error":"#REF!"}},{"$f":"'Pob x Genero'!#REF!","v":{"$error":"#REF!"}},{"$f":"'Pob x Genero'!#REF!","v":{"$error":"#REF!"}},{"$f":"'Pob x Genero'!#REF!","v":{"$error":"#REF!"}},{"$f":"'Pob x Genero'!#REF!","v":{"$error":"#REF!"}},"Hombre","00-04",{"$f":"'Pob x Genero'!#REF!","v":{"$error":"#REF!"}},12]
[{"$f":"'Pob x Genero'!#REF!","v":{"$error":"#REF!"}},{"$f":"'Pob x Genero'!#REF!","v":{"$error":"#REF!"}},{"$f":"'Pob x Genero'!#REF!","v":{"$error":"#REF!"}},{"$f":"'Pob x Genero'!#REF!","v":{"$error":"#REF!"}},{"$f":"'Pob x Genero'!#REF!","v":{"$error":"#REF!"}},"Hombre","00-04",{"$f":"'Pob x Genero'!#REF!","v":{"$error":"#REF!"}},13]
[{"$f":"'Pob x Genero'!#REF!","v":{"$error":"#REF!"}},{"$f":"'Pob x Genero'!#REF!","v":{"$error":"#REF!"}},{"$f":"'Pob x Genero'!#REF!","v":{"$error":"#REF!"}},{"$f":"'Pob x Genero'!#REF!","v":{"$error":"#REF!"}},{"$f":"'Pob x Genero'!#REF!","v":{"$error":"#REF!"}},"Hombre","00-04",{"$f":"'Pob x Genero'!#REF!","v":{"$error":"#REF!"}},14]
[{"$f":"'Pob x Genero'!#REF!","v":{"$error":"#REF!"}},{"$f":"'Pob x Genero'!#REF!","v":{"$error":"#REF!"}},{"$f":"'Pob x Genero'!#REF!","v":{"$error":"#REF!"}},{"$f":"'Pob x Genero'!#REF!","v":{"$error":"#REF!"}},{"$f":"'Pob x Genero'!#REF!","v":{"$error":"#REF!"}},"Hombre","00-04",{"$f":"'Pob x Genero'!#REF!","v":{"$error":"#REF!"}},15]
[{"$f":"'Pob x Genero'!#REF!","v":{"$error":"#REF!"}},{"$f":"'Pob x Genero'!#REF!","v":{"$error":"#REF!"}},{"$f":"'Pob x Genero'!#REF!","v":{"$error":"#REF!"}},{"$f":"'Pob x Genero'!#REF!","v":{"$error":"#REF!"}},{"$f":"'Pob x Genero'!#REF!","v":{"$error":"#REF!"}},"Hombre","00-04",{"$f":"'Pob x Genero'!#REF!","v":{"$error":"#REF!"}},16]
[{"$f":"'Pob x Genero'!#REF!","v":{"$error":"#REF!"}},{"$f":"'Pob x Genero'!#REF!","v":{"$error":"#REF!"}},{"$f":"'Pob x Genero'!#REF!","v":{"$error":"#REF!"}},{"$f":"'Pob x Genero'!#REF!","v":{"$error":"#REF!"}},{"$f":"'Pob x Genero'!#REF!","v":{"$error":"#REF!"}},"Hombre","00-04",{"$f":"'Pob x Genero'!#REF!","v":{"$error":"#REF!"}},17]
[{"$f":"'Pob x Genero'!#REF!","v":{"$error":"#REF!"}},{"$f":"'Pob x Genero'!#REF!","v":{"$error":"#REF!"}},{"$f":"'Pob x Genero'!#REF!","v":{"$error":"#REF!"}},{"$f":"'Pob x Genero'!#REF!","v":{"$error":"#REF!"}},{"$f":"'Pob x Genero'!#REF!","v":{"$error":"#REF!"}},"Hombre","00-04",{"$f":"'Pob x Genero'!#REF!","v":{"$error":"#REF!"}},18]
[{"$f":"'Pob x Genero'!#REF!","v":{"$error":"#REF!"}},{"$f":"'Pob x Genero'!#REF!","v":{"$error":"#REF!"}},{"$f":"'Pob x Genero'!#REF!","v":{"$error":"#REF!"}},{"$f":"'Pob x Genero'!#REF!","v":{"$error":"#REF!"}},{"$f":"'Pob x Genero'!#REF!","v":{"$error":"#REF!"}},"Hombre","00-04",{"$f":"'Pob x Genero'!#REF!","v":{"$error":"#REF!"}},19]
[{"$f":"'Pob x Genero'!#REF!","v":{"$error":"#REF!"}},{"$f":"'Pob x Genero'!#REF!","v":{"$error":"#REF!"}},{"$f":"'Pob x Genero'!#REF!","v":{"$error":"#REF!"}},{"$f":"'Pob x Genero'!#REF!","v":{"$error":"#REF!"}},{"$f":"'Pob x Genero'!#REF!","v":{"$error":"#REF!"}},"Hombre","00-04",{"$f":"'Pob x Genero'!#REF!","v":{"$error":"#REF!"}},20]
[{"$f":"'Pob x Genero'!#REF!","v":{"$error":"#REF!"}},{"$f":"'Pob x Genero'!#REF!","v":{"$error":"#REF!"}},{"$f":"'Pob x Genero'!#REF!","v":{"$error":"#REF!"}},{"$f":"'Pob x Genero'!#REF!","v":{"$error":"#REF!"}},{"$f":"'Pob x Genero'!#REF!","v":{"$error":"#REF!"}},"Hombre","00-04",{"$f":"'Pob x Genero'!#REF!","v":{"$error":"#REF!"}},21]
[{"$f":"'Pob x Genero'!#REF!","v":{"$error":"#REF!"}},{"$f":"'Pob x Genero'!#REF!","v":{"$error":"#REF!"}},{"$f":"'Pob x Genero'!#REF!","v":{"$error":"#REF!"}},{"$f":"'Pob x Genero'!#REF!","v":{"$error":"#REF!"}},{"$f":"'Pob x Genero'!#REF!","v":{"$error":"#REF!"}},"Hombre","00-04",{"$f":"'Pob x Genero'!#REF!","v":{"$error":"#REF!"}},22]
[{"$f":"'Pob x Genero'!#REF!","v":{"$error":"#REF!"}},{"$f":"'Pob x Genero'!#REF!","v":{"$error":"#REF!"}},{"$f":"'Pob x Genero'!#REF!","v":{"$error":"#REF!"}},{"$f":"'Pob x Genero'!#REF!","v":{"$error":"#REF!"}},{"$f":"'Pob x Genero'!#REF!","v":{"$error":"#REF!"}},"Hombre","00-04",{"$f":"'Pob x Genero'!#REF!","v":{"$error":"#REF!"}},23]
[{"$f":"'Pob x Genero'!#REF!","v":{"$error":"#REF!"}},{"$f":"'Pob x Genero'!#REF!","v":{"$error":"#REF!"}},{"$f":"'Pob x Genero'!#REF!","v":{"$error":"#REF!"}},{"$f":"'Pob x Genero'!#REF!","v":{"$error":"#REF!"}},{"$f":"'Pob x Genero'!#REF!","v":{"$error":"#REF!"}},"Hombre","00-04",{"$f":"'Pob x Genero'!#REF!","v":{"$error":"#REF!"}},24]
[{"$f":"'Pob x Genero'!#REF!","v":{"$error":"#REF!"}},{"$f":"'Pob x Genero'!#REF!","v":{"$error":"#REF!"}},{"$f":"'Pob x Genero'!#REF!","v":{"$error":"#REF!"}},{"$f":"'Pob x Genero'!#REF!","v":{"$error":"#REF!"}},{"$f":"'Pob x Genero'!#REF!","v":{"$error":"#REF!"}},"Hombre","00-04",{"$f":"'Pob x Genero'!#REF!","v":{"$error":"#REF!"}},25]
[{"$f":"'Pob x Genero'!#REF!","v":{"$error":"#REF!"}},{"$f":"'Pob x Genero'!#REF!","v":{"$error":"#REF!"}},{"$f":"'Pob x Genero'!#REF!","v":{"$error":"#REF!"}},{"$f":"'Pob x Genero'!#REF!","v":{"$error":"#REF!"}},{"$f":"'Pob x Genero'!#REF!","v":{"$error":"#REF!"}},"Hombre","00-04",{"$f":"'Pob x Genero'!#REF!","v":{"$error":"#REF!"}},26]
[{"$f":"'Pob x Genero'!#REF!","v":{"$error":"#REF!"}},{"$f":"'Pob x Genero'!#REF!","v":{"$error":"#REF!"}},{"$f":"'Pob x Genero'!#REF!","v":{"$error":"#REF!"}},{"$f":"'Pob x Genero'!#REF!","v":{"$error":"#REF!"}},{"$f":"'Pob x Genero'!#REF!","v":{"$error":"#REF!"}},"Hombre","00-04",{"$f":"'Pob x Genero'!#REF!","v":{"$error":"#REF!"}},27]
[{"$f":"'Pob x Genero'!#REF!","v":{"$error":"#REF!"}},{"$f":"'Pob x Genero'!#REF!","v":{"$error":"#REF!"}},{"$f":"'Pob x Genero'!#REF!","v":{"$error":"#REF!"}},{"$f":"'Pob x Genero'!#REF!","v":{"$error":"#REF!"}},{"$f":"'Pob x Genero'!#REF!","v":{"$error":"#REF!"}},"Hombre","00-04",{"$f":"'Pob x Genero'!#REF!","v":{"$error":"#REF!"}},28]
[{"$f":"'Pob x Genero'!#REF!","v":{"$error":"#REF!"}},{"$f":"'Pob x Genero'!#REF!","v":{"$error":"#REF!"}},{"$f":"'Pob x Genero'!#REF!","v":{"$error":"#REF!"}},{"$f":"'Pob x Genero'!#REF!","v":{"$error":"#REF!"}},{"$f":"'Pob x Genero'!#REF!","v":{"$error":"#REF!"}},"Hombre","00-04",{"$f":"'Pob x Genero'!#REF!","v":{"$error":"#REF!"}},29]
[{"$f":"'Pob x Genero'!#REF!","v":{"$error":"#REF!"}},{"$f":"'Pob x Genero'!#REF!","v":{"$error":"#REF!"}},{"$f":"'Pob x Genero'!#REF!","v":{"$error":"#REF!"}},{"$f":"'Pob x Genero'!#REF!","v":{"$error":"#REF!"}},{"$f":"'Pob x Genero'!#REF!","v":{"$error":"#REF!"}},"Hombre","00-04",{"$f":"'Pob x Genero'!#REF!","v":{"$error":"#REF!"}},30]
[{"$f":"'Pob x Genero'!#REF!","v":{"$error":"#REF!"}},{"$f":"'Pob x Genero'!#REF!","v":{"$error":"#REF!"}},{"$f":"'Pob x Genero'!#REF!","v":{"$error":"#REF!"}},{"$f":"'Pob x Genero'!#REF!","v":{"$error":"#REF!"}},{"$f":"'Pob x Genero'!#REF!","v":{"$error":"#REF!"}},"Hombre","00-04",{"$f":"'Pob x Genero'!#REF!","v":{"$error":"#REF!"}},31]
[{"$f":"'Pob x Genero'!#REF!","v":{"$error":"#REF!"}},{"$f":"'Pob x Genero'!#REF!","v":{"$error":"#REF!"}},{"$f":"'Pob x Genero'!#REF!","v":{"$error":"#REF!"}},{"$f":"'Pob x Genero'!#REF!","v":{"$error":"#REF!"}},{"$f":"'Pob x Genero'!#REF!","v":{"$error":"#REF!"}},"Hombre","00-04",{"$f":"'Pob x Genero'!#REF!","v":{"$error":"#REF!"}},32]
[{"$f":"'Pob x Genero'!#REF!","v":{"$error":"#REF!"}},{"$f":"'Pob x Genero'!#REF!","v":{"$error":"#REF!"}},{"$f":"'Pob x Genero'!#REF!","v":{"$error":"#REF!"}},{"$f":"'Pob x Genero'!#REF!","v":{"$error":"#REF!"}},{"$f":"'Pob x Genero'!#REF!","v":{"$error":"#REF!"}},"Hombre","00-04",{"$f":"'Pob x Genero'!#REF!","v":{"$error":"#REF!"}},33]
[{"$f":"'Pob x Genero'!#REF!","v":{"$error":"#REF!"}},{"$f":"'Pob x Genero'!#REF!","v":{"$error":"#REF!"}},{"$f":"'Pob x Genero'!#REF!","v":{"$error":"#REF!"}},{"$f":"'Pob x Genero'!#REF!","v":{"$error":"#REF!"}},{"$f":"'Pob x Genero'!#REF!","v":{"$error":"#REF!"}},"Hombre","00-04",{"$f":"'Pob x Genero'!#REF!","v":{"$error":"#REF!"}},34]
[{"$f":"'Pob x Genero'!#REF!","v":{"$error":"#REF!"}},{"$f":"'Pob x Genero'!#REF!","v":{"$error":"#REF!"}},{"$f":"'Pob x Genero'!#REF!","v":{"$error":"#REF!"}},{"$f":"'Pob x Genero'!#REF!","v":{"$error":"#REF!"}},{"$f":"'Pob x Genero'!#REF!","v":{"$error":"#REF!"}},"Hombre","00-04",{"$f":"'Pob x Genero'!#REF!","v":{"$error":"#REF!"}},35]
[{"$f":"'Pob x Genero'!#REF!","v":{"$error":"#REF!"}},{"$f":"'Pob x Genero'!#REF!","v":{"$error":"#REF!"}},{"$f":"'Pob x Genero'!#REF!","v":{"$error":"#REF!"}},{"$f":"'Pob x Genero'!#REF!","v":{"$error":"#REF!"}},{"$f":"'Pob x Genero'!#REF!","v":{"$error":"#REF!"}},"Hombre","00-04",{"$f":"'Pob x Genero'!#REF!","v":{"$error":"#REF!"}},36]
[{"$f":"'Pob x Genero'!#REF!","v":{"$error":"#REF!"}},{"$f":"'Pob x Genero'!#REF!","v":{"$error":"#REF!"}},{"$f":"'Pob x Genero'!#REF!","v":{"$error":"#REF!"}},{"$f":"'Pob x Genero'!#REF!","v":{"$error":"#REF!"}},{"$f":"'Pob x Genero'!#REF!","v":{"$error":"#REF!"}},"Hombre","00-04",{"$f":"'Pob x Genero'!#REF!","v":{"$error":"#REF!"}},37]
[{"$f":"'Pob x Genero'!#REF!","v":{"$error":"#REF!"}},{"$f":"'Pob x Genero'!#REF!","v":{"$error":"#REF!"}},{"$f":"'Pob x Genero'!#REF!","v":{"$error":"#REF!"}},{"$f":"'Pob x Genero'!#REF!","v":{"$error":"#REF!"}},{"$f":"'Pob x Genero'!#REF!","v":{"$error":"#REF!"}},"Hombre","00-04",{"$f":"'Pob x Genero'!#REF!","v":{"$error":"#REF!"}},38]
[{"$f":"'Pob x Genero'!#REF!","v":{"$error":"#REF!"}},{"$f":"'Pob x Genero'!#REF!","v":{"$error":"#REF!"}},{"$f":"'Pob x Genero'!#REF!","v":{"$error":"#REF!"}},{"$f":"'Pob x Genero'!#REF!","v":{"$error":"#REF!"}},{"$f":"'Pob x Genero'!#REF!","v":{"$error":"#REF!"}},"Hombre","00-04",{"$f":"'Pob x Genero'!#REF!","v":{"$error":"#REF!"}},39]
[{"$f":"'Pob x Genero'!#REF!","v":{"$error":"#REF!"}},{"$f":"'Pob x Genero'!#REF!","v":{"$error":"#REF!"}},{"$f":"'Pob x Genero'!#REF!","v":{"$error":"#REF!"}},{"$f":"'Pob x Genero'!#REF!","v":{"$error":"#REF!"}},{"$f":"'Pob x Genero'!#REF!","v":{"$error":"#REF!"}},"Hombre","00-04",{"$f":"'Pob x Genero'!#REF!","v":{"$error":"#REF!"}},40]
[{"$f":"'Pob x Genero'!#REF!","v":{"$error":"#REF!"}},{"$f":"'Pob x Genero'!#REF!","v":{"$error":"#REF!"}},{"$f":"'Pob x Genero'!#REF!","v":{"$error":"#REF!"}},{"$f":"'Pob x Genero'!#REF!","v":{"$error":"#REF!"}},{"$f":"'Pob x Genero'!#REF!","v":{"$error":"#REF!"}},"Hombre","00-04",{"$f":"'Pob x Genero'!#REF!","v":{"$error":"#REF!"}},41]
[{"$f":"'Pob x Genero'!#REF!","v":{"$error":"#REF!"}},{"$f":"'Pob x Genero'!#REF!","v":{"$error":"#REF!"}},{"$f":"'Pob x Genero'!#REF!","v":{"$error":"#REF!"}},{"$f":"'Pob x Genero'!#REF!","v":{"$error":"#REF!"}},{"$f":"'Pob x Genero'!#REF!","v":{"$error":"#REF!"}},"Hombre","00-04",{"$f":"'Pob x Genero'!#REF!","v":{"$error":"#REF!"}},42]
[{"$f":"'Pob x Genero'!#REF!","v":{"$error":"#REF!"}},{"$f":"'Pob x Genero'!#REF!","v":{"$error":"#REF!"}},{"$f":"'Pob x Genero'!#REF!","v":{"$error":"#REF!"}},{"$f":"'Pob x Genero'!#REF!","v":{"$error":"#REF!"}},{"$f":"'Pob x Genero'!#REF!","v":{"$error":"#REF!"}},"Hombre","00-04",{"$f":"'Pob x Genero'!#REF!","v":{"$error":"#REF!"}},43]
[{"$f":"'Pob x Genero'!#REF!","v":{"$error":"#REF!"}},{"$f":"'Pob x Genero'!#REF!","v":{"$error":"#REF!"}},{"$f":"'Pob x Genero'!#REF!","v":{"$error":"#REF!"}},{"$f":"'Pob x Genero'!#REF!","v":{"$error":"#REF!"}},{"$f":"'Pob x Genero'!#REF!","v":{"$error":"#REF!"}},"Hombre","00-04",{"$f":"'Pob x Genero'!#REF!","v":{"$error":"#REF!"}},44]
[{"$f":"'Pob x Genero'!#REF!","v":{"$error":"#REF!"}},{"$f":"'Pob x Genero'!#REF!","v":{"$error":"#REF!"}},{"$f":"'Pob x Genero'!#REF!","v":{"$error":"#REF!"}},{"$f":"'Pob x Genero'!#REF!","v":{"$error":"#REF!"}},{"$f":"'Pob x Genero'!#REF!","v":{"$error":"#REF!"}},"Hombre","00-04",{"$f":"'Pob x Genero'!#REF!","v":{"$error":"#REF!"}},45]
[{"$f":"'Pob x Genero'!#REF!","v":{"$error":"#REF!"}},{"$f":"'Pob x Genero'!#REF!","v":{"$error":"#REF!"}},{"$f":"'Pob x Genero'!#REF!","v":{"$error":"#REF!"}},{"$f":"'Pob x Genero'!#REF!","v":{"$error":"#REF!"}},{"$f":"'Pob x Genero'!#REF!","v":{"$error":"#REF!"}},"Hombre","00-04",{"$f":"'Pob x Genero'!#REF!","v":{"$error":"#REF!"}},46]
[{"$f":"'Pob x Genero'!#REF!","v":{"$error":"#REF!"}},{"$f":"'Pob x Genero'!#REF!","v":{"$error":"#REF!"}},{"$f":"'Pob x Genero'!#REF!","v":{"$error":"#REF!"}},{"$f":"'Pob x Genero'!#REF!","v":{"$error":"#REF!"}},{"$f":"'Pob x Genero'!#REF!","v":{"$error":"#REF!"}},"Hombre","00-04",{"$f":"'Pob x Genero'!#REF!","v":{"$error":"#REF!"}},47]
[{"$f":"'Pob x Genero'!#REF!","v":{"$error":"#REF!"}},{"$f":"'Pob x Genero'!#REF!","v":{"$error":"#REF!"}},{"$f":"'Pob x Genero'!#REF!","v":{"$error":"#REF!"}},{"$f":"'Pob x Genero'!#REF!","v":{"$error":"#REF!"}},{"$f":"'Pob x Genero'!#REF!","v":{"$error":"#REF!"}},"Hombre","00-04",{"$f":"'Pob x Genero'!#REF!","v":{"$error":"#REF!"}},48]
[{"$f":"'Pob x Genero'!#REF!","v":{"$error":"#REF!"}},{"$f":"'Pob x Genero'!#REF!","v":{"$error":"#REF!"}},{"$f":"'Pob x Genero'!#REF!","v":{"$error":"#REF!"}},{"$f":"'Pob x Genero'!#REF!","v":{"$error":"#REF!"}},{"$f":"'Pob x Genero'!#REF!","v":{"$error":"#REF!"}},"Hombre","00-04",{"$f":"'Pob x Genero'!#REF!","v":{"$error":"#REF!"}},49]
[{"$f":"'Pob x Genero'!#REF!","v":{"$error":"#REF!"}},{"$f":"'Pob x Genero'!#REF!","v":{"$error":"#REF!"}},{"$f":"'Pob x Genero'!#REF!","v":{"$error":"#REF!"}},{"$f":"'Pob x Genero'!#REF!","v":{"$error":"#REF!"}},{"$f":"'Pob x Genero'!#REF!","v":{"$error":"#REF!"}},"Hombre","00-04",{"$f":"'Pob x Genero'!#REF!","v":{"$error":"#REF!"}},50]
[{"$f":"'Pob x Genero'!#REF!","v":{"$error":"#REF!"}},{"$f":"'Pob x Genero'!#REF!","v":{"$error":"#REF!"}},{"$f":"'Pob x Genero'!#REF!","v":{"$error":"#REF!"}},{"$f":"'Pob x Genero'!#REF!","v":{"$error":"#REF!"}},{"$f":"'Pob x Genero'!#REF!","v":{"$error":"#REF!"}},"Hombre","00-04",{"$f":"'Pob x Genero'!#REF!","v":{"$error":"#REF!"}},51]
[{"$f":"'Pob x Genero'!#REF!","v":{"$error":"#REF!"}},{"$f":"'Pob x Genero'!#REF!","v":{"$error":"#REF!"}},{"$f":"'Pob x Genero'!#REF!","v":{"$error":"#REF!"}},{"$f":"'Pob x Genero'!#REF!","v":{"$error":"#REF!"}},{"$f":"'Pob x Genero'!#REF!","v":{"$error":"#REF!"}},"Hombre","00-04",{"$f":"'Pob x Genero'!#REF!","v":{"$error":"#REF!"}},52]
[{"$f":"'Pob x Genero'!#REF!","v":{"$error":"#REF!"}},{"$f":"'Pob x Genero'!#REF!","v":{"$error":"#REF!"}},{"$f":"'Pob x Genero'!#REF!","v":{"$error":"#REF!"}},{"$f":"'Pob x Genero'!#REF!","v":{"$error":"#REF!"}},{"$f":"'Pob x Genero'!#REF!","v":{"$error":"#REF!"}},"Hombre","00-04",{"$f":"'Pob x Genero'!#REF!","v":{"$error":"#REF!"}},53]
[{"$f":"'Pob x Genero'!#REF!","v":{"$error":"#REF!"}},{"$f":"'Pob x Genero'!#REF!","v":{"$error":"#REF!"}},{"$f":"'Pob x Genero'!#REF!","v":{"$error":"#REF!"}},{"$f":"'Pob x Genero'!#REF!","v":{"$error":"#REF!"}},{"$f":"'Pob x Genero'!#REF!","v":{"$error":"#REF!"}},"Hombre","00-04",{"$f":"'Pob x Genero'!#REF!","v":{"$error":"#REF!"}},54]
[{"$f":"'Pob x Genero'!#REF!","v":{"$error":"#REF!"}},{"$f":"'Pob x Genero'!#REF!","v":{"$error":"#REF!"}},{"$f":"'Pob x Genero'!#REF!","v":{"$error":"#REF!"}},{"$f":"'Pob x Genero'!#REF!","v":{"$error":"#REF!"}},{"$f":"'Pob x Genero'!#REF!","v":{"$error":"#REF!"}},"Hombre","00-04",{"$f":"'Pob x Genero'!#REF!","v":{"$error":"#REF!"}},55]
[{"$f":"'Pob x Genero'!#REF!","v":{"$error":"#REF!"}},{"$f":"'Pob x Genero'!#REF!","v":{"$error":"#REF!"}},{"$f":"'Pob x Genero'!#REF!","v":{"$error":"#REF!"}},{"$f":"'Pob x Genero'!#REF!","v":{"$error":"#REF!"}},{"$f":"'Pob x Genero'!#REF!","v":{"$error":"#REF!"}},"Hombre","00-04",{"$f":"'Pob x Genero'!#REF!","v":{"$error":"#REF!"}},56]
[{"$f":"'Pob x Genero'!#REF!","v":{"$error":"#REF!"}},{"$f":"'Pob x Genero'!#REF!","v":{"$error":"#REF!"}},{"$f":"'Pob x Genero'!#REF!","v":{"$error":"#REF!"}},{"$f":"'Pob x Genero'!#REF!","v":{"$error":"#REF!"}},{"$f":"'Pob x Genero'!#REF!","v":{"$error":"#REF!"}},"Hombre","00-04",{"$f":"'Pob x Genero'!#REF!","v":{"$error":"#REF!"}},57]
[{"$f":"'Pob x Genero'!#REF!","v":{"$error":"#REF!"}},{"$f":"'Pob x Genero'!#REF!","v":{"$error":"#REF!"}},{"$f":"'Pob x Genero'!#REF!","v":{"$error":"#REF!"}},{"$f":"'Pob x Genero'!#REF!","v":{"$error":"#REF!"}},{"$f":"'Pob x Genero'!#REF!","v":{"$error":"#REF!"}},"Hombre","00-04",{"$f":"'Pob x Genero'!#REF!","v":{"$error":"#REF!"}},58]
[{"$f":"'Pob x Genero'!#REF!","v":{"$error":"#REF!"}},{"$f":"'Pob x Genero'!#REF!","v":{"$error":"#REF!"}},{"$f":"'Pob x Genero'!#REF!","v":{"$error":"#REF!"}},{"$f":"'Pob x Genero'!#REF!","v":{"$error":"#REF!"}},{"$f":"'Pob x Genero'!#REF!","v":{"$error":"#REF!"}},"Hombre","00-04",{"$f":"'Pob x Genero'!#REF!","v":{"$error":"#REF!"}},59]
[{"$f":"'Pob x Genero'!#REF!","v":{"$error":"#REF!"}},{"$f":"'Pob x Genero'!#REF!","v":{"$error":"#REF!"}},{"$f":"'Pob x Genero'!#REF!","v":{"$error":"#REF!"}},{"$f":"'Pob x Genero'!#REF!","v":{"$error":"#REF!"}},{"$f":"'Pob x Genero'!#REF!","v":{"$error":"#REF!"}},"Hombre","00-04",{"$f":"'Pob x Genero'!#REF!","v":{"$error":"#REF!"}},60]
[{"$f":"'Pob x Genero'!#REF!","v":{"$error":"#REF!"}},{"$f":"'Pob x Genero'!#REF!","v":{"$error":"#REF!"}},{"$f":"'Pob x Genero'!#REF!","v":{"$error":"#REF!"}},{"$f":"'Pob x Genero'!#REF!","v":{"$error":"#REF!"}},{"$f":"'Pob x Genero'!#REF!","v":{"$error":"#REF!"}},"Hombre","00-04",{"$f":"'Pob x Genero'!#REF!","v":{"$error":"#REF!"}},61]
[{"$f":"'Pob x Genero'!#REF!","v":{"$error":"#REF!"}},{"$f":"'Pob x Genero'!#REF!","v":{"$error":"#REF!"}},{"$f":"'Pob x Genero'!#REF!","v":{"$error":"#REF!"}},{"$f":"'Pob x Genero'!#REF!","v":{"$error":"#REF!"}},{"$f":"'Pob x Genero'!#REF!","v":{"$error":"#REF!"}},"Hombre","00-04",{"$f":"'Pob x Genero'!#REF!","v":{"$error":"#REF!"}},62]
[{"$f":"'Pob x Genero'!#REF!","v":{"$error":"#REF!"}},{"$f":"'Pob x Genero'!#REF!","v":{"$error":"#REF!"}},{"$f":"'Pob x Genero'!#REF!","v":{"$error":"#REF!"}},{"$f":"'Pob x Genero'!#REF!","v":{"$error":"#REF!"}},{"$f":"'Pob x Genero'!#REF!","v":{"$error":"#REF!"}},"Hombre","00-04",{"$f":"'Pob x Genero'!#REF!","v":{"$error":"#REF!"}},63]
[{"$f":"'Pob x Genero'!#REF!","v":{"$error":"#REF!"}},{"$f":"'Pob x Genero'!#REF!","v":{"$error":"#REF!"}},{"$f":"'Pob x Genero'!#REF!","v":{"$error":"#REF!"}},{"$f":"'Pob x Genero'!#REF!","v":{"$error":"#REF!"}},{"$f":"'Pob x Genero'!#REF!","v":{"$error":"#REF!"}},"Hombre","00-04",{"$f":"'Pob x Genero'!#REF!","v":{"$error":"#REF!"}},64]
[{"$f":"'Pob x Genero'!#REF!","v":{"$error":"#REF!"}},{"$f":"'Pob x Genero'!#REF!","v":{"$error":"#REF!"}},{"$f":"'Pob x Genero'!#REF!","v":{"$error":"#REF!"}},{"$f":"'Pob x Genero'!#REF!","v":{"$error":"#REF!"}},{"$f":"'Pob x Genero'!#REF!","v":{"$error":"#REF!"}},"Hombre","00-04",{"$f":"'Pob x Genero'!#REF!","v":{"$error":"#REF!"}},65]
[{"$f":"'Pob x Genero'!#REF!","v":{"$error":"#REF!"}},{"$f":"'Pob x Genero'!#REF!","v":{"$error":"#REF!"}},{"$f":"'Pob x Genero'!#REF!","v":{"$error":"#REF!"}},{"$f":"'Pob x Genero'!#REF!","v":{"$error":"#REF!"}},{"$f":"'Pob x Genero'!#REF!","v":{"$error":"#REF!"}},{"$f":"F66","v":"Hombre"},{"$f":"G66","v":"00-04"},{"$f":"'Pob x Genero'!#REF!","v":{"$error":"#REF!"}},66]
[{"$f":"'Pob x Genero'!#REF!","v":{"$error":"#REF!"}},{"$f":"'Pob x Genero'!#REF!","v":{"$error":"#REF!"}},{"$f":"'Pob x Genero'!#REF!","v":{"$error":"#REF!"}},{"$f":"'Pob x Genero'!#REF!","v":{"$error":"#REF!"}},{"$f":"'Pob x Genero'!#REF!","v":{"$error":"#REF!"}},"Hombre","00-04",{"$f":"'Pob x Genero'!#REF!","v":{"$error":"#REF!"}},67]
[{"$f":"'Pob x Genero'!#REF!","v":{"$error":"#REF!"}},{"$f":"'Pob x Genero'!#REF!","v":{"$error":"#REF!"}},{"$f":"'Pob x Genero'!#REF!","v":{"$error":"#REF!"}},{"$f":"'Pob x Genero'!#REF!","v":{"$error":"#REF!"}},{"$f":"'Pob x Genero'!#REF!","v":{"$error":"#REF!"}},"Hombre","00-04",{"$f":"'Pob x Genero'!#REF!","v":{"$error":"#REF!"}},68]
[{"$f":"'Pob x Genero'!#REF!","v":{"$error":"#REF!"}},{"$f":"'Pob x Genero'!#REF!","v":{"$error":"#REF!"}},{"$f":"'Pob x Genero'!#REF!","v":{"$error":"#REF!"}},{"$f":"'Pob x Genero'!#REF!","v":{"$error":"#REF!"}},{"$f":"'Pob x Genero'!#REF!","v":{"$error":"#REF!"}},"Hombre","00-04",{"$f":"'Pob x Genero'!#REF!","v":{"$error":"#REF!"}},69]
[{"$f":"'Pob x Genero'!#REF!","v":{"$error":"#REF!"}},{"$f":"'Pob x Genero'!#REF!","v":{"$error":"#REF!"}},{"$f":"'Pob x Genero'!#REF!","v":{"$error":"#REF!"}},{"$f":"'Pob x Genero'!#REF!","v":{"$error":"#REF!"}},{"$f":"'Pob x Genero'!#REF!","v":{"$error":"#REF!"}},"Hombre","00-04",{"$f":"'Pob x Genero'!#REF!","v":{"$error":"#REF!"}},70]
[{"$f":"'Pob x Genero'!#REF!","v":{"$error":"#REF!"}},{"$f":"'Pob x Genero'!#REF!","v":{"$error":"#REF!"}},{"$f":"'Pob x Genero'!#REF!","v":{"$error":"#REF!"}},{"$f":"'Pob x Genero'!#REF!","v":{"$error":"#REF!"}},{"$f":"'Pob x Genero'!#REF!","v":{"$error":"#REF!"}},"Hombre","00-04",{"$f":"'Pob x Genero'!#REF!","v":{"$error":"#REF!"}},71]
[{"$f":"'Pob x Genero'!#REF!","v":{"$error":"#REF!"}},{"$f":"'Pob x Genero'!#REF!","v":{"$error":"#REF!"}},{"$f":"'Pob x Genero'!#REF!","v":{"$error":"#REF!"}},{"$f":"'Pob x Genero'!#REF!","v":{"$error":"#REF!"}},{"$f":"'Pob x Genero'!#REF!","v":{"$error":"#REF!"}},"Hombre","00-04",{"$f":"'Pob x Genero'!#REF!","v":{"$error":"#REF!"}},72]
[{"$f":"'Pob x Genero'!#REF!","v":{"$error":"#REF!"}},{"$f":"'Pob x Genero'!#REF!","v":{"$error":"#REF!"}},{"$f":"'Pob x Genero'!#REF!","v":{"$error":"#REF!"}},{"$f":"'Pob x Genero'!#REF!","v":{"$error":"#REF!"}},{"$f":"'Pob x Genero'!#REF!","v":{"$error":"#REF!"}},"Hombre","00-04",{"$f":"'Pob x Genero'!#REF!","v":{"$error":"#REF!"}},73]
[{"$f":"'Pob x Genero'!#REF!","v":{"$error":"#REF!"}},{"$f":"'Pob x Genero'!#REF!","v":{"$error":"#REF!"}},{"$f":"'Pob x Genero'!#REF!","v":{"$error":"#REF!"}},{"$f":"'Pob x Genero'!#REF!","v":{"$error":"#REF!"}},{"$f":"'Pob x Genero'!#REF!","v":{"$error":"#REF!"}},"Hombre","00-04",{"$f":"'Pob x Genero'!#REF!","v":{"$error":"#REF!"}},74]
[{"$f":"'Pob x Genero'!#REF!","v":{"$error":"#REF!"}},{"$f":"'Pob x Genero'!#REF!","v":{"$error":"#REF!"}},{"$f":"'Pob x Genero'!#REF!","v":{"$error":"#REF!"}},{"$f":"'Pob x Genero'!#REF!","v":{"$error":"#REF!"}},{"$f":"'Pob x Genero'!#REF!","v":{"$error":"#REF!"}},"Hombre","00-04",{"$f":"'Pob x Genero'!#REF!","v":{"$error":"#REF!"}},75]
[{"$f":"'Pob x Genero'!#REF!","v":{"$error":"#REF!"}},{"$f":"'Pob x Genero'!#REF!","v":{"$error":"#REF!"}},{"$f":"'Pob x Genero'!#REF!","v":{"$error":"#REF!"}},{"$f":"'Pob x Genero'!#REF!","v":{"$error":"#REF!"}},{"$f":"'Pob x Genero'!#REF!","v":{"$error":"#REF!"}},"Hombre","00-04",{"$f":"'Pob x Genero'!#REF!","v":{"$error":"#REF!"}},76]
[{"$f":"'Pob x Genero'!#REF!","v":{"$error":"#REF!"}},{"$f":"'Pob x Genero'!#REF!","v":{"$error":"#REF!"}},{"$f":"'Pob x Genero'!#REF!","v":{"$error":"#REF!"}},{"$f":"'Pob x Genero'!#REF!","v":{"$error":"#REF!"}},{"$f":"'Pob x Genero'!#REF!","v":{"$error":"#REF!"}},"Hombre","00-04",{"$f":"'Pob x Genero'!#REF!","v":{"$error":"#REF!"}},77]
[{"$f":"'Pob x Genero'!#REF!","v":{"$error":"#REF!"}},{"$f":"'Pob x Genero'!#REF!","v":{"$error":"#REF!"}},{"$f":"'Pob x Genero'!#REF!","v":{"$error":"#REF!"}},{"$f":"'Pob x Genero'!#REF!","v":{"$error":"#REF!"}},{"$f":"'Pob x Genero'!#REF!","v":{"$error":"#REF!"}},"Hombre","00-04",{"$f":"'Pob x Genero'!#REF!","v":{"$error":"#REF!"}},78]
[{"$f":"'Pob x Genero'!#REF!","v":{"$error":"#REF!"}},{"$f":"'Pob x Genero'!#REF!","v":{"$error":"#REF!"}},{"$f":"'Pob x Genero'!#REF!","v":{"$error":"#REF!"}},{"$f":"'Pob x Genero'!#REF!","v":{"$error":"#REF!"}},{"$f":"'Pob x Genero'!#REF!","v":{"$error":"#REF!"}},"Hombre","00-04",{"$f":"'Pob x Genero'!#REF!","v":{"$error":"#REF!"}},79]
[{"$f":"'Pob x Genero'!#REF!","v":{"$error":"#REF!"}},{"$f":"'Pob x Genero'!#REF!","v":{"$error":"#REF!"}},{"$f":"'Pob x Genero'!#REF!","v":{"$error":"#REF!"}},{"$f":"'Pob x Genero'!#REF!","v":{"$error":"#REF!"}},{"$f":"'Pob x Genero'!#REF!","v":{"$error":"#REF!"}},"Hombre","00-04",{"$f":"'Pob x Genero'!#REF!","v":{"$error":"#REF!"}},80]
[{"$f":"'Pob x Genero'!#REF!","v":{"$error":"#REF!"}},{"$f":"'Pob x Genero'!#REF!","v":{"$error":"#REF!"}},{"$f":"'Pob x Genero'!#REF!","v":{"$error":"#REF!"}},{"$f":"'Pob x Genero'!#REF!","v":{"$error":"#REF!"}},{"$f":"'Pob x Genero'!#REF!","v":{"$error":"#REF!"}},"Hombre","00-04",{"$f":"'Pob x Genero'!#REF!","v":{"$error":"#REF!"}},81]
[{"$f":"'Pob x Genero'!#REF!","v":{"$error":"#REF!"}},{"$f":"'Pob x Genero'!#REF!","v":{"$error":"#REF!"}},{"$f":"'Pob x Genero'!#REF!","v":{"$error":"#REF!"}},{"$f":"'Pob x Genero'!#REF!","v":{"$error":"#REF!"}},{"$f":"'Pob x Genero'!#REF!","v":{"$error":"#REF!"}},"Hombre","00-04",{"$f":"'Pob x Genero'!#REF!","v":{"$error":"#REF!"}},82]
[{"$f":"'Pob x Genero'!#REF!","v":{"$error":"#REF!"}},{"$f":"'Pob x Genero'!#REF!","v":{"$error":"#REF!"}},{"$f":"'Pob x Genero'!#REF!","v":{"$error":"#REF!"}},{"$f":"'Pob x Genero'!#REF!","v":{"$error":"#REF!"}},{"$f":"'Pob x Genero'!#REF!","v":{"$error":"#REF!"}},"Hombre","00-04",{"$f":"'Pob x Genero'!#REF!","v":{"$error":"#REF!"}},83]
[{"$f":"'Pob x Genero'!#REF!","v":{"$error":"#REF!"}},{"$f":"'Pob x Genero'!#REF!","v":{"$error":"#REF!"}},{"$f":"'Pob x Genero'!#REF!","v":{"$error":"#REF!"}},{"$f":"'Pob x Genero'!#REF!","v":{"$error":"#REF!"}},{"$f":"'Pob x Genero'!#REF!","v":{"$error":"#REF!"}},"Hombre","00-04",{"$f":"'Pob x Genero'!#REF!","v":{"$error":"#REF!"}},84]
[{"$f":"'Pob x Genero'!#REF!","v":{"$error":"#REF!"}},{"$f":"'Pob x Genero'!#REF!","v":{"$error":"#REF!"}},{"$f":"'Pob x Genero'!#REF!","v":{"$error":"#REF!"}},{"$f":"'Pob x Genero'!#REF!","v":{"$error":"#REF!"}},{"$f":"'Pob x Genero'!#REF!","v":{"$error":"#REF!"}},"Hombre","00-04",{"$f":"'Pob x Genero'!#REF!","v":{"$error":"#REF!"}},85]
[{"$f":"'Pob x Genero'!#REF!","v":{"$error":"#REF!"}},{"$f":"'Pob x Genero'!#REF!","v":{"$error":"#REF!"}},{"$f":"'Pob x Genero'!#REF!","v":{"$error":"#REF!"}},{"$f":"'Pob x Genero'!#REF!","v":{"$error":"#REF!"}},{"$f":"'Pob x Genero'!#REF!","v":{"$error":"#REF!"}},"Hombre","00-04",{"$f":"'Pob x Genero'!#REF!","v":{"$error":"#REF!"}},86]
[{"$f":"'Pob x Genero'!#REF!","v":{"$error":"#REF!"}},{"$f":"'Pob x Genero'!#REF!","v":{"$error":"#REF!"}},{"$f":"'Pob x Genero'!#REF!","v":{"$error":"#REF!"}},{"$f":"'Pob x Genero'!#REF!","v":{"$error":"#REF!"}},{"$f":"'Pob x Genero'!#REF!","v":{"$error":"#REF!"}},"Hombre","00-04",{"$f":"'Pob x Genero'!#REF!","v":{"$error":"#REF!"}},87]
[{"$f":"'Pob x Genero'!#REF!","v":{"$error":"#REF!"}},{"$f":"'Pob x Genero'!#REF!","v":{"$error":"#REF!"}},{"$f":"'Pob x Genero'!#REF!","v":{"$error":"#REF!"}},{"$f":"'Pob x Genero'!#REF!","v":{"$error":"#REF!"}},{"$f":"'Pob x Genero'!#REF!","v":{"$error":"#REF!"}},"Hombre","00-04",{"$f":"'Pob x Genero'!#REF!","v":{"$error":"#REF!"}},88]
[{"$f":"'Pob x Genero'!#REF!","v":{"$error":"#REF!"}},{"$f":"'Pob x Genero'!#REF!","v":{"$error":"#REF!"}},{"$f":"'Pob x Genero'!#REF!","v":{"$error":"#REF!"}},{"$f":"'Pob x Genero'!#REF!","v":{"$error":"#REF!"}},{"$f":"'Pob x Genero'!#REF!","v":{"$error":"#REF!"}},"Hombre","00-04",{"$f":"'Pob x Genero'!#REF!","v":{"$error":"#REF!"}},89]
[{"$f":"'Pob x Genero'!#REF!","v":{"$error":"#REF!"}},{"$f":"'Pob x Genero'!#REF!","v":{"$error":"#REF!"}},{"$f":"'Pob x Genero'!#REF!","v":{"$error":"#REF!"}},{"$f":"'Pob x Genero'!#REF!","v":{"$error":"#REF!"}},{"$f":"'Pob x Genero'!#REF!","v":{"$error":"#REF!"}},"Hombre","00-04",{"$f":"'Pob x Genero'!#REF!","v":{"$error":"#REF!"}},90]
[{"$f":"'Pob x Genero'!#REF!","v":{"$error":"#REF!"}},{"$f":"'Pob x Genero'!#REF!","v":{"$error":"#REF!"}},{"$f":"'Pob x Genero'!#REF!","v":{"$error":"#REF!"}},{"$f":"'Pob x Genero'!#REF!","v":{"$error":"#REF!"}},{"$f":"'Pob x Genero'!#REF!","v":{"$error":"#REF!"}},"Hombre","00-04",{"$f":"'Pob x Genero'!#REF!","v":{"$error":"#REF!"}},91]
[{"$f":"'Pob x Genero'!#REF!","v":{"$error":"#REF!"}},{"$f":"'Pob x Genero'!#REF!","v":{"$error":"#REF!"}},{"$f":"'Pob x Genero'!#REF!","v":{"$error":"#REF!"}},{"$f":"'Pob x Genero'!#REF!","v":{"$error":"#REF!"}},{"$f":"'Pob x Genero'!#REF!","v":{"$error":"#REF!"}},"Hombre","00-04",{"$f":"'Pob x Genero'!#REF!","v":{"$error":"#REF!"}},92]
[{"$f":"'Pob x Genero'!#REF!","v":{"$error":"#REF!"}},{"$f":"'Pob x Genero'!#REF!","v":{"$error":"#REF!"}},{"$f":"'Pob x Genero'!#REF!","v":{"$error":"#REF!"}},{"$f":"'Pob x Genero'!#REF!","v":{"$error":"#REF!"}},{"$f":"'Pob x Genero'!#REF!","v":{"$error":"#REF!"}},"Hombre","00-04",{"$f":"'Pob x Genero'!#REF!","v":{"$error":"#REF!"}},93]
[{"$f":"'Pob x Genero'!#REF!","v":{"$error":"#REF!"}},{"$f":"'Pob x Genero'!#REF!","v":{"$error":"#REF!"}},{"$f":"'Pob x Genero'!#REF!","v":{"$error":"#REF!"}},{"$f":"'Pob x Genero'!#REF!","v":{"$error":"#REF!"}},{"$f":"'Pob x Genero'!#REF!","v":{"$error":"#REF!"}},"Hombre","00-04",{"$f":"'Pob x Genero'!#REF!","v":{"$error":"#REF!"}},94]
[{"$f":"'Pob x Genero'!#REF!","v":{"$error":"#REF!"}},{"$f":"'Pob x Genero'!#REF!","v":{"$error":"#REF!"}},{"$f":"'Pob x Genero'!#REF!","v":{"$error":"#REF!"}},{"$f":"'Pob x Genero'!#REF!","v":{"$error":"#REF!"}},{"$f":"'Pob x Genero'!#REF!","v":{"$error":"#REF!"}},"Hombre","00-04",{"$f":"'Pob x Genero'!#REF!","v":{"$error":"#REF!"}},95]
[{"$f":"'Pob x Genero'!#REF!","v":{"$error":"#REF!"}},{"$f":"'Pob x Genero'!#REF!","v":{"$error":"#REF!"}},{"$f":"'Pob x Genero'!#REF!","v":{"$error":"#REF!"}},{"$f":"'Pob x Genero'!#REF!","v":{"$error":"#REF!"}},{"$f":"'Pob x Genero'!#REF!","v":{"$error":"#REF!"}},"Hombre","00-04",{"$f":"'Pob x Genero'!#REF!","v":{"$error":"#REF!"}},96]
[{"$f":"'Pob x Genero'!#REF!","v":{"$error":"#REF!"}},{"$f":"'Pob x Genero'!#REF!","v":{"$error":"#REF!"}},{"$f":"'Pob x Genero'!#REF!","v":{"$error":"#REF!"}},{"$f":"'Pob x Genero'!#REF!","v":{"$error":"#REF!"}},{"$f":"'Pob x Genero'!#REF!","v":{"$error":"#REF!"}},"Hombre","00-04",{"$f":"'Pob x Genero'!#REF!","v":{"$error":"#REF!"}},97]
[{"$f":"'Pob x Genero'!#REF!","v":{"$error":"#REF!"}},{"$f":"'Pob x Genero'!#REF!","v":{"$error":"#REF!"}},{"$f":"'Pob x Genero'!#REF!","v":{"$error":"#REF!"}},{"$f":"'Pob x Genero'!#REF!","v":{"$error":"#REF!"}},{"$f":"'Pob x Genero'!#REF!","v":{"$error":"#REF!"}},"Hombre","00-04",{"$f":"'Pob x Genero'!#REF!","v":{"$error":"#REF!"}},98]
[{"$f":"'Pob x Genero'!#REF!","v":{"$error":"#REF!"}},{"$f":"'Pob x Genero'!#REF!","v":{"$error":"#REF!"}},{"$f":"'Pob x Genero'!#REF!","v":{"$error":"#REF!"}},{"$f":"'Pob x Genero'!#REF!","v":{"$error":"#REF!"}},{"$f":"'Pob x Genero'!#REF!","v":{"$error":"#REF!"}},"Hombre","00-04",{"$f":"'Pob x Genero'!#REF!","v":{"$error":"#REF!"}},99]
[{"$f":"'Pob x Genero'!#REF!","v":{"$error":"#REF!"}},{"$f":"'Pob x Genero'!#REF!","v":{"$error":"#REF!"}},{"$f":"'Pob x Genero'!#REF!","v":{"$error":"#REF!"}},{"$f":"'Pob x Genero'!#REF!","v":{"$error":"#REF!"}},{"$f":"'Pob x Genero'!#REF!","v":{"$error":"#REF!"}},"Hombre","00-04",{"$f":"'Pob x Genero'!#REF!","v":{"$error":"#REF!"}},100]
[{"$f":"'Pob x Genero'!#REF!","v":{"$error":"#REF!"}},{"$f":"'Pob x Genero'!#REF!","v":{"$error":"#REF!"}},{"$f":"'Pob x Genero'!#REF!","v":{"$error":"#REF!"}},{"$f":"'Pob x Genero'!#REF!","v":{"$error":"#REF!"}},{"$f":"'Pob x Genero'!#REF!","v":{"$error":"#REF!"}},"Hombre","00-04",{"$f":"'Pob x Genero'!#REF!","v":{"$error":"#REF!"}},101]
[{"$f":"'Pob x Genero'!#REF!","v":{"$error":"#REF!"}},{"$f":"'Pob x Genero'!#REF!","v":{"$error":"#REF!"}},{"$f":"'Pob x Genero'!#REF!","v":{"$error":"#REF!"}},{"$f":"'Pob x Genero'!#REF!","v":{"$error":"#REF!"}},{"$f":"'Pob x Genero'!#REF!","v":{"$error":"#REF!"}},"Hombre","00-04",{"$f":"'Pob x Genero'!#REF!","v":{"$error":"#REF!"}},102]
[{"$f":"'Pob x Genero'!#REF!","v":{"$error":"#REF!"}},{"$f":"'Pob x Genero'!#REF!","v":{"$error":"#REF!"}},{"$f":"'Pob x Genero'!#REF!","v":{"$error":"#REF!"}},{"$f":"'Pob x Genero'!#REF!","v":{"$error":"#REF!"}},{"$f":"'Pob x Genero'!#REF!","v":{"$error":"#REF!"}},"Hombre","00-04",{"$f":"'Pob x Genero'!#REF!","v":{"$error":"#REF!"}},103]
[{"$f":"'Pob x Genero'!#REF!","v":{"$error":"#REF!"}},{"$f":"'Pob x Genero'!#REF!","v":{"$error":"#REF!"}},{"$f":"'Pob x Genero'!#REF!","v":{"$error":"#REF!"}},{"$f":"'Pob x Genero'!#REF!","v":{"$error":"#REF!"}},{"$f":"'Pob x Genero'!#REF!","v":{"$error":"#REF!"}},"Hombre","00-04",{"$f":"'Pob x Genero'!#REF!","v":{"$error":"#REF!"}},104]
[{"$f":"'Pob x Genero'!#REF!","v":{"$error":"#REF!"}},{"$f":"'Pob x Genero'!#REF!","v":{"$error":"#REF!"}},{"$f":"'Pob x Genero'!#REF!","v":{"$error":"#REF!"}},{"$f":"'Pob x Genero'!#REF!","v":{"$error":"#REF!"}},{"$f":"'Pob x Genero'!#REF!","v":{"$error":"#REF!"}},"Hombre","00-04",{"$f":"'Pob x Genero'!#REF!","v":{"$error":"#REF!"}},105]
[{"$f":"'Pob x Genero'!#REF!","v":{"$error":"#REF!"}},{"$f":"'Pob x Genero'!#REF!","v":{"$error":"#REF!"}},{"$f":"'Pob x Genero'!#REF!","v":{"$error":"#REF!"}},{"$f":"'Pob x Genero'!#REF!","v":{"$error":"#REF!"}},{"$f":"'Pob x Genero'!#REF!","v":{"$error":"#REF!"}},"Hombre","00-04",{"$f":"'Pob x Genero'!#REF!","v":{"$error":"#REF!"}},106]
[{"$f":"'Pob x Genero'!#REF!","v":{"$error":"#REF!"}},{"$f":"'Pob x Genero'!#REF!","v":{"$error":"#REF!"}},{"$f":"'Pob x Genero'!#REF!","v":{"$error":"#REF!"}},{"$f":"'Pob x Genero'!#REF!","v":{"$error":"#REF!"}},{"$f":"'Pob x Genero'!#REF!","v":{"$error":"#REF!"}},"Hombre","00-04",{"$f":"'Pob x Genero'!#REF!","v":{"$error":"#REF!"}},107]
[{"$f":"'Pob x Genero'!#REF!","v":{"$error":"#REF!"}},{"$f":"'Pob x Genero'!#REF!","v":{"$error":"#REF!"}},{"$f":"'Pob x Genero'!#REF!","v":{"$error":"#REF!"}},{"$f":"'Pob x Genero'!#REF!","v":{"$error":"#REF!"}},{"$f":"'Pob x Genero'!#REF!","v":{"$error":"#REF!"}},"Hombre","00-04",{"$f":"'Pob x Genero'!#REF!","v":{"$error":"#REF!"}},108]
[{"$f":"'Pob x Genero'!#REF!","v":{"$error":"#REF!"}},{"$f":"'Pob x Genero'!#REF!","v":{"$error":"#REF!"}},{"$f":"'Pob x Genero'!#REF!","v":{"$error":"#REF!"}},{"$f":"'Pob x Genero'!#REF!","v":{"$error":"#REF!"}},{"$f":"'Pob x Genero'!#REF!","v":{"$error":"#REF!"}},"Hombre","00-04",{"$f":"'Pob x Genero'!#REF!","v":{"$error":"#REF!"}},109]
[{"$f":"'Pob x Genero'!#REF!","v":{"$error":"#REF!"}},{"$f":"'Pob x Genero'!#REF!","v":{"$error":"#REF!"}},{"$f":"'Pob x Genero'!#REF!","v":{"$error":"#REF!"}},{"$f":"'Pob x Genero'!#REF!","v":{"$error":"#REF!"}},{"$f":"'Pob x Genero'!#REF!","v":{"$error":"#REF!"}},"Hombre","00-04",{"$f":"'Pob x Genero'!#REF!","v":{"$error":"#REF!"}},110]
[{"$f":"'Pob x Genero'!#REF!","v":{"$error":"#REF!"}},{"$f":"'Pob x Genero'!#REF!","v":{"$error":"#REF!"}},{"$f":"'Pob x Genero'!#REF!","v":{"$error":"#REF!"}},{"$f":"'Pob x Genero'!#REF!","v":{"$error":"#REF!"}},{"$f":"'Pob x Genero'!#REF!","v":{"$error":"#REF!"}},"Hombre","00-04",{"$f":"'Pob x Genero'!#REF!","v":{"$error":"#REF!"}},111]
[{"$f":"'Pob x Genero'!#REF!","v":{"$error":"#REF!"}},{"$f":"'Pob x Genero'!#REF!","v":{"$error":"#REF!"}},{"$f":"'Pob x Genero'!#REF!","v":{"$error":"#REF!"}},{"$f":"'Pob x Genero'!#REF!","v":{"$error":"#REF!"}},{"$f":"'Pob x Genero'!#REF!","v":{"$error":"#REF!"}},"Hombre","00-04",{"$f":"'Pob x Genero'!#REF!","v":{"$error":"#REF!"}},112]
[{"$f":"'Pob x Genero'!#REF!","v":{"$error":"#REF!"}},{"$f":"'Pob x Genero'!#REF!","v":{"$error":"#REF!"}},{"$f":"'Pob x Genero'!#REF!","v":{"$error":"#REF!"}},{"$f":"'Pob x Genero'!#REF!","v":{"$error":"#REF!"}},{"$f":"'Pob x Genero'!#REF!","v":{"$error":"#REF!"}},"Hombre","00-04",{"$f":"'Pob x Genero'!#REF!","v":{"$error":"#REF!"}},113]
[{"$f":"'Pob x Genero'!#REF!","v":{"$error":"#REF!"}},{"$f":"'Pob x Genero'!#REF!","v":{"$error":"#REF!"}},{"$f":"'Pob x Genero'!#REF!","v":{"$error":"#REF!"}},{"$f":"'Pob x Genero'!#REF!","v":{"$error":"#REF!"}},{"$f":"'Pob x Genero'!#REF!","v":{"$error":"#REF!"}},"Hombre","00-04",{"$f":"'Pob x Genero'!#REF!","v":{"$error":"#REF!"}},114]
[{"$f":"'Pob x Genero'!#REF!","v":{"$error":"#REF!"}},{"$f":"'Pob x Genero'!#REF!","v":{"$error":"#REF!"}},{"$f":"'Pob x Genero'!#REF!","v":{"$error":"#REF!"}},{"$f":"'Pob x Genero'!#REF!","v":{"$error":"#REF!"}},{"$f":"'Pob x Genero'!#REF!","v":{"$error":"#REF!"}},"Hombre","00-04",{"$f":"'Pob x Genero'!#REF!","v":{"$error":"#REF!"}},115]
[{"$f":"'Pob x Genero'!#REF!","v":{"$error":"#REF!"}},{"$f":"'Pob x Genero'!#REF!","v":{"$error":"#REF!"}},{"$f":"'Pob x Genero'!#REF!","v":{"$error":"#REF!"}},{"$f":"'Pob x Genero'!#REF!","v":{"$error":"#REF!"}},{"$f":"'Pob x Genero'!#REF!","v":{"$error":"#REF!"}},"Hombre","00-04",{"$f":"'Pob x Genero'!#REF!","v":{"$error":"#REF!"}},116]
[{"$f":"'Pob x Genero'!#REF!","v":{"$error":"#REF!"}},{"$f":"'Pob x Genero'!#REF!","v":{"$error":"#REF!"}},{"$f":"'Pob x Genero'!#REF!","v":{"$error":"#REF!"}},{"$f":"'Pob x Genero'!#REF!","v":{"$error":"#REF!"}},{"$f":"'Pob x Genero'!#REF!","v":{"$error":"#REF!"}},"Hombre","00-04",{"$f":"'Pob x Genero'!#REF!","v":{"$error":"#REF!"}},117]
[{"$f":"'Pob x Genero'!#REF!","v":{"$error":"#REF!"}},{"$f":"'Pob x Genero'!#REF!","v":{"$error":"#REF!"}},{"$f":"'Pob x Genero'!#REF!","v":{"$error":"#REF!"}},{"$f":"'Pob x Genero'!#REF!","v":{"$error":"#REF!"}},{"$f":"'Pob x Genero'!#REF!","v":{"$error":"#REF!"}},"Hombre","00-04",{"$f":"'Pob x Genero'!#REF!","v":{"$error":"#REF!"}},118]
[{"$f":"'Pob x Genero'!#REF!","v":{"$error":"#REF!"}},{"$f":"'Pob x Genero'!#REF!","v":{"$error":"#REF!"}},{"$f":"'Pob x Genero'!#REF!","v":{"$error":"#REF!"}},{"$f":"'Pob x Genero'!#REF!","v":{"$error":"#REF!"}},{"$f":"'Pob x Genero'!#REF!","v":{"$error":"#REF!"}},"Hombre","00-04",{"$f":"'Pob x Genero'!#REF!","v":{"$error":"#REF!"}},119]
[{"$f":"'Pob x Genero'!#REF!","v":{"$error":"#REF!"}},{"$f":"'Pob x Genero'!#REF!","v":{"$error":"#REF!"}},{"$f":"'Pob x Genero'!#REF!","v":{"$error":"#REF!"}},{"$f":"'Pob x Genero'!#REF!","v":{"$error":"#REF!"}},{"$f":"'Pob x Genero'!#REF!","v":{"$error":"#REF!"}},"Hombre","00-04",{"$f":"'Pob x Genero'!#REF!","v":{"$error":"#REF!"}},120]
[{"$f":"'Pob x Genero'!#REF!","v":{"$error":"#REF!"}},{"$f":"'Pob x Genero'!#REF!","v":{"$error":"#REF!"}},{"$f":"'Pob x Genero'!#REF!","v":{"$error":"#REF!"}},{"$f":"'Pob x Genero'!#REF!","v":{"$error":"#REF!"}},{"$f":"'Pob x Genero'!#REF!","v":{"$error":"#REF!"}},"Hombre","00-04",{"$f":"'Pob x Genero'!#REF!","v":{"$error":"#REF!"}},121]
[{"$f":"'Pob x Genero'!#REF!","v":{"$error":"#REF!"}},{"$f":"'Pob x Genero'!#REF!","v":{"$error":"#REF!"}},{"$f":"'Pob x Genero'!#REF!","v":{"$error":"#REF!"}},{"$f":"'Pob x Genero'!#REF!","v":{"$error":"#REF!"}},{"$f":"'Pob x Genero'!#REF!","v":{"$error":"#REF!"}},"Hombre","00-04",{"$f":"'Pob x Genero'!#REF!","v":{"$error":"#REF!"}},122]
[{"$f":"'Pob x Genero'!#REF!","v":{"$error":"#REF!"}},{"$f":"'Pob x Genero'!#REF!","v":{"$error":"#REF!"}},{"$f":"'Pob x Genero'!#REF!","v":{"$error":"#REF!"}},{"$f":"'Pob x Genero'!#REF!","v":{"$error":"#REF!"}},{"$f":"'Pob x Genero'!#REF!","v":{"$error":"#REF!"}},"Hombre","00-04",{"$f":"'Pob x Genero'!#REF!","v":{"$error":"#REF!"}},123]
[{"$f":"'Pob x Genero'!#REF!","v":{"$error":"#REF!"}},{"$f":"'Pob x Genero'!#REF!","v":{"$error":"#REF!"}},{"$f":"'Pob x Genero'!#REF!","v":{"$error":"#REF!"}},{"$f":"'Pob x Genero'!#REF!","v":{"$error":"#REF!"}},{"$f":"'Pob x Genero'!#REF!","v":{"$error":"#REF!"}},"Hombre","00-04",{"$f":"'Pob x Genero'!#REF!","v":{"$error":"#REF!"}},124]
[{"$f":"'Pob x Genero'!#REF!","v":{"$error":"#REF!"}},{"$f":"'Pob x Genero'!#REF!","v":{"$error":"#REF!"}},{"$f":"'Pob x Genero'!#REF!","v":{"$error":"#REF!"}},{"$f":"'Pob x Genero'!#REF!","v":{"$error":"#REF!"}},{"$f":"'Pob x Genero'!#REF!","v":{"$error":"#REF!"}},"Hombre","00-04",{"$f":"'Pob x Genero'!#REF!","v":{"$error":"#REF!"}},125]
[{"$f":"'Pob x Genero'!#REF!","v":{"$error":"#REF!"}},{"$f":"'Pob x Genero'!#REF!","v":{"$error":"#REF!"}},{"$f":"'Pob x Genero'!#REF!","v":{"$error":"#REF!"}},{"$f":"'Pob x Genero'!#REF!","v":{"$error":"#REF!"}},{"$f":"'Pob x Genero'!#REF!","v":{"$error":"#REF!"}},"Hombre","00-04",{"$f":"'Pob x Genero'!#REF!","v":{"$error":"#REF!"}},126]
[{"$f":"'Pob x Genero'!#REF!","v":{"$error":"#REF!"}},{"$f":"'Pob x Genero'!#REF!","v":{"$error":"#REF!"}},{"$f":"'Pob x Genero'!#REF!","v":{"$error":"#REF!"}},{"$f":"'Pob x Genero'!#REF!","v":{"$error":"#REF!"}},{"$f":"'Pob x Genero'!#REF!","v":{"$error":"#REF!"}},"Hombre","00-04",{"$f":"'Pob x Genero'!#REF!","v":{"$error":"#REF!"}},127]
[{"$f":"'Pob x Genero'!#REF!","v":{"$error":"#REF!"}},{"$f":"'Pob x Genero'!#REF!","v":{"$error":"#REF!"}},{"$f":"'Pob x Genero'!#REF!","v":{"$error":"#REF!"}},{"$f":"'Pob x Genero'!#REF!","v":{"$error":"#REF!"}},{"$f":"'Pob x Genero'!#REF!","v":{"$error":"#REF!"}},"Hombre","00-04",{"$f":"'Pob x Genero'!#REF!","v":{"$error":"#REF!"}},128]
[{"$f":"'Pob x Genero'!#REF!","v":{"$error":"#REF!"}},{"$f":"'Pob x Genero'!#REF!","v":{"$error":"#REF!"}},{"$f":"'Pob x Genero'!#REF!","v":{"$error":"#REF!"}},{"$f":"'Pob x Genero'!#REF!","v":{"$error":"#REF!"}},{"$f":"'Pob x Genero'!#REF!","v":{"$error":"#REF!"}},"Hombre","00-04",{"$f":"'Pob x Genero'!#REF!","v":{"$error":"#REF!"}},129]
[{"$f":"'Pob x Genero'!#REF!","v":{"$error":"#REF!"}},{"$f":"'Pob x Genero'!#REF!","v":{"$error":"#REF!"}},{"$f":"'Pob x Genero'!#REF!","v":{"$error":"#REF!"}},{"$f":"'Pob x Genero'!#REF!","v":{"$error":"#REF!"}},{"$f":"'Pob x Genero'!#REF!","v":{"$error":"#REF!"}},{"$f":"F130","v":"Hombre"},{"$f":"G130","v":"00-04"},{"$f":"'Pob x Genero'!#REF!","v":{"$error":"#REF!"}},130]
[{"$f":"'Pob x Genero'!#REF!","v":{"$error":"#REF!"}},{"$f":"'Pob x Genero'!#REF!","v":{"$error":"#REF!"}},{"$f":"'Pob x Genero'!#REF!","v":{"$error":"#REF!"}},{"$f":"'Pob x Genero'!#REF!","v":{"$error":"#REF!"}},{"$f":"'Pob x Genero'!#REF!","v":{"$error":"#REF!"}},"Hombre","00-04",{"$f":"'Pob x Genero'!#REF!","v":{"$error":"#REF!"}},131]
[{"$f":"'Pob x Genero'!#REF!","v":{"$error":"#REF!"}},{"$f":"'Pob x Genero'!#REF!","v":{"$error":"#REF!"}},{"$f":"'Pob x Genero'!#REF!","v":{"$error":"#REF!"}},{"$f":"'Pob x Genero'!#REF!","v":{"$error":"#REF!"}},{"$f":"'Pob x Genero'!#REF!","v":{"$error":"#REF!"}},"Hombre","00-04",{"$f":"'Pob x Genero'!#REF!","v":{"$error":"#REF!"}},132]
[{"$f":"'Pob x Genero'!#REF!","v":{"$error":"#REF!"}},{"$f":"'Pob x Genero'!#REF!","v":{"$error":"#REF!"}},{"$f":"'Pob x Genero'!#REF!","v":{"$error":"#REF!"}},{"$f":"'Pob x Genero'!#REF!","v":{"$error":"#REF!"}},{"$f":"'Pob x Genero'!#REF!","v":{"$error":"#REF!"}},"Hombre","00-04",{"$f":"'Pob x Genero'!#REF!","v":{"$error":"#REF!"}},133]
[{"$f":"'Pob x Genero'!#REF!","v":{"$error":"#REF!"}},{"$f":"'Pob x Genero'!#REF!","v":{"$error":"#REF!"}},{"$f":"'Pob x Genero'!#REF!","v":{"$error":"#REF!"}},{"$f":"'Pob x Genero'!#REF!","v":{"$error":"#REF!"}},{"$f":"'Pob x Genero'!#REF!","v":{"$error":"#REF!"}},"Hombre","00-04",{"$f":"'Pob x Genero'!#REF!","v":{"$error":"#REF!"}},134]
[{"$f":"'Pob x Genero'!#REF!","v":{"$error":"#REF!"}},{"$f":"'Pob x Genero'!#REF!","v":{"$error":"#REF!"}},{"$f":"'Pob x Genero'!#REF!","v":{"$error":"#REF!"}},{"$f":"'Pob x Genero'!#REF!","v":{"$error":"#REF!"}},{"$f":"'Pob x Genero'!#REF!","v":{"$error":"#REF!"}},"Hombre","00-04",{"$f":"'Pob x Genero'!#REF!","v":{"$error":"#REF!"}},135]
[{"$f":"'Pob x Genero'!#REF!","v":{"$error":"#REF!"}},{"$f":"'Pob x Genero'!#REF!","v":{"$error":"#REF!"}},{"$f":"'Pob x Genero'!#REF!","v":{"$error":"#REF!"}},{"$f":"'Pob x Genero'!#REF!","v":{"$error":"#REF!"}},{"$f":"'Pob x Genero'!#REF!","v":{"$error":"#REF!"}},"Hombre","00-04",{"$f":"'Pob x Genero'!#REF!","v":{"$error":"#REF!"}},136]
[{"$f":"'Pob x Genero'!#REF!","v":{"$error":"#REF!"}},{"$f":"'Pob x Genero'!#REF!","v":{"$error":"#REF!"}},{"$f":"'Pob x Genero'!#REF!","v":{"$error":"#REF!"}},{"$f":"'Pob x Genero'!#REF!","v":{"$error":"#REF!"}},{"$f":"'Pob x Genero'!#REF!","v":{"$error":"#REF!"}},"Hombre","00-04",{"$f":"'Pob x Genero'!#REF!","v":{"$error":"#REF!"}},137]
[{"$f":"'Pob x Genero'!#REF!","v":{"$error":"#REF!"}},{"$f":"'Pob x Genero'!#REF!","v":{"$error":"#REF!"}},{"$f":"'Pob x Genero'!#REF!","v":{"$error":"#REF!"}},{"$f":"'Pob x Genero'!#REF!","v":{"$error":"#REF!"}},{"$f":"'Pob x Genero'!#REF!","v":{"$error":"#REF!"}},"Hombre","00-04",{"$f":"'Pob x Genero'!#REF!","v":{"$error":"#REF!"}},138]
[{"$f":"'Pob x Genero'!#REF!","v":{"$error":"#REF!"}},{"$f":"'Pob x Genero'!#REF!","v":{"$error":"#REF!"}},{"$f":"'Pob x Genero'!#REF!","v":{"$error":"#REF!"}},{"$f":"'Pob x Genero'!#REF!","v":{"$error":"#REF!"}},{"$f":"'Pob x Genero'!#REF!","v":{"$error":"#REF!"}},"Hombre","00-04",{"$f":"'Pob x Genero'!#REF!","v":{"$error":"#REF!"}},139]
[{"$f":"'Pob x Genero'!#REF!","v":{"$error":"#REF!"}},{"$f":"'Pob x Genero'!#REF!","v":{"$error":"#REF!"}},{"$f":"'Pob x Genero'!#REF!","v":{"$error":"#REF!"}},{"$f":"'Pob x Genero'!#REF!","v":{"$error":"#REF!"}},{"$f":"'Pob x Genero'!#REF!","v":{"$error":"#REF!"}},"Hombre","00-04",{"$f":"'Pob x Genero'!#REF!","v":{"$error":"#REF!"}},140]
[{"$f":"'Pob x Genero'!#REF!","v":{"$error":"#REF!"}},{"$f":"'Pob x Genero'!#REF!","v":{"$error":"#REF!"}},{"$f":"'Pob x Genero'!#REF!","v":{"$error":"#REF!"}},{"$f":"'Pob x Genero'!#REF!","v":{"$error":"#REF!"}},{"$f":"'Pob x Genero'!#REF!","v":{"$error":"#REF!"}},"Hombre","00-04",{"$f":"'Pob x Genero'!#REF!","v":{"$error":"#REF!"}},141]
[{"$f":"'Pob x Genero'!#REF!","v":{"$error":"#REF!"}},{"$f":"'Pob x Genero'!#REF!","v":{"$error":"#REF!"}},{"$f":"'Pob x Genero'!#REF!","v":{"$error":"#REF!"}},{"$f":"'Pob x Genero'!#REF!","v":{"$error":"#REF!"}},{"$f":"'Pob x Genero'!#REF!","v":{"$error":"#REF!"}},"Hombre","00-04",{"$f":"'Pob x Genero'!#REF!","v":{"$error":"#REF!"}},142]
[{"$f":"'Pob x Genero'!#REF!","v":{"$error":"#REF!"}},{"$f":"'Pob x Genero'!#REF!","v":{"$error":"#REF!"}},{"$f":"'Pob x Genero'!#REF!","v":{"$error":"#REF!"}},{"$f":"'Pob x Genero'!#REF!","v":{"$error":"#REF!"}},{"$f":"'Pob x Genero'!#REF!","v":{"$error":"#REF!"}},"Hombre","00-04",{"$f":"'Pob x Genero'!#REF!","v":{"$error":"#REF!"}},143]
[{"$f":"'Pob x Genero'!#REF!","v":{"$error":"#REF!"}},{"$f":"'Pob x Genero'!#REF!","v":{"$error":"#REF!"}},{"$f":"'Pob x Genero'!#REF!","v":{"$error":"#REF!"}},{"$f":"'Pob x Genero'!#REF!","v":{"$error":"#REF!"}},{"$f":"'Pob x Genero'!#REF!","v":{"$error":"#REF!"}},"Hombre","00-04",{"$f":"'Pob x Genero'!#REF!","v":{"$error":"#REF!"}},144]
[{"$f":"'Pob x Genero'!#REF!","v":{"$error":"#REF!"}},{"$f":"'Pob x Genero'!#REF!","v":{"$error":"#REF!"}},{"$f":"'Pob x Genero'!#REF!","v":{"$error":"#REF!"}},{"$f":"'Pob x Genero'!#REF!","v":{"$error":"#REF!"}},{"$f":"'Pob x Genero'!#REF!","v":{"$error":"#REF!"}},"Hombre","00-04",{"$f":"'Pob x Genero'!#REF!","v":{"$error":"#REF!"}},145]
[{"$f":"'Pob x Genero'!#REF!","v":{"$error":"#REF!"}},{"$f":"'Pob x Genero'!#REF!","v":{"$error":"#REF!"}},{"$f":"'Pob x Genero'!#REF!","v":{"$error":"#REF!"}},{"$f":"'Pob x Genero'!#REF!","v":{"$error":"#REF!"}},{"$f":"'Pob x Genero'!#REF!","v":{"$error":"#REF!"}},"Hombre","00-04",{"$f":"'Pob x Genero'!#REF!","v":{"$error":"#REF!"}},146]
[{"$f":"'Pob x Genero'!#REF!","v":{"$error":"#REF!"}},{"$f":"'Pob x Genero'!#REF!","v":{"$error":"#REF!"}},{"$f":"'Pob x Genero'!#REF!","v":{"$error":"#REF!"}},{"$f":"'Pob x Genero'!#REF!","v":{"$error":"#REF!"}},{"$f":"'Pob x Genero'!#REF!","v":{"$error":"#REF!"}},"Hombre","00-04",{"$f":"'Pob x Genero'!#REF!","v":{"$error":"#REF!"}},147]
[{"$f":"'Pob x Genero'!#REF!","v":{"$error":"#REF!"}},{"$f":"'Pob x Genero'!#REF!","v":{"$error":"#REF!"}},{"$f":"'Pob x Genero'!#REF!","v":{"$error":"#REF!"}},{"$f":"'Pob x Genero'!#REF!","v":{"$error":"#REF!"}},{"$f":"'Pob x Genero'!#REF!","v":{"$error":"#REF!"}},"Hombre","00-04",{"$f":"'Pob x Genero'!#REF!","v":{"$error":"#REF!"}},148]
[{"$f":"'Pob x Genero'!#REF!","v":{"$error":"#REF!"}},{"$f":"'Pob x Genero'!#REF!","v":{"$error":"#REF!"}},{"$f":"'Pob x Genero'!#REF!","v":{"$error":"#REF!"}},{"$f":"'Pob x Genero'!#REF!","v":{"$error":"#REF!"}},{"$f":"'Pob x Genero'!#REF!","v":{"$error":"#REF!"}},"Hombre","00-04",{"$f":"'Pob x Genero'!#REF!","v":{"$error":"#REF!"}},149]
[{"$f":"'Pob x Genero'!#REF!","v":{"$error":"#REF!"}},{"$f":"'Pob x Genero'!#REF!","v":{"$error":"#REF!"}},{"$f":"'Pob x Genero'!#REF!","v":{"$error":"#REF!"}},{"$f":"'Pob x Genero'!#REF!","v":{"$error":"#REF!"}},{"$f":"'Pob x Genero'!#REF!","v":{"$error":"#REF!"}},"Hombre","00-04",{"$f":"'Pob x Genero'!#REF!","v":{"$error":"#REF!"}},150]
[{"$f":"'Pob x Genero'!#REF!","v":{"$error":"#REF!"}},{"$f":"'Pob x Genero'!#REF!","v":{"$error":"#REF!"}},{"$f":"'Pob x Genero'!#REF!","v":{"$error":"#REF!"}},{"$f":"'Pob x Genero'!#REF!","v":{"$error":"#REF!"}},{"$f":"'Pob x Genero'!#REF!","v":{"$error":"#REF!"}},"Hombre","00-04",{"$f":"'Pob x Genero'!#REF!","v":{"$error":"#REF!"}},151]
[{"$f":"'Pob x Genero'!#REF!","v":{"$error":"#REF!"}},{"$f":"'Pob x Genero'!#REF!","v":{"$error":"#REF!"}},{"$f":"'Pob x Genero'!#REF!","v":{"$error":"#REF!"}},{"$f":"'Pob x Genero'!#REF!","v":{"$error":"#REF!"}},{"$f":"'Pob x Genero'!#REF!","v":{"$error":"#REF!"}},"Hombre","00-04",{"$f":"'Pob x Genero'!#REF!","v":{"$error":"#REF!"}},152]
[{"$f":"'Pob x Genero'!#REF!","v":{"$error":"#REF!"}},{"$f":"'Pob x Genero'!#REF!","v":{"$error":"#REF!"}},{"$f":"'Pob x Genero'!#REF!","v":{"$error":"#REF!"}},{"$f":"'Pob x Genero'!#REF!","v":{"$error":"#REF!"}},{"$f":"'Pob x Genero'!#REF!","v":{"$error":"#REF!"}},"Hombre","00-04",{"$f":"'Pob x Genero'!#REF!","v":{"$error":"#REF!"}},153]
[{"$f":"'Pob x Genero'!#REF!","v":{"$error":"#REF!"}},{"$f":"'Pob x Genero'!#REF!","v":{"$error":"#REF!"}},{"$f":"'Pob x Genero'!#REF!","v":{"$error":"#REF!"}},{"$f":"'Pob x Genero'!#REF!","v":{"$error":"#REF!"}},{"$f":"'Pob x Genero'!#REF!","v":{"$error":"#REF!"}},"Hombre","00-04",{"$f":"'Pob x Genero'!#REF!","v":{"$error":"#REF!"}},154]
[{"$f":"'Pob x Genero'!#REF!","v":{"$error":"#REF!"}},{"$f":"'Pob x Genero'!#REF!","v":{"$error":"#REF!"}},{"$f":"'Pob x Genero'!#REF!","v":{"$error":"#REF!"}},{"$f":"'Pob x Genero'!#REF!","v":{"$error":"#REF!"}},{"$f":"'Pob x Genero'!#REF!","v":{"$error":"#REF!"}},"Hombre","00-04",{"$f":"'Pob x Genero'!#REF!","v":{"$error":"#REF!"}},155]
[{"$f":"'Pob x Genero'!#REF!","v":{"$error":"#REF!"}},{"$f":"'Pob x Genero'!#REF!","v":{"$error":"#REF!"}},{"$f":"'Pob x Genero'!#REF!","v":{"$error":"#REF!"}},{"$f":"'Pob x Genero'!#REF!","v":{"$error":"#REF!"}},{"$f":"'Pob x Genero'!#REF!","v":{"$error":"#REF!"}},"Hombre","00-04",{"$f":"'Pob x Genero'!#REF!","v":{"$error":"#REF!"}},156]
[{"$f":"'Pob x Genero'!#REF!","v":{"$error":"#REF!"}},{"$f":"'Pob x Genero'!#REF!","v":{"$error":"#REF!"}},{"$f":"'Pob x Genero'!#REF!","v":{"$error":"#REF!"}},{"$f":"'Pob x Genero'!#REF!","v":{"$error":"#REF!"}},{"$f":"'Pob x Genero'!#REF!","v":{"$error":"#REF!"}},"Hombre","00-04",{"$f":"'Pob x Genero'!#REF!","v":{"$error":"#REF!"}},157]
[{"$f":"'Pob x Genero'!#REF!","v":{"$error":"#REF!"}},{"$f":"'Pob x Genero'!#REF!","v":{"$error":"#REF!"}},{"$f":"'Pob x Genero'!#REF!","v":{"$error":"#REF!"}},{"$f":"'Pob x Genero'!#REF!","v":{"$error":"#REF!"}},{"$f":"'Pob x Genero'!#REF!","v":{"$error":"#REF!"}},"Hombre","00-04",{"$f":"'Pob x Genero'!#REF!","v":{"$error":"#REF!"}},158]
[{"$f":"'Pob x Genero'!#REF!","v":{"$error":"#REF!"}},{"$f":"'Pob x Genero'!#REF!","v":{"$error":"#REF!"}},{"$f":"'Pob x Genero'!#REF!","v":{"$error":"#REF!"}},{"$f":"'Pob x Genero'!#REF!","v":{"$error":"#REF!"}},{"$f":"'Pob x Genero'!#REF!","v":{"$error":"#REF!"}},"Hombre","00-04",{"$f":"'Pob x Genero'!#REF!","v":{"$error":"#REF!"}},159]
[{"$f":"'Pob x Genero'!#REF!","v":{"$error":"#REF!"}},{"$f":"'Pob x Genero'!#REF!","v":{"$error":"#REF!"}},{"$f":"'Pob x Genero'!#REF!","v":{"$error":"#REF!"}},{"$f":"'Pob x Genero'!#REF!","v":{"$error":"#REF!"}},{"$f":"'Pob x Genero'!#REF!","v":{"$error":"#REF!"}},"Hombre","00-04",{"$f":"'Pob x Genero'!#REF!","v":{"$error":"#REF!"}},160]
[{"$f":"'Pob x Genero'!#REF!","v":{"$error":"#REF!"}},{"$f":"'Pob x Genero'!#REF!","v":{"$error":"#REF!"}},{"$f":"'Pob x Genero'!#REF!","v":{"$error":"#REF!"}},{"$f":"'Pob x Genero'!#REF!","v":{"$error":"#REF!"}},{"$f":"'Pob x Genero'!#REF!","v":{"$error":"#REF!"}},"Hombre","00-04",{"$f":"'Pob x Genero'!#REF!","v":{"$error":"#REF!"}},161]
[{"$f":"'Pob x Genero'!#REF!","v":{"$error":"#REF!"}},{"$f":"'Pob x Genero'!#REF!","v":{"$error":"#REF!"}},{"$f":"'Pob x Genero'!#REF!","v":{"$error":"#REF!"}},{"$f":"'Pob x Genero'!#REF!","v":{"$error":"#REF!"}},{"$f":"'Pob x Genero'!#REF!","v":{"$error":"#REF!"}},"Hombre","00-04",{"$f":"'Pob x Genero'!#REF!","v":{"$error":"#REF!"}},162]
[{"$f":"'Pob x Genero'!#REF!","v":{"$error":"#REF!"}},{"$f":"'Pob x Genero'!#REF!","v":{"$error":"#REF!"}},{"$f":"'Pob x Genero'!#REF!","v":{"$error":"#REF!"}},{"$f":"'Pob x Genero'!#REF!","v":{"$error":"#REF!"}},{"$f":"'Pob x Genero'!#REF!","v":{"$error":"#REF!"}},"Hombre","00-04",{"$f":"'Pob x Genero'!#REF!","v":{"$error":"#REF!"}},163]
[{"$f":"'Pob x Genero'!#REF!","v":{"$error":"#REF!"}},{"$f":"'Pob x Genero'!#REF!","v":{"$error":"#REF!"}},{"$f":"'Pob x Genero'!#REF!","v":{"$error":"#REF!"}},{"$f":"'Pob x Genero'!#REF!","v":{"$error":"#REF!"}},{"$f":"'Pob x Genero'!#REF!","v":{"$error":"#REF!"}},"Hombre","00-04",{"$f":"'Pob x Genero'!#REF!","v":{"$error":"#REF!"}},164]
[{"$f":"'Pob x Genero'!#REF!","v":{"$error":"#REF!"}},{"$f":"'Pob x Genero'!#REF!","v":{"$error":"#REF!"}},{"$f":"'Pob x Genero'!#REF!","v":{"$error":"#REF!"}},{"$f":"'Pob x Genero'!#REF!","v":{"$error":"#REF!"}},{"$f":"'Pob x Genero'!#REF!","v":{"$error":"#REF!"}},"Hombre","00-04",{"$f":"'Pob x Genero'!#REF!","v":{"$error":"#REF!"}},165]
[{"$f":"'Pob x Genero'!#REF!","v":{"$error":"#REF!"}},{"$f":"'Pob x Genero'!#REF!","v":{"$error":"#REF!"}},{"$f":"'Pob x Genero'!#REF!","v":{"$error":"#REF!"}},{"$f":"'Pob x Genero'!#REF!","v":{"$error":"#REF!"}},{"$f":"'Pob x Genero'!#REF!","v":{"$error":"#REF!"}},"Hombre","00-04",{"$f":"'Pob x Genero'!#REF!","v":{"$error":"#REF!"}},166]
[{"$f":"'Pob x Genero'!#REF!","v":{"$error":"#REF!"}},{"$f":"'Pob x Genero'!#REF!","v":{"$error":"#REF!"}},{"$f":"'Pob x Genero'!#REF!","v":{"$error":"#REF!"}},{"$f":"'Pob x Genero'!#REF!","v":{"$error":"#REF!"}},{"$f":"'Pob x Genero'!#REF!","v":{"$error":"#REF!"}},"Hombre","00-04",{"$f":"'Pob x Genero'!#REF!","v":{"$error":"#REF!"}},167]
[{"$f":"'Pob x Genero'!#REF!","v":{"$error":"#REF!"}},{"$f":"'Pob x Genero'!#REF!","v":{"$error":"#REF!"}},{"$f":"'Pob x Genero'!#REF!","v":{"$error":"#REF!"}},{"$f":"'Pob x Genero'!#REF!","v":{"$error":"#REF!"}},{"$f":"'Pob x Genero'!#REF!","v":{"$error":"#REF!"}},"Hombre","00-04",{"$f":"'Pob x Genero'!#REF!","v":{"$error":"#REF!"}},168]
[{"$f":"'Pob x Genero'!#REF!","v":{"$error":"#REF!"}},{"$f":"'Pob x Genero'!#REF!","v":{"$error":"#REF!"}},{"$f":"'Pob x Genero'!#REF!","v":{"$error":"#REF!"}},{"$f":"'Pob x Genero'!#REF!","v":{"$error":"#REF!"}},{"$f":"'Pob x Genero'!#REF!","v":{"$error":"#REF!"}},"Hombre","00-04",{"$f":"'Pob x Genero'!#REF!","v":{"$error":"#REF!"}},169]
[{"$f":"'Pob x Genero'!#REF!","v":{"$error":"#REF!"}},{"$f":"'Pob x Genero'!#REF!","v":{"$error":"#REF!"}},{"$f":"'Pob x Genero'!#REF!","v":{"$error":"#REF!"}},{"$f":"'Pob x Genero'!#REF!","v":{"$error":"#REF!"}},{"$f":"'Pob x Genero'!#REF!","v":{"$error":"#REF!"}},"Hombre","00-04",{"$f":"'Pob x Genero'!#REF!","v":{"$error":"#REF!"}},170]
[{"$f":"'Pob x Genero'!#REF!","v":{"$error":"#REF!"}},{"$f":"'Pob x Genero'!#REF!","v":{"$error":"#REF!"}},{"$f":"'Pob x Genero'!#REF!","v":{"$error":"#REF!"}},{"$f":"'Pob x Genero'!#REF!","v":{"$error":"#REF!"}},{"$f":"'Pob x Genero'!#REF!","v":{"$error":"#REF!"}},"Hombre","00-04",{"$f":"'Pob x Genero'!#REF!","v":{"$error":"#REF!"}},171]
[{"$f":"'Pob x Genero'!#REF!","v":{"$error":"#REF!"}},{"$f":"'Pob x Genero'!#REF!","v":{"$error":"#REF!"}},{"$f":"'Pob x Genero'!#REF!","v":{"$error":"#REF!"}},{"$f":"'Pob x Genero'!#REF!","v":{"$error":"#REF!"}},{"$f":"'Pob x Genero'!#REF!","v":{"$error":"#REF!"}},"Hombre","00-04",{"$f":"'Pob x Genero'!#REF!","v":{"$error":"#REF!"}},172]
[{"$f":"'Pob x Genero'!#REF!","v":{"$error":"#REF!"}},{"$f":"'Pob x Genero'!#REF!","v":{"$error":"#REF!"}},{"$f":"'Pob x Genero'!#REF!","v":{"$error":"#REF!"}},{"$f":"'Pob x Genero'!#REF!","v":{"$error":"#REF!"}},{"$f":"'Pob x Genero'!#REF!","v":{"$error":"#REF!"}},"Hombre","00-04",{"$f":"'Pob x Genero'!#REF!","v":{"$error":"#REF!"}},173]
[{"$f":"'Pob x Genero'!#REF!","v":{"$error":"#REF!"}},{"$f":"'Pob x Genero'!#REF!","v":{"$error":"#REF!"}},{"$f":"'Pob x Genero'!#REF!","v":{"$error":"#REF!"}},{"$f":"'Pob x Genero'!#REF!","v":{"$error":"#REF!"}},{"$f":"'Pob x Genero'!#REF!","v":{"$error":"#REF!"}},"Hombre","00-04",{"$f":"'Pob x Genero'!#REF!","v":{"$error":"#REF!"}},174]
[{"$f":"'Pob x Genero'!#REF!","v":{"$error":"#REF!"}},{"$f":"'Pob x Genero'!#REF!","v":{"$error":"#REF!"}},{"$f":"'Pob x Genero'!#REF!","v":{"$error":"#REF!"}},{"$f":"'Pob x Genero'!#REF!","v":{"$error":"#REF!"}},{"$f":"'Pob x Genero'!#REF!","v":{"$error":"#REF!"}},"Hombre","00-04",{"$f":"'Pob x Genero'!#REF!","v":{"$error":"#REF!"}},175]
[{"$f":"'Pob x Genero'!#REF!","v":{"$error":"#REF!"}},{"$f":"'Pob x Genero'!#REF!","v":{"$error":"#REF!"}},{"$f":"'Pob x Genero'!#REF!","v":{"$error":"#REF!"}},{"$f":"'Pob x Genero'!#REF!","v":{"$error":"#REF!"}},{"$f":"'Pob x Genero'!#REF!","v":{"$error":"#REF!"}},"Hombre","00-04",{"$f":"'Pob x Genero'!#REF!","v":{"$error":"#REF!"}},176]
[{"$f":"'Pob x Genero'!#REF!","v":{"$error":"#REF!"}},{"$f":"'Pob x Genero'!#REF!","v":{"$error":"#REF!"}},{"$f":"'Pob x Genero'!#REF!","v":{"$error":"#REF!"}},{"$f":"'Pob x Genero'!#REF!","v":{"$error":"#REF!"}},{"$f":"'Pob x Genero'!#REF!","v":{"$error":"#REF!"}},"Hombre","00-04",{"$f":"'Pob x Genero'!#REF!","v":{"$error":"#REF!"}},177]
[{"$f":"'Pob x Genero'!#REF!","v":{"$error":"#REF!"}},{"$f":"'Pob x Genero'!#REF!","v":{"$error":"#REF!"}},{"$f":"'Pob x Genero'!#REF!","v":{"$error":"#REF!"}},{"$f":"'Pob x Genero'!#REF!","v":{"$error":"#REF!"}},{"$f":"'Pob x Genero'!#REF!","v":{"$error":"#REF!"}},"Hombre","00-04",{"$f":"'Pob x Genero'!#REF!","v":{"$error":"#REF!"}},178]
[{"$f":"'Pob x Genero'!#REF!","v":{"$error":"#REF!"}},{"$f":"'Pob x Genero'!#REF!","v":{"$error":"#REF!"}},{"$f":"'Pob x Genero'!#REF!","v":{"$error":"#REF!"}},{"$f":"'Pob x Genero'!#REF!","v":{"$error":"#REF!"}},{"$f":"'Pob x Genero'!#REF!","v":{"$error":"#REF!"}},"Hombre","00-04",{"$f":"'Pob x Genero'!#REF!","v":{"$error":"#REF!"}},179]
[{"$f":"'Pob x Genero'!#REF!","v":{"$error":"#REF!"}},{"$f":"'Pob x Genero'!#REF!","v":{"$error":"#REF!"}},{"$f":"'Pob x Genero'!#REF!","v":{"$error":"#REF!"}},{"$f":"'Pob x Genero'!#REF!","v":{"$error":"#REF!"}},{"$f":"'Pob x Genero'!#REF!","v":{"$error":"#REF!"}},"Hombre","00-04",{"$f":"'Pob x Genero'!#REF!","v":{"$error":"#REF!"}},180]
[{"$f":"'Pob x Genero'!#REF!","v":{"$error":"#REF!"}},{"$f":"'Pob x Genero'!#REF!","v":{"$error":"#REF!"}},{"$f":"'Pob x Genero'!#REF!","v":{"$error":"#REF!"}},{"$f":"'Pob x Genero'!#REF!","v":{"$error":"#REF!"}},{"$f":"'Pob x Genero'!#REF!","v":{"$error":"#REF!"}},"Hombre","00-04",{"$f":"'Pob x Genero'!#REF!","v":{"$error":"#REF!"}},181]
[{"$f":"'Pob x Genero'!#REF!","v":{"$error":"#REF!"}},{"$f":"'Pob x Genero'!#REF!","v":{"$error":"#REF!"}},{"$f":"'Pob x Genero'!#REF!","v":{"$error":"#REF!"}},{"$f":"'Pob x Genero'!#REF!","v":{"$error":"#REF!"}},{"$f":"'Pob x Genero'!#REF!","v":{"$error":"#REF!"}},"Hombre","00-04",{"$f":"'Pob x Genero'!#REF!","v":{"$error":"#REF!"}},182]
[{"$f":"'Pob x Genero'!#REF!","v":{"$error":"#REF!"}},{"$f":"'Pob x Genero'!#REF!","v":{"$error":"#REF!"}},{"$f":"'Pob x Genero'!#REF!","v":{"$error":"#REF!"}},{"$f":"'Pob x Genero'!#REF!","v":{"$error":"#REF!"}},{"$f":"'Pob x Genero'!#REF!","v":{"$error":"#REF!"}},"Hombre","00-04",{"$f":"'Pob x Genero'!#REF!","v":{"$error":"#REF!"}},183]
[{"$f":"'Pob x Genero'!#REF!","v":{"$error":"#REF!"}},{"$f":"'Pob x Genero'!#REF!","v":{"$error":"#REF!"}},{"$f":"'Pob x Genero'!#REF!","v":{"$error":"#REF!"}},{"$f":"'Pob x Genero'!#REF!","v":{"$error":"#REF!"}},{"$f":"'Pob x Genero'!#REF!","v":{"$error":"#REF!"}},"Hombre","00-04",{"$f":"'Pob x Genero'!#REF!","v":{"$error":"#REF!"}},184]
[{"$f":"'Pob x Genero'!#REF!","v":{"$error":"#REF!"}},{"$f":"'Pob x Genero'!#REF!","v":{"$error":"#REF!"}},{"$f":"'Pob x Genero'!#REF!","v":{"$error":"#REF!"}},{"$f":"'Pob x Genero'!#REF!","v":{"$error":"#REF!"}},{"$f":"'Pob x Genero'!#REF!","v":{"$error":"#REF!"}},"Hombre","00-04",{"$f":"'Pob x Genero'!#REF!","v":{"$error":"#REF!"}},185]
[{"$f":"'Pob x Genero'!#REF!","v":{"$error":"#REF!"}},{"$f":"'Pob x Genero'!#REF!","v":{"$error":"#REF!"}},{"$f":"'Pob x Genero'!#REF!","v":{"$error":"#REF!"}},{"$f":"'Pob x Genero'!#REF!","v":{"$error":"#REF!"}},{"$f":"'Pob x Genero'!#REF!","v":{"$error":"#REF!"}},"Hombre","00-04",{"$f":"'Pob x Genero'!#REF!","v":{"$error":"#REF!"}},186]
[{"$f":"'Pob x Genero'!#REF!","v":{"$error":"#REF!"}},{"$f":"'Pob x Genero'!#REF!","v":{"$error":"#REF!"}},{"$f":"'Pob x Genero'!#REF!","v":{"$error":"#REF!"}},{"$f":"'Pob x Genero'!#REF!","v":{"$error":"#REF!"}},{"$f":"'Pob x Genero'!#REF!","v":{"$error":"#REF!"}},"Hombre","00-04",{"$f":"'Pob x Genero'!#REF!","v":{"$error":"#REF!"}},187]
[{"$f":"'Pob x Genero'!#REF!","v":{"$error":"#REF!"}},{"$f":"'Pob x Genero'!#REF!","v":{"$error":"#REF!"}},{"$f":"'Pob x Genero'!#REF!","v":{"$error":"#REF!"}},{"$f":"'Pob x Genero'!#REF!","v":{"$error":"#REF!"}},{"$f":"'Pob x Genero'!#REF!","v":{"$error":"#REF!"}},"Hombre","00-04",{"$f":"'Pob x Genero'!#REF!","v":{"$error":"#REF!"}},188]
[{"$f":"'Pob x Genero'!#REF!","v":{"$error":"#REF!"}},{"$f":"'Pob x Genero'!#REF!","v":{"$error":"#REF!"}},{"$f":"'Pob x Genero'!#REF!","v":{"$error":"#REF!"}},{"$f":"'Pob x Genero'!#REF!","v":{"$error":"#REF!"}},{"$f":"'Pob x Genero'!#REF!","v":{"$error":"#REF!"}},"Hombre","00-04",{"$f":"'Pob x Genero'!#REF!","v":{"$error":"#REF!"}},189]
[{"$f":"'Pob x Genero'!#REF!","v":{"$error":"#REF!"}},{"$f":"'Pob x Genero'!#REF!","v":{"$error":"#REF!"}},{"$f":"'Pob x Genero'!#REF!","v":{"$error":"#REF!"}},{"$f":"'Pob x Genero'!#REF!","v":{"$error":"#REF!"}},{"$f":"'Pob x Genero'!#REF!","v":{"$error":"#REF!"}},"Hombre","00-04",{"$f":"'Pob x Genero'!#REF!","v":{"$error":"#REF!"}},190]
[{"$f":"'Pob x Genero'!#REF!","v":{"$error":"#REF!"}},{"$f":"'Pob x Genero'!#REF!","v":{"$error":"#REF!"}},{"$f":"'Pob x Genero'!#REF!","v":{"$error":"#REF!"}},{"$f":"'Pob x Genero'!#REF!","v":{"$error":"#REF!"}},{"$f":"'Pob x Genero'!#REF!","v":{"$error":"#REF!"}},"Hombre","00-04",{"$f":"'Pob x Genero'!#REF!","v":{"$error":"#REF!"}},191]
[{"$f":"'Pob x Genero'!#REF!","v":{"$error":"#REF!"}},{"$f":"'Pob x Genero'!#REF!","v":{"$error":"#REF!"}},{"$f":"'Pob x Genero'!#REF!","v":{"$error":"#REF!"}},{"$f":"'Pob x Genero'!#REF!","v":{"$error":"#REF!"}},{"$f":"'Pob x Genero'!#REF!","v":{"$error":"#REF!"}},"Hombre","00-04",{"$f":"'Pob x Genero'!#REF!","v":{"$error":"#REF!"}},192]
[{"$f":"'Pob x Genero'!#REF!","v":{"$error":"#REF!"}},{"$f":"'Pob x Genero'!#REF!","v":{"$error":"#REF!"}},{"$f":"'Pob x Genero'!#REF!","v":{"$error":"#REF!"}},{"$f":"'Pob x Genero'!#REF!","v":{"$error":"#REF!"}},{"$f":"'Pob x Genero'!#REF!","v":{"$error":"#REF!"}},"Hombre","00-04",{"$f":"'Pob x Genero'!#REF!","v":{"$error":"#REF!"}},193]
[{"$f":"'Pob x Genero'!#REF!","v":{"$error":"#REF!"}},{"$f":"'Pob x Genero'!#REF!","v":{"$error":"#REF!"}},{"$f":"'Pob x Genero'!#REF!","v":{"$error":"#REF!"}},{"$f":"'Pob x Genero'!#REF!","v":{"$error":"#REF!"}},{"$f":"'Pob x Genero'!#REF!","v":{"$error":"#REF!"}},{"$f":"F194","v":"Hombre"},{"$f":"G194","v":"00-04"},{"$f":"'Pob x Genero'!#REF!","v":{"$error":"#REF!"}},194]
[{"$f":"'Pob x Genero'!#REF!","v":{"$error":"#REF!"}},{"$f":"'Pob x Genero'!#REF!","v":{"$error":"#REF!"}},{"$f":"'Pob x Genero'!#REF!","v":{"$error":"#REF!"}},{"$f":"'Pob x Genero'!#REF!","v":{"$error":"#REF!"}},{"$f":"'Pob x Genero'!#REF!","v":{"$error":"#REF!"}},"Hombre","00-04",{"$f":"'Pob x Genero'!#REF!","v":{"$error":"#REF!"}},195]
[{"$f":"'Pob x Genero'!#REF!","v":{"$error":"#REF!"}},{"$f":"'Pob x Genero'!#REF!","v":{"$error":"#REF!"}},{"$f":"'Pob x Genero'!#REF!","v":{"$error":"#REF!"}},{"$f":"'Pob x Genero'!#REF!","v":{"$error":"#REF!"}},{"$f":"'Pob x Genero'!#REF!","v":{"$error":"#REF!"}},"Hombre","00-04",{"$f":"'Pob x Genero'!#REF!","v":{"$error":"#REF!"}},196]
[{"$f":"'Pob x Genero'!#REF!","v":{"$error":"#REF!"}},{"$f":"'Pob x Genero'!#REF!","v":{"$error":"#REF!"}},{"$f":"'Pob x Genero'!#REF!","v":{"$error":"#REF!"}},{"$f":"'Pob x Genero'!#REF!","v":{"$error":"#REF!"}},{"$f":"'Pob x Genero'!#REF!","v":{"$error":"#REF!"}},"Hombre","00-04",{"$f":"'Pob x Genero'!#REF!","v":{"$error":"#REF!"}},197]
[{"$f":"'Pob x Genero'!#REF!","v":{"$error":"#REF!"}},{"$f":"'Pob x Genero'!#REF!","v":{"$error":"#REF!"}},{"$f":"'Pob x Genero'!#REF!","v":{"$error":"#REF!"}},{"$f":"'Pob x Genero'!#REF!","v":{"$error":"#REF!"}},{"$f":"'Pob x Genero'!#REF!","v":{"$error":"#REF!"}},"Hombre","00-04",{"$f":"'Pob x Genero'!#REF!","v":{"$error":"#REF!"}},198]
[{"$f":"'Pob x Genero'!#REF!","v":{"$error":"#REF!"}},{"$f":"'Pob x Genero'!#REF!","v":{"$error":"#REF!"}},{"$f":"'Pob x Genero'!#REF!","v":{"$error":"#REF!"}},{"$f":"'Pob x Genero'!#REF!","v":{"$error":"#REF!"}},{"$f":"'Pob x Genero'!#REF!","v":{"$error":"#REF!"}},"Hombre","00-04",{"$f":"'Pob x Genero'!#REF!","v":{"$error":"#REF!"}},199]
[{"$f":"'Pob x Genero'!#REF!","v":{"$error":"#REF!"}},{"$f":"'Pob x Genero'!#REF!","v":{"$error":"#REF!"}},{"$f":"'Pob x Genero'!#REF!","v":{"$error":"#REF!"}},{"$f":"'Pob x Genero'!#REF!","v":{"$error":"#REF!"}},{"$f":"'Pob x Genero'!#REF!","v":{"$error":"#REF!"}},"Hombre","00-04",{"$f":"'Pob x Genero'!#REF!","v":{"$error":"#REF!"}},200]
[{"$f":"'Pob x Genero'!#REF!","v":{"$error":"#REF!"}},{"$f":"'Pob x Genero'!#REF!","v":{"$error":"#REF!"}},{"$f":"'Pob x Genero'!#REF!","v":{"$error":"#REF!"}},{"$f":"'Pob x Genero'!#REF!","v":{"$error":"#REF!"}},{"$f":"'Pob x Genero'!#REF!","v":{"$error":"#REF!"}},"Hombre","00-04",{"$f":"'Pob x Genero'!#REF!","v":{"$error":"#REF!"}},201]
[{"$f":"'Pob x Genero'!#REF!","v":{"$error":"#REF!"}},{"$f":"'Pob x Genero'!#REF!","v":{"$error":"#REF!"}},{"$f":"'Pob x Genero'!#REF!","v":{"$error":"#REF!"}},{"$f":"'Pob x Genero'!#REF!","v":{"$error":"#REF!"}},{"$f":"'Pob x Genero'!#REF!","v":{"$error":"#REF!"}},"Hombre","00-04",{"$f":"'Pob x Genero'!#REF!","v":{"$error":"#REF!"}},202]
[{"$f":"'Pob x Genero'!#REF!","v":{"$error":"#REF!"}},{"$f":"'Pob x Genero'!#REF!","v":{"$error":"#REF!"}},{"$f":"'Pob x Genero'!#REF!","v":{"$error":"#REF!"}},{"$f":"'Pob x Genero'!#REF!","v":{"$error":"#REF!"}},{"$f":"'Pob x Genero'!#REF!","v":{"$error":"#REF!"}},"Hombre","00-04",{"$f":"'Pob x Genero'!#REF!","v":{"$error":"#REF!"}},203]
[{"$f":"'Pob x Genero'!#REF!","v":{"$error":"#REF!"}},{"$f":"'Pob x Genero'!#REF!","v":{"$error":"#REF!"}},{"$f":"'Pob x Genero'!#REF!","v":{"$error":"#REF!"}},{"$f":"'Pob x Genero'!#REF!","v":{"$error":"#REF!"}},{"$f":"'Pob x Genero'!#REF!","v":{"$error":"#REF!"}},"Hombre","00-04",{"$f":"'Pob x Genero'!#REF!","v":{"$error":"#REF!"}},204]
[{"$f":"'Pob x Genero'!#REF!","v":{"$error":"#REF!"}},{"$f":"'Pob x Genero'!#REF!","v":{"$error":"#REF!"}},{"$f":"'Pob x Genero'!#REF!","v":{"$error":"#REF!"}},{"$f":"'Pob x Genero'!#REF!","v":{"$error":"#REF!"}},{"$f":"'Pob x Genero'!#REF!","v":{"$error":"#REF!"}},"Hombre","00-04",{"$f":"'Pob x Genero'!#REF!","v":{"$error":"#REF!"}},205]
[{"$f":"'Pob x Genero'!#REF!","v":{"$error":"#REF!"}},{"$f":"'Pob x Genero'!#REF!","v":{"$error":"#REF!"}},{"$f":"'Pob x Genero'!#REF!","v":{"$error":"#REF!"}},{"$f":"'Pob x Genero'!#REF!","v":{"$error":"#REF!"}},{"$f":"'Pob x Genero'!#REF!","v":{"$error":"#REF!"}},"Hombre","00-04",{"$f":"'Pob x Genero'!#REF!","v":{"$error":"#REF!"}},206]
[{"$f":"'Pob x Genero'!#REF!","v":{"$error":"#REF!"}},{"$f":"'Pob x Genero'!#REF!","v":{"$error":"#REF!"}},{"$f":"'Pob x Genero'!#REF!","v":{"$error":"#REF!"}},{"$f":"'Pob x Genero'!#REF!","v":{"$error":"#REF!"}},{"$f":"'Pob x Genero'!#REF!","v":{"$error":"#REF!"}},"Hombre","00-04",{"$f":"'Pob x Genero'!#REF!","v":{"$error":"#REF!"}},207]
[{"$f":"'Pob x Genero'!#REF!","v":{"$error":"#REF!"}},{"$f":"'Pob x Genero'!#REF!","v":{"$error":"#REF!"}},{"$f":"'Pob x Genero'!#REF!","v":{"$error":"#REF!"}},{"$f":"'Pob x Genero'!#REF!","v":{"$error":"#REF!"}},{"$f":"'Pob x Genero'!#REF!","v":{"$error":"#REF!"}},"Hombre","00-04",{"$f":"'Pob x Genero'!#REF!","v":{"$error":"#REF!"}},208]
[{"$f":"'Pob x Genero'!#REF!","v":{"$error":"#REF!"}},{"$f":"'Pob x Genero'!#REF!","v":{"$error":"#REF!"}},{"$f":"'Pob x Genero'!#REF!","v":{"$error":"#REF!"}},{"$f":"'Pob x Genero'!#REF!","v":{"$error":"#REF!"}},{"$f":"'Pob x Genero'!#REF!","v":{"$error":"#REF!"}},"Hombre","00-04",{"$f":"'Pob x Genero'!#REF!","v":{"$error":"#REF!"}},209]
[{"$f":"'Pob x Genero'!#REF!","v":{"$error":"#REF!"}},{"$f":"'Pob x Genero'!#REF!","v":{"$error":"#REF!"}},{"$f":"'Pob x Genero'!#REF!","v":{"$error":"#REF!"}},{"$f":"'Pob x Genero'!#REF!","v":{"$error":"#REF!"}},{"$f":"'Pob x Genero'!#REF!","v":{"$error":"#REF!"}},"Hombre","00-04",{"$f":"'Pob x Genero'!#REF!","v":{"$error":"#REF!"}},210]
[{"$f":"'Pob x Genero'!#REF!","v":{"$error":"#REF!"}},{"$f":"'Pob x Genero'!#REF!","v":{"$error":"#REF!"}},{"$f":"'Pob x Genero'!#REF!","v":{"$error":"#REF!"}},{"$f":"'Pob x Genero'!#REF!","v":{"$error":"#REF!"}},{"$f":"'Pob x Genero'!#REF!","v":{"$error":"#REF!"}},"Hombre","00-04",{"$f":"'Pob x Genero'!#REF!","v":{"$error":"#REF!"}},211]
[{"$f":"'Pob x Genero'!#REF!","v":{"$error":"#REF!"}},{"$f":"'Pob x Genero'!#REF!","v":{"$error":"#REF!"}},{"$f":"'Pob x Genero'!#REF!","v":{"$error":"#REF!"}},{"$f":"'Pob x Genero'!#REF!","v":{"$error":"#REF!"}},{"$f":"'Pob x Genero'!#REF!","v":{"$error":"#REF!"}},"Hombre","00-04",{"$f":"'Pob x Genero'!#REF!","v":{"$error":"#REF!"}},212]
[{"$f":"'Pob x Genero'!#REF!","v":{"$error":"#REF!"}},{"$f":"'Pob x Genero'!#REF!","v":{"$error":"#REF!"}},{"$f":"'Pob x Genero'!#REF!","v":{"$error":"#REF!"}},{"$f":"'Pob x Genero'!#REF!","v":{"$error":"#REF!"}},{"$f":"'Pob x Genero'!#REF!","v":{"$error":"#REF!"}},"Hombre","00-04",{"$f":"'Pob x Genero'!#REF!","v":{"$error":"#REF!"}},213]
[{"$f":"'Pob x Genero'!#REF!","v":{"$error":"#REF!"}},{"$f":"'Pob x Genero'!#REF!","v":{"$error":"#REF!"}},{"$f":"'Pob x Genero'!#REF!","v":{"$error":"#REF!"}},{"$f":"'Pob x Genero'!#REF!","v":{"$error":"#REF!"}},{"$f":"'Pob x Genero'!#REF!","v":{"$error":"#REF!"}},"Hombre","00-04",{"$f":"'Pob x Genero'!#REF!","v":{"$error":"#REF!"}},214]
[{"$f":"'Pob x Genero'!#REF!","v":{"$error":"#REF!"}},{"$f":"'Pob x Genero'!#REF!","v":{"$error":"#REF!"}},{"$f":"'Pob x Genero'!#REF!","v":{"$error":"#REF!"}},{"$f":"'Pob x Genero'!#REF!","v":{"$error":"#REF!"}},{"$f":"'Pob x Genero'!#REF!","v":{"$error":"#REF!"}},"Hombre","00-04",{"$f":"'Pob x Genero'!#REF!","v":{"$error":"#REF!"}},215]
[{"$f":"'Pob x Genero'!#REF!","v":{"$error":"#REF!"}},{"$f":"'Pob x Genero'!#REF!","v":{"$error":"#REF!"}},{"$f":"'Pob x Genero'!#REF!","v":{"$error":"#REF!"}},{"$f":"'Pob x Genero'!#REF!","v":{"$error":"#REF!"}},{"$f":"'Pob x Genero'!#REF!","v":{"$error":"#REF!"}},"Hombre","00-04",{"$f":"'Pob x Genero'!#REF!","v":{"$error":"#REF!"}},216]
[{"$f":"'Pob x Genero'!#REF!","v":{"$error":"#REF!"}},{"$f":"'Pob x Genero'!#REF!","v":{"$error":"#REF!"}},{"$f":"'Pob x Genero'!#REF!","v":{"$error":"#REF!"}},{"$f":"'Pob x Genero'!#REF!","v":{"$error":"#REF!"}},{"$f":"'Pob x Genero'!#REF!","v":{"$error":"#REF!"}},"Hombre","00-04",{"$f":"'Pob x Genero'!#REF!","v":{"$error":"#REF!"}},217]
[{"$f":"'Pob x Genero'!#REF!","v":{"$error":"#REF!"}},{"$f":"'Pob x Genero'!#REF!","v":{"$error":"#REF!"}},{"$f":"'Pob x Genero'!#REF!","v":{"$error":"#REF!"}},{"$f":"'Pob x Genero'!#REF!","v":{"$error":"#REF!"}},{"$f":"'Pob x Genero'!#REF!","v":{"$error":"#REF!"}},"Hombre","00-04",{"$f":"'Pob x Genero'!#REF!","v":{"$error":"#REF!"}},218]
[{"$f":"'Pob x Genero'!#REF!","v":{"$error":"#REF!"}},{"$f":"'Pob x Genero'!#REF!","v":{"$error":"#REF!"}},{"$f":"'Pob x Genero'!#REF!","v":{"$error":"#REF!"}},{"$f":"'Pob x Genero'!#REF!","v":{"$error":"#REF!"}},{"$f":"'Pob x Genero'!#REF!","v":{"$error":"#REF!"}},"Hombre","00-04",{"$f":"'Pob x Genero'!#REF!","v":{"$error":"#REF!"}},219]
[{"$f":"'Pob x Genero'!#REF!","v":{"$error":"#REF!"}},{"$f":"'Pob x Genero'!#REF!","v":{"$error":"#REF!"}},{"$f":"'Pob x Genero'!#REF!","v":{"$error":"#REF!"}},{"$f":"'Pob x Genero'!#REF!","v":{"$error":"#REF!"}},{"$f":"'Pob x Genero'!#REF!","v":{"$error":"#REF!"}},"Hombre","00-04",{"$f":"'Pob x Genero'!#REF!","v":{"$error":"#REF!"}},220]
[{"$f":"'Pob x Genero'!#REF!","v":{"$error":"#REF!"}},{"$f":"'Pob x Genero'!#REF!","v":{"$error":"#REF!"}},{"$f":"'Pob x Genero'!#REF!","v":{"$error":"#REF!"}},{"$f":"'Pob x Genero'!#REF!","v":{"$error":"#REF!"}},{"$f":"'Pob x Genero'!#REF!","v":{"$error":"#REF!"}},"Hombre","00-04",{"$f":"'Pob x Genero'!#REF!","v":{"$error":"#REF!"}},221]
[{"$f":"'Pob x Genero'!#REF!","v":{"$error":"#REF!"}},{"$f":"'Pob x Genero'!#REF!","v":{"$error":"#REF!"}},{"$f":"'Pob x Genero'!#REF!","v":{"$error":"#REF!"}},{"$f":"'Pob x Genero'!#REF!","v":{"$error":"#REF!"}},{"$f":"'Pob x Genero'!#REF!","v":{"$error":"#REF!"}},"Hombre","00-04",{"$f":"'Pob x Genero'!#REF!","v":{"$error":"#REF!"}},222]
[{"$f":"'Pob x Genero'!#REF!","v":{"$error":"#REF!"}},{"$f":"'Pob x Genero'!#REF!","v":{"$error":"#REF!"}},{"$f":"'Pob x Genero'!#REF!","v":{"$error":"#REF!"}},{"$f":"'Pob x Genero'!#REF!","v":{"$error":"#REF!"}},{"$f":"'Pob x Genero'!#REF!","v":{"$error":"#REF!"}},"Hombre","00-04",{"$f":"'Pob x Genero'!#REF!","v":{"$error":"#REF!"}},223]
[{"$f":"'Pob x Genero'!#REF!","v":{"$error":"#REF!"}},{"$f":"'Pob x Genero'!#REF!","v":{"$error":"#REF!"}},{"$f":"'Pob x Genero'!#REF!","v":{"$error":"#REF!"}},{"$f":"'Pob x Genero'!#REF!","v":{"$error":"#REF!"}},{"$f":"'Pob x Genero'!#REF!","v":{"$error":"#REF!"}},"Hombre","00-04",{"$f":"'Pob x Genero'!#REF!","v":{"$error":"#REF!"}},224]
[{"$f":"'Pob x Genero'!#REF!","v":{"$error":"#REF!"}},{"$f":"'Pob x Genero'!#REF!","v":{"$error":"#REF!"}},{"$f":"'Pob x Genero'!#REF!","v":{"$error":"#REF!"}},{"$f":"'Pob x Genero'!#REF!","v":{"$error":"#REF!"}},{"$f":"'Pob x Genero'!#REF!","v":{"$error":"#REF!"}},"Hombre","00-04",{"$f":"'Pob x Genero'!#REF!","v":{"$error":"#REF!"}},225]
[{"$f":"'Pob x Genero'!#REF!","v":{"$error":"#REF!"}},{"$f":"'Pob x Genero'!#REF!","v":{"$error":"#REF!"}},{"$f":"'Pob x Genero'!#REF!","v":{"$error":"#REF!"}},{"$f":"'Pob x Genero'!#REF!","v":{"$error":"#REF!"}},{"$f":"'Pob x Genero'!#REF!","v":{"$error":"#REF!"}},"Hombre","00-04",{"$f":"'Pob x Genero'!#REF!","v":{"$error":"#REF!"}},226]
[{"$f":"'Pob x Genero'!#REF!","v":{"$error":"#REF!"}},{"$f":"'Pob x Genero'!#REF!","v":{"$error":"#REF!"}},{"$f":"'Pob x Genero'!#REF!","v":{"$error":"#REF!"}},{"$f":"'Pob x Genero'!#REF!","v":{"$error":"#REF!"}},{"$f":"'Pob x Genero'!#REF!","v":{"$error":"#REF!"}},"Hombre","00-04",{"$f":"'Pob x Genero'!#REF!","v":{"$error":"#REF!"}},227]
[{"$f":"'Pob x Genero'!#REF!","v":{"$error":"#REF!"}},{"$f":"'Pob x Genero'!#REF!","v":{"$error":"#REF!"}},{"$f":"'Pob x Genero'!#REF!","v":{"$error":"#REF!"}},{"$f":"'Pob x Genero'!#REF!","v":{"$error":"#REF!"}},{"$f":"'Pob x Genero'!#REF!","v":{"$error":"#REF!"}},"Hombre","00-04",{"$f":"'Pob x Genero'!#REF!","v":{"$error":"#REF!"}},228]
[{"$f":"'Pob x Genero'!#REF!","v":{"$error":"#REF!"}},{"$f":"'Pob x Genero'!#REF!","v":{"$error":"#REF!"}},{"$f":"'Pob x Genero'!#REF!","v":{"$error":"#REF!"}},{"$f":"'Pob x Genero'!#REF!","v":{"$error":"#REF!"}},{"$f":"'Pob x Genero'!#REF!","v":{"$error":"#REF!"}},"Hombre","00-04",{"$f":"'Pob x Genero'!#REF!","v":{"$error":"#REF!"}},229]
[{"$f":"'Pob x Genero'!#REF!","v":{"$error":"#REF!"}},{"$f":"'Pob x Genero'!#REF!","v":{"$error":"#REF!"}},{"$f":"'Pob x Genero'!#REF!","v":{"$error":"#REF!"}},{"$f":"'Pob x Genero'!#REF!","v":{"$error":"#REF!"}},{"$f":"'Pob x Genero'!#REF!","v":{"$error":"#REF!"}},"Hombre","00-04",{"$f":"'Pob x Genero'!#REF!","v":{"$error":"#REF!"}},230]
[{"$f":"'Pob x Genero'!#REF!","v":{"$error":"#REF!"}},{"$f":"'Pob x Genero'!#REF!","v":{"$error":"#REF!"}},{"$f":"'Pob x Genero'!#REF!","v":{"$error":"#REF!"}},{"$f":"'Pob x Genero'!#REF!","v":{"$error":"#REF!"}},{"$f":"'Pob x Genero'!#REF!","v":{"$error":"#REF!"}},"Hombre","00-04",{"$f":"'Pob x Genero'!#REF!","v":{"$error":"#REF!"}},231]
[{"$f":"'Pob x Genero'!#REF!","v":{"$error":"#REF!"}},{"$f":"'Pob x Genero'!#REF!","v":{"$error":"#REF!"}},{"$f":"'Pob x Genero'!#REF!","v":{"$error":"#REF!"}},{"$f":"'Pob x Genero'!#REF!","v":{"$error":"#REF!"}},{"$f":"'Pob x Genero'!#REF!","v":{"$error":"#REF!"}},"Hombre","00-04",{"$f":"'Pob x Genero'!#REF!","v":{"$error":"#REF!"}},232]
[{"$f":"'Pob x Genero'!#REF!","v":{"$error":"#REF!"}},{"$f":"'Pob x Genero'!#REF!","v":{"$error":"#REF!"}},{"$f":"'Pob x Genero'!#REF!","v":{"$error":"#REF!"}},{"$f":"'Pob x Genero'!#REF!","v":{"$error":"#REF!"}},{"$f":"'Pob x Genero'!#REF!","v":{"$error":"#REF!"}},"Hombre","00-04",{"$f":"'Pob x Genero'!#REF!","v":{"$error":"#REF!"}},233]
[{"$f":"'Pob x Genero'!#REF!","v":{"$error":"#REF!"}},{"$f":"'Pob x Genero'!#REF!","v":{"$error":"#REF!"}},{"$f":"'Pob x Genero'!#REF!","v":{"$error":"#REF!"}},{"$f":"'Pob x Genero'!#REF!","v":{"$error":"#REF!"}},{"$f":"'Pob x Genero'!#REF!","v":{"$error":"#REF!"}},"Hombre","00-04",{"$f":"'Pob x Genero'!#REF!","v":{"$error":"#REF!"}},234]
[{"$f":"'Pob x Genero'!#REF!","v":{"$error":"#REF!"}},{"$f":"'Pob x Genero'!#REF!","v":{"$error":"#REF!"}},{"$f":"'Pob x Genero'!#REF!","v":{"$error":"#REF!"}},{"$f":"'Pob x Genero'!#REF!","v":{"$error":"#REF!"}},{"$f":"'Pob x Genero'!#REF!","v":{"$error":"#REF!"}},"Hombre","00-04",{"$f":"'Pob x Genero'!#REF!","v":{"$error":"#REF!"}},235]
[{"$f":"'Pob x Genero'!#REF!","v":{"$error":"#REF!"}},{"$f":"'Pob x Genero'!#REF!","v":{"$error":"#REF!"}},{"$f":"'Pob x Genero'!#REF!","v":{"$error":"#REF!"}},{"$f":"'Pob x Genero'!#REF!","v":{"$error":"#REF!"}},{"$f":"'Pob x Genero'!#REF!","v":{"$error":"#REF!"}},"Hombre","00-04",{"$f":"'Pob x Genero'!#REF!","v":{"$error":"#REF!"}},236]
[{"$f":"'Pob x Genero'!#REF!","v":{"$error":"#REF!"}},{"$f":"'Pob x Genero'!#REF!","v":{"$error":"#REF!"}},{"$f":"'Pob x Genero'!#REF!","v":{"$error":"#REF!"}},{"$f":"'Pob x Genero'!#REF!","v":{"$error":"#REF!"}},{"$f":"'Pob x Genero'!#REF!","v":{"$error":"#REF!"}},"Hombre","00-04",{"$f":"'Pob x Genero'!#REF!","v":{"$error":"#REF!"}},237]
[{"$f":"'Pob x Genero'!#REF!","v":{"$error":"#REF!"}},{"$f":"'Pob x Genero'!#REF!","v":{"$error":"#REF!"}},{"$f":"'Pob x Genero'!#REF!","v":{"$error":"#REF!"}},{"$f":"'Pob x Genero'!#REF!","v":{"$error":"#REF!"}},{"$f":"'Pob x Genero'!#REF!","v":{"$error":"#REF!"}},"Hombre","00-04",{"$f":"'Pob x Genero'!#REF!","v":{"$error":"#REF!"}},238]
[{"$f":"'Pob x Genero'!#REF!","v":{"$error":"#REF!"}},{"$f":"'Pob x Genero'!#REF!","v":{"$error":"#REF!"}},{"$f":"'Pob x Genero'!#REF!","v":{"$error":"#REF!"}},{"$f":"'Pob x Genero'!#REF!","v":{"$error":"#REF!"}},{"$f":"'Pob x Genero'!#REF!","v":{"$error":"#REF!"}},"Hombre","00-04",{"$f":"'Pob x Genero'!#REF!","v":{"$error":"#REF!"}},239]
[{"$f":"'Pob x Genero'!#REF!","v":{"$error":"#REF!"}},{"$f":"'Pob x Genero'!#REF!","v":{"$error":"#REF!"}},{"$f":"'Pob x Genero'!#REF!","v":{"$error":"#REF!"}},{"$f":"'Pob x Genero'!#REF!","v":{"$error":"#REF!"}},{"$f":"'Pob x Genero'!#REF!","v":{"$error":"#REF!"}},"Hombre","00-04",{"$f":"'Pob x Genero'!#REF!","v":{"$error":"#REF!"}},240]
[{"$f":"'Pob x Genero'!#REF!","v":{"$error":"#REF!"}},{"$f":"'Pob x Genero'!#REF!","v":{"$error":"#REF!"}},{"$f":"'Pob x Genero'!#REF!","v":{"$error":"#REF!"}},{"$f":"'Pob x Genero'!#REF!","v":{"$error":"#REF!"}},{"$f":"'Pob x Genero'!#REF!","v":{"$error":"#REF!"}},"Hombre","00-04",{"$f":"'Pob x Genero'!#REF!","v":{"$error":"#REF!"}},241]
[{"$f":"'Pob x Genero'!#REF!","v":{"$error":"#REF!"}},{"$f":"'Pob x Genero'!#REF!","v":{"$error":"#REF!"}},{"$f":"'Pob x Genero'!#REF!","v":{"$error":"#REF!"}},{"$f":"'Pob x Genero'!#REF!","v":{"$error":"#REF!"}},{"$f":"'Pob x Genero'!#REF!","v":{"$error":"#REF!"}},"Hombre","00-04",{"$f":"'Pob x Genero'!#REF!","v":{"$error":"#REF!"}},242]
[{"$f":"'Pob x Genero'!#REF!","v":{"$error":"#REF!"}},{"$f":"'Pob x Genero'!#REF!","v":{"$error":"#REF!"}},{"$f":"'Pob x Genero'!#REF!","v":{"$error":"#REF!"}},{"$f":"'Pob x Genero'!#REF!","v":{"$error":"#REF!"}},{"$f":"'Pob x Genero'!#REF!","v":{"$error":"#REF!"}},"Hombre","00-04",{"$f":"'Pob x Genero'!#REF!","v":{"$error":"#REF!"}},243]
[{"$f":"'Pob x Genero'!#REF!","v":{"$error":"#REF!"}},{"$f":"'Pob x Genero'!#REF!","v":{"$error":"#REF!"}},{"$f":"'Pob x Genero'!#REF!","v":{"$error":"#REF!"}},{"$f":"'Pob x Genero'!#REF!","v":{"$error":"#REF!"}},{"$f":"'Pob x Genero'!#REF!","v":{"$error":"#REF!"}},"Hombre","00-04",{"$f":"'Pob x Genero'!#REF!","v":{"$error":"#REF!"}},244]
[{"$f":"'Pob x Genero'!#REF!","v":{"$error":"#REF!"}},{"$f":"'Pob x Genero'!#REF!","v":{"$error":"#REF!"}},{"$f":"'Pob x Genero'!#REF!","v":{"$error":"#REF!"}},{"$f":"'Pob x Genero'!#REF!","v":{"$error":"#REF!"}},{"$f":"'Pob x Genero'!#REF!","v":{"$error":"#REF!"}},"Hombre","00-04",{"$f":"'Pob x Genero'!#REF!","v":{"$error":"#REF!"}},245]
[{"$f":"'Pob x Genero'!#REF!","v":{"$error":"#REF!"}},{"$f":"'Pob x Genero'!#REF!","v":{"$error":"#REF!"}},{"$f":"'Pob x Genero'!#REF!","v":{"$error":"#REF!"}},{"$f":"'Pob x Genero'!#REF!","v":{"$error":"#REF!"}},{"$f":"'Pob x Genero'!#REF!","v":{"$error":"#REF!"}},"Hombre","00-04",{"$f":"'Pob x Genero'!#REF!","v":{"$error":"#REF!"}},246]
[{"$f":"'Pob x Genero'!#REF!","v":{"$error":"#REF!"}},{"$f":"'Pob x Genero'!#REF!","v":{"$error":"#REF!"}},{"$f":"'Pob x Genero'!#REF!","v":{"$error":"#REF!"}},{"$f":"'Pob x Genero'!#REF!","v":{"$error":"#REF!"}},{"$f":"'Pob x Genero'!#REF!","v":{"$error":"#REF!"}},"Hombre","00-04",{"$f":"'Pob x Genero'!#REF!","v":{"$error":"#REF!"}},247]
[{"$f":"'Pob x Genero'!#REF!","v":{"$error":"#REF!"}},{"$f":"'Pob x Genero'!#REF!","v":{"$error":"#REF!"}},{"$f":"'Pob x Genero'!#REF!","v":{"$error":"#REF!"}},{"$f":"'Pob x Genero'!#REF!","v":{"$error":"#REF!"}},{"$f":"'Pob x Genero'!#REF!","v":{"$error":"#REF!"}},"Hombre","00-04",{"$f":"'Pob x Genero'!#REF!","v":{"$error":"#REF!"}},248]
[{"$f":"'Pob x Genero'!#REF!","v":{"$error":"#REF!"}},{"$f":"'Pob x Genero'!#REF!","v":{"$error":"#REF!"}},{"$f":"'Pob x Genero'!#REF!","v":{"$error":"#REF!"}},{"$f":"'Pob x Genero'!#REF!","v":{"$error":"#REF!"}},{"$f":"'Pob x Genero'!#REF!","v":{"$error":"#REF!"}},"Hombre","00-04",{"$f":"'Pob x Genero'!#REF!","v":{"$error":"#REF!"}},249]
[{"$f":"'Pob x Genero'!#REF!","v":{"$error":"#REF!"}},{"$f":"'Pob x Genero'!#REF!","v":{"$error":"#REF!"}},{"$f":"'Pob x Genero'!#REF!","v":{"$error":"#REF!"}},{"$f":"'Pob x Genero'!#REF!","v":{"$error":"#REF!"}},{"$f":"'Pob x Genero'!#REF!","v":{"$error":"#REF!"}},"Hombre","00-04",{"$f":"'Pob x Genero'!#REF!","v":{"$error":"#REF!"}},250]
[{"$f":"'Pob x Genero'!#REF!","v":{"$error":"#REF!"}},{"$f":"'Pob x Genero'!#REF!","v":{"$error":"#REF!"}},{"$f":"'Pob x Genero'!#REF!","v":{"$error":"#REF!"}},{"$f":"'Pob x Genero'!#REF!","v":{"$error":"#REF!"}},{"$f":"'Pob x Genero'!#REF!","v":{"$error":"#REF!"}},"Hombre","00-04",{"$f":"'Pob x Genero'!#REF!","v":{"$error":"#REF!"}},251]
[{"$f":"'Pob x Genero'!#REF!","v":{"$error":"#REF!"}},{"$f":"'Pob x Genero'!#REF!","v":{"$error":"#REF!"}},{"$f":"'Pob x Genero'!#REF!","v":{"$error":"#REF!"}},{"$f":"'Pob x Genero'!#REF!","v":{"$error":"#REF!"}},{"$f":"'Pob x Genero'!#REF!","v":{"$error":"#REF!"}},"Hombre","00-04",{"$f":"'Pob x Genero'!#REF!","v":{"$error":"#REF!"}},252]
[{"$f":"'Pob x Genero'!#REF!","v":{"$error":"#REF!"}},{"$f":"'Pob x Genero'!#REF!","v":{"$error":"#REF!"}},{"$f":"'Pob x Genero'!#REF!","v":{"$error":"#REF!"}},{"$f":"'Pob x Genero'!#REF!","v":{"$error":"#REF!"}},{"$f":"'Pob x Genero'!#REF!","v":{"$error":"#REF!"}},"Hombre","00-04",{"$f":"'Pob x Genero'!#REF!","v":{"$error":"#REF!"}},253]
[{"$f":"'Pob x Genero'!#REF!","v":{"$error":"#REF!"}},{"$f":"'Pob x Genero'!#REF!","v":{"$error":"#REF!"}},{"$f":"'Pob x Genero'!#REF!","v":{"$error":"#REF!"}},{"$f":"'Pob x Genero'!#REF!","v":{"$error":"#REF!"}},{"$f":"'Pob x Genero'!#REF!","v":{"$error":"#REF!"}},"Hombre","00-04",{"$f":"'Pob x Genero'!#REF!","v":{"$error":"#REF!"}},254]
[{"$f":"'Pob x Genero'!#REF!","v":{"$error":"#REF!"}},{"$f":"'Pob x Genero'!#REF!","v":{"$error":"#REF!"}},{"$f":"'Pob x Genero'!#REF!","v":{"$error":"#REF!"}},{"$f":"'Pob x Genero'!#REF!","v":{"$error":"#REF!"}},{"$f":"'Pob x Genero'!#REF!","v":{"$error":"#REF!"}},"Hombre","00-04",{"$f":"'Pob x Genero'!#REF!","v":{"$error":"#REF!"}},255]
[{"$f":"'Pob x Genero'!#REF!","v":{"$error":"#REF!"}},{"$f":"'Pob x Genero'!#REF!","v":{"$error":"#REF!"}},{"$f":"'Pob x Genero'!#REF!","v":{"$error":"#REF!"}},{"$f":"'Pob x Genero'!#REF!","v":{"$error":"#REF!"}},{"$f":"'Pob x Genero'!#REF!","v":{"$error":"#REF!"}},"Hombre","00-04",{"$f":"'Pob x Genero'!#REF!","v":{"$error":"#REF!"}},256]
[{"$f":"'Pob x Genero'!#REF!","v":{"$error":"#REF!"}},{"$f":"'Pob x Genero'!#REF!","v":{"$error":"#REF!"}},{"$f":"'Pob x Genero'!#REF!","v":{"$error":"#REF!"}},{"$f":"'Pob x Genero'!#REF!","v":{"$error":"#REF!"}},{"$f":"'Pob x Genero'!#REF!","v":{"$error":"#REF!"}},"Hombre","00-04",{"$f":"'Pob x Genero'!#REF!","v":{"$error":"#REF!"}},257]
[{"$f":"'Pob x Genero'!#REF!","v":{"$error":"#REF!"}},{"$f":"'Pob x Genero'!#REF!","v":{"$error":"#REF!"}},{"$f":"'Pob x Genero'!#REF!","v":{"$error":"#REF!"}},{"$f":"'Pob x Genero'!#REF!","v":{"$error":"#REF!"}},{"$f":"'Pob x Genero'!#REF!","v":{"$error":"#REF!"}},{"$f":"F258","v":"Hombre"},{"$f":"G258","v":"00-04"},{"$f":"'Pob x Genero'!#REF!","v":{"$error":"#REF!"}},258]
[{"$f":"'Pob x Genero'!#REF!","v":{"$error":"#REF!"}},{"$f":"'Pob x Genero'!#REF!","v":{"$error":"#REF!"}},{"$f":"'Pob x Genero'!#REF!","v":{"$error":"#REF!"}},{"$f":"'Pob x Genero'!#REF!","v":{"$error":"#REF!"}},{"$f":"'Pob x Genero'!#REF!","v":{"$error":"#REF!"}},"Hombre","00-04",{"$f":"'Pob x Genero'!#REF!","v":{"$error":"#REF!"}},259]
[{"$f":"'Pob x Genero'!#REF!","v":{"$error":"#REF!"}},{"$f":"'Pob x Genero'!#REF!","v":{"$error":"#REF!"}},{"$f":"'Pob x Genero'!#REF!","v":{"$error":"#REF!"}},{"$f":"'Pob x Genero'!#REF!","v":{"$error":"#REF!"}},{"$f":"'Pob x Genero'!#REF!","v":{"$error":"#REF!"}},"Hombre","00-04",{"$f":"'Pob x Genero'!#REF!","v":{"$error":"#REF!"}},260]
[{"$f":"'Pob x Genero'!#REF!","v":{"$error":"#REF!"}},{"$f":"'Pob x Genero'!#REF!","v":{"$error":"#REF!"}},{"$f":"'Pob x Genero'!#REF!","v":{"$error":"#REF!"}},{"$f":"'Pob x Genero'!#REF!","v":{"$error":"#REF!"}},{"$f":"'Pob x Genero'!#REF!","v":{"$error":"#REF!"}},"Hombre","00-04",{"$f":"'Pob x Genero'!#REF!","v":{"$error":"#REF!"}},261]
[{"$f":"'Pob x Genero'!#REF!","v":{"$error":"#REF!"}},{"$f":"'Pob x Genero'!#REF!","v":{"$error":"#REF!"}},{"$f":"'Pob x Genero'!#REF!","v":{"$error":"#REF!"}},{"$f":"'Pob x Genero'!#REF!","v":{"$error":"#REF!"}},{"$f":"'Pob x Genero'!#REF!","v":{"$error":"#REF!"}},"Hombre","00-04",{"$f":"'Pob x Genero'!#REF!","v":{"$error":"#REF!"}},262]
[{"$f":"'Pob x Genero'!#REF!","v":{"$error":"#REF!"}},{"$f":"'Pob x Genero'!#REF!","v":{"$error":"#REF!"}},{"$f":"'Pob x Genero'!#REF!","v":{"$error":"#REF!"}},{"$f":"'Pob x Genero'!#REF!","v":{"$error":"#REF!"}},{"$f":"'Pob x Genero'!#REF!","v":{"$error":"#REF!"}},"Hombre","00-04",{"$f":"'Pob x Genero'!#REF!","v":{"$error":"#REF!"}},263]
[{"$f":"'Pob x Genero'!#REF!","v":{"$error":"#REF!"}},{"$f":"'Pob x Genero'!#REF!","v":{"$error":"#REF!"}},{"$f":"'Pob x Genero'!#REF!","v":{"$error":"#REF!"}},{"$f":"'Pob x Genero'!#REF!","v":{"$error":"#REF!"}},{"$f":"'Pob x Genero'!#REF!","v":{"$error":"#REF!"}},"Hombre","00-04",{"$f":"'Pob x Genero'!#REF!","v":{"$error":"#REF!"}},264]
[{"$f":"'Pob x Genero'!#REF!","v":{"$error":"#REF!"}},{"$f":"'Pob x Genero'!#REF!","v":{"$error":"#REF!"}},{"$f":"'Pob x Genero'!#REF!","v":{"$error":"#REF!"}},{"$f":"'Pob x Genero'!#REF!","v":{"$error":"#REF!"}},{"$f":"'Pob x Genero'!#REF!","v":{"$error":"#REF!"}},"Hombre","00-04",{"$f":"'Pob x Genero'!#REF!","v":{"$error":"#REF!"}},265]
[{"$f":"'Pob x Genero'!#REF!","v":{"$error":"#REF!"}},{"$f":"'Pob x Genero'!#REF!","v":{"$error":"#REF!"}},{"$f":"'Pob x Genero'!#REF!","v":{"$error":"#REF!"}},{"$f":"'Pob x Genero'!#REF!","v":{"$error":"#REF!"}},{"$f":"'Pob x Genero'!#REF!","v":{"$error":"#REF!"}},"Hombre","00-04",{"$f":"'Pob x Genero'!#REF!","v":{"$error":"#REF!"}},266]
[{"$f":"'Pob x Genero'!#REF!","v":{"$error":"#REF!"}},{"$f":"'Pob x Genero'!#REF!","v":{"$error":"#REF!"}},{"$f":"'Pob x Genero'!#REF!","v":{"$error":"#REF!"}},{"$f":"'Pob x Genero'!#REF!","v":{"$error":"#REF!"}},{"$f":"'Pob x Genero'!#REF!","v":{"$error":"#REF!"}},"Hombre","00-04",{"$f":"'Pob x Genero'!#REF!","v":{"$error":"#REF!"}},267]
[{"$f":"'Pob x Genero'!#REF!","v":{"$error":"#REF!"}},{"$f":"'Pob x Genero'!#REF!","v":{"$error":"#REF!"}},{"$f":"'Pob x Genero'!#REF!","v":{"$error":"#REF!"}},{"$f":"'Pob x Genero'!#REF!","v":{"$error":"#REF!"}},{"$f":"'Pob x Genero'!#REF!","v":{"$error":"#REF!"}},"Hombre","00-04",{"$f":"'Pob x Genero'!#REF!","v":{"$error":"#REF!"}},268]
[{"$f":"'Pob x Genero'!#REF!","v":{"$error":"#REF!"}},{"$f":"'Pob x Genero'!#REF!","v":{"$error":"#REF!"}},{"$f":"'Pob x Genero'!#REF!","v":{"$error":"#REF!"}},{"$f":"'Pob x Genero'!#REF!","v":{"$error":"#REF!"}},{"$f":"'Pob x Genero'!#REF!","v":{"$error":"#REF!"}},"Hombre","00-04",{"$f":"'Pob x Genero'!#REF!","v":{"$error":"#REF!"}},269]
[{"$f":"'Pob x Genero'!#REF!","v":{"$error":"#REF!"}},{"$f":"'Pob x Genero'!#REF!","v":{"$error":"#REF!"}},{"$f":"'Pob x Genero'!#REF!","v":{"$error":"#REF!"}},{"$f":"'Pob x Genero'!#REF!","v":{"$error":"#REF!"}},{"$f":"'Pob x Genero'!#REF!","v":{"$error":"#REF!"}},"Hombre","00-04",{"$f":"'Pob x Genero'!#REF!","v":{"$error":"#REF!"}},270]
[{"$f":"'Pob x Genero'!#REF!","v":{"$error":"#REF!"}},{"$f":"'Pob x Genero'!#REF!","v":{"$error":"#REF!"}},{"$f":"'Pob x Genero'!#REF!","v":{"$error":"#REF!"}},{"$f":"'Pob x Genero'!#REF!","v":{"$error":"#REF!"}},{"$f":"'Pob x Genero'!#REF!","v":{"$error":"#REF!"}},"Hombre","00-04",{"$f":"'Pob x Genero'!#REF!","v":{"$error":"#REF!"}},271]
[{"$f":"'Pob x Genero'!#REF!","v":{"$error":"#REF!"}},{"$f":"'Pob x Genero'!#REF!","v":{"$error":"#REF!"}},{"$f":"'Pob x Genero'!#REF!","v":{"$error":"#REF!"}},{"$f":"'Pob x Genero'!#REF!","v":{"$error":"#REF!"}},{"$f":"'Pob x Genero'!#REF!","v":{"$error":"#REF!"}},"Hombre","00-04",{"$f":"'Pob x Genero'!#REF!","v":{"$error":"#REF!"}},272]
[{"$f":"'Pob x Genero'!#REF!","v":{"$error":"#REF!"}},{"$f":"'Pob x Genero'!#REF!","v":{"$error":"#REF!"}},{"$f":"'Pob x Genero'!#REF!","v":{"$error":"#REF!"}},{"$f":"'Pob x Genero'!#REF!","v":{"$error":"#REF!"}},{"$f":"'Pob x Genero'!#REF!","v":{"$error":"#REF!"}},"Hombre","00-04",{"$f":"'Pob x Genero'!#REF!","v":{"$error":"#REF!"}},273]
[{"$f":"'Pob x Genero'!#REF!","v":{"$error":"#REF!"}},{"$f":"'Pob x Genero'!#REF!","v":{"$error":"#REF!"}},{"$f":"'Pob x Genero'!#REF!","v":{"$error":"#REF!"}},{"$f":"'Pob x Genero'!#REF!","v":{"$error":"#REF!"}},{"$f":"'Pob x Genero'!#REF!","v":{"$error":"#REF!"}},"Hombre","00-04",{"$f":"'Pob x Genero'!#REF!","v":{"$error":"#REF!"}},274]
[{"$f":"'Pob x Genero'!#REF!","v":{"$error":"#REF!"}},{"$f":"'Pob x Genero'!#REF!","v":{"$error":"#REF!"}},{"$f":"'Pob x Genero'!#REF!","v":{"$error":"#REF!"}},{"$f":"'Pob x Genero'!#REF!","v":{"$error":"#REF!"}},{"$f":"'Pob x Genero'!#REF!","v":{"$error":"#REF!"}},"Hombre","00-04",{"$f":"'Pob x Genero'!#REF!","v":{"$error":"#REF!"}},275]
[{"$f":"'Pob x Genero'!#REF!","v":{"$error":"#REF!"}},{"$f":"'Pob x Genero'!#REF!","v":{"$error":"#REF!"}},{"$f":"'Pob x Genero'!#REF!","v":{"$error":"#REF!"}},{"$f":"'Pob x Genero'!#REF!","v":{"$error":"#REF!"}},{"$f":"'Pob x Genero'!#REF!","v":{"$error":"#REF!"}},"Hombre","00-04",{"$f":"'Pob x Genero'!#REF!","v":{"$error":"#REF!"}},276]
[{"$f":"'Pob x Genero'!#REF!","v":{"$error":"#REF!"}},{"$f":"'Pob x Genero'!#REF!","v":{"$error":"#REF!"}},{"$f":"'Pob x Genero'!#REF!","v":{"$error":"#REF!"}},{"$f":"'Pob x Genero'!#REF!","v":{"$error":"#REF!"}},{"$f":"'Pob x Genero'!#REF!","v":{"$error":"#REF!"}},"Hombre","00-04",{"$f":"'Pob x Genero'!#REF!","v":{"$error":"#REF!"}},277]
[{"$f":"'Pob x Genero'!#REF!","v":{"$error":"#REF!"}},{"$f":"'Pob x Genero'!#REF!","v":{"$error":"#REF!"}},{"$f":"'Pob x Genero'!#REF!","v":{"$error":"#REF!"}},{"$f":"'Pob x Genero'!#REF!","v":{"$error":"#REF!"}},{"$f":"'Pob x Genero'!#REF!","v":{"$error":"#REF!"}},"Hombre","00-04",{"$f":"'Pob x Genero'!#REF!","v":{"$error":"#REF!"}},278]
[{"$f":"'Pob x Genero'!#REF!","v":{"$error":"#REF!"}},{"$f":"'Pob x Genero'!#REF!","v":{"$error":"#REF!"}},{"$f":"'Pob x Genero'!#REF!","v":{"$error":"#REF!"}},{"$f":"'Pob x Genero'!#REF!","v":{"$error":"#REF!"}},{"$f":"'Pob x Genero'!#REF!","v":{"$error":"#REF!"}},"Hombre","00-04",{"$f":"'Pob x Genero'!#REF!","v":{"$error":"#REF!"}},279]
[{"$f":"'Pob x Genero'!#REF!","v":{"$error":"#REF!"}},{"$f":"'Pob x Genero'!#REF!","v":{"$error":"#REF!"}},{"$f":"'Pob x Genero'!#REF!","v":{"$error":"#REF!"}},{"$f":"'Pob x Genero'!#REF!","v":{"$error":"#REF!"}},{"$f":"'Pob x Genero'!#REF!","v":{"$error":"#REF!"}},"Hombre","00-04",{"$f":"'Pob x Genero'!#REF!","v":{"$error":"#REF!"}},280]
[{"$f":"'Pob x Genero'!#REF!","v":{"$error":"#REF!"}},{"$f":"'Pob x Genero'!#REF!","v":{"$error":"#REF!"}},{"$f":"'Pob x Genero'!#REF!","v":{"$error":"#REF!"}},{"$f":"'Pob x Genero'!#REF!","v":{"$error":"#REF!"}},{"$f":"'Pob x Genero'!#REF!","v":{"$error":"#REF!"}},"Hombre","00-04",{"$f":"'Pob x Genero'!#REF!","v":{"$error":"#REF!"}},281]
[{"$f":"'Pob x Genero'!#REF!","v":{"$error":"#REF!"}},{"$f":"'Pob x Genero'!#REF!","v":{"$error":"#REF!"}},{"$f":"'Pob x Genero'!#REF!","v":{"$error":"#REF!"}},{"$f":"'Pob x Genero'!#REF!","v":{"$error":"#REF!"}},{"$f":"'Pob x Genero'!#REF!","v":{"$error":"#REF!"}},"Hombre","00-04",{"$f":"'Pob x Genero'!#REF!","v":{"$error":"#REF!"}},282]
[{"$f":"'Pob x Genero'!#REF!","v":{"$error":"#REF!"}},{"$f":"'Pob x Genero'!#REF!","v":{"$error":"#REF!"}},{"$f":"'Pob x Genero'!#REF!","v":{"$error":"#REF!"}},{"$f":"'Pob x Genero'!#REF!","v":{"$error":"#REF!"}},{"$f":"'Pob x Genero'!#REF!","v":{"$error":"#REF!"}},"Hombre","00-04",{"$f":"'Pob x Genero'!#REF!","v":{"$error":"#REF!"}},283]
[{"$f":"'Pob x Genero'!#REF!","v":{"$error":"#REF!"}},{"$f":"'Pob x Genero'!#REF!","v":{"$error":"#REF!"}},{"$f":"'Pob x Genero'!#REF!","v":{"$error":"#REF!"}},{"$f":"'Pob x Genero'!#REF!","v":{"$error":"#REF!"}},{"$f":"'Pob x Genero'!#REF!","v":{"$error":"#REF!"}},"Hombre","00-04",{"$f":"'Pob x Genero'!#REF!","v":{"$error":"#REF!"}},284]
[{"$f":"'Pob x Genero'!#REF!","v":{"$error":"#REF!"}},{"$f":"'Pob x Genero'!#REF!","v":{"$error":"#REF!"}},{"$f":"'Pob x Genero'!#REF!","v":{"$error":"#REF!"}},{"$f":"'Pob x Genero'!#REF!","v":{"$error":"#REF!"}},{"$f":"'Pob x Genero'!#REF!","v":{"$error":"#REF!"}},"Hombre","00-04",{"$f":"'Pob x Genero'!#REF!","v":{"$error":"#REF!"}},285]
[{"$f":"'Pob x Genero'!#REF!","v":{"$error":"#REF!"}},{"$f":"'Pob x Genero'!#REF!","v":{"$error":"#REF!"}},{"$f":"'Pob x Genero'!#REF!","v":{"$error":"#REF!"}},{"$f":"'Pob x Genero'!#REF!","v":{"$error":"#REF!"}},{"$f":"'Pob x Genero'!#REF!","v":{"$error":"#REF!"}},"Hombre","00-04",{"$f":"'Pob x Genero'!#REF!","v":{"$error":"#REF!"}},286]
[{"$f":"'Pob x Genero'!#REF!","v":{"$error":"#REF!"}},{"$f":"'Pob x Genero'!#REF!","v":{"$error":"#REF!"}},{"$f":"'Pob x Genero'!#REF!","v":{"$error":"#REF!"}},{"$f":"'Pob x Genero'!#REF!","v":{"$error":"#REF!"}},{"$f":"'Pob x Genero'!#REF!","v":{"$error":"#REF!"}},"Hombre","00-04",{"$f":"'Pob x Genero'!#REF!","v":{"$error":"#REF!"}},287]
[{"$f":"'Pob x Genero'!#REF!","v":{"$error":"#REF!"}},{"$f":"'Pob x Genero'!#REF!","v":{"$error":"#REF!"}},{"$f":"'Pob x Genero'!#REF!","v":{"$error":"#REF!"}},{"$f":"'Pob x Genero'!#REF!","v":{"$error":"#REF!"}},{"$f":"'Pob x Genero'!#REF!","v":{"$error":"#REF!"}},"Hombre","00-04",{"$f":"'Pob x Genero'!#REF!","v":{"$error":"#REF!"}},288]
[{"$f":"'Pob x Genero'!#REF!","v":{"$error":"#REF!"}},{"$f":"'Pob x Genero'!#REF!","v":{"$error":"#REF!"}},{"$f":"'Pob x Genero'!#REF!","v":{"$error":"#REF!"}},{"$f":"'Pob x Genero'!#REF!","v":{"$error":"#REF!"}},{"$f":"'Pob x Genero'!#REF!","v":{"$error":"#REF!"}},"Hombre","00-04",{"$f":"'Pob x Genero'!#REF!","v":{"$error":"#REF!"}},289]
[{"$f":"'Pob x Genero'!#REF!","v":{"$error":"#REF!"}},{"$f":"'Pob x Genero'!#REF!","v":{"$error":"#REF!"}},{"$f":"'Pob x Genero'!#REF!","v":{"$error":"#REF!"}},{"$f":"'Pob x Genero'!#REF!","v":{"$error":"#REF!"}},{"$f":"'Pob x Genero'!#REF!","v":{"$error":"#REF!"}},"Hombre","00-04",{"$f":"'Pob x Genero'!#REF!","v":{"$error":"#REF!"}},290]
[{"$f":"'Pob x Genero'!#REF!","v":{"$error":"#REF!"}},{"$f":"'Pob x Genero'!#REF!","v":{"$error":"#REF!"}},{"$f":"'Pob x Genero'!#REF!","v":{"$error":"#REF!"}},{"$f":"'Pob x Genero'!#REF!","v":{"$error":"#REF!"}},{"$f":"'Pob x Genero'!#REF!","v":{"$error":"#REF!"}},"Hombre","00-04",{"$f":"'Pob x Genero'!#REF!","v":{"$error":"#REF!"}},291]
[{"$f":"'Pob x Genero'!#REF!","v":{"$error":"#REF!"}},{"$f":"'Pob x Genero'!#REF!","v":{"$error":"#REF!"}},{"$f":"'Pob x Genero'!#REF!","v":{"$error":"#REF!"}},{"$f":"'Pob x Genero'!#REF!","v":{"$error":"#REF!"}},{"$f":"'Pob x Genero'!#REF!","v":{"$error":"#REF!"}},"Hombre","00-04",{"$f":"'Pob x Genero'!#REF!","v":{"$error":"#REF!"}},292]
[{"$f":"'Pob x Genero'!#REF!","v":{"$error":"#REF!"}},{"$f":"'Pob x Genero'!#REF!","v":{"$error":"#REF!"}},{"$f":"'Pob x Genero'!#REF!","v":{"$error":"#REF!"}},{"$f":"'Pob x Genero'!#REF!","v":{"$error":"#REF!"}},{"$f":"'Pob x Genero'!#REF!","v":{"$error":"#REF!"}},"Hombre","00-04",{"$f":"'Pob x Genero'!#REF!","v":{"$error":"#REF!"}},293]
[{"$f":"'Pob x Genero'!#REF!","v":{"$error":"#REF!"}},{"$f":"'Pob x Genero'!#REF!","v":{"$error":"#REF!"}},{"$f":"'Pob x Genero'!#REF!","v":{"$error":"#REF!"}},{"$f":"'Pob x Genero'!#REF!","v":{"$error":"#REF!"}},{"$f":"'Pob x Genero'!#REF!","v":{"$error":"#REF!"}},"Hombre","00-04",{"$f":"'Pob x Genero'!#REF!","v":{"$error":"#REF!"}},294]
[{"$f":"'Pob x Genero'!#REF!","v":{"$error":"#REF!"}},{"$f":"'Pob x Genero'!#REF!","v":{"$error":"#REF!"}},{"$f":"'Pob x Genero'!#REF!","v":{"$error":"#REF!"}},{"$f":"'Pob x Genero'!#REF!","v":{"$error":"#REF!"}},{"$f":"'Pob x Genero'!#REF!","v":{"$error":"#REF!"}},"Hombre","00-04",{"$f":"'Pob x Genero'!#REF!","v":{"$error":"#REF!"}},295]
[{"$f":"'Pob x Genero'!#REF!","v":{"$error":"#REF!"}},{"$f":"'Pob x Genero'!#REF!","v":{"$error":"#REF!"}},{"$f":"'Pob x Genero'!#REF!","v":{"$error":"#REF!"}},{"$f":"'Pob x Genero'!#REF!","v":{"$error":"#REF!"}},{"$f":"'Pob x Genero'!#REF!","v":{"$error":"#REF!"}},"Hombre","00-04",{"$f":"'Pob x Genero'!#REF!","v":{"$error":"#REF!"}},296]
[{"$f":"'Pob x Genero'!#REF!","v":{"$error":"#REF!"}},{"$f":"'Pob x Genero'!#REF!","v":{"$error":"#REF!"}},{"$f":"'Pob x Genero'!#REF!","v":{"$error":"#REF!"}},{"$f":"'Pob x Genero'!#REF!","v":{"$error":"#REF!"}},{"$f":"'Pob x Genero'!#REF!","v":{"$error":"#REF!"}},"Hombre","00-04",{"$f":"'Pob x Genero'!#REF!","v":{"$error":"#REF!"}},297]
[{"$f":"'Pob x Genero'!#REF!","v":{"$error":"#REF!"}},{"$f":"'Pob x Genero'!#REF!","v":{"$error":"#REF!"}},{"$f":"'Pob x Genero'!#REF!","v":{"$error":"#REF!"}},{"$f":"'Pob x Genero'!#REF!","v":{"$error":"#REF!"}},{"$f":"'Pob x Genero'!#REF!","v":{"$error":"#REF!"}},"Hombre","00-04",{"$f":"'Pob x Genero'!#REF!","v":{"$error":"#REF!"}},298]
[{"$f":"'Pob x Genero'!#REF!","v":{"$error":"#REF!"}},{"$f":"'Pob x Genero'!#REF!","v":{"$error":"#REF!"}},{"$f":"'Pob x Genero'!#REF!","v":{"$error":"#REF!"}},{"$f":"'Pob x Genero'!#REF!","v":{"$error":"#REF!"}},{"$f":"'Pob x Genero'!#REF!","v":{"$error":"#REF!"}},"Hombre","00-04",{"$f":"'Pob x Genero'!#REF!","v":{"$error":"#REF!"}},299]
[{"$f":"'Pob x Genero'!#REF!","v":{"$error":"#REF!"}},{"$f":"'Pob x Genero'!#REF!","v":{"$error":"#REF!"}},{"$f":"'Pob x Genero'!#REF!","v":{"$error":"#REF!"}},{"$f":"'Pob x Genero'!#REF!","v":{"$error":"#REF!"}},{"$f":"'Pob x Genero'!#REF!","v":{"$error":"#REF!"}},"Hombre","00-04",{"$f":"'Pob x Genero'!#REF!","v":{"$error":"#REF!"}},300]
[{"$f":"'Pob x Genero'!#REF!","v":{"$error":"#REF!"}},{"$f":"'Pob x Genero'!#REF!","v":{"$error":"#REF!"}},{"$f":"'Pob x Genero'!#REF!","v":{"$error":"#REF!"}},{"$f":"'Pob x Genero'!#REF!","v":{"$error":"#REF!"}},{"$f":"'Pob x Genero'!#REF!","v":{"$error":"#REF!"}},"Hombre","00-04",{"$f":"'Pob x Genero'!#REF!","v":{"$error":"#REF!"}},301]
[{"$f":"'Pob x Genero'!#REF!","v":{"$error":"#REF!"}},{"$f":"'Pob x Genero'!#REF!","v":{"$error":"#REF!"}},{"$f":"'Pob x Genero'!#REF!","v":{"$error":"#REF!"}},{"$f":"'Pob x Genero'!#REF!","v":{"$error":"#REF!"}},{"$f":"'Pob x Genero'!#REF!","v":{"$error":"#REF!"}},"Hombre","00-04",{"$f":"'Pob x Genero'!#REF!","v":{"$error":"#REF!"}},302]
[{"$f":"'Pob x Genero'!#REF!","v":{"$error":"#REF!"}},{"$f":"'Pob x Genero'!#REF!","v":{"$error":"#REF!"}},{"$f":"'Pob x Genero'!#REF!","v":{"$error":"#REF!"}},{"$f":"'Pob x Genero'!#REF!","v":{"$error":"#REF!"}},{"$f":"'Pob x Genero'!#REF!","v":{"$error":"#REF!"}},"Hombre","00-04",{"$f":"'Pob x Genero'!#REF!","v":{"$error":"#REF!"}},303]
[{"$f":"'Pob x Genero'!#REF!","v":{"$error":"#REF!"}},{"$f":"'Pob x Genero'!#REF!","v":{"$error":"#REF!"}},{"$f":"'Pob x Genero'!#REF!","v":{"$error":"#REF!"}},{"$f":"'Pob x Genero'!#REF!","v":{"$error":"#REF!"}},{"$f":"'Pob x Genero'!#REF!","v":{"$error":"#REF!"}},"Hombre","00-04",{"$f":"'Pob x Genero'!#REF!","v":{"$error":"#REF!"}},304]
[{"$f":"'Pob x Genero'!#REF!","v":{"$error":"#REF!"}},{"$f":"'Pob x Genero'!#REF!","v":{"$error":"#REF!"}},{"$f":"'Pob x Genero'!#REF!","v":{"$error":"#REF!"}},{"$f":"'Pob x Genero'!#REF!","v":{"$error":"#REF!"}},{"$f":"'Pob x Genero'!#REF!","v":{"$error":"#REF!"}},"Hombre","00-04",{"$f":"'Pob x Genero'!#REF!","v":{"$error":"#REF!"}},305]
[{"$f":"'Pob x Genero'!#REF!","v":{"$error":"#REF!"}},{"$f":"'Pob x Genero'!#REF!","v":{"$error":"#REF!"}},{"$f":"'Pob x Genero'!#REF!","v":{"$error":"#REF!"}},{"$f":"'Pob x Genero'!#REF!","v":{"$error":"#REF!"}},{"$f":"'Pob x Genero'!#REF!","v":{"$error":"#REF!"}},"Hombre","00-04",{"$f":"'Pob x Genero'!#REF!","v":{"$error":"#REF!"}},306]
[{"$f":"'Pob x Genero'!#REF!","v":{"$error":"#REF!"}},{"$f":"'Pob x Genero'!#REF!","v":{"$error":"#REF!"}},{"$f":"'Pob x Genero'!#REF!","v":{"$error":"#REF!"}},{"$f":"'Pob x Genero'!#REF!","v":{"$error":"#REF!"}},{"$f":"'Pob x Genero'!#REF!","v":{"$error":"#REF!"}},"Hombre","00-04",{"$f":"'Pob x Genero'!#REF!","v":{"$error":"#REF!"}},307]
[{"$f":"'Pob x Genero'!#REF!","v":{"$error":"#REF!"}},{"$f":"'Pob x Genero'!#REF!","v":{"$error":"#REF!"}},{"$f":"'Pob x Genero'!#REF!","v":{"$error":"#REF!"}},{"$f":"'Pob x Genero'!#REF!","v":{"$error":"#REF!"}},{"$f":"'Pob x Genero'!#REF!","v":{"$error":"#REF!"}},"Hombre","00-04",{"$f":"'Pob x Genero'!#REF!","v":{"$error":"#REF!"}},308]
[{"$f":"'Pob x Genero'!#REF!","v":{"$error":"#REF!"}},{"$f":"'Pob x Genero'!#REF!","v":{"$error":"#REF!"}},{"$f":"'Pob x Genero'!#REF!","v":{"$error":"#REF!"}},{"$f":"'Pob x Genero'!#REF!","v":{"$error":"#REF!"}},{"$f":"'Pob x Genero'!#REF!","v":{"$error":"#REF!"}},"Hombre","00-04",{"$f":"'Pob x Genero'!#REF!","v":{"$error":"#REF!"}},309]
[{"$f":"'Pob x Genero'!#REF!","v":{"$error":"#REF!"}},{"$f":"'Pob x Genero'!#REF!","v":{"$error":"#REF!"}},{"$f":"'Pob x Genero'!#REF!","v":{"$error":"#REF!"}},{"$f":"'Pob x Genero'!#REF!","v":{"$error":"#REF!"}},{"$f":"'Pob x Genero'!#REF!","v":{"$error":"#REF!"}},"Hombre","00-04",{"$f":"'Pob x Genero'!#REF!","v":{"$error":"#REF!"}},310]
[{"$f":"'Pob x Genero'!#REF!","v":{"$error":"#REF!"}},{"$f":"'Pob x Genero'!#REF!","v":{"$error":"#REF!"}},{"$f":"'Pob x Genero'!#REF!","v":{"$error":"#REF!"}},{"$f":"'Pob x Genero'!#REF!","v":{"$error":"#REF!"}},{"$f":"'Pob x Genero'!#REF!","v":{"$error":"#REF!"}},"Hombre","00-04",{"$f":"'Pob x Genero'!#REF!","v":{"$error":"#REF!"}},311]
[{"$f":"'Pob x Genero'!#REF!","v":{"$error":"#REF!"}},{"$f":"'Pob x Genero'!#REF!","v":{"$error":"#REF!"}},{"$f":"'Pob x Genero'!#REF!","v":{"$error":"#REF!"}},{"$f":"'Pob x Genero'!#REF!","v":{"$error":"#REF!"}},{"$f":"'Pob x Genero'!#REF!","v":{"$error":"#REF!"}},"Hombre","00-04",{"$f":"'Pob x Genero'!#REF!","v":{"$error":"#REF!"}},312]
[{"$f":"'Pob x Genero'!#REF!","v":{"$error":"#REF!"}},{"$f":"'Pob x Genero'!#REF!","v":{"$error":"#REF!"}},{"$f":"'Pob x Genero'!#REF!","v":{"$error":"#REF!"}},{"$f":"'Pob x Genero'!#REF!","v":{"$error":"#REF!"}},{"$f":"'Pob x Genero'!#REF!","v":{"$error":"#REF!"}},"Hombre","00-04",{"$f":"'Pob x Genero'!#REF!","v":{"$error":"#REF!"}},313]
[{"$f":"'Pob x Genero'!#REF!","v":{"$error":"#REF!"}},{"$f":"'Pob x Genero'!#REF!","v":{"$error":"#REF!"}},{"$f":"'Pob x Genero'!#REF!","v":{"$error":"#REF!"}},{"$f":"'Pob x Genero'!#REF!","v":{"$error":"#REF!"}},{"$f":"'Pob x Genero'!#REF!","v":{"$error":"#REF!"}},"Hombre","00-04",{"$f":"'Pob x Genero'!#REF!","v":{"$error":"#REF!"}},314]
[{"$f":"'Pob x Genero'!#REF!","v":{"$error":"#REF!"}},{"$f":"'Pob x Genero'!#REF!","v":{"$error":"#REF!"}},{"$f":"'Pob x Genero'!#REF!","v":{"$error":"#REF!"}},{"$f":"'Pob x Genero'!#REF!","v":{"$error":"#REF!"}},{"$f":"'Pob x Genero'!#REF!","v":{"$error":"#REF!"}},"Hombre","00-04",{"$f":"'Pob x Genero'!#REF!","v":{"$error":"#REF!"}},315]
[{"$f":"'Pob x Genero'!#REF!","v":{"$error":"#REF!"}},{"$f":"'Pob x Genero'!#REF!","v":{"$error":"#REF!"}},{"$f":"'Pob x Genero'!#REF!","v":{"$error":"#REF!"}},{"$f":"'Pob x Genero'!#REF!","v":{"$error":"#REF!"}},{"$f":"'Pob x Genero'!#REF!","v":{"$error":"#REF!"}},"Hombre","00-04",{"$f":"'Pob x Genero'!#REF!","v":{"$error":"#REF!"}},316]
[{"$f":"'Pob x Genero'!#REF!","v":{"$error":"#REF!"}},{"$f":"'Pob x Genero'!#REF!","v":{"$error":"#REF!"}},{"$f":"'Pob x Genero'!#REF!","v":{"$error":"#REF!"}},{"$f":"'Pob x Genero'!#REF!","v":{"$error":"#REF!"}},{"$f":"'Pob x Genero'!#REF!","v":{"$error":"#REF!"}},"Hombre","00-04",{"$f":"'Pob x Genero'!#REF!","v":{"$error":"#REF!"}},317]
[{"$f":"'Pob x Genero'!#REF!","v":{"$error":"#REF!"}},{"$f":"'Pob x Genero'!#REF!","v":{"$error":"#REF!"}},{"$f":"'Pob x Genero'!#REF!","v":{"$error":"#REF!"}},{"$f":"'Pob x Genero'!#REF!","v":{"$error":"#REF!"}},{"$f":"'Pob x Genero'!#REF!","v":{"$error":"#REF!"}},"Hombre","00-04",{"$f":"'Pob x Genero'!#REF!","v":{"$error":"#REF!"}},318]
[{"$f":"'Pob x Genero'!#REF!","v":{"$error":"#REF!"}},{"$f":"'Pob x Genero'!#REF!","v":{"$error":"#REF!"}},{"$f":"'Pob x Genero'!#REF!","v":{"$error":"#REF!"}},{"$f":"'Pob x Genero'!#REF!","v":{"$error":"#REF!"}},{"$f":"'Pob x Genero'!#REF!","v":{"$error":"#REF!"}},"Hombre","00-04",{"$f":"'Pob x Genero'!#REF!","v":{"$error":"#REF!"}},319]
[{"$f":"'Pob x Genero'!#REF!","v":{"$error":"#REF!"}},{"$f":"'Pob x Genero'!#REF!","v":{"$error":"#REF!"}},{"$f":"'Pob x Genero'!#REF!","v":{"$error":"#REF!"}},{"$f":"'Pob x Genero'!#REF!","v":{"$error":"#REF!"}},{"$f":"'Pob x Genero'!#REF!","v":{"$error":"#REF!"}},"Hombre","00-04",{"$f":"'Pob x Genero'!#REF!","v":{"$error":"#REF!"}},320]
[{"$f":"'Pob x Genero'!#REF!","v":{"$error":"#REF!"}},{"$f":"'Pob x Genero'!#REF!","v":{"$error":"#REF!"}},{"$f":"'Pob x Genero'!#REF!","v":{"$error":"#REF!"}},{"$f":"'Pob x Genero'!#REF!","v":{"$error":"#REF!"}},{"$f":"'Pob x Genero'!#REF!","v":{"$error":"#REF!"}},"Hombre","00-04",{"$f":"'Pob x Genero'!#REF!","v":{"$error":"#REF!"}},321]
[{"$f":"'Pob x Genero'!#REF!","v":{"$error":"#REF!"}},{"$f":"'Pob x Genero'!#REF!","v":{"$error":"#REF!"}},{"$f":"'Pob x Genero'!#REF!","v":{"$error":"#REF!"}},{"$f":"'Pob x Genero'!#REF!","v":{"$error":"#REF!"}},{"$f":"'Pob x Genero'!#REF!","v":{"$error":"#REF!"}},{"$f":"F322","v":"Hombre"},{"$f":"G322","v":"00-04"},{"$f":"'Pob x Genero'!#REF!","v":{"$error":"#REF!"}},322]
[{"$f":"'Pob x Genero'!#REF!","v":{"$error":"#REF!"}},{"$f":"'Pob x Genero'!#REF!","v":{"$error":"#REF!"}},{"$f":"'Pob x Genero'!#REF!","v":{"$error":"#REF!"}},{"$f":"'Pob x Genero'!#REF!","v":{"$error":"#REF!"}},{"$f":"'Pob x Genero'!#REF!","v":{"$error":"#REF!"}},"Hombre","00-04",{"$f":"'Pob x Genero'!#REF!","v":{"$error":"#REF!"}},323]
[{"$f":"'Pob x Genero'!#REF!","v":{"$error":"#REF!"}},{"$f":"'Pob x Genero'!#REF!","v":{"$error":"#REF!"}},{"$f":"'Pob x Genero'!#REF!","v":{"$error":"#REF!"}},{"$f":"'Pob x Genero'!#REF!","v":{"$error":"#REF!"}},{"$f":"'Pob x Genero'!#REF!","v":{"$error":"#REF!"}},"Hombre","00-04",{"$f":"'Pob x Genero'!#REF!","v":{"$error":"#REF!"}},324]
[{"$f":"'Pob x Genero'!#REF!","v":{"$error":"#REF!"}},{"$f":"'Pob x Genero'!#REF!","v":{"$error":"#REF!"}},{"$f":"'Pob x Genero'!#REF!","v":{"$error":"#REF!"}},{"$f":"'Pob x Genero'!#REF!","v":{"$error":"#REF!"}},{"$f":"'Pob x Genero'!#REF!","v":{"$error":"#REF!"}},"Hombre","00-04",{"$f":"'Pob x Genero'!#REF!","v":{"$error":"#REF!"}},325]
[{"$f":"'Pob x Genero'!#REF!","v":{"$error":"#REF!"}},{"$f":"'Pob x Genero'!#REF!","v":{"$error":"#REF!"}},{"$f":"'Pob x Genero'!#REF!","v":{"$error":"#REF!"}},{"$f":"'Pob x Genero'!#REF!","v":{"$error":"#REF!"}},{"$f":"'Pob x Genero'!#REF!","v":{"$error":"#REF!"}},"Hombre","00-04",{"$f":"'Pob x Genero'!#REF!","v":{"$error":"#REF!"}},326]
[{"$f":"'Pob x Genero'!#REF!","v":{"$error":"#REF!"}},{"$f":"'Pob x Genero'!#REF!","v":{"$error":"#REF!"}},{"$f":"'Pob x Genero'!#REF!","v":{"$error":"#REF!"}},{"$f":"'Pob x Genero'!#REF!","v":{"$error":"#REF!"}},{"$f":"'Pob x Genero'!#REF!","v":{"$error":"#REF!"}},"Hombre","00-04",{"$f":"'Pob x Genero'!#REF!","v":{"$error":"#REF!"}},327]
[{"$f":"'Pob x Genero'!#REF!","v":{"$error":"#REF!"}},{"$f":"'Pob x Genero'!#REF!","v":{"$error":"#REF!"}},{"$f":"'Pob x Genero'!#REF!","v":{"$error":"#REF!"}},{"$f":"'Pob x Genero'!#REF!","v":{"$error":"#REF!"}},{"$f":"'Pob x Genero'!#REF!","v":{"$error":"#REF!"}},"Hombre","00-04",{"$f":"'Pob x Genero'!#REF!","v":{"$error":"#REF!"}},328]
[{"$f":"'Pob x Genero'!#REF!","v":{"$error":"#REF!"}},{"$f":"'Pob x Genero'!#REF!","v":{"$error":"#REF!"}},{"$f":"'Pob x Genero'!#REF!","v":{"$error":"#REF!"}},{"$f":"'Pob x Genero'!#REF!","v":{"$error":"#REF!"}},{"$f":"'Pob x Genero'!#REF!","v":{"$error":"#REF!"}},"Hombre","00-04",{"$f":"'Pob x Genero'!#REF!","v":{"$error":"#REF!"}},329]
[{"$f":"'Pob x Genero'!#REF!","v":{"$error":"#REF!"}},{"$f":"'Pob x Genero'!#REF!","v":{"$error":"#REF!"}},{"$f":"'Pob x Genero'!#REF!","v":{"$error":"#REF!"}},{"$f":"'Pob x Genero'!#REF!","v":{"$error":"#REF!"}},{"$f":"'Pob x Genero'!#REF!","v":{"$error":"#REF!"}},"Hombre","00-04",{"$f":"'Pob x Genero'!#REF!","v":{"$error":"#REF!"}},330]
[{"$f":"'Pob x Genero'!#REF!","v":{"$error":"#REF!"}},{"$f":"'Pob x Genero'!#REF!","v":{"$error":"#REF!"}},{"$f":"'Pob x Genero'!#REF!","v":{"$error":"#REF!"}},{"$f":"'Pob x Genero'!#REF!","v":{"$error":"#REF!"}},{"$f":"'Pob x Genero'!#REF!","v":{"$error":"#REF!"}},"Hombre","00-04",{"$f":"'Pob x Genero'!#REF!","v":{"$error":"#REF!"}},331]
[{"$f":"'Pob x Genero'!#REF!","v":{"$error":"#REF!"}},{"$f":"'Pob x Genero'!#REF!","v":{"$error":"#REF!"}},{"$f":"'Pob x Genero'!#REF!","v":{"$error":"#REF!"}},{"$f":"'Pob x Genero'!#REF!","v":{"$error":"#REF!"}},{"$f":"'Pob x Genero'!#REF!","v":{"$error":"#REF!"}},"Hombre","00-04",{"$f":"'Pob x Genero'!#REF!","v":{"$error":"#REF!"}},332]
[{"$f":"'Pob x Genero'!#REF!","v":{"$error":"#REF!"}},{"$f":"'Pob x Genero'!#REF!","v":{"$error":"#REF!"}},{"$f":"'Pob x Genero'!#REF!","v":{"$error":"#REF!"}},{"$f":"'Pob x Genero'!#REF!","v":{"$error":"#REF!"}},{"$f":"'Pob x Genero'!#REF!","v":{"$error":"#REF!"}},"Hombre","00-04",{"$f":"'Pob x Genero'!#REF!","v":{"$error":"#REF!"}},333]
[{"$f":"'Pob x Genero'!#REF!","v":{"$error":"#REF!"}},{"$f":"'Pob x Genero'!#REF!","v":{"$error":"#REF!"}},{"$f":"'Pob x Genero'!#REF!","v":{"$error":"#REF!"}},{"$f":"'Pob x Genero'!#REF!","v":{"$error":"#REF!"}},{"$f":"'Pob x Genero'!#REF!","v":{"$error":"#REF!"}},"Hombre","00-04",{"$f":"'Pob x Genero'!#REF!","v":{"$error":"#REF!"}},334]
[{"$f":"'Pob x Genero'!#REF!","v":{"$error":"#REF!"}},{"$f":"'Pob x Genero'!#REF!","v":{"$error":"#REF!"}},{"$f":"'Pob x Genero'!#REF!","v":{"$error":"#REF!"}},{"$f":"'Pob x Genero'!#REF!","v":{"$error":"#REF!"}},{"$f":"'Pob x Genero'!#REF!","v":{"$error":"#REF!"}},"Hombre","00-04",{"$f":"'Pob x Genero'!#REF!","v":{"$error":"#REF!"}},335]
[{"$f":"'Pob x Genero'!A9","v":"040101"},{"$f":"'Pob x Genero'!B9","v":"AREQUIPA"},{"$f":"'Pob x Genero'!C9","v":"AREQUIPA"},{"$f":"'Pob x Genero'!D9","v":"AREQUIPA"},{"$f":"'Pob x Genero'!E9","v":"AREQUIPA"},"Hombre","00-04",{"$f":"'Pob x Genero'!CT9","v":1455},336]
[{"$f":"'Pob x Genero'!A10","v":"040102"},{"$f":"'Pob x Genero'!B10","v":"AREQUIPA"},{"$f":"'Pob x Genero'!C10","v":"AREQUIPA"},{"$f":"'Pob x Genero'!D10","v":"AREQUIPA"},{"$f":"'Pob x Genero'!E10","v":"ALTO SELVA ALEGRE"},"Hombre","00-04",{"$f":"'Pob x Genero'!CT10","v":2648},337]
[{"$f":"'Pob x Genero'!A11","v":"040103"},{"$f":"'Pob x Genero'!B11","v":"AREQUIPA"},{"$f":"'Pob x Genero'!C11","v":"AREQUIPA"},{"$f":"'Pob x Genero'!D11","v":"AREQUIPA"},{"$f":"'Pob x Genero'!E11","v":"CAYMA"},"Hombre","00-04",{"$f":"'Pob x Genero'!CT11","v":3510},338]
[{"$f":"'Pob x Genero'!A12","v":"040104"},{"$f":"'Pob x Genero'!B12","v":"AREQUIPA"},{"$f":"'Pob x Genero'!C12","v":"AREQUIPA"},{"$f":"'Pob x Genero'!D12","v":"AREQUIPA"},{"$f":"'Pob x Genero'!E12","v":"CERRO COLORADO"},"Hombre","00-04",{"$f":"'Pob x Genero'!CT12","v":7160},339]
[{"$f":"'Pob x Genero'!A13","v":"040105"},{"$f":"'Pob x Genero'!B13","v":"AREQUIPA"},{"$f":"'Pob x Genero'!C13","v":"AREQUIPA"},{"$f":"'Pob x Genero'!D13","v":"AREQUIPA"},{"$f":"'Pob x Genero'!E13","v":"CHARACATO"},"Hombre","00-04",{"$f":"'Pob x Genero'!CT13","v":469},340]
[{"$f":"'Pob x Genero'!A14","v":"040106"},{"$f":"'Pob x Genero'!B14","v":"AREQUIPA"},{"$f":"'Pob x Genero'!C14","v":"AREQUIPA"},{"$f":"'Pob x Genero'!D14","v":"AREQUIPA"},{"$f":"'Pob x Genero'!E14","v":"CHIGUATA"},"Hombre","00-04",{"$f":"'Pob x Genero'!CT14","v":149},341]
[{"$f":"'Pob x Genero'!A15","v":"040107"},{"$f":"'Pob x Genero'!B15","v":"AREQUIPA"},{"$f":"'Pob x Genero'!C15","v":"AREQUIPA"},{"$f":"'Pob x Genero'!D15","v":"AREQUIPA"},{"$f":"'Pob x Genero'!E15","v":"JACOBO HUNTER"},"Hombre","00-04",{"$f":"'Pob x Genero'!CT15","v":1648},342]
[{"$f":"'Pob x Genero'!A16","v":"040108"},{"$f":"'Pob x Genero'!B16","v":"AREQUIPA"},{"$f":"'Pob x Genero'!C16","v":"AREQUIPA"},{"$f":"'Pob x Genero'!D16","v":"AREQUIPA"},{"$f":"'Pob x Genero'!E16","v":"LA JOYA"},"Hombre","00-04",{"$f":"'Pob x Genero'!CT16","v":1542},343]
[{"$f":"'Pob x Genero'!A17","v":"040109"},{"$f":"'Pob x Genero'!B17","v":"AREQUIPA"},{"$f":"'Pob x Genero'!C17","v":"AREQUIPA"},{"$f":"'Pob x Genero'!D17","v":"AREQUIPA"},{"$f":"'Pob x Genero'!E17","v":"MARIANO MELGAR"},"Hombre","00-04",{"$f":"'Pob x Genero'!CT17","v":2051},344]
[{"$f":"'Pob x Genero'!A18","v":"040110"},{"$f":"'Pob x Genero'!B18","v":"AREQUIPA"},{"$f":"'Pob x Genero'!C18","v":"AREQUIPA"},{"$f":"'Pob x Genero'!D18","v":"AREQUIPA"},{"$f":"'Pob x Genero'!E18","v":"MIRAFLORES"},"Hombre","00-04",{"$f":"'Pob x Genero'!CT18","v":1930},345]
[{"$f":"'Pob x Genero'!A19","v":"040111"},{"$f":"'Pob x Genero'!B19","v":"AREQUIPA"},{"$f":"'Pob x Genero'!C19","v":"AREQUIPA"},{"$f":"'Pob x Genero'!D19","v":"AREQUIPA"},{"$f":"'Pob x Genero'!E19","v":"MOLLEBAYA"},"Hombre","00-04",{"$f":"'Pob x Genero'!CT19","v":171},346]
[{"$f":"'Pob x Genero'!A20","v":"040112"},{"$f":"'Pob x Genero'!B20","v":"AREQUIPA"},{"$f":"'Pob x Genero'!C20","v":"AREQUIPA"},{"$f":"'Pob x Genero'!D20","v":"AREQUIPA"},{"$f":"'Pob x Genero'!E20","v":"PAUCARPATA"},"Hombre","00-04",{"$f":"'Pob x Genero'!CT20","v":4442},347]
[{"$f":"'Pob x Genero'!A21","v":"040113"},{"$f":"'Pob x Genero'!B21","v":"AREQUIPA"},{"$f":"'Pob x Genero'!C21","v":"AREQUIPA"},{"$f":"'Pob x Genero'!D21","v":"AREQUIPA"},{"$f":"'Pob x Genero'!E21","v":"POCSI"},"Hombre","00-04",{"$f":"'Pob x Genero'!CT21","v":20},348]
[{"$f":"'Pob x Genero'!A22","v":"040114"},{"$f":"'Pob x Genero'!B22","v":"AREQUIPA"},{"$f":"'Pob x Genero'!C22","v":"AREQUIPA"},{"$f":"'Pob x Genero'!D22","v":"AREQUIPA"},{"$f":"'Pob x Genero'!E22","v":"POLOBAYA"},"Hombre","00-04",{"$f":"'Pob x Genero'!CT22","v":25},349]
[{"$f":"'Pob x Genero'!A23","v":"040115"},{"$f":"'Pob x Genero'!B23","v":"AREQUIPA"},{"$f":"'Pob x Genero'!C23","v":"AREQUIPA"},{"$f":"'Pob x Genero'!D23","v":"AREQUIPA"},{"$f":"'Pob x Genero'!E23","v":"QUEQUEÑA"},"Hombre","00-04",{"$f":"'Pob x Genero'!CT23","v":114},350]
[{"$f":"'Pob x Genero'!A24","v":"040116"},{"$f":"'Pob x Genero'!B24","v":"AREQUIPA"},{"$f":"'Pob x Genero'!C24","v":"AREQUIPA"},{"$f":"'Pob x Genero'!D24","v":"AREQUIPA"},{"$f":"'Pob x Genero'!E24","v":"SABANDIA"},"Hombre","00-04",{"$f":"'Pob x Genero'!CT24","v":226},351]
[{"$f":"'Pob x Genero'!A25","v":"040117"},{"$f":"'Pob x Genero'!B25","v":"AREQUIPA"},{"$f":"'Pob x Genero'!C25","v":"AREQUIPA"},{"$f":"'Pob x Genero'!D25","v":"AREQUIPA"},{"$f":"'Pob x Genero'!E25","v":"SACHACA"},"Hombre","00-04",{"$f":"'Pob x Genero'!CT25","v":1015},352]
[{"$f":"'Pob x Genero'!A26","v":"040118"},{"$f":"'Pob x Genero'!B26","v":"AREQUIPA"},{"$f":"'Pob x Genero'!C26","v":"AREQUIPA"},{"$f":"'Pob x Genero'!D26","v":"AREQUIPA"},{"$f":"'Pob x Genero'!E26","v":"SAN JUAN DE SIGUAS"},"Hombre","00-04",{"$f":"'Pob x Genero'!CT26","v":23},353]
[{"$f":"'Pob x Genero'!A27","v":"040119"},{"$f":"'Pob x Genero'!B27","v":"AREQUIPA"},{"$f":"'Pob x Genero'!C27","v":"AREQUIPA"},{"$f":"'Pob x Genero'!D27","v":"AREQUIPA"},{"$f":"'Pob x Genero'!E27","v":"SAN JUAN DE TARUCANI"},"Hombre","00-04",{"$f":"'Pob x Genero'!CT27","v":65},354]
[{"$f":"'Pob x Genero'!A28","v":"040120"},{"$f":"'Pob x Genero'!B28","v":"AREQUIPA"},{"$f":"'Pob x Genero'!C28","v":"AREQUIPA"},{"$f":"'Pob x Genero'!D28","v":"AREQUIPA"},{"$f":"'Pob x Genero'!E28","v":"SANTA ISABEL DE SIGUAS"},"Hombre","00-04",{"$f":"'Pob x Genero'!CT28","v":19},355]
[{"$f":"'Pob x Genero'!A29","v":"040121"},{"$f":"'Pob x Genero'!B29","v":"AREQUIPA"},{"$f":"'Pob x Genero'!C29","v":"AREQUIPA"},{"$f":"'Pob x Genero'!D29","v":"AREQUIPA"},{"$f":"'Pob x Genero'!E29","v":"SANTA RITA DE SIGUAS"},"Hombre","00-04",{"$f":"'Pob x Genero'!CT29","v":249},356]
[{"$f":"'Pob x Genero'!A30","v":"040122"},{"$f":"'Pob x Genero'!B30","v":"AREQUIPA"},{"$f":"'Pob x Genero'!C30","v":"AREQUIPA"},{"$f":"'Pob x Genero'!D30","v":"AREQUIPA"},{"$f":"'Pob x Genero'!E30","v":"SOCABAYA"},"Hombre","00-04",{"$f":"'Pob x Genero'!CT30","v":2107},357]
[{"$f":"'Pob x Genero'!A31","v":"040123"},{"$f":"'Pob x Genero'!B31","v":"AREQUIPA"},{"$f":"'Pob x Genero'!C31","v":"AREQUIPA"},{"$f":"'Pob x Genero'!D31","v":"AREQUIPA"},{"$f":"'Pob x Genero'!E31","v":"TIABAYA"},"Hombre","00-04",{"$f":"'Pob x Genero'!CT31","v":657},358]
[{"$f":"'Pob x Genero'!A32","v":"040124"},{"$f":"'Pob x Genero'!B32","v":"AREQUIPA"},{"$f":"'Pob x Genero'!C32","v":"AREQUIPA"},{"$f":"'Pob x Genero'!D32","v":"AREQUIPA"},{"$f":"'Pob x Genero'!E32","v":"UCHUMAYO"},"Hombre","00-04",{"$f":"'Pob x Genero'!CT32","v":607},359]
[{"$f":"'Pob x Genero'!A33","v":"040125"},{"$f":"'Pob x Genero'!B33","v":"AREQUIPA"},{"$f":"'Pob x Genero'!C33","v":"AREQUIPA"},{"$f":"'Pob x Genero'!D33","v":"AREQUIPA"},{"$f":"'Pob x Genero'!E33","v":"VITOR"},"Hombre","00-04",{"$f":"'Pob x Genero'!CT33","v":97},360]
[{"$f":"'Pob x Genero'!A34","v":"040126"},{"$f":"'Pob x Genero'!B34","v":"AREQUIPA"},{"$f":"'Pob x Genero'!C34","v":"AREQUIPA"},{"$f":"'Pob x Genero'!D34","v":"AREQUIPA"},{"$f":"'Pob x Genero'!E34","v":"YANAHUARA"},"Hombre","00-04",{"$f":"'Pob x Genero'!CT34","v":839},361]
[{"$f":"'Pob x Genero'!A35","v":"040127"},{"$f":"'Pob x Genero'!B35","v":"AREQUIPA"},{"$f":"'Pob x Genero'!C35","v":"AREQUIPA"},{"$f":"'Pob x Genero'!D35","v":"AREQUIPA"},{"$f":"'Pob x Genero'!E35","v":"YARABAMBA"},"Hombre","00-04",{"$f":"'Pob x Genero'!CT35","v":88},362]
[{"$f":"'Pob x Genero'!A36","v":"040128"},{"$f":"'Pob x Genero'!B36","v":"AREQUIPA"},{"$f":"'Pob x Genero'!C36","v":"AREQUIPA"},{"$f":"'Pob x Genero'!D36","v":"AREQUIPA"},{"$f":"'Pob x Genero'!E36","v":"YURA"},"Hombre","00-04",{"$f":"'Pob x Genero'!CT36","v":1727},363]
[{"$f":"'Pob x Genero'!A37","v":"040129"},{"$f":"'Pob x Genero'!B37","v":"AREQUIPA"},{"$f":"'Pob x Genero'!C37","v":"AREQUIPA"},{"$f":"'Pob x Genero'!D37","v":"AREQUIPA"},{"$f":"'Pob x Genero'!E37","v":"JOSE LUIS BUSTAMANTE Y RIVERO"},"Hombre","00-04",{"$f":"'Pob x Genero'!CT37","v":2100},364]
[{"$f":"'Pob x Genero'!A38","v":"040201"},{"$f":"'Pob x Genero'!B38","v":"AREQUIPA"},{"$f":"'Pob x Genero'!C38","v":"AREQUIPA"},{"$f":"'Pob x Genero'!D38","v":"CAMANA"},{"$f":"'Pob x Genero'!E38","v":"CAMANA"},"Hombre","00-04",{"$f":"'Pob x Genero'!CT38","v":163},365]
[{"$f":"'Pob x Genero'!A39","v":"040202"},{"$f":"'Pob x Genero'!B39","v":"AREQUIPA"},{"$f":"'Pob x Genero'!C39","v":"AREQUIPA"},{"$f":"'Pob x Genero'!D39","v":"CAMANA"},{"$f":"'Pob x Genero'!E39","v":"JOSE MARIA QUIMPER"},"Hombre","00-04",{"$f":"'Pob x Genero'!CT39","v":166},366]
[{"$f":"'Pob x Genero'!A40","v":"040203"},{"$f":"'Pob x Genero'!B40","v":"AREQUIPA"},{"$f":"'Pob x Genero'!C40","v":"AREQUIPA"},{"$f":"'Pob x Genero'!D40","v":"CAMANA"},{"$f":"'Pob x Genero'!E40","v":"MARIANO NICOLAS VALCARCEL"},"Hombre","00-04",{"$f":"'Pob x Genero'!CT40","v":424},367]
[{"$f":"'Pob x Genero'!A41","v":"040204"},{"$f":"'Pob x Genero'!B41","v":"AREQUIPA"},{"$f":"'Pob x Genero'!C41","v":"AREQUIPA"},{"$f":"'Pob x Genero'!D41","v":"CAMANA"},{"$f":"'Pob x Genero'!E41","v":"MARISCAL CACERES"},"Hombre","00-04",{"$f":"'Pob x Genero'!CT41","v":241},368]
[{"$f":"'Pob x Genero'!A42","v":"040205"},{"$f":"'Pob x Genero'!B42","v":"AREQUIPA"},{"$f":"'Pob x Genero'!C42","v":"AREQUIPA"},{"$f":"'Pob x Genero'!D42","v":"CAMANA"},{"$f":"'Pob x Genero'!E42","v":"NICOLAS DE PIEROLA"},"Hombre","00-04",{"$f":"'Pob x Genero'!CT42","v":248},369]
[{"$f":"'Pob x Genero'!A43","v":"040206"},{"$f":"'Pob x Genero'!B43","v":"AREQUIPA"},{"$f":"'Pob x Genero'!C43","v":"AREQUIPA"},{"$f":"'Pob x Genero'!D43","v":"CAMANA"},{"$f":"'Pob x Genero'!E43","v":"OCOÑA"},"Hombre","00-04",{"$f":"'Pob x Genero'!CT43","v":133},370]
[{"$f":"'Pob x Genero'!A44","v":"040207"},{"$f":"'Pob x Genero'!B44","v":"AREQUIPA"},{"$f":"'Pob x Genero'!C44","v":"AREQUIPA"},{"$f":"'Pob x Genero'!D44","v":"CAMANA"},{"$f":"'Pob x Genero'!E44","v":"QUILCA"},"Hombre","00-04",{"$f":"'Pob x Genero'!CT44","v":45},371]
[{"$f":"'Pob x Genero'!A45","v":"040208"},{"$f":"'Pob x Genero'!B45","v":"AREQUIPA"},{"$f":"'Pob x Genero'!C45","v":"AREQUIPA"},{"$f":"'Pob x Genero'!D45","v":"CAMANA"},{"$f":"'Pob x Genero'!E45","v":"SAMUEL PASTOR"},"Hombre","00-04",{"$f":"'Pob x Genero'!CT45","v":689},372]
[{"$f":"'Pob x Genero'!A46","v":"040301"},{"$f":"'Pob x Genero'!B46","v":"AREQUIPA"},{"$f":"'Pob x Genero'!C46","v":"AREQUIPA"},{"$f":"'Pob x Genero'!D46","v":"CARAVELI"},{"$f":"'Pob x Genero'!E46","v":"CARAVELI"},"Hombre","00-04",{"$f":"'Pob x Genero'!CT46","v":208},373]
[{"$f":"'Pob x Genero'!A47","v":"040302"},{"$f":"'Pob x Genero'!B47","v":"AREQUIPA"},{"$f":"'Pob x Genero'!C47","v":"AREQUIPA"},{"$f":"'Pob x Genero'!D47","v":"CARAVELI"},{"$f":"'Pob x Genero'!E47","v":"ACARI"},"Hombre","00-04",{"$f":"'Pob x Genero'!CT47","v":127},374]
[{"$f":"'Pob x Genero'!A48","v":"040303"},{"$f":"'Pob x Genero'!B48","v":"AREQUIPA"},{"$f":"'Pob x Genero'!C48","v":"AREQUIPA"},{"$f":"'Pob x Genero'!D48","v":"CARAVELI"},{"$f":"'Pob x Genero'!E48","v":"ATICO"},"Hombre","00-04",{"$f":"'Pob x Genero'!CT48","v":179},375]
[{"$f":"'Pob x Genero'!A49","v":"040304"},{"$f":"'Pob x Genero'!B49","v":"AREQUIPA"},{"$f":"'Pob x Genero'!C49","v":"AREQUIPA"},{"$f":"'Pob x Genero'!D49","v":"CARAVELI"},{"$f":"'Pob x Genero'!E49","v":"ATIQUIPA"},"Hombre","00-04",{"$f":"'Pob x Genero'!CT49","v":28},376]
[{"$f":"'Pob x Genero'!A50","v":"040305"},{"$f":"'Pob x Genero'!B50","v":"AREQUIPA"},{"$f":"'Pob x Genero'!C50","v":"AREQUIPA"},{"$f":"'Pob x Genero'!D50","v":"CARAVELI"},{"$f":"'Pob x Genero'!E50","v":"BELLA UNION"},"Hombre","00-04",{"$f":"'Pob x Genero'!CT50","v":119},377]
[{"$f":"'Pob x Genero'!A51","v":"040306"},{"$f":"'Pob x Genero'!B51","v":"AREQUIPA"},{"$f":"'Pob x Genero'!C51","v":"AREQUIPA"},{"$f":"'Pob x Genero'!D51","v":"CARAVELI"},{"$f":"'Pob x Genero'!E51","v":"CAHUACHO"},"Hombre","00-04",{"$f":"'Pob x Genero'!CT51","v":35},378]
[{"$f":"'Pob x Genero'!A52","v":"040307"},{"$f":"'Pob x Genero'!B52","v":"AREQUIPA"},{"$f":"'Pob x Genero'!C52","v":"AREQUIPA"},{"$f":"'Pob x Genero'!D52","v":"CARAVELI"},{"$f":"'Pob x Genero'!E52","v":"CHALA"},"Hombre","00-04",{"$f":"'Pob x Genero'!CT52","v":454},379]
[{"$f":"'Pob x Genero'!A53","v":"040308"},{"$f":"'Pob x Genero'!B53","v":"AREQUIPA"},{"$f":"'Pob x Genero'!C53","v":"AREQUIPA"},{"$f":"'Pob x Genero'!D53","v":"CARAVELI"},{"$f":"'Pob x Genero'!E53","v":"CHAPARRA"},"Hombre","00-04",{"$f":"'Pob x Genero'!CT53","v":130},380]
[{"$f":"'Pob x Genero'!A54","v":"040309"},{"$f":"'Pob x Genero'!B54","v":"AREQUIPA"},{"$f":"'Pob x Genero'!C54","v":"AREQUIPA"},{"$f":"'Pob x Genero'!D54","v":"CARAVELI"},{"$f":"'Pob x Genero'!E54","v":"HUANUHUANU"},"Hombre","00-04",{"$f":"'Pob x Genero'!CT54","v":130},381]
[{"$f":"'Pob x Genero'!A55","v":"040310"},{"$f":"'Pob x Genero'!B55","v":"AREQUIPA"},{"$f":"'Pob x Genero'!C55","v":"AREQUIPA"},{"$f":"'Pob x Genero'!D55","v":"CARAVELI"},{"$f":"'Pob x Genero'!E55","v":"JAQUI"},"Hombre","00-04",{"$f":"'Pob x Genero'!CT55","v":51},382]
[{"$f":"'Pob x Genero'!A56","v":"040311"},{"$f":"'Pob x Genero'!B56","v":"AREQUIPA"},{"$f":"'Pob x Genero'!C56","v":"AREQUIPA"},{"$f":"'Pob x Genero'!D56","v":"CARAVELI"},{"$f":"'Pob x Genero'!E56","v":"LOMAS"},"Hombre","00-04",{"$f":"'Pob x Genero'!CT56","v":50},383]
[{"$f":"'Pob x Genero'!A57","v":"040312"},{"$f":"'Pob x Genero'!B57","v":"AREQUIPA"},{"$f":"'Pob x Genero'!C57","v":"AREQUIPA"},{"$f":"'Pob x Genero'!D57","v":"CARAVELI"},{"$f":"'Pob x Genero'!E57","v":"QUICACHA"},"Hombre","00-04",{"$f":"'Pob x Genero'!CT57","v":72},384]
[{"$f":"'Pob x Genero'!A58","v":"040313"},{"$f":"'Pob x Genero'!B58","v":"AREQUIPA"},{"$f":"'Pob x Genero'!C58","v":"AREQUIPA"},{"$f":"'Pob x Genero'!D58","v":"CARAVELI"},{"$f":"'Pob x Genero'!E58","v":"YAUCA"},"Hombre","00-04",{"$f":"'Pob x Genero'!CT58","v":56},385]
[{"$f":"'Pob x Genero'!A59","v":"040401"},{"$f":"'Pob x Genero'!B59","v":"AREQUIPA"},{"$f":"'Pob x Genero'!C59","v":"AREQUIPA"},{"$f":"'Pob x Genero'!D59","v":"CASTILLA"},{"$f":"'Pob x Genero'!E59","v":"APLAO"},{"$f":"F386","v":"Hombre"},{"$f":"G386","v":"00-04"},{"$f":"'Pob x Genero'!CT59","v":317},386]
[{"$f":"'Pob x Genero'!A60","v":"040402"},{"$f":"'Pob x Genero'!B60","v":"AREQUIPA"},{"$f":"'Pob x Genero'!C60","v":"AREQUIPA"},{"$f":"'Pob x Genero'!D60","v":"CASTILLA"},{"$f":"'Pob x Genero'!E60","v":"ANDAGUA"},"Hombre","00-04",{"$f":"'Pob x Genero'!CT60","v":27},387]
[{"$f":"'Pob x Genero'!A61","v":"040403"},{"$f":"'Pob x Genero'!B61","v":"AREQUIPA"},{"$f":"'Pob x Genero'!C61","v":"AREQUIPA"},{"$f":"'Pob x Genero'!D61","v":"CASTILLA"},{"$f":"'Pob x Genero'!E61","v":"AYO"},"Hombre","00-04",{"$f":"'Pob x Genero'!CT61","v":9},388]
[{"$f":"'Pob x Genero'!A62","v":"040404"},{"$f":"'Pob x Genero'!B62","v":"AREQUIPA"},{"$f":"'Pob x Genero'!C62","v":"AREQUIPA"},{"$f":"'Pob x Genero'!D62","v":"CASTILLA"},{"$f":"'Pob x Genero'!E62","v":"CHACHAS"},"Hombre","00-04",{"$f":"'Pob x Genero'!CT62","v":71},389]
[{"$f":"'Pob x Genero'!A63","v":"040405"},{"$f":"'Pob x Genero'!B63","v":"AREQUIPA"},{"$f":"'Pob x Genero'!C63","v":"AREQUIPA"},{"$f":"'Pob x Genero'!D63","v":"CASTILLA"},{"$f":"'Pob x Genero'!E63","v":"CHILCAYMARCA"},"Hombre","00-04",{"$f":"'Pob x Genero'!CT63","v":21},390]
[{"$f":"'Pob x Genero'!A64","v":"040406"},{"$f":"'Pob x Genero'!B64","v":"AREQUIPA"},{"$f":"'Pob x Genero'!C64","v":"AREQUIPA"},{"$f":"'Pob x Genero'!D64","v":"CASTILLA"},{"$f":"'Pob x Genero'!E64","v":"CHOCO"},"Hombre","00-04",{"$f":"'Pob x Genero'!CT64","v":20},391]
[{"$f":"'Pob x Genero'!A65","v":"040407"},{"$f":"'Pob x Genero'!B65","v":"AREQUIPA"},{"$f":"'Pob x Genero'!C65","v":"AREQUIPA"},{"$f":"'Pob x Genero'!D65","v":"CASTILLA"},{"$f":"'Pob x Genero'!E65","v":"HUANCARQUI"},"Hombre","00-04",{"$f":"'Pob x Genero'!CT65","v":35},392]
[{"$f":"'Pob x Genero'!A66","v":"040408"},{"$f":"'Pob x Genero'!B66","v":"AREQUIPA"},{"$f":"'Pob x Genero'!C66","v":"AREQUIPA"},{"$f":"'Pob x Genero'!D66","v":"CASTILLA"},{"$f":"'Pob x Genero'!E66","v":"MACHAGUAY"},"Hombre","00-04",{"$f":"'Pob x Genero'!CT66","v":17},393]
[{"$f":"'Pob x Genero'!A67","v":"040409"},{"$f":"'Pob x Genero'!B67","v":"AREQUIPA"},{"$f":"'Pob x Genero'!C67","v":"AREQUIPA"},{"$f":"'Pob x Genero'!D67","v":"CASTILLA"},{"$f":"'Pob x Genero'!E67","v":"ORCOPAMPA"},"Hombre","00-04",{"$f":"'Pob x Genero'!CT67","v":194},394]
[{"$f":"'Pob x Genero'!A68","v":"040410"},{"$f":"'Pob x Genero'!B68","v":"AREQUIPA"},{"$f":"'Pob x Genero'!C68","v":"AREQUIPA"},{"$f":"'Pob x Genero'!D68","v":"CASTILLA"},{"$f":"'Pob x Genero'!E68","v":"PAMPACOLCA"},"Hombre","00-04",{"$f":"'Pob x Genero'!CT68","v":58},395]
[{"$f":"'Pob x Genero'!A69","v":"040411"},{"$f":"'Pob x Genero'!B69","v":"AREQUIPA"},{"$f":"'Pob x Genero'!C69","v":"AREQUIPA"},{"$f":"'Pob x Genero'!D69","v":"CASTILLA"},{"$f":"'Pob x Genero'!E69","v":"TIPAN"},"Hombre","00-04",{"$f":"'Pob x Genero'!CT69","v":5},396]
[{"$f":"'Pob x Genero'!A70","v":"040412"},{"$f":"'Pob x Genero'!B70","v":"AREQUIPA"},{"$f":"'Pob x Genero'!C70","v":"AREQUIPA"},{"$f":"'Pob x Genero'!D70","v":"CASTILLA"},{"$f":"'Pob x Genero'!E70","v":"UÑON"},"Hombre","00-04",{"$f":"'Pob x Genero'!CT70","v":5},397]
[{"$f":"'Pob x Genero'!A71","v":"040413"},{"$f":"'Pob x Genero'!B71","v":"AREQUIPA"},{"$f":"'Pob x Genero'!C71","v":"AREQUIPA"},{"$f":"'Pob x Genero'!D71","v":"CASTILLA"},{"$f":"'Pob x Genero'!E71","v":"URACA"},"Hombre","00-04",{"$f":"'Pob x Genero'!CT71","v":189},398]
[{"$f":"'Pob x Genero'!A72","v":"040414"},{"$f":"'Pob x Genero'!B72","v":"AREQUIPA"},{"$f":"'Pob x Genero'!C72","v":"AREQUIPA"},{"$f":"'Pob x Genero'!D72","v":"CASTILLA"},{"$f":"'Pob x Genero'!E72","v":"VIRACO"},"Hombre","00-04",{"$f":"'Pob x Genero'!CT72","v":41},399]
[{"$f":"'Pob x Genero'!A73","v":"040501"},{"$f":"'Pob x Genero'!B73","v":"AREQUIPA"},{"$f":"'Pob x Genero'!C73","v":"AREQUIPA"},{"$f":"'Pob x Genero'!D73","v":"CAYLLOMA"},{"$f":"'Pob x Genero'!E73","v":"CHIVAY"},"Hombre","00-04",{"$f":"'Pob x Genero'!CT73","v":182},400]
[{"$f":"'Pob x Genero'!A74","v":"040502"},{"$f":"'Pob x Genero'!B74","v":"AREQUIPA"},{"$f":"'Pob x Genero'!C74","v":"AREQUIPA"},{"$f":"'Pob x Genero'!D74","v":"CAYLLOMA"},{"$f":"'Pob x Genero'!E74","v":"ACHOMA"},"Hombre","00-04",{"$f":"'Pob x Genero'!CT74","v":26},401]
[{"$f":"'Pob x Genero'!A75","v":"040503"},{"$f":"'Pob x Genero'!B75","v":"AREQUIPA"},{"$f":"'Pob x Genero'!C75","v":"AREQUIPA"},{"$f":"'Pob x Genero'!D75","v":"CAYLLOMA"},{"$f":"'Pob x Genero'!E75","v":"CABANACONDE"},"Hombre","00-04",{"$f":"'Pob x Genero'!CT75","v":44},402]
[{"$f":"'Pob x Genero'!A76","v":"040504"},{"$f":"'Pob x Genero'!B76","v":"AREQUIPA"},{"$f":"'Pob x Genero'!C76","v":"AREQUIPA"},{"$f":"'Pob x Genero'!D76","v":"CAYLLOMA"},{"$f":"'Pob x Genero'!E76","v":"CALLALLI"},"Hombre","00-04",{"$f":"'Pob x Genero'!CT76","v":53},403]
[{"$f":"'Pob x Genero'!A77","v":"040505"},{"$f":"'Pob x Genero'!B77","v":"AREQUIPA"},{"$f":"'Pob x Genero'!C77","v":"AREQUIPA"},{"$f":"'Pob x Genero'!D77","v":"CAYLLOMA"},{"$f":"'Pob x Genero'!E77","v":"CAYLLOMA"},"Hombre","00-04",{"$f":"'Pob x Genero'!CT77","v":152},404]
[{"$f":"'Pob x Genero'!A78","v":"040506"},{"$f":"'Pob x Genero'!B78","v":"AREQUIPA"},{"$f":"'Pob x Genero'!C78","v":"AREQUIPA"},{"$f":"'Pob x Genero'!D78","v":"CAYLLOMA"},{"$f":"'Pob x Genero'!E78","v":"COPORAQUE"},"Hombre","00-04",{"$f":"'Pob x Genero'!CT78","v":41},405]
[{"$f":"'Pob x Genero'!A79","v":"040507"},{"$f":"'Pob x Genero'!B79","v":"AREQUIPA"},{"$f":"'Pob x Genero'!C79","v":"AREQUIPA"},{"$f":"'Pob x Genero'!D79","v":"CAYLLOMA"},{"$f":"'Pob x Genero'!E79","v":"HUAMBO"},"Hombre","00-04",{"$f":"'Pob x Genero'!CT79","v":20},406]
[{"$f":"'Pob x Genero'!A80","v":"040508"},{"$f":"'Pob x Genero'!B80","v":"AREQUIPA"},{"$f":"'Pob x Genero'!C80","v":"AREQUIPA"},{"$f":"'Pob x Genero'!D80","v":"CAYLLOMA"},{"$f":"'Pob x Genero'!E80","v":"HUANCA"},"Hombre","00-04",{"$f":"'Pob x Genero'!CT80","v":25},407]
[{"$f":"'Pob x Genero'!A81","v":"040509"},{"$f":"'Pob x Genero'!B81","v":"AREQUIPA"},{"$f":"'Pob x Genero'!C81","v":"AREQUIPA"},{"$f":"'Pob x Genero'!D81","v":"CAYLLOMA"},{"$f":"'Pob x Genero'!E81","v":"ICHUPAMPA"},"Hombre","00-04",{"$f":"'Pob x Genero'!CT81","v":24},408]
[{"$f":"'Pob x Genero'!A82","v":"040510"},{"$f":"'Pob x Genero'!B82","v":"AREQUIPA"},{"$f":"'Pob x Genero'!C82","v":"AREQUIPA"},{"$f":"'Pob x Genero'!D82","v":"CAYLLOMA"},{"$f":"'Pob x Genero'!E82","v":"LARI"},"Hombre","00-04",{"$f":"'Pob x Genero'!CT82","v":38},409]
[{"$f":"'Pob x Genero'!A83","v":"040511"},{"$f":"'Pob x Genero'!B83","v":"AREQUIPA"},{"$f":"'Pob x Genero'!C83","v":"AREQUIPA"},{"$f":"'Pob x Genero'!D83","v":"CAYLLOMA"},{"$f":"'Pob x Genero'!E83","v":"LLUTA"},"Hombre","00-04",{"$f":"'Pob x Genero'!CT83","v":36},410]
[{"$f":"'Pob x Genero'!A84","v":"040512"},{"$f":"'Pob x Genero'!B84","v":"AREQUIPA"},{"$f":"'Pob x Genero'!C84","v":"AREQUIPA"},{"$f":"'Pob x Genero'!D84","v":"CAYLLOMA"},{"$f":"'Pob x Genero'!E84","v":"MACA"},"Hombre","00-04",{"$f":"'Pob x Genero'!CT84","v":13},411]
[{"$f":"'Pob x Genero'!A85","v":"040513"},{"$f":"'Pob x Genero'!B85","v":"AREQUIPA"},{"$f":"'Pob x Genero'!C85","v":"AREQUIPA"},{"$f":"'Pob x Genero'!D85","v":"CAYLLOMA"},{"$f":"'Pob x Genero'!E85","v":"MADRIGAL"},"Hombre","00-04",{"$f":"'Pob x Genero'!CT85","v":12},412]
[{"$f":"'Pob x Genero'!A86","v":"040514"},{"$f":"'Pob x Genero'!B86","v":"AREQUIPA"},{"$f":"'Pob x Genero'!C86","v":"AREQUIPA"},{"$f":"'Pob x Genero'!D86","v":"CAYLLOMA"},{"$f":"'Pob x Genero'!E86","v":"SAN ANTONIO DE CHUCA"},"Hombre","00-04",{"$f":"'Pob x Genero'!CT86","v":31},413]
[{"$f":"'Pob x Genero'!A87","v":"040515"},{"$f":"'Pob x Genero'!B87","v":"AREQUIPA"},{"$f":"'Pob x Genero'!C87","v":"AREQUIPA"},{"$f":"'Pob x Genero'!D87","v":"CAYLLOMA"},{"$f":"'Pob x Genero'!E87","v":"SIBAYO"},"Hombre","00-04",{"$f":"'Pob x Genero'!CT87","v":17},414]
[{"$f":"'Pob x Genero'!A88","v":"040516"},{"$f":"'Pob x Genero'!B88","v":"AREQUIPA"},{"$f":"'Pob x Genero'!C88","v":"AREQUIPA"},{"$f":"'Pob x Genero'!D88","v":"CAYLLOMA"},{"$f":"'Pob x Genero'!E88","v":"TAPAY"},"Hombre","00-04",{"$f":"'Pob x Genero'!CT88","v":23},415]
[{"$f":"'Pob x Genero'!A89","v":"040517"},{"$f":"'Pob x Genero'!B89","v":"AREQUIPA"},{"$f":"'Pob x Genero'!C89","v":"AREQUIPA"},{"$f":"'Pob x Genero'!D89","v":"CAYLLOMA"},{"$f":"'Pob x Genero'!E89","v":"TISCO"},"Hombre","00-04",{"$f":"'Pob x Genero'!CT89","v":32},416]
[{"$f":"'Pob x Genero'!A90","v":"040518"},{"$f":"'Pob x Genero'!B90","v":"AREQUIPA"},{"$f":"'Pob x Genero'!C90","v":"AREQUIPA"},{"$f":"'Pob x Genero'!D90","v":"CAYLLOMA"},{"$f":"'Pob x Genero'!E90","v":"TUTI"},"Hombre","00-04",{"$f":"'Pob x Genero'!CT90","v":17},417]
[{"$f":"'Pob x Genero'!A91","v":"040519"},{"$f":"'Pob x Genero'!B91","v":"AREQUIPA"},{"$f":"'Pob x Genero'!C91","v":"AREQUIPA"},{"$f":"'Pob x Genero'!D91","v":"CAYLLOMA"},{"$f":"'Pob x Genero'!E91","v":"YANQUE"},"Hombre","00-04",{"$f":"'Pob x Genero'!CT91","v":63},418]
[{"$f":"'Pob x Genero'!A92","v":"040520"},{"$f":"'Pob x Genero'!B92","v":"AREQUIPA"},{"$f":"'Pob x Genero'!C92","v":"AREQUIPA"},{"$f":"'Pob x Genero'!D92","v":"CAYLLOMA"},{"$f":"'Pob x Genero'!E92","v":"MAJES"},"Hombre","00-04",{"$f":"'Pob x Genero'!CT92","v":3046},419]
[{"$f":"'Pob x Genero'!A93","v":"040601"},{"$f":"'Pob x Genero'!B93","v":"AREQUIPA"},{"$f":"'Pob x Genero'!C93","v":"AREQUIPA"},{"$f":"'Pob x Genero'!D93","v":"CONDESUYOS"},{"$f":"'Pob x Genero'!E93","v":"CHUQUIBAMBA"},"Hombre","00-04",{"$f":"'Pob x Genero'!CT93","v":93},420]
[{"$f":"'Pob x Genero'!A94","v":"040602"},{"$f":"'Pob x Genero'!B94","v":"AREQUIPA"},{"$f":"'Pob x Genero'!C94","v":"AREQUIPA"},{"$f":"'Pob x Genero'!D94","v":"CONDESUYOS"},{"$f":"'Pob x Genero'!E94","v":"ANDARAY"},"Hombre","00-04",{"$f":"'Pob x Genero'!CT94","v":15},421]
[{"$f":"'Pob x Genero'!A95","v":"040603"},{"$f":"'Pob x Genero'!B95","v":"AREQUIPA"},{"$f":"'Pob x Genero'!C95","v":"AREQUIPA"},{"$f":"'Pob x Genero'!D95","v":"CONDESUYOS"},{"$f":"'Pob x Genero'!E95","v":"CAYARANI"},"Hombre","00-04",{"$f":"'Pob x Genero'!CT95","v":99},422]
[{"$f":"'Pob x Genero'!A96","v":"040604"},{"$f":"'Pob x Genero'!B96","v":"AREQUIPA"},{"$f":"'Pob x Genero'!C96","v":"AREQUIPA"},{"$f":"'Pob x Genero'!D96","v":"CONDESUYOS"},{"$f":"'Pob x Genero'!E96","v":"CHICHAS"},"Hombre","00-04",{"$f":"'Pob x Genero'!CT96","v":17},423]
[{"$f":"'Pob x Genero'!A97","v":"040605"},{"$f":"'Pob x Genero'!B97","v":"AREQUIPA"},{"$f":"'Pob x Genero'!C97","v":"AREQUIPA"},{"$f":"'Pob x Genero'!D97","v":"CONDESUYOS"},{"$f":"'Pob x Genero'!E97","v":"IRAY"},"Hombre","00-04",{"$f":"'Pob x Genero'!CT97","v":21},424]
[{"$f":"'Pob x Genero'!A98","v":"040606"},{"$f":"'Pob x Genero'!B98","v":"AREQUIPA"},{"$f":"'Pob x Genero'!C98","v":"AREQUIPA"},{"$f":"'Pob x Genero'!D98","v":"CONDESUYOS"},{"$f":"'Pob x Genero'!E98","v":"RIO GRANDE"},"Hombre","00-04",{"$f":"'Pob x Genero'!CT98","v":114},425]
[{"$f":"'Pob x Genero'!A99","v":"040607"},{"$f":"'Pob x Genero'!B99","v":"AREQUIPA"},{"$f":"'Pob x Genero'!C99","v":"AREQUIPA"},{"$f":"'Pob x Genero'!D99","v":"CONDESUYOS"},{"$f":"'Pob x Genero'!E99","v":"SALAMANCA"},"Hombre","00-04",{"$f":"'Pob x Genero'!CT99","v":12},426]
[{"$f":"'Pob x Genero'!A100","v":"040608"},{"$f":"'Pob x Genero'!B100","v":"AREQUIPA"},{"$f":"'Pob x Genero'!C100","v":"AREQUIPA"},{"$f":"'Pob x Genero'!D100","v":"CONDESUYOS"},{"$f":"'Pob x Genero'!E100","v":"YANAQUIHUA"},"Hombre","00-04",{"$f":"'Pob x Genero'!CT100","v":139},427]
[{"$f":"'Pob x Genero'!A101","v":"040701"},{"$f":"'Pob x Genero'!B101","v":"AREQUIPA"},{"$f":"'Pob x Genero'!C101","v":"AREQUIPA"},{"$f":"'Pob x Genero'!D101","v":"ISLAY"},{"$f":"'Pob x Genero'!E101","v":"MOLLENDO"},"Hombre","00-04",{"$f":"'Pob x Genero'!CT101","v":811},428]
[{"$f":"'Pob x Genero'!A102","v":"040702"},{"$f":"'Pob x Genero'!B102","v":"AREQUIPA"},{"$f":"'Pob x Genero'!C102","v":"AREQUIPA"},{"$f":"'Pob x Genero'!D102","v":"ISLAY"},{"$f":"'Pob x Genero'!E102","v":"COCACHACRA"},"Hombre","00-04",{"$f":"'Pob x Genero'!CT102","v":247},429]
[{"$f":"'Pob x Genero'!A103","v":"040703"},{"$f":"'Pob x Genero'!B103","v":"AREQUIPA"},{"$f":"'Pob x Genero'!C103","v":"AREQUIPA"},{"$f":"'Pob x Genero'!D103","v":"ISLAY"},{"$f":"'Pob x Genero'!E103","v":"DEAN VALDIVIA"},"Hombre","00-04",{"$f":"'Pob x Genero'!CT103","v":219},430]
[{"$f":"'Pob x Genero'!A104","v":"040704"},{"$f":"'Pob x Genero'!B104","v":"AREQUIPA"},{"$f":"'Pob x Genero'!C104","v":"AREQUIPA"},{"$f":"'Pob x Genero'!D104","v":"ISLAY"},{"$f":"'Pob x Genero'!E104","v":"ISLAY"},"Hombre","00-04",{"$f":"'Pob x Genero'!CT104","v":226},431]
[{"$f":"'Pob x Genero'!A105","v":"040705"},{"$f":"'Pob x Genero'!B105","v":"AREQUIPA"},{"$f":"'Pob x Genero'!C105","v":"AREQUIPA"},{"$f":"'Pob x Genero'!D105","v":"ISLAY"},{"$f":"'Pob x Genero'!E105","v":"MEJIA"},"Hombre","00-04",{"$f":"'Pob x Genero'!CT105","v":34},432]
[{"$f":"'Pob x Genero'!A106","v":"040706"},{"$f":"'Pob x Genero'!B106","v":"AREQUIPA"},{"$f":"'Pob x Genero'!C106","v":"AREQUIPA"},{"$f":"'Pob x Genero'!D106","v":"ISLAY"},{"$f":"'Pob x Genero'!E106","v":"PUNTA DE BOMBON"},"Hombre","00-04",{"$f":"'Pob x Genero'!CT106","v":201},433]
[{"$f":"'Pob x Genero'!A107","v":"040801"},{"$f":"'Pob x Genero'!B107","v":"AREQUIPA"},{"$f":"'Pob x Genero'!C107","v":"AREQUIPA"},{"$f":"'Pob x Genero'!D107","v":"LA UNION"},{"$f":"'Pob x Genero'!E107","v":"COTAHUASI"},"Hombre","00-04",{"$f":"'Pob x Genero'!CT107","v":129},434]
[{"$f":"'Pob x Genero'!A108","v":"040802"},{"$f":"'Pob x Genero'!B108","v":"AREQUIPA"},{"$f":"'Pob x Genero'!C108","v":"AREQUIPA"},{"$f":"'Pob x Genero'!D108","v":"LA UNION"},{"$f":"'Pob x Genero'!E108","v":"ALCA"},"Hombre","00-04",{"$f":"'Pob x Genero'!CT108","v":71},435]
[{"$f":"'Pob x Genero'!A109","v":"040803"},{"$f":"'Pob x Genero'!B109","v":"AREQUIPA"},{"$f":"'Pob x Genero'!C109","v":"AREQUIPA"},{"$f":"'Pob x Genero'!D109","v":"LA UNION"},{"$f":"'Pob x Genero'!E109","v":"CHARCANA"},"Hombre","00-04",{"$f":"'Pob x Genero'!CT109","v":26},436]
[{"$f":"'Pob x Genero'!A110","v":"040804"},{"$f":"'Pob x Genero'!B110","v":"AREQUIPA"},{"$f":"'Pob x Genero'!C110","v":"AREQUIPA"},{"$f":"'Pob x Genero'!D110","v":"LA UNION"},{"$f":"'Pob x Genero'!E110","v":"HUAYNACOTAS"},"Hombre","00-04",{"$f":"'Pob x Genero'!CT110","v":81},437]
[{"$f":"'Pob x Genero'!A111","v":"040805"},{"$f":"'Pob x Genero'!B111","v":"AREQUIPA"},{"$f":"'Pob x Genero'!C111","v":"AREQUIPA"},{"$f":"'Pob x Genero'!D111","v":"LA UNION"},{"$f":"'Pob x Genero'!E111","v":"PAMPAMARCA"},"Hombre","00-04",{"$f":"'Pob x Genero'!CT111","v":86},438]
[{"$f":"'Pob x Genero'!A112","v":"040806"},{"$f":"'Pob x Genero'!B112","v":"AREQUIPA"},{"$f":"'Pob x Genero'!C112","v":"AREQUIPA"},{"$f":"'Pob x Genero'!D112","v":"LA UNION"},{"$f":"'Pob x Genero'!E112","v":"PUYCA"},"Hombre","00-04",{"$f":"'Pob x Genero'!CT112","v":85},439]
[{"$f":"'Pob x Genero'!A113","v":"040807"},{"$f":"'Pob x Genero'!B113","v":"AREQUIPA"},{"$f":"'Pob x Genero'!C113","v":"AREQUIPA"},{"$f":"'Pob x Genero'!D113","v":"LA UNION"},{"$f":"'Pob x Genero'!E113","v":"QUECHUALLA"},"Hombre","00-04",{"$f":"'Pob x Genero'!CT113","v":2},440]
[{"$f":"'Pob x Genero'!A114","v":"040808"},{"$f":"'Pob x Genero'!B114","v":"AREQUIPA"},{"$f":"'Pob x Genero'!C114","v":"AREQUIPA"},{"$f":"'Pob x Genero'!D114","v":"LA UNION"},{"$f":"'Pob x Genero'!E114","v":"SAYLA"},"Hombre","00-04",{"$f":"'Pob x Genero'!CT114","v":10},441]
[{"$f":"'Pob x Genero'!A115","v":"040809"},{"$f":"'Pob x Genero'!B115","v":"AREQUIPA"},{"$f":"'Pob x Genero'!C115","v":"AREQUIPA"},{"$f":"'Pob x Genero'!D115","v":"LA UNION"},{"$f":"'Pob x Genero'!E115","v":"TAURIA"},"Hombre","00-04",{"$f":"'Pob x Genero'!CT115","v":23},442]
[{"$f":"'Pob x Genero'!A116","v":"040810"},{"$f":"'Pob x Genero'!B116","v":"AREQUIPA"},{"$f":"'Pob x Genero'!C116","v":"AREQUIPA"},{"$f":"'Pob x Genero'!D116","v":"LA UNION"},{"$f":"'Pob x Genero'!E116","v":"TOMEPAMPA"},"Hombre","00-04",{"$f":"'Pob x Genero'!CT116","v":15},443]
[{"$f":"'Pob x Genero'!A117","v":"040811"},{"$f":"'Pob x Genero'!B117","v":"AREQUIPA"},{"$f":"'Pob x Genero'!C117","v":"AREQUIPA"},{"$f":"'Pob x Genero'!D117","v":"LA UNION"},{"$f":"'Pob x Genero'!E117","v":"TORO"},"Hombre","00-04",{"$f":"'Pob x Genero'!CT117","v":11},444]
[{"$f":"'Pob x Genero'!#REF!","v":{"$error":"#REF!"}},{"$f":"'Pob x Genero'!#REF!","v":{"$error":"#REF!"}},{"$f":"'Pob x Genero'!#REF!","v":{"$error":"#REF!"}},{"$f":"'Pob x Genero'!#REF!","v":{"$error":"#REF!"}},{"$f":"'Pob x Genero'!#REF!","v":{"$error":"#REF!"}},"Hombre","00-04",{"$f":"'Pob x Genero'!#REF!","v":{"$error":"#REF!"}},445]
[{"$f":"'Pob x Genero'!#REF!","v":{"$error":"#REF!"}},{"$f":"'Pob x Genero'!#REF!","v":{"$error":"#REF!"}},{"$f":"'Pob x Genero'!#REF!","v":{"$error":"#REF!"}},{"$f":"'Pob x Genero'!#REF!","v":{"$error":"#REF!"}},{"$f":"'Pob x Genero'!#REF!","v":{"$error":"#REF!"}},"Hombre","00-04",{"$f":"'Pob x Genero'!#REF!","v":{"$error":"#REF!"}},446]
[{"$f":"'Pob x Genero'!#REF!","v":{"$error":"#REF!"}},{"$f":"'Pob x Genero'!#REF!","v":{"$error":"#REF!"}},{"$f":"'Pob x Genero'!#REF!","v":{"$error":"#REF!"}},{"$f":"'Pob x Genero'!#REF!","v":{"$error":"#REF!"}},{"$f":"'Pob x Genero'!#REF!","v":{"$error":"#REF!"}},"Hombre","00-04",{"$f":"'Pob x Genero'!#REF!","v":{"$error":"#REF!"}},447]
[{"$f":"'Pob x Genero'!#REF!","v":{"$error":"#REF!"}},{"$f":"'Pob x Genero'!#REF!","v":{"$error":"#REF!"}},{"$f":"'Pob x Genero'!#REF!","v":{"$error":"#REF!"}},{"$f":"'Pob x Genero'!#REF!","v":{"$error":"#REF!"}},{"$f":"'Pob x Genero'!#REF!","v":{"$error":"#REF!"}},"Hombre","00-04",{"$f":"'Pob x Genero'!#REF!","v":{"$error":"#REF!"}},448]
[{"$f":"'Pob x Genero'!#REF!","v":{"$error":"#REF!"}},{"$f":"'Pob x Genero'!#REF!","v":{"$error":"#REF!"}},{"$f":"'Pob x Genero'!#REF!","v":{"$error":"#REF!"}},{"$f":"'Pob x Genero'!#REF!","v":{"$error":"#REF!"}},{"$f":"'Pob x Genero'!#REF!","v":{"$error":"#REF!"}},"Hombre","00-04",{"$f":"'Pob x Genero'!#REF!","v":{"$error":"#REF!"}},449]
[{"$f":"'Pob x Genero'!#REF!","v":{"$error":"#REF!"}},{"$f":"'Pob x Genero'!#REF!","v":{"$error":"#REF!"}},{"$f":"'Pob x Genero'!#REF!","v":{"$error":"#REF!"}},{"$f":"'Pob x Genero'!#REF!","v":{"$error":"#REF!"}},{"$f":"'Pob x Genero'!#REF!","v":{"$error":"#REF!"}},{"$f":"F450","v":"Hombre"},{"$f":"G450","v":"00-04"},{"$f":"'Pob x Genero'!#REF!","v":{"$error":"#REF!"}},450]
[{"$f":"'Pob x Genero'!#REF!","v":{"$error":"#REF!"}},{"$f":"'Pob x Genero'!#REF!","v":{"$error":"#REF!"}},{"$f":"'Pob x Genero'!#REF!","v":{"$error":"#REF!"}},{"$f":"'Pob x Genero'!#REF!","v":{"$error":"#REF!"}},{"$f":"'Pob x Genero'!#REF!","v":{"$error":"#REF!"}},"Hombre","00-04",{"$f":"'Pob x Genero'!#REF!","v":{"$error":"#REF!"}},451]
[{"$f":"'Pob x Genero'!#REF!","v":{"$error":"#REF!"}},{"$f":"'Pob x Genero'!#REF!","v":{"$error":"#REF!"}},{"$f":"'Pob x Genero'!#REF!","v":{"$error":"#REF!"}},{"$f":"'Pob x Genero'!#REF!","v":{"$error":"#REF!"}},{"$f":"'Pob x Genero'!#REF!","v":{"$error":"#REF!"}},"Hombre","00-04",{"$f":"'Pob x Genero'!#REF!","v":{"$error":"#REF!"}},452]
[{"$f":"'Pob x Genero'!#REF!","v":{"$error":"#REF!"}},{"$f":"'Pob x Genero'!#REF!","v":{"$error":"#REF!"}},{"$f":"'Pob x Genero'!#REF!","v":{"$error":"#REF!"}},{"$f":"'Pob x Genero'!#REF!","v":{"$error":"#REF!"}},{"$f":"'Pob x Genero'!#REF!","v":{"$error":"#REF!"}},"Hombre","00-04",{"$f":"'Pob x Genero'!#REF!","v":{"$error":"#REF!"}},453]
[{"$f":"'Pob x Genero'!#REF!","v":{"$error":"#REF!"}},{"$f":"'Pob x Genero'!#REF!","v":{"$error":"#REF!"}},{"$f":"'Pob x Genero'!#REF!","v":{"$error":"#REF!"}},{"$f":"'Pob x Genero'!#REF!","v":{"$error":"#REF!"}},{"$f":"'Pob x Genero'!#REF!","v":{"$error":"#REF!"}},"Hombre","00-04",{"$f":"'Pob x Genero'!#REF!","v":{"$error":"#REF!"}},454]
[{"$f":"'Pob x Genero'!#REF!","v":{"$error":"#REF!"}},{"$f":"'Pob x Genero'!#REF!","v":{"$error":"#REF!"}},{"$f":"'Pob x Genero'!#REF!","v":{"$error":"#REF!"}},{"$f":"'Pob x Genero'!#REF!","v":{"$error":"#REF!"}},{"$f":"'Pob x Genero'!#REF!","v":{"$error":"#REF!"}},"Hombre","00-04",{"$f":"'Pob x Genero'!#REF!","v":{"$error":"#REF!"}},455]
[{"$f":"'Pob x Genero'!#REF!","v":{"$error":"#REF!"}},{"$f":"'Pob x Genero'!#REF!","v":{"$error":"#REF!"}},{"$f":"'Pob x Genero'!#REF!","v":{"$error":"#REF!"}},{"$f":"'Pob x Genero'!#REF!","v":{"$error":"#REF!"}},{"$f":"'Pob x Genero'!#REF!","v":{"$error":"#REF!"}},"Hombre","00-04",{"$f":"'Pob x Genero'!#REF!","v":{"$error":"#REF!"}},456]
[{"$f":"'Pob x Genero'!#REF!","v":{"$error":"#REF!"}},{"$f":"'Pob x Genero'!#REF!","v":{"$error":"#REF!"}},{"$f":"'Pob x Genero'!#REF!","v":{"$error":"#REF!"}},{"$f":"'Pob x Genero'!#REF!","v":{"$error":"#REF!"}},{"$f":"'Pob x Genero'!#REF!","v":{"$error":"#REF!"}},"Hombre","00-04",{"$f":"'Pob x Genero'!#REF!","v":{"$error":"#REF!"}},457]
[{"$f":"'Pob x Genero'!#REF!","v":{"$error":"#REF!"}},{"$f":"'Pob x Genero'!#REF!","v":{"$error":"#REF!"}},{"$f":"'Pob x Genero'!#REF!","v":{"$error":"#REF!"}},{"$f":"'Pob x Genero'!#REF!","v":{"$error":"#REF!"}},{"$f":"'Pob x Genero'!#REF!","v":{"$error":"#REF!"}},"Hombre","00-04",{"$f":"'Pob x Genero'!#REF!","v":{"$error":"#REF!"}},458]
[{"$f":"'Pob x Genero'!#REF!","v":{"$error":"#REF!"}},{"$f":"'Pob x Genero'!#REF!","v":{"$error":"#REF!"}},{"$f":"'Pob x Genero'!#REF!","v":{"$error":"#REF!"}},{"$f":"'Pob x Genero'!#REF!","v":{"$error":"#REF!"}},{"$f":"'Pob x Genero'!#REF!","v":{"$error":"#REF!"}},"Hombre","00-04",{"$f":"'Pob x Genero'!#REF!","v":{"$error":"#REF!"}},459]
[{"$f":"'Pob x Genero'!#REF!","v":{"$error":"#REF!"}},{"$f":"'Pob x Genero'!#REF!","v":{"$error":"#REF!"}},{"$f":"'Pob x Genero'!#REF!","v":{"$error":"#REF!"}},{"$f":"'Pob x Genero'!#REF!","v":{"$error":"#REF!"}},{"$f":"'Pob x Genero'!#REF!","v":{"$error":"#REF!"}},"Hombre","00-04",{"$f":"'Pob x Genero'!#REF!","v":{"$error":"#REF!"}},460]
[{"$f":"'Pob x Genero'!#REF!","v":{"$error":"#REF!"}},{"$f":"'Pob x Genero'!#REF!","v":{"$error":"#REF!"}},{"$f":"'Pob x Genero'!#REF!","v":{"$error":"#REF!"}},{"$f":"'Pob x Genero'!#REF!","v":{"$error":"#REF!"}},{"$f":"'Pob x Genero'!#REF!","v":{"$error":"#REF!"}},"Hombre","00-04",{"$f":"'Pob x Genero'!#REF!","v":{"$error":"#REF!"}},461]
[{"$f":"'Pob x Genero'!#REF!","v":{"$error":"#REF!"}},{"$f":"'Pob x Genero'!#REF!","v":{"$error":"#REF!"}},{"$f":"'Pob x Genero'!#REF!","v":{"$error":"#REF!"}},{"$f":"'Pob x Genero'!#REF!","v":{"$error":"#REF!"}},{"$f":"'Pob x Genero'!#REF!","v":{"$error":"#REF!"}},"Hombre","00-04",{"$f":"'Pob x Genero'!#REF!","v":{"$error":"#REF!"}},462]
[{"$f":"'Pob x Genero'!#REF!","v":{"$error":"#REF!"}},{"$f":"'Pob x Genero'!#REF!","v":{"$error":"#REF!"}},{"$f":"'Pob x Genero'!#REF!","v":{"$error":"#REF!"}},{"$f":"'Pob x Genero'!#REF!","v":{"$error":"#REF!"}},{"$f":"'Pob x Genero'!#REF!","v":{"$error":"#REF!"}},"Hombre","00-04",{"$f":"'Pob x Genero'!#REF!","v":{"$error":"#REF!"}},463]
[{"$f":"'Pob x Genero'!#REF!","v":{"$error":"#REF!"}},{"$f":"'Pob x Genero'!#REF!","v":{"$error":"#REF!"}},{"$f":"'Pob x Genero'!#REF!","v":{"$error":"#REF!"}},{"$f":"'Pob x Genero'!#REF!","v":{"$error":"#REF!"}},{"$f":"'Pob x Genero'!#REF!","v":{"$error":"#REF!"}},"Hombre","00-04",{"$f":"'Pob x Genero'!#REF!","v":{"$error":"#REF!"}},464]
[{"$f":"'Pob x Genero'!#REF!","v":{"$error":"#REF!"}},{"$f":"'Pob x Genero'!#REF!","v":{"$error":"#REF!"}},{"$f":"'Pob x Genero'!#REF!","v":{"$error":"#REF!"}},{"$f":"'Pob x Genero'!#REF!","v":{"$error":"#REF!"}},{"$f":"'Pob x Genero'!#REF!","v":{"$error":"#REF!"}},"Hombre","00-04",{"$f":"'Pob x Genero'!#REF!","v":{"$error":"#REF!"}},465]
[{"$f":"'Pob x Genero'!#REF!","v":{"$error":"#REF!"}},{"$f":"'Pob x Genero'!#REF!","v":{"$error":"#REF!"}},{"$f":"'Pob x Genero'!#REF!","v":{"$error":"#REF!"}},{"$f":"'Pob x Genero'!#REF!","v":{"$error":"#REF!"}},{"$f":"'Pob x Genero'!#REF!","v":{"$error":"#REF!"}},"Hombre","00-04",{"$f":"'Pob x Genero'!#REF!","v":{"$error":"#REF!"}},466]
[{"$f":"'Pob x Genero'!#REF!","v":{"$error":"#REF!"}},{"$f":"'Pob x Genero'!#REF!","v":{"$error":"#REF!"}},{"$f":"'Pob x Genero'!#REF!","v":{"$error":"#REF!"}},{"$f":"'Pob x Genero'!#REF!","v":{"$error":"#REF!"}},{"$f":"'Pob x Genero'!#REF!","v":{"$error":"#REF!"}},"Hombre","00-04",{"$f":"'Pob x Genero'!#REF!","v":{"$error":"#REF!"}},467]
[{"$f":"'Pob x Genero'!#REF!","v":{"$error":"#REF!"}},{"$f":"'Pob x Genero'!#REF!","v":{"$error":"#REF!"}},{"$f":"'Pob x Genero'!#REF!","v":{"$error":"#REF!"}},{"$f":"'Pob x Genero'!#REF!","v":{"$error":"#REF!"}},{"$f":"'Pob x Genero'!#REF!","v":{"$error":"#REF!"}},"Hombre","00-04",{"$f":"'Pob x Genero'!#REF!","v":{"$error":"#REF!"}},468]
[{"$f":"'Pob x Genero'!#REF!","v":{"$error":"#REF!"}},{"$f":"'Pob x Genero'!#REF!","v":{"$error":"#REF!"}},{"$f":"'Pob x Genero'!#REF!","v":{"$error":"#REF!"}},{"$f":"'Pob x Genero'!#REF!","v":{"$error":"#REF!"}},{"$f":"'Pob x Genero'!#REF!","v":{"$error":"#REF!"}},"Hombre","00-04",{"$f":"'Pob x Genero'!#REF!","v":{"$error":"#REF!"}},469]
[{"$f":"'Pob x Genero'!#REF!","v":{"$error":"#REF!"}},{"$f":"'Pob x Genero'!#REF!","v":{"$error":"#REF!"}},{"$f":"'Pob x Genero'!#REF!","v":{"$error":"#REF!"}},{"$f":"'Pob x Genero'!#REF!","v":{"$error":"#REF!"}},{"$f":"'Pob x Genero'!#REF!","v":{"$error":"#REF!"}},"Hombre","00-04",{"$f":"'Pob x Genero'!#REF!","v":{"$error":"#REF!"}},470]
[{"$f":"'Pob x Genero'!#REF!","v":{"$error":"#REF!"}},{"$f":"'Pob x Genero'!#REF!","v":{"$error":"#REF!"}},{"$f":"'Pob x Genero'!#REF!","v":{"$error":"#REF!"}},{"$f":"'Pob x Genero'!#REF!","v":{"$error":"#REF!"}},{"$f":"'Pob x Genero'!#REF!","v":{"$error":"#REF!"}},"Hombre","00-04",{"$f":"'Pob x Genero'!#REF!","v":{"$error":"#REF!"}},471]
[{"$f":"'Pob x Genero'!#REF!","v":{"$error":"#REF!"}},{"$f":"'Pob x Genero'!#REF!","v":{"$error":"#REF!"}},{"$f":"'Pob x Genero'!#REF!","v":{"$error":"#REF!"}},{"$f":"'Pob x Genero'!#REF!","v":{"$error":"#REF!"}},{"$f":"'Pob x Genero'!#REF!","v":{"$error":"#REF!"}},"Hombre","00-04",{"$f":"'Pob x Genero'!#REF!","v":{"$error":"#REF!"}},472]
[{"$f":"'Pob x Genero'!#REF!","v":{"$error":"#REF!"}},{"$f":"'Pob x Genero'!#REF!","v":{"$error":"#REF!"}},{"$f":"'Pob x Genero'!#REF!","v":{"$error":"#REF!"}},{"$f":"'Pob x Genero'!#REF!","v":{"$error":"#REF!"}},{"$f":"'Pob x Genero'!#REF!","v":{"$error":"#REF!"}},"Hombre","00-04",{"$f":"'Pob x Genero'!#REF!","v":{"$error":"#REF!"}},473]
[{"$f":"'Pob x Genero'!#REF!","v":{"$error":"#REF!"}},{"$f":"'Pob x Genero'!#REF!","v":{"$error":"#REF!"}},{"$f":"'Pob x Genero'!#REF!","v":{"$error":"#REF!"}},{"$f":"'Pob x Genero'!#REF!","v":{"$error":"#REF!"}},{"$f":"'Pob x Genero'!#REF!","v":{"$error":"#REF!"}},"Hombre","00-04",{"$f":"'Pob x Genero'!#REF!","v":{"$error":"#REF!"}},474]
[{"$f":"'Pob x Genero'!#REF!","v":{"$error":"#REF!"}},{"$f":"'Pob x Genero'!#REF!","v":{"$error":"#REF!"}},{"$f":"'Pob x Genero'!#REF!","v":{"$error":"#REF!"}},{"$f":"'Pob x Genero'!#REF!","v":{"$error":"#REF!"}},{"$f":"'Pob x Genero'!#REF!","v":{"$error":"#REF!"}},"Hombre","00-04",{"$f":"'Pob x Genero'!#REF!","v":{"$error":"#REF!"}},475]
[{"$f":"'Pob x Genero'!#REF!","v":{"$error":"#REF!"}},{"$f":"'Pob x Genero'!#REF!","v":{"$error":"#REF!"}},{"$f":"'Pob x Genero'!#REF!","v":{"$error":"#REF!"}},{"$f":"'Pob x Genero'!#REF!","v":{"$error":"#REF!"}},{"$f":"'Pob x Genero'!#REF!","v":{"$error":"#REF!"}},"Hombre","00-04",{"$f":"'Pob x Genero'!#REF!","v":{"$error":"#REF!"}},476]
[{"$f":"'Pob x Genero'!#REF!","v":{"$error":"#REF!"}},{"$f":"'Pob x Genero'!#REF!","v":{"$error":"#REF!"}},{"$f":"'Pob x Genero'!#REF!","v":{"$error":"#REF!"}},{"$f":"'Pob x Genero'!#REF!","v":{"$error":"#REF!"}},{"$f":"'Pob x Genero'!#REF!","v":{"$error":"#REF!"}},"Hombre","00-04",{"$f":"'Pob x Genero'!#REF!","v":{"$error":"#REF!"}},477]
[{"$f":"'Pob x Genero'!#REF!","v":{"$error":"#REF!"}},{"$f":"'Pob x Genero'!#REF!","v":{"$error":"#REF!"}},{"$f":"'Pob x Genero'!#REF!","v":{"$error":"#REF!"}},{"$f":"'Pob x Genero'!#REF!","v":{"$error":"#REF!"}},{"$f":"'Pob x Genero'!#REF!","v":{"$error":"#REF!"}},"Hombre","00-04",{"$f":"'Pob x Genero'!#REF!","v":{"$error":"#REF!"}},478]
[{"$f":"'Pob x Genero'!#REF!","v":{"$error":"#REF!"}},{"$f":"'Pob x Genero'!#REF!","v":{"$error":"#REF!"}},{"$f":"'Pob x Genero'!#REF!","v":{"$error":"#REF!"}},{"$f":"'Pob x Genero'!#REF!","v":{"$error":"#REF!"}},{"$f":"'Pob x Genero'!#REF!","v":{"$error":"#REF!"}},"Hombre","00-04",{"$f":"'Pob x Genero'!#REF!","v":{"$error":"#REF!"}},479]
[{"$f":"'Pob x Genero'!#REF!","v":{"$error":"#REF!"}},{"$f":"'Pob x Genero'!#REF!","v":{"$error":"#REF!"}},{"$f":"'Pob x Genero'!#REF!","v":{"$error":"#REF!"}},{"$f":"'Pob x Genero'!#REF!","v":{"$error":"#REF!"}},{"$f":"'Pob x Genero'!#REF!","v":{"$error":"#REF!"}},"Hombre","00-04",{"$f":"'Pob x Genero'!#REF!","v":{"$error":"#REF!"}},480]
[{"$f":"'Pob x Genero'!#REF!","v":{"$error":"#REF!"}},{"$f":"'Pob x Genero'!#REF!","v":{"$error":"#REF!"}},{"$f":"'Pob x Genero'!#REF!","v":{"$error":"#REF!"}},{"$f":"'Pob x Genero'!#REF!","v":{"$error":"#REF!"}},{"$f":"'Pob x Genero'!#REF!","v":{"$error":"#REF!"}},"Hombre","00-04",{"$f":"'Pob x Genero'!#REF!","v":{"$error":"#REF!"}},481]
[{"$f":"'Pob x Genero'!#REF!","v":{"$error":"#REF!"}},{"$f":"'Pob x Genero'!#REF!","v":{"$error":"#REF!"}},{"$f":"'Pob x Genero'!#REF!","v":{"$error":"#REF!"}},{"$f":"'Pob x Genero'!#REF!","v":{"$error":"#REF!"}},{"$f":"'Pob x Genero'!#REF!","v":{"$error":"#REF!"}},"Hombre","00-04",{"$f":"'Pob x Genero'!#REF!","v":{"$error":"#REF!"}},482]
[{"$f":"'Pob x Genero'!#REF!","v":{"$error":"#REF!"}},{"$f":"'Pob x Genero'!#REF!","v":{"$error":"#REF!"}},{"$f":"'Pob x Genero'!#REF!","v":{"$error":"#REF!"}},{"$f":"'Pob x Genero'!#REF!","v":{"$error":"#REF!"}},{"$f":"'Pob x Genero'!#REF!","v":{"$error":"#REF!"}},"Hombre","00-04",{"$f":"'Pob x Genero'!#REF!","v":{"$error":"#REF!"}},483]
[{"$f":"'Pob x Genero'!#REF!","v":{"$error":"#REF!"}},{"$f":"'Pob x Genero'!#REF!","v":{"$error":"#REF!"}},{"$f":"'Pob x Genero'!#REF!","v":{"$error":"#REF!"}},{"$f":"'Pob x Genero'!#REF!","v":{"$error":"#REF!"}},{"$f":"'Pob x Genero'!#REF!","v":{"$error":"#REF!"}},"Hombre","00-04",{"$f":"'Pob x Genero'!#REF!","v":{"$error":"#REF!"}},484]
[{"$f":"'Pob x Genero'!#REF!","v":{"$error":"#REF!"}},{"$f":"'Pob x Genero'!#REF!","v":{"$error":"#REF!"}},{"$f":"'Pob x Genero'!#REF!","v":{"$error":"#REF!"}},{"$f":"'Pob x Genero'!#REF!","v":{"$error":"#REF!"}},{"$f":"'Pob x Genero'!#REF!","v":{"$error":"#REF!"}},"Hombre","00-04",{"$f":"'Pob x Genero'!#REF!","v":{"$error":"#REF!"}},485]
[{"$f":"'Pob x Genero'!#REF!","v":{"$error":"#REF!"}},{"$f":"'Pob x Genero'!#REF!","v":{"$error":"#REF!"}},{"$f":"'Pob x Genero'!#REF!","v":{"$error":"#REF!"}},{"$f":"'Pob x Genero'!#REF!","v":{"$error":"#REF!"}},{"$f":"'Pob x Genero'!#REF!","v":{"$error":"#REF!"}},"Hombre","00-04",{"$f":"'Pob x Genero'!#REF!","v":{"$error":"#REF!"}},486]
[{"$f":"'Pob x Genero'!#REF!","v":{"$error":"#REF!"}},{"$f":"'Pob x Genero'!#REF!","v":{"$error":"#REF!"}},{"$f":"'Pob x Genero'!#REF!","v":{"$error":"#REF!"}},{"$f":"'Pob x Genero'!#REF!","v":{"$error":"#REF!"}},{"$f":"'Pob x Genero'!#REF!","v":{"$error":"#REF!"}},"Hombre","00-04",{"$f":"'Pob x Genero'!#REF!","v":{"$error":"#REF!"}},487]
[{"$f":"'Pob x Genero'!#REF!","v":{"$error":"#REF!"}},{"$f":"'Pob x Genero'!#REF!","v":{"$error":"#REF!"}},{"$f":"'Pob x Genero'!#REF!","v":{"$error":"#REF!"}},{"$f":"'Pob x Genero'!#REF!","v":{"$error":"#REF!"}},{"$f":"'Pob x Genero'!#REF!","v":{"$error":"#REF!"}},"Hombre","00-04",{"$f":"'Pob x Genero'!#REF!","v":{"$error":"#REF!"}},488]
[{"$f":"'Pob x Genero'!#REF!","v":{"$error":"#REF!"}},{"$f":"'Pob x Genero'!#REF!","v":{"$error":"#REF!"}},{"$f":"'Pob x Genero'!#REF!","v":{"$error":"#REF!"}},{"$f":"'Pob x Genero'!#REF!","v":{"$error":"#REF!"}},{"$f":"'Pob x Genero'!#REF!","v":{"$error":"#REF!"}},"Hombre","00-04",{"$f":"'Pob x Genero'!#REF!","v":{"$error":"#REF!"}},489]
[{"$f":"'Pob x Genero'!#REF!","v":{"$error":"#REF!"}},{"$f":"'Pob x Genero'!#REF!","v":{"$error":"#REF!"}},{"$f":"'Pob x Genero'!#REF!","v":{"$error":"#REF!"}},{"$f":"'Pob x Genero'!#REF!","v":{"$error":"#REF!"}},{"$f":"'Pob x Genero'!#REF!","v":{"$error":"#REF!"}},"Hombre","00-04",{"$f":"'Pob x Genero'!#REF!","v":{"$error":"#REF!"}},490]
[{"$f":"'Pob x Genero'!#REF!","v":{"$error":"#REF!"}},{"$f":"'Pob x Genero'!#REF!","v":{"$error":"#REF!"}},{"$f":"'Pob x Genero'!#REF!","v":{"$error":"#REF!"}},{"$f":"'Pob x Genero'!#REF!","v":{"$error":"#REF!"}},{"$f":"'Pob x Genero'!#REF!","v":{"$error":"#REF!"}},"Hombre","00-04",{"$f":"'Pob x Genero'!#REF!","v":{"$error":"#REF!"}},491]
[{"$f":"'Pob x Genero'!#REF!","v":{"$error":"#REF!"}},{"$f":"'Pob x Genero'!#REF!","v":{"$error":"#REF!"}},{"$f":"'Pob x Genero'!#REF!","v":{"$error":"#REF!"}},{"$f":"'Pob x Genero'!#REF!","v":{"$error":"#REF!"}},{"$f":"'Pob x Genero'!#REF!","v":{"$error":"#REF!"}},"Hombre","00-04",{"$f":"'Pob x Genero'!#REF!","v":{"$error":"#REF!"}},492]
[{"$f":"'Pob x Genero'!#REF!","v":{"$error":"#REF!"}},{"$f":"'Pob x Genero'!#REF!","v":{"$error":"#REF!"}},{"$f":"'Pob x Genero'!#REF!","v":{"$error":"#REF!"}},{"$f":"'Pob x Genero'!#REF!","v":{"$error":"#REF!"}},{"$f":"'Pob x Genero'!#REF!","v":{"$error":"#REF!"}},"Hombre","00-04",{"$f":"'Pob x Genero'!#REF!","v":{"$error":"#REF!"}},493]
[{"$f":"'Pob x Genero'!#REF!","v":{"$error":"#REF!"}},{"$f":"'Pob x Genero'!#REF!","v":{"$error":"#REF!"}},{"$f":"'Pob x Genero'!#REF!","v":{"$error":"#REF!"}},{"$f":"'Pob x Genero'!#REF!","v":{"$error":"#REF!"}},{"$f":"'Pob x Genero'!#REF!","v":{"$error":"#REF!"}},"Hombre","00-04",{"$f":"'Pob x Genero'!#REF!","v":{"$error":"#REF!"}},494]
[{"$f":"'Pob x Genero'!#REF!","v":{"$error":"#REF!"}},{"$f":"'Pob x Genero'!#REF!","v":{"$error":"#REF!"}},{"$f":"'Pob x Genero'!#REF!","v":{"$error":"#REF!"}},{"$f":"'Pob x Genero'!#REF!","v":{"$error":"#REF!"}},{"$f":"'Pob x Genero'!#REF!","v":{"$error":"#REF!"}},"Hombre","00-04",{"$f":"'Pob x Genero'!#REF!","v":{"$error":"#REF!"}},495]
[{"$f":"'Pob x Genero'!#REF!","v":{"$error":"#REF!"}},{"$f":"'Pob x Genero'!#REF!","v":{"$error":"#REF!"}},{"$f":"'Pob x Genero'!#REF!","v":{"$error":"#REF!"}},{"$f":"'Pob x Genero'!#REF!","v":{"$error":"#REF!"}},{"$f":"'Pob x Genero'!#REF!","v":{"$error":"#REF!"}},"Hombre","00-04",{"$f":"'Pob x Genero'!#REF!","v":{"$error":"#REF!"}},496]
[{"$f":"'Pob x Genero'!#REF!","v":{"$error":"#REF!"}},{"$f":"'Pob x Genero'!#REF!","v":{"$error":"#REF!"}},{"$f":"'Pob x Genero'!#REF!","v":{"$error":"#REF!"}},{"$f":"'Pob x Genero'!#REF!","v":{"$error":"#REF!"}},{"$f":"'Pob x Genero'!#REF!","v":{"$error":"#REF!"}},"Hombre","00-04",{"$f":"'Pob x Genero'!#REF!","v":{"$error":"#REF!"}},497]
[{"$f":"'Pob x Genero'!#REF!","v":{"$error":"#REF!"}},{"$f":"'Pob x Genero'!#REF!","v":{"$error":"#REF!"}},{"$f":"'Pob x Genero'!#REF!","v":{"$error":"#REF!"}},{"$f":"'Pob x Genero'!#REF!","v":{"$error":"#REF!"}},{"$f":"'Pob x Genero'!#REF!","v":{"$error":"#REF!"}},"Hombre","00-04",{"$f":"'Pob x Genero'!#REF!","v":{"$error":"#REF!"}},498]
[{"$f":"'Pob x Genero'!#REF!","v":{"$error":"#REF!"}},{"$f":"'Pob x Genero'!#REF!","v":{"$error":"#REF!"}},{"$f":"'Pob x Genero'!#REF!","v":{"$error":"#REF!"}},{"$f":"'Pob x Genero'!#REF!","v":{"$error":"#REF!"}},{"$f":"'Pob x Genero'!#REF!","v":{"$error":"#REF!"}},"Hombre","00-04",{"$f":"'Pob x Genero'!#REF!","v":{"$error":"#REF!"}},499]
[{"$f":"'Pob x Genero'!#REF!","v":{"$error":"#REF!"}},{"$f":"'Pob x Genero'!#REF!","v":{"$error":"#REF!"}},{"$f":"'Pob x Genero'!#REF!","v":{"$error":"#REF!"}},{"$f":"'Pob x Genero'!#REF!","v":{"$error":"#REF!"}},{"$f":"'Pob x Genero'!#REF!","v":{"$error":"#REF!"}},"Hombre","00-04",{"$f":"'Pob x Genero'!#REF!","v":{"$error":"#REF!"}},500]
[{"$f":"'Pob x Genero'!#REF!","v":{"$error":"#REF!"}},{"$f":"'Pob x Genero'!#REF!","v":{"$error":"#REF!"}},{"$f":"'Pob x Genero'!#REF!","v":{"$error":"#REF!"}},{"$f":"'Pob x Genero'!#REF!","v":{"$error":"#REF!"}},{"$f":"'Pob x Genero'!#REF!","v":{"$error":"#REF!"}},"Hombre","00-04",{"$f":"'Pob x Genero'!#REF!","v":{"$error":"#REF!"}},501]
[{"$f":"'Pob x Genero'!#REF!","v":{"$error":"#REF!"}},{"$f":"'Pob x Genero'!#REF!","v":{"$error":"#REF!"}},{"$f":"'Pob x Genero'!#REF!","v":{"$error":"#REF!"}},{"$f":"'Pob x Genero'!#REF!","v":{"$error":"#REF!"}},{"$f":"'Pob x Genero'!#REF!","v":{"$error":"#REF!"}},"Hombre","00-04",{"$f":"'Pob x Genero'!#REF!","v":{"$error":"#REF!"}},502]
[{"$f":"'Pob x Genero'!#REF!","v":{"$error":"#REF!"}},{"$f":"'Pob x Genero'!#REF!","v":{"$error":"#REF!"}},{"$f":"'Pob x Genero'!#REF!","v":{"$error":"#REF!"}},{"$f":"'Pob x Genero'!#REF!","v":{"$error":"#REF!"}},{"$f":"'Pob x Genero'!#REF!","v":{"$error":"#REF!"}},"Hombre","00-04",{"$f":"'Pob x Genero'!#REF!","v":{"$error":"#REF!"}},503]
[{"$f":"'Pob x Genero'!#REF!","v":{"$error":"#REF!"}},{"$f":"'Pob x Genero'!#REF!","v":{"$error":"#REF!"}},{"$f":"'Pob x Genero'!#REF!","v":{"$error":"#REF!"}},{"$f":"'Pob x Genero'!#REF!","v":{"$error":"#REF!"}},{"$f":"'Pob x Genero'!#REF!","v":{"$error":"#REF!"}},"Hombre","00-04",{"$f":"'Pob x Genero'!#REF!","v":{"$error":"#REF!"}},504]
[{"$f":"'Pob x Genero'!#REF!","v":{"$error":"#REF!"}},{"$f":"'Pob x Genero'!#REF!","v":{"$error":"#REF!"}},{"$f":"'Pob x Genero'!#REF!","v":{"$error":"#REF!"}},{"$f":"'Pob x Genero'!#REF!","v":{"$error":"#REF!"}},{"$f":"'Pob x Genero'!#REF!","v":{"$error":"#REF!"}},"Hombre","00-04",{"$f":"'Pob x Genero'!#REF!","v":{"$error":"#REF!"}},505]
[{"$f":"'Pob x Genero'!#REF!","v":{"$error":"#REF!"}},{"$f":"'Pob x Genero'!#REF!","v":{"$error":"#REF!"}},{"$f":"'Pob x Genero'!#REF!","v":{"$error":"#REF!"}},{"$f":"'Pob x Genero'!#REF!","v":{"$error":"#REF!"}},{"$f":"'Pob x Genero'!#REF!","v":{"$error":"#REF!"}},"Hombre","00-04",{"$f":"'Pob x Genero'!#REF!","v":{"$error":"#REF!"}},506]
[{"$f":"'Pob x Genero'!#REF!","v":{"$error":"#REF!"}},{"$f":"'Pob x Genero'!#REF!","v":{"$error":"#REF!"}},{"$f":"'Pob x Genero'!#REF!","v":{"$error":"#REF!"}},{"$f":"'Pob x Genero'!#REF!","v":{"$error":"#REF!"}},{"$f":"'Pob x Genero'!#REF!","v":{"$error":"#REF!"}},"Hombre","00-04",{"$f":"'Pob x Genero'!#REF!","v":{"$error":"#REF!"}},507]
[{"$f":"'Pob x Genero'!#REF!","v":{"$error":"#REF!"}},{"$f":"'Pob x Genero'!#REF!","v":{"$error":"#REF!"}},{"$f":"'Pob x Genero'!#REF!","v":{"$error":"#REF!"}},{"$f":"'Pob x Genero'!#REF!","v":{"$error":"#REF!"}},{"$f":"'Pob x Genero'!#REF!","v":{"$error":"#REF!"}},"Hombre","00-04",{"$f":"'Pob x Genero'!#REF!","v":{"$error":"#REF!"}},508]
[{"$f":"'Pob x Genero'!#REF!","v":{"$error":"#REF!"}},{"$f":"'Pob x Genero'!#REF!","v":{"$error":"#REF!"}},{"$f":"'Pob x Genero'!#REF!","v":{"$error":"#REF!"}},{"$f":"'Pob x Genero'!#REF!","v":{"$error":"#REF!"}},{"$f":"'Pob x Genero'!#REF!","v":{"$error":"#REF!"}},"Hombre","00-04",{"$f":"'Pob x Genero'!#REF!","v":{"$error":"#REF!"}},509]
[{"$f":"'Pob x Genero'!#REF!","v":{"$error":"#REF!"}},{"$f":"'Pob x Genero'!#REF!","v":{"$error":"#REF!"}},{"$f":"'Pob x Genero'!#REF!","v":{"$error":"#REF!"}},{"$f":"'Pob x Genero'!#REF!","v":{"$error":"#REF!"}},{"$f":"'Pob x Genero'!#REF!","v":{"$error":"#REF!"}},"Hombre","00-04",{"$f":"'Pob x Genero'!#REF!","v":{"$error":"#REF!"}},510]
[{"$f":"'Pob x Genero'!#REF!","v":{"$error":"#REF!"}},{"$f":"'Pob x Genero'!#REF!","v":{"$error":"#REF!"}},{"$f":"'Pob x Genero'!#REF!","v":{"$error":"#REF!"}},{"$f":"'Pob x Genero'!#REF!","v":{"$error":"#REF!"}},{"$f":"'Pob x Genero'!#REF!","v":{"$error":"#REF!"}},"Hombre","00-04",{"$f":"'Pob x Genero'!#REF!","v":{"$error":"#REF!"}},511]
[{"$f":"'Pob x Genero'!#REF!","v":{"$error":"#REF!"}},{"$f":"'Pob x Genero'!#REF!","v":{"$error":"#REF!"}},{"$f":"'Pob x Genero'!#REF!","v":{"$error":"#REF!"}},{"$f":"'Pob x Genero'!#REF!","v":{"$error":"#REF!"}},{"$f":"'Pob x Genero'!#REF!","v":{"$error":"#REF!"}},"Hombre","00-04",{"$f":"'Pob x Genero'!#REF!","v":{"$error":"#REF!"}},512]
[{"$f":"'Pob x Genero'!#REF!","v":{"$error":"#REF!"}},{"$f":"'Pob x Genero'!#REF!","v":{"$error":"#REF!"}},{"$f":"'Pob x Genero'!#REF!","v":{"$error":"#REF!"}},{"$f":"'Pob x Genero'!#REF!","v":{"$error":"#REF!"}},{"$f":"'Pob x Genero'!#REF!","v":{"$error":"#REF!"}},"Hombre","00-04",{"$f":"'Pob x Genero'!#REF!","v":{"$error":"#REF!"}},513]
[{"$f":"'Pob x Genero'!#REF!","v":{"$error":"#REF!"}},{"$f":"'Pob x Genero'!#REF!","v":{"$error":"#REF!"}},{"$f":"'Pob x Genero'!#REF!","v":{"$error":"#REF!"}},{"$f":"'Pob x Genero'!#REF!","v":{"$error":"#REF!"}},{"$f":"'Pob x Genero'!#REF!","v":{"$error":"#REF!"}},{"$f":"F514","v":"Hombre"},{"$f":"G514","v":"00-04"},{"$f":"'Pob x Genero'!#REF!","v":{"$error":"#REF!"}},514]
[{"$f":"'Pob x Genero'!#REF!","v":{"$error":"#REF!"}},{"$f":"'Pob x Genero'!#REF!","v":{"$error":"#REF!"}},{"$f":"'Pob x Genero'!#REF!","v":{"$error":"#REF!"}},{"$f":"'Pob x Genero'!#REF!","v":{"$error":"#REF!"}},{"$f":"'Pob x Genero'!#REF!","v":{"$error":"#REF!"}},"Hombre","00-04",{"$f":"'Pob x Genero'!#REF!","v":{"$error":"#REF!"}},515]
[{"$f":"'Pob x Genero'!#REF!","v":{"$error":"#REF!"}},{"$f":"'Pob x Genero'!#REF!","v":{"$error":"#REF!"}},{"$f":"'Pob x Genero'!#REF!","v":{"$error":"#REF!"}},{"$f":"'Pob x Genero'!#REF!","v":{"$error":"#REF!"}},{"$f":"'Pob x Genero'!#REF!","v":{"$error":"#REF!"}},"Hombre","00-04",{"$f":"'Pob x Genero'!#REF!","v":{"$error":"#REF!"}},516]
[{"$f":"'Pob x Genero'!#REF!","v":{"$error":"#REF!"}},{"$f":"'Pob x Genero'!#REF!","v":{"$error":"#REF!"}},{"$f":"'Pob x Genero'!#REF!","v":{"$error":"#REF!"}},{"$f":"'Pob x Genero'!#REF!","v":{"$error":"#REF!"}},{"$f":"'Pob x Genero'!#REF!","v":{"$error":"#REF!"}},"Hombre","00-04",{"$f":"'Pob x Genero'!#REF!","v":{"$error":"#REF!"}},517]
[{"$f":"'Pob x Genero'!#REF!","v":{"$error":"#REF!"}},{"$f":"'Pob x Genero'!#REF!","v":{"$error":"#REF!"}},{"$f":"'Pob x Genero'!#REF!","v":{"$error":"#REF!"}},{"$f":"'Pob x Genero'!#REF!","v":{"$error":"#REF!"}},{"$f":"'Pob x Genero'!#REF!","v":{"$error":"#REF!"}},"Hombre","00-04",{"$f":"'Pob x Genero'!#REF!","v":{"$error":"#REF!"}},518]
[{"$f":"'Pob x Genero'!#REF!","v":{"$error":"#REF!"}},{"$f":"'Pob x Genero'!#REF!","v":{"$error":"#REF!"}},{"$f":"'Pob x Genero'!#REF!","v":{"$error":"#REF!"}},{"$f":"'Pob x Genero'!#REF!","v":{"$error":"#REF!"}},{"$f":"'Pob x Genero'!#REF!","v":{"$error":"#REF!"}},"Hombre","00-04",{"$f":"'Pob x Genero'!#REF!","v":{"$error":"#REF!"}},519]
[{"$f":"'Pob x Genero'!#REF!","v":{"$error":"#REF!"}},{"$f":"'Pob x Genero'!#REF!","v":{"$error":"#REF!"}},{"$f":"'Pob x Genero'!#REF!","v":{"$error":"#REF!"}},{"$f":"'Pob x Genero'!#REF!","v":{"$error":"#REF!"}},{"$f":"'Pob x Genero'!#REF!","v":{"$error":"#REF!"}},"Hombre","00-04",{"$f":"'Pob x Genero'!#REF!","v":{"$error":"#REF!"}},520]
[{"$f":"'Pob x Genero'!#REF!","v":{"$error":"#REF!"}},{"$f":"'Pob x Genero'!#REF!","v":{"$error":"#REF!"}},{"$f":"'Pob x Genero'!#REF!","v":{"$error":"#REF!"}},{"$f":"'Pob x Genero'!#REF!","v":{"$error":"#REF!"}},{"$f":"'Pob x Genero'!#REF!","v":{"$error":"#REF!"}},"Hombre","00-04",{"$f":"'Pob x Genero'!#REF!","v":{"$error":"#REF!"}},521]
[{"$f":"'Pob x Genero'!#REF!","v":{"$error":"#REF!"}},{"$f":"'Pob x Genero'!#REF!","v":{"$error":"#REF!"}},{"$f":"'Pob x Genero'!#REF!","v":{"$error":"#REF!"}},{"$f":"'Pob x Genero'!#REF!","v":{"$error":"#REF!"}},{"$f":"'Pob x Genero'!#REF!","v":{"$error":"#REF!"}},"Hombre","00-04",{"$f":"'Pob x Genero'!#REF!","v":{"$error":"#REF!"}},522]
[{"$f":"'Pob x Genero'!#REF!","v":{"$error":"#REF!"}},{"$f":"'Pob x Genero'!#REF!","v":{"$error":"#REF!"}},{"$f":"'Pob x Genero'!#REF!","v":{"$error":"#REF!"}},{"$f":"'Pob x Genero'!#REF!","v":{"$error":"#REF!"}},{"$f":"'Pob x Genero'!#REF!","v":{"$error":"#REF!"}},"Hombre","00-04",{"$f":"'Pob x Genero'!#REF!","v":{"$error":"#REF!"}},523]
[{"$f":"'Pob x Genero'!#REF!","v":{"$error":"#REF!"}},{"$f":"'Pob x Genero'!#REF!","v":{"$error":"#REF!"}},{"$f":"'Pob x Genero'!#REF!","v":{"$error":"#REF!"}},{"$f":"'Pob x Genero'!#REF!","v":{"$error":"#REF!"}},{"$f":"'Pob x Genero'!#REF!","v":{"$error":"#REF!"}},"Hombre","00-04",{"$f":"'Pob x Genero'!#REF!","v":{"$error":"#REF!"}},524]
[{"$f":"'Pob x Genero'!#REF!","v":{"$error":"#REF!"}},{"$f":"'Pob x Genero'!#REF!","v":{"$error":"#REF!"}},{"$f":"'Pob x Genero'!#REF!","v":{"$error":"#REF!"}},{"$f":"'Pob x Genero'!#REF!","v":{"$error":"#REF!"}},{"$f":"'Pob x Genero'!#REF!","v":{"$error":"#REF!"}},"Hombre","00-04",{"$f":"'Pob x Genero'!#REF!","v":{"$error":"#REF!"}},525]
[{"$f":"'Pob x Genero'!#REF!","v":{"$error":"#REF!"}},{"$f":"'Pob x Genero'!#REF!","v":{"$error":"#REF!"}},{"$f":"'Pob x Genero'!#REF!","v":{"$error":"#REF!"}},{"$f":"'Pob x Genero'!#REF!","v":{"$error":"#REF!"}},{"$f":"'Pob x Genero'!#REF!","v":{"$error":"#REF!"}},"Hombre","00-04",{"$f":"'Pob x Genero'!#REF!","v":{"$error":"#REF!"}},526]
[{"$f":"'Pob x Genero'!#REF!","v":{"$error":"#REF!"}},{"$f":"'Pob x Genero'!#REF!","v":{"$error":"#REF!"}},{"$f":"'Pob x Genero'!#REF!","v":{"$error":"#REF!"}},{"$f":"'Pob x Genero'!#REF!","v":{"$error":"#REF!"}},{"$f":"'Pob x Genero'!#REF!","v":{"$error":"#REF!"}},"Hombre","00-04",{"$f":"'Pob x Genero'!#REF!","v":{"$error":"#REF!"}},527]
[{"$f":"'Pob x Genero'!#REF!","v":{"$error":"#REF!"}},{"$f":"'Pob x Genero'!#REF!","v":{"$error":"#REF!"}},{"$f":"'Pob x Genero'!#REF!","v":{"$error":"#REF!"}},{"$f":"'Pob x Genero'!#REF!","v":{"$error":"#REF!"}},{"$f":"'Pob x Genero'!#REF!","v":{"$error":"#REF!"}},"Hombre","00-04",{"$f":"'Pob x Genero'!#REF!","v":{"$error":"#REF!"}},528]
[{"$f":"'Pob x Genero'!#REF!","v":{"$error":"#REF!"}},{"$f":"'Pob x Genero'!#REF!","v":{"$error":"#REF!"}},{"$f":"'Pob x Genero'!#REF!","v":{"$error":"#REF!"}},{"$f":"'Pob x Genero'!#REF!","v":{"$error":"#REF!"}},{"$f":"'Pob x Genero'!#REF!","v":{"$error":"#REF!"}},"Hombre","00-04",{"$f":"'Pob x Genero'!#REF!","v":{"$error":"#REF!"}},529]
[{"$f":"'Pob x Genero'!#REF!","v":{"$error":"#REF!"}},{"$f":"'Pob x Genero'!#REF!","v":{"$error":"#REF!"}},{"$f":"'Pob x Genero'!#REF!","v":{"$error":"#REF!"}},{"$f":"'Pob x Genero'!#REF!","v":{"$error":"#REF!"}},{"$f":"'Pob x Genero'!#REF!","v":{"$error":"#REF!"}},"Hombre","00-04",{"$f":"'Pob x Genero'!#REF!","v":{"$error":"#REF!"}},530]
[{"$f":"'Pob x Genero'!#REF!","v":{"$error":"#REF!"}},{"$f":"'Pob x Genero'!#REF!","v":{"$error":"#REF!"}},{"$f":"'Pob x Genero'!#REF!","v":{"$error":"#REF!"}},{"$f":"'Pob x Genero'!#REF!","v":{"$error":"#REF!"}},{"$f":"'Pob x Genero'!#REF!","v":{"$error":"#REF!"}},"Hombre","00-04",{"$f":"'Pob x Genero'!#REF!","v":{"$error":"#REF!"}},531]
[{"$f":"'Pob x Genero'!#REF!","v":{"$error":"#REF!"}},{"$f":"'Pob x Genero'!#REF!","v":{"$error":"#REF!"}},{"$f":"'Pob x Genero'!#REF!","v":{"$error":"#REF!"}},{"$f":"'Pob x Genero'!#REF!","v":{"$error":"#REF!"}},{"$f":"'Pob x Genero'!#REF!","v":{"$error":"#REF!"}},"Hombre","00-04",{"$f":"'Pob x Genero'!#REF!","v":{"$error":"#REF!"}},532]
[{"$f":"'Pob x Genero'!#REF!","v":{"$error":"#REF!"}},{"$f":"'Pob x Genero'!#REF!","v":{"$error":"#REF!"}},{"$f":"'Pob x Genero'!#REF!","v":{"$error":"#REF!"}},{"$f":"'Pob x Genero'!#REF!","v":{"$error":"#REF!"}},{"$f":"'Pob x Genero'!#REF!","v":{"$error":"#REF!"}},"Hombre","00-04",{"$f":"'Pob x Genero'!#REF!","v":{"$error":"#REF!"}},533]
[{"$f":"'Pob x Genero'!#REF!","v":{"$error":"#REF!"}},{"$f":"'Pob x Genero'!#REF!","v":{"$error":"#REF!"}},{"$f":"'Pob x Genero'!#REF!","v":{"$error":"#REF!"}},{"$f":"'Pob x Genero'!#REF!","v":{"$error":"#REF!"}},{"$f":"'Pob x Genero'!#REF!","v":{"$error":"#REF!"}},"Hombre","00-04",{"$f":"'Pob x Genero'!#REF!","v":{"$error":"#REF!"}},534]
[{"$f":"'Pob x Genero'!#REF!","v":{"$error":"#REF!"}},{"$f":"'Pob x Genero'!#REF!","v":{"$error":"#REF!"}},{"$f":"'Pob x Genero'!#REF!","v":{"$error":"#REF!"}},{"$f":"'Pob x Genero'!#REF!","v":{"$error":"#REF!"}},{"$f":"'Pob x Genero'!#REF!","v":{"$error":"#REF!"}},"Hombre","00-04",{"$f":"'Pob x Genero'!#REF!","v":{"$error":"#REF!"}},535]
[{"$f":"'Pob x Genero'!#REF!","v":{"$error":"#REF!"}},{"$f":"'Pob x Genero'!#REF!","v":{"$error":"#REF!"}},{"$f":"'Pob x Genero'!#REF!","v":{"$error":"#REF!"}},{"$f":"'Pob x Genero'!#REF!","v":{"$error":"#REF!"}},{"$f":"'Pob x Genero'!#REF!","v":{"$error":"#REF!"}},"Hombre","00-04",{"$f":"'Pob x Genero'!#REF!","v":{"$error":"#REF!"}},536]
[{"$f":"'Pob x Genero'!#REF!","v":{"$error":"#REF!"}},{"$f":"'Pob x Genero'!#REF!","v":{"$error":"#REF!"}},{"$f":"'Pob x Genero'!#REF!","v":{"$error":"#REF!"}},{"$f":"'Pob x Genero'!#REF!","v":{"$error":"#REF!"}},{"$f":"'Pob x Genero'!#REF!","v":{"$error":"#REF!"}},"Hombre","00-04",{"$f":"'Pob x Genero'!#REF!","v":{"$error":"#REF!"}},537]
[{"$f":"'Pob x Genero'!#REF!","v":{"$error":"#REF!"}},{"$f":"'Pob x Genero'!#REF!","v":{"$error":"#REF!"}},{"$f":"'Pob x Genero'!#REF!","v":{"$error":"#REF!"}},{"$f":"'Pob x Genero'!#REF!","v":{"$error":"#REF!"}},{"$f":"'Pob x Genero'!#REF!","v":{"$error":"#REF!"}},"Hombre","00-04",{"$f":"'Pob x Genero'!#REF!","v":{"$error":"#REF!"}},538]
[{"$f":"'Pob x Genero'!#REF!","v":{"$error":"#REF!"}},{"$f":"'Pob x Genero'!#REF!","v":{"$error":"#REF!"}},{"$f":"'Pob x Genero'!#REF!","v":{"$error":"#REF!"}},{"$f":"'Pob x Genero'!#REF!","v":{"$error":"#REF!"}},{"$f":"'Pob x Genero'!#REF!","v":{"$error":"#REF!"}},"Hombre","00-04",{"$f":"'Pob x Genero'!#REF!","v":{"$error":"#REF!"}},539]
[{"$f":"'Pob x Genero'!#REF!","v":{"$error":"#REF!"}},{"$f":"'Pob x Genero'!#REF!","v":{"$error":"#REF!"}},{"$f":"'Pob x Genero'!#REF!","v":{"$error":"#REF!"}},{"$f":"'Pob x Genero'!#REF!","v":{"$error":"#REF!"}},{"$f":"'Pob x Genero'!#REF!","v":{"$error":"#REF!"}},"Hombre","00-04",{"$f":"'Pob x Genero'!#REF!","v":{"$error":"#REF!"}},540]
[{"$f":"'Pob x Genero'!#REF!","v":{"$error":"#REF!"}},{"$f":"'Pob x Genero'!#REF!","v":{"$error":"#REF!"}},{"$f":"'Pob x Genero'!#REF!","v":{"$error":"#REF!"}},{"$f":"'Pob x Genero'!#REF!","v":{"$error":"#REF!"}},{"$f":"'Pob x Genero'!#REF!","v":{"$error":"#REF!"}},"Hombre","00-04",{"$f":"'Pob x Genero'!#REF!","v":{"$error":"#REF!"}},541]
[{"$f":"'Pob x Genero'!#REF!","v":{"$error":"#REF!"}},{"$f":"'Pob x Genero'!#REF!","v":{"$error":"#REF!"}},{"$f":"'Pob x Genero'!#REF!","v":{"$error":"#REF!"}},{"$f":"'Pob x Genero'!#REF!","v":{"$error":"#REF!"}},{"$f":"'Pob x Genero'!#REF!","v":{"$error":"#REF!"}},"Hombre","00-04",{"$f":"'Pob x Genero'!#REF!","v":{"$error":"#REF!"}},542]
[{"$f":"'Pob x Genero'!#REF!","v":{"$error":"#REF!"}},{"$f":"'Pob x Genero'!#REF!","v":{"$error":"#REF!"}},{"$f":"'Pob x Genero'!#REF!","v":{"$error":"#REF!"}},{"$f":"'Pob x Genero'!#REF!","v":{"$error":"#REF!"}},{"$f":"'Pob x Genero'!#REF!","v":{"$error":"#REF!"}},"Hombre","00-04",{"$f":"'Pob x Genero'!#REF!","v":{"$error":"#REF!"}},543]
[{"$f":"'Pob x Genero'!#REF!","v":{"$error":"#REF!"}},{"$f":"'Pob x Genero'!#REF!","v":{"$error":"#REF!"}},{"$f":"'Pob x Genero'!#REF!","v":{"$error":"#REF!"}},{"$f":"'Pob x Genero'!#REF!","v":{"$error":"#REF!"}},{"$f":"'Pob x Genero'!#REF!","v":{"$error":"#REF!"}},"Hombre","00-04",{"$f":"'Pob x Genero'!#REF!","v":{"$error":"#REF!"}},544]
[{"$f":"'Pob x Genero'!#REF!","v":{"$error":"#REF!"}},{"$f":"'Pob x Genero'!#REF!","v":{"$error":"#REF!"}},{"$f":"'Pob x Genero'!#REF!","v":{"$error":"#REF!"}},{"$f":"'Pob x Genero'!#REF!","v":{"$error":"#REF!"}},{"$f":"'Pob x Genero'!#REF!","v":{"$error":"#REF!"}},"Hombre","00-04",{"$f":"'Pob x Genero'!#REF!","v":{"$error":"#REF!"}},545]
[{"$f":"'Pob x Genero'!#REF!","v":{"$error":"#REF!"}},{"$f":"'Pob x Genero'!#REF!","v":{"$error":"#REF!"}},{"$f":"'Pob x Genero'!#REF!","v":{"$error":"#REF!"}},{"$f":"'Pob x Genero'!#REF!","v":{"$error":"#REF!"}},{"$f":"'Pob x Genero'!#REF!","v":{"$error":"#REF!"}},"Hombre","00-04",{"$f":"'Pob x Genero'!#REF!","v":{"$error":"#REF!"}},546]
[{"$f":"'Pob x Genero'!#REF!","v":{"$error":"#REF!"}},{"$f":"'Pob x Genero'!#REF!","v":{"$error":"#REF!"}},{"$f":"'Pob x Genero'!#REF!","v":{"$error":"#REF!"}},{"$f":"'Pob x Genero'!#REF!","v":{"$error":"#REF!"}},{"$f":"'Pob x Genero'!#REF!","v":{"$error":"#REF!"}},"Hombre","00-04",{"$f":"'Pob x Genero'!#REF!","v":{"$error":"#REF!"}},547]
[{"$f":"'Pob x Genero'!#REF!","v":{"$error":"#REF!"}},{"$f":"'Pob x Genero'!#REF!","v":{"$error":"#REF!"}},{"$f":"'Pob x Genero'!#REF!","v":{"$error":"#REF!"}},{"$f":"'Pob x Genero'!#REF!","v":{"$error":"#REF!"}},{"$f":"'Pob x Genero'!#REF!","v":{"$error":"#REF!"}},"Hombre","00-04",{"$f":"'Pob x Genero'!#REF!","v":{"$error":"#REF!"}},548]
[{"$f":"'Pob x Genero'!#REF!","v":{"$error":"#REF!"}},{"$f":"'Pob x Genero'!#REF!","v":{"$error":"#REF!"}},{"$f":"'Pob x Genero'!#REF!","v":{"$error":"#REF!"}},{"$f":"'Pob x Genero'!#REF!","v":{"$error":"#REF!"}},{"$f":"'Pob x Genero'!#REF!","v":{"$error":"#REF!"}},"Hombre","00-04",{"$f":"'Pob x Genero'!#REF!","v":{"$error":"#REF!"}},549]
[{"$f":"'Pob x Genero'!#REF!","v":{"$error":"#REF!"}},{"$f":"'Pob x Genero'!#REF!","v":{"$error":"#REF!"}},{"$f":"'Pob x Genero'!#REF!","v":{"$error":"#REF!"}},{"$f":"'Pob x Genero'!#REF!","v":{"$error":"#REF!"}},{"$f":"'Pob x Genero'!#REF!","v":{"$error":"#REF!"}},"Hombre","00-04",{"$f":"'Pob x Genero'!#REF!","v":{"$error":"#REF!"}},550]
[{"$f":"'Pob x Genero'!#REF!","v":{"$error":"#REF!"}},{"$f":"'Pob x Genero'!#REF!","v":{"$error":"#REF!"}},{"$f":"'Pob x Genero'!#REF!","v":{"$error":"#REF!"}},{"$f":"'Pob x Genero'!#REF!","v":{"$error":"#REF!"}},{"$f":"'Pob x Genero'!#REF!","v":{"$error":"#REF!"}},"Hombre","00-04",{"$f":"'Pob x Genero'!#REF!","v":{"$error":"#REF!"}},551]
[{"$f":"'Pob x Genero'!#REF!","v":{"$error":"#REF!"}},{"$f":"'Pob x Genero'!#REF!","v":{"$error":"#REF!"}},{"$f":"'Pob x Genero'!#REF!","v":{"$error":"#REF!"}},{"$f":"'Pob x Genero'!#REF!","v":{"$error":"#REF!"}},{"$f":"'Pob x Genero'!#REF!","v":{"$error":"#REF!"}},"Hombre","00-04",{"$f":"'Pob x Genero'!#REF!","v":{"$error":"#REF!"}},552]
[{"$f":"'Pob x Genero'!#REF!","v":{"$error":"#REF!"}},{"$f":"'Pob x Genero'!#REF!","v":{"$error":"#REF!"}},{"$f":"'Pob x Genero'!#REF!","v":{"$error":"#REF!"}},{"$f":"'Pob x Genero'!#REF!","v":{"$error":"#REF!"}},{"$f":"'Pob x Genero'!#REF!","v":{"$error":"#REF!"}},"Hombre","00-04",{"$f":"'Pob x Genero'!#REF!","v":{"$error":"#REF!"}},553]
[{"$f":"'Pob x Genero'!#REF!","v":{"$error":"#REF!"}},{"$f":"'Pob x Genero'!#REF!","v":{"$error":"#REF!"}},{"$f":"'Pob x Genero'!#REF!","v":{"$error":"#REF!"}},{"$f":"'Pob x Genero'!#REF!","v":{"$error":"#REF!"}},{"$f":"'Pob x Genero'!#REF!","v":{"$error":"#REF!"}},"Hombre","00-04",{"$f":"'Pob x Genero'!#REF!","v":{"$error":"#REF!"}},554]
[{"$f":"'Pob x Genero'!#REF!","v":{"$error":"#REF!"}},{"$f":"'Pob x Genero'!#REF!","v":{"$error":"#REF!"}},{"$f":"'Pob x Genero'!#REF!","v":{"$error":"#REF!"}},{"$f":"'Pob x Genero'!#REF!","v":{"$error":"#REF!"}},{"$f":"'Pob x Genero'!#REF!","v":{"$error":"#REF!"}},"Hombre","00-04",{"$f":"'Pob x Genero'!#REF!","v":{"$error":"#REF!"}},555]
[{"$f":"'Pob x Genero'!#REF!","v":{"$error":"#REF!"}},{"$f":"'Pob x Genero'!#REF!","v":{"$error":"#REF!"}},{"$f":"'Pob x Genero'!#REF!","v":{"$error":"#REF!"}},{"$f":"'Pob x Genero'!#REF!","v":{"$error":"#REF!"}},{"$f":"'Pob x Genero'!#REF!","v":{"$error":"#REF!"}},"Hombre","00-04",{"$f":"'Pob x Genero'!#REF!","v":{"$error":"#REF!"}},556]
[{"$f":"'Pob x Genero'!#REF!","v":{"$error":"#REF!"}},{"$f":"'Pob x Genero'!#REF!","v":{"$error":"#REF!"}},{"$f":"'Pob x Genero'!#REF!","v":{"$error":"#REF!"}},{"$f":"'Pob x Genero'!#REF!","v":{"$error":"#REF!"}},{"$f":"'Pob x Genero'!#REF!","v":{"$error":"#REF!"}},"Hombre","00-04",{"$f":"'Pob x Genero'!#REF!","v":{"$error":"#REF!"}},557]
[{"$f":"'Pob x Genero'!#REF!","v":{"$error":"#REF!"}},{"$f":"'Pob x Genero'!#REF!","v":{"$error":"#REF!"}},{"$f":"'Pob x Genero'!#REF!","v":{"$error":"#REF!"}},{"$f":"'Pob x Genero'!#REF!","v":{"$error":"#REF!"}},{"$f":"'Pob x Genero'!#REF!","v":{"$error":"#REF!"}},"Hombre","00-04",{"$f":"'Pob x Genero'!#REF!","v":{"$error":"#REF!"}},558]
[{"$f":"'Pob x Genero'!#REF!","v":{"$error":"#REF!"}},{"$f":"'Pob x Genero'!#REF!","v":{"$error":"#REF!"}},{"$f":"'Pob x Genero'!#REF!","v":{"$error":"#REF!"}},{"$f":"'Pob x Genero'!#REF!","v":{"$error":"#REF!"}},{"$f":"'Pob x Genero'!#REF!","v":{"$error":"#REF!"}},"Hombre","00-04",{"$f":"'Pob x Genero'!#REF!","v":{"$error":"#REF!"}},559]
[{"$f":"'Pob x Genero'!#REF!","v":{"$error":"#REF!"}},{"$f":"'Pob x Genero'!#REF!","v":{"$error":"#REF!"}},{"$f":"'Pob x Genero'!#REF!","v":{"$error":"#REF!"}},{"$f":"'Pob x Genero'!#REF!","v":{"$error":"#REF!"}},{"$f":"'Pob x Genero'!#REF!","v":{"$error":"#REF!"}},"Hombre","00-04",{"$f":"'Pob x Genero'!#REF!","v":{"$error":"#REF!"}},560]
[{"$f":"'Pob x Genero'!#REF!","v":{"$error":"#REF!"}},{"$f":"'Pob x Genero'!#REF!","v":{"$error":"#REF!"}},{"$f":"'Pob x Genero'!#REF!","v":{"$error":"#REF!"}},{"$f":"'Pob x Genero'!#REF!","v":{"$error":"#REF!"}},{"$f":"'Pob x Genero'!#REF!","v":{"$error":"#REF!"}},"Hombre","00-04",{"$f":"'Pob x Genero'!#REF!","v":{"$error":"#REF!"}},561]
[{"$f":"'Pob x Genero'!#REF!","v":{"$error":"#REF!"}},{"$f":"'Pob x Genero'!#REF!","v":{"$error":"#REF!"}},{"$f":"'Pob x Genero'!#REF!","v":{"$error":"#REF!"}},{"$f":"'Pob x Genero'!#REF!","v":{"$error":"#REF!"}},{"$f":"'Pob x Genero'!#REF!","v":{"$error":"#REF!"}},"Hombre","00-04",{"$f":"'Pob x Genero'!#REF!","v":{"$error":"#REF!"}},562]
[{"$f":"'Pob x Genero'!#REF!","v":{"$error":"#REF!"}},{"$f":"'Pob x Genero'!#REF!","v":{"$error":"#REF!"}},{"$f":"'Pob x Genero'!#REF!","v":{"$error":"#REF!"}},{"$f":"'Pob x Genero'!#REF!","v":{"$error":"#REF!"}},{"$f":"'Pob x Genero'!#REF!","v":{"$error":"#REF!"}},"Hombre","00-04",{"$f":"'Pob x Genero'!#REF!","v":{"$error":"#REF!"}},563]
[{"$f":"'Pob x Genero'!#REF!","v":{"$error":"#REF!"}},{"$f":"'Pob x Genero'!#REF!","v":{"$error":"#REF!"}},{"$f":"'Pob x Genero'!#REF!","v":{"$error":"#REF!"}},{"$f":"'Pob x Genero'!#REF!","v":{"$error":"#REF!"}},{"$f":"'Pob x Genero'!#REF!","v":{"$error":"#REF!"}},"Hombre","00-04",{"$f":"'Pob x Genero'!#REF!","v":{"$error":"#REF!"}},564]
[{"$f":"'Pob x Genero'!#REF!","v":{"$error":"#REF!"}},{"$f":"'Pob x Genero'!#REF!","v":{"$error":"#REF!"}},{"$f":"'Pob x Genero'!#REF!","v":{"$error":"#REF!"}},{"$f":"'Pob x Genero'!#REF!","v":{"$error":"#REF!"}},{"$f":"'Pob x Genero'!#REF!","v":{"$error":"#REF!"}},"Hombre","00-04",{"$f":"'Pob x Genero'!#REF!","v":{"$error":"#REF!"}},565]
[{"$f":"'Pob x Genero'!#REF!","v":{"$error":"#REF!"}},{"$f":"'Pob x Genero'!#REF!","v":{"$error":"#REF!"}},{"$f":"'Pob x Genero'!#REF!","v":{"$error":"#REF!"}},{"$f":"'Pob x Genero'!#REF!","v":{"$error":"#REF!"}},{"$f":"'Pob x Genero'!#REF!","v":{"$error":"#REF!"}},"Hombre","00-04",{"$f":"'Pob x Genero'!#REF!","v":{"$error":"#REF!"}},566]
[{"$f":"'Pob x Genero'!#REF!","v":{"$error":"#REF!"}},{"$f":"'Pob x Genero'!#REF!","v":{"$error":"#REF!"}},{"$f":"'Pob x Genero'!#REF!","v":{"$error":"#REF!"}},{"$f":"'Pob x Genero'!#REF!","v":{"$error":"#REF!"}},{"$f":"'Pob x Genero'!#REF!","v":{"$error":"#REF!"}},"Hombre","00-04",{"$f":"'Pob x Genero'!#REF!","v":{"$error":"#REF!"}},567]
[{"$f":"'Pob x Genero'!#REF!","v":{"$error":"#REF!"}},{"$f":"'Pob x Genero'!#REF!","v":{"$error":"#REF!"}},{"$f":"'Pob x Genero'!#REF!","v":{"$error":"#REF!"}},{"$f":"'Pob x Genero'!#REF!","v":{"$error":"#REF!"}},{"$f":"'Pob x Genero'!#REF!","v":{"$error":"#REF!"}},"Hombre","00-04",{"$f":"'Pob x Genero'!#REF!","v":{"$error":"#REF!"}},568]
[{"$f":"'Pob x Genero'!#REF!","v":{"$error":"#REF!"}},{"$f":"'Pob x Genero'!#REF!","v":{"$error":"#REF!"}},{"$f":"'Pob x Genero'!#REF!","v":{"$error":"#REF!"}},{"$f":"'Pob x Genero'!#REF!","v":{"$error":"#REF!"}},{"$f":"'Pob x Genero'!#REF!","v":{"$error":"#REF!"}},"Hombre","00-04",{"$f":"'Pob x Genero'!#REF!","v":{"$error":"#REF!"}},569]
[{"$f":"'Pob x Genero'!#REF!","v":{"$error":"#REF!"}},{"$f":"'Pob x Genero'!#REF!","v":{"$error":"#REF!"}},{"$f":"'Pob x Genero'!#REF!","v":{"$error":"#REF!"}},{"$f":"'Pob x Genero'!#REF!","v":{"$error":"#REF!"}},{"$f":"'Pob x Genero'!#REF!","v":{"$error":"#REF!"}},"Hombre","00-04",{"$f":"'Pob x Genero'!#REF!","v":{"$error":"#REF!"}},570]
[{"$f":"'Pob x Genero'!#REF!","v":{"$error":"#REF!"}},{"$f":"'Pob x Genero'!#REF!","v":{"$error":"#REF!"}},{"$f":"'Pob x Genero'!#REF!","v":{"$error":"#REF!"}},{"$f":"'Pob x Genero'!#REF!","v":{"$error":"#REF!"}},{"$f":"'Pob x Genero'!#REF!","v":{"$error":"#REF!"}},"Hombre","00-04",{"$f":"'Pob x Genero'!#REF!","v":{"$error":"#REF!"}},571]
[{"$f":"'Pob x Genero'!#REF!","v":{"$error":"#REF!"}},{"$f":"'Pob x Genero'!#REF!","v":{"$error":"#REF!"}},{"$f":"'Pob x Genero'!#REF!","v":{"$error":"#REF!"}},{"$f":"'Pob x Genero'!#REF!","v":{"$error":"#REF!"}},{"$f":"'Pob x Genero'!#REF!","v":{"$error":"#REF!"}},"Hombre","00-04",{"$f":"'Pob x Genero'!#REF!","v":{"$error":"#REF!"}},572]
[{"$f":"'Pob x Genero'!#REF!","v":{"$error":"#REF!"}},{"$f":"'Pob x Genero'!#REF!","v":{"$error":"#REF!"}},{"$f":"'Pob x Genero'!#REF!","v":{"$error":"#REF!"}},{"$f":"'Pob x Genero'!#REF!","v":{"$error":"#REF!"}},{"$f":"'Pob x Genero'!#REF!","v":{"$error":"#REF!"}},"Hombre","00-04",{"$f":"'Pob x Genero'!#REF!","v":{"$error":"#REF!"}},573]
[{"$f":"'Pob x Genero'!#REF!","v":{"$error":"#REF!"}},{"$f":"'Pob x Genero'!#REF!","v":{"$error":"#REF!"}},{"$f":"'Pob x Genero'!#REF!","v":{"$error":"#REF!"}},{"$f":"'Pob x Genero'!#REF!","v":{"$error":"#REF!"}},{"$f":"'Pob x Genero'!#REF!","v":{"$error":"#REF!"}},"Hombre","00-04",{"$f":"'Pob x Genero'!#REF!","v":{"$error":"#REF!"}},574]
[{"$f":"'Pob x Genero'!#REF!","v":{"$error":"#REF!"}},{"$f":"'Pob x Genero'!#REF!","v":{"$error":"#REF!"}},{"$f":"'Pob x Genero'!#REF!","v":{"$error":"#REF!"}},{"$f":"'Pob x Genero'!#REF!","v":{"$error":"#REF!"}},{"$f":"'Pob x Genero'!#REF!","v":{"$error":"#REF!"}},"Hombre","00-04",{"$f":"'Pob x Genero'!#REF!","v":{"$error":"#REF!"}},575]
[{"$f":"'Pob x Genero'!#REF!","v":{"$error":"#REF!"}},{"$f":"'Pob x Genero'!#REF!","v":{"$error":"#REF!"}},{"$f":"'Pob x Genero'!#REF!","v":{"$error":"#REF!"}},{"$f":"'Pob x Genero'!#REF!","v":{"$error":"#REF!"}},{"$f":"'Pob x Genero'!#REF!","v":{"$error":"#REF!"}},"Hombre","00-04",{"$f":"'Pob x Genero'!#REF!","v":{"$error":"#REF!"}},576]
[{"$f":"'Pob x Genero'!#REF!","v":{"$error":"#REF!"}},{"$f":"'Pob x Genero'!#REF!","v":{"$error":"#REF!"}},{"$f":"'Pob x Genero'!#REF!","v":{"$error":"#REF!"}},{"$f":"'Pob x Genero'!#REF!","v":{"$error":"#REF!"}},{"$f":"'Pob x Genero'!#REF!","v":{"$error":"#REF!"}},"Hombre","00-04",{"$f":"'Pob x Genero'!#REF!","v":{"$error":"#REF!"}},577]
[{"$f":"'Pob x Genero'!#REF!","v":{"$error":"#REF!"}},{"$f":"'Pob x Genero'!#REF!","v":{"$error":"#REF!"}},{"$f":"'Pob x Genero'!#REF!","v":{"$error":"#REF!"}},{"$f":"'Pob x Genero'!#REF!","v":{"$error":"#REF!"}},{"$f":"'Pob x Genero'!#REF!","v":{"$error":"#REF!"}},{"$f":"F578","v":"Hombre"},{"$f":"G578","v":"00-04"},{"$f":"'Pob x Genero'!#REF!","v":{"$error":"#REF!"}},578]
[{"$f":"'Pob x Genero'!#REF!","v":{"$error":"#REF!"}},{"$f":"'Pob x Genero'!#REF!","v":{"$error":"#REF!"}},{"$f":"'Pob x Genero'!#REF!","v":{"$error":"#REF!"}},{"$f":"'Pob x Genero'!#REF!","v":{"$error":"#REF!"}},{"$f":"'Pob x Genero'!#REF!","v":{"$error":"#REF!"}},"Hombre","00-04",{"$f":"'Pob x Genero'!#REF!","v":{"$error":"#REF!"}},579]
[{"$f":"'Pob x Genero'!#REF!","v":{"$error":"#REF!"}},{"$f":"'Pob x Genero'!#REF!","v":{"$error":"#REF!"}},{"$f":"'Pob x Genero'!#REF!","v":{"$error":"#REF!"}},{"$f":"'Pob x Genero'!#REF!","v":{"$error":"#REF!"}},{"$f":"'Pob x Genero'!#REF!","v":{"$error":"#REF!"}},"Hombre","00-04",{"$f":"'Pob x Genero'!#REF!","v":{"$error":"#REF!"}},580]
[{"$f":"'Pob x Genero'!#REF!","v":{"$error":"#REF!"}},{"$f":"'Pob x Genero'!#REF!","v":{"$error":"#REF!"}},{"$f":"'Pob x Genero'!#REF!","v":{"$error":"#REF!"}},{"$f":"'Pob x Genero'!#REF!","v":{"$error":"#REF!"}},{"$f":"'Pob x Genero'!#REF!","v":{"$error":"#REF!"}},"Hombre","00-04",{"$f":"'Pob x Genero'!#REF!","v":{"$error":"#REF!"}},581]
[{"$f":"'Pob x Genero'!#REF!","v":{"$error":"#REF!"}},{"$f":"'Pob x Genero'!#REF!","v":{"$error":"#REF!"}},{"$f":"'Pob x Genero'!#REF!","v":{"$error":"#REF!"}},{"$f":"'Pob x Genero'!#REF!","v":{"$error":"#REF!"}},{"$f":"'Pob x Genero'!#REF!","v":{"$error":"#REF!"}},"Hombre","00-04",{"$f":"'Pob x Genero'!#REF!","v":{"$error":"#REF!"}},582]
[{"$f":"'Pob x Genero'!#REF!","v":{"$error":"#REF!"}},{"$f":"'Pob x Genero'!#REF!","v":{"$error":"#REF!"}},{"$f":"'Pob x Genero'!#REF!","v":{"$error":"#REF!"}},{"$f":"'Pob x Genero'!#REF!","v":{"$error":"#REF!"}},{"$f":"'Pob x Genero'!#REF!","v":{"$error":"#REF!"}},"Hombre","00-04",{"$f":"'Pob x Genero'!#REF!","v":{"$error":"#REF!"}},583]
[{"$f":"'Pob x Genero'!#REF!","v":{"$error":"#REF!"}},{"$f":"'Pob x Genero'!#REF!","v":{"$error":"#REF!"}},{"$f":"'Pob x Genero'!#REF!","v":{"$error":"#REF!"}},{"$f":"'Pob x Genero'!#REF!","v":{"$error":"#REF!"}},{"$f":"'Pob x Genero'!#REF!","v":{"$error":"#REF!"}},"Hombre","00-04",{"$f":"'Pob x Genero'!#REF!","v":{"$error":"#REF!"}},584]
[{"$f":"'Pob x Genero'!#REF!","v":{"$error":"#REF!"}},{"$f":"'Pob x Genero'!#REF!","v":{"$error":"#REF!"}},{"$f":"'Pob x Genero'!#REF!","v":{"$error":"#REF!"}},{"$f":"'Pob x Genero'!#REF!","v":{"$error":"#REF!"}},{"$f":"'Pob x Genero'!#REF!","v":{"$error":"#REF!"}},"Hombre","00-04",{"$f":"'Pob x Genero'!#REF!","v":{"$error":"#REF!"}},585]
[{"$f":"'Pob x Genero'!#REF!","v":{"$error":"#REF!"}},{"$f":"'Pob x Genero'!#REF!","v":{"$error":"#REF!"}},{"$f":"'Pob x Genero'!#REF!","v":{"$error":"#REF!"}},{"$f":"'Pob x Genero'!#REF!","v":{"$error":"#REF!"}},{"$f":"'Pob x Genero'!#REF!","v":{"$error":"#REF!"}},"Hombre","00-04",{"$f":"'Pob x Genero'!#REF!","v":{"$error":"#REF!"}},586]
[{"$f":"'Pob x Genero'!#REF!","v":{"$error":"#REF!"}},{"$f":"'Pob x Genero'!#REF!","v":{"$error":"#REF!"}},{"$f":"'Pob x Genero'!#REF!","v":{"$error":"#REF!"}},{"$f":"'Pob x Genero'!#REF!","v":{"$error":"#REF!"}},{"$f":"'Pob x Genero'!#REF!","v":{"$error":"#REF!"}},"Hombre","00-04",{"$f":"'Pob x Genero'!#REF!","v":{"$error":"#REF!"}},587]
[{"$f":"'Pob x Genero'!#REF!","v":{"$error":"#REF!"}},{"$f":"'Pob x Genero'!#REF!","v":{"$error":"#REF!"}},{"$f":"'Pob x Genero'!#REF!","v":{"$error":"#REF!"}},{"$f":"'Pob x Genero'!#REF!","v":{"$error":"#REF!"}},{"$f":"'Pob x Genero'!#REF!","v":{"$error":"#REF!"}},"Hombre","00-04",{"$f":"'Pob x Genero'!#REF!","v":{"$error":"#REF!"}},588]
[{"$f":"'Pob x Genero'!#REF!","v":{"$error":"#REF!"}},{"$f":"'Pob x Genero'!#REF!","v":{"$error":"#REF!"}},{"$f":"'Pob x Genero'!#REF!","v":{"$error":"#REF!"}},{"$f":"'Pob x Genero'!#REF!","v":{"$error":"#REF!"}},{"$f":"'Pob x Genero'!#REF!","v":{"$error":"#REF!"}},"Hombre","00-04",{"$f":"'Pob x Genero'!#REF!","v":{"$error":"#REF!"}},589]
[{"$f":"'Pob x Genero'!#REF!","v":{"$error":"#REF!"}},{"$f":"'Pob x Genero'!#REF!","v":{"$error":"#REF!"}},{"$f":"'Pob x Genero'!#REF!","v":{"$error":"#REF!"}},{"$f":"'Pob x Genero'!#REF!","v":{"$error":"#REF!"}},{"$f":"'Pob x Genero'!#REF!","v":{"$error":"#REF!"}},"Hombre","00-04",{"$f":"'Pob x Genero'!#REF!","v":{"$error":"#REF!"}},590]
[{"$f":"'Pob x Genero'!#REF!","v":{"$error":"#REF!"}},{"$f":"'Pob x Genero'!#REF!","v":{"$error":"#REF!"}},{"$f":"'Pob x Genero'!#REF!","v":{"$error":"#REF!"}},{"$f":"'Pob x Genero'!#REF!","v":{"$error":"#REF!"}},{"$f":"'Pob x Genero'!#REF!","v":{"$error":"#REF!"}},"Hombre","00-04",{"$f":"'Pob x Genero'!#REF!","v":{"$error":"#REF!"}},591]
[{"$f":"'Pob x Genero'!#REF!","v":{"$error":"#REF!"}},{"$f":"'Pob x Genero'!#REF!","v":{"$error":"#REF!"}},{"$f":"'Pob x Genero'!#REF!","v":{"$error":"#REF!"}},{"$f":"'Pob x Genero'!#REF!","v":{"$error":"#REF!"}},{"$f":"'Pob x Genero'!#REF!","v":{"$error":"#REF!"}},"Hombre","00-04",{"$f":"'Pob x Genero'!#REF!","v":{"$error":"#REF!"}},592]
[{"$f":"'Pob x Genero'!#REF!","v":{"$error":"#REF!"}},{"$f":"'Pob x Genero'!#REF!","v":{"$error":"#REF!"}},{"$f":"'Pob x Genero'!#REF!","v":{"$error":"#REF!"}},{"$f":"'Pob x Genero'!#REF!","v":{"$error":"#REF!"}},{"$f":"'Pob x Genero'!#REF!","v":{"$error":"#REF!"}},"Hombre","00-04",{"$f":"'Pob x Genero'!#REF!","v":{"$error":"#REF!"}},593]
[{"$f":"'Pob x Genero'!#REF!","v":{"$error":"#REF!"}},{"$f":"'Pob x Genero'!#REF!","v":{"$error":"#REF!"}},{"$f":"'Pob x Genero'!#REF!","v":{"$error":"#REF!"}},{"$f":"'Pob x Genero'!#REF!","v":{"$error":"#REF!"}},{"$f":"'Pob x Genero'!#REF!","v":{"$error":"#REF!"}},"Hombre","00-04",{"$f":"'Pob x Genero'!#REF!","v":{"$error":"#REF!"}},594]
[{"$f":"'Pob x Genero'!#REF!","v":{"$error":"#REF!"}},{"$f":"'Pob x Genero'!#REF!","v":{"$error":"#REF!"}},{"$f":"'Pob x Genero'!#REF!","v":{"$error":"#REF!"}},{"$f":"'Pob x Genero'!#REF!","v":{"$error":"#REF!"}},{"$f":"'Pob x Genero'!#REF!","v":{"$error":"#REF!"}},"Hombre","00-04",{"$f":"'Pob x Genero'!#REF!","v":{"$error":"#REF!"}},595]
[{"$f":"'Pob x Genero'!#REF!","v":{"$error":"#REF!"}},{"$f":"'Pob x Genero'!#REF!","v":{"$error":"#REF!"}},{"$f":"'Pob x Genero'!#REF!","v":{"$error":"#REF!"}},{"$f":"'Pob x Genero'!#REF!","v":{"$error":"#REF!"}},{"$f":"'Pob x Genero'!#REF!","v":{"$error":"#REF!"}},"Hombre","00-04",{"$f":"'Pob x Genero'!#REF!","v":{"$error":"#REF!"}},596]
[{"$f":"'Pob x Genero'!#REF!","v":{"$error":"#REF!"}},{"$f":"'Pob x Genero'!#REF!","v":{"$error":"#REF!"}},{"$f":"'Pob x Genero'!#REF!","v":{"$error":"#REF!"}},{"$f":"'Pob x Genero'!#REF!","v":{"$error":"#REF!"}},{"$f":"'Pob x Genero'!#REF!","v":{"$error":"#REF!"}},"Hombre","00-04",{"$f":"'Pob x Genero'!#REF!","v":{"$error":"#REF!"}},597]
[{"$f":"'Pob x Genero'!#REF!","v":{"$error":"#REF!"}},{"$f":"'Pob x Genero'!#REF!","v":{"$error":"#REF!"}},{"$f":"'Pob x Genero'!#REF!","v":{"$error":"#REF!"}},{"$f":"'Pob x Genero'!#REF!","v":{"$error":"#REF!"}},{"$f":"'Pob x Genero'!#REF!","v":{"$error":"#REF!"}},"Hombre","00-04",{"$f":"'Pob x Genero'!#REF!","v":{"$error":"#REF!"}},598]
[{"$f":"'Pob x Genero'!#REF!","v":{"$error":"#REF!"}},{"$f":"'Pob x Genero'!#REF!","v":{"$error":"#REF!"}},{"$f":"'Pob x Genero'!#REF!","v":{"$error":"#REF!"}},{"$f":"'Pob x Genero'!#REF!","v":{"$error":"#REF!"}},{"$f":"'Pob x Genero'!#REF!","v":{"$error":"#REF!"}},"Hombre","00-04",{"$f":"'Pob x Genero'!#REF!","v":{"$error":"#REF!"}},599]
[{"$f":"'Pob x Genero'!#REF!","v":{"$error":"#REF!"}},{"$f":"'Pob x Genero'!#REF!","v":{"$error":"#REF!"}},{"$f":"'Pob x Genero'!#REF!","v":{"$error":"#REF!"}},{"$f":"'Pob x Genero'!#REF!","v":{"$error":"#REF!"}},{"$f":"'Pob x Genero'!#REF!","v":{"$error":"#REF!"}},"Hombre","00-04",{"$f":"'Pob x Genero'!#REF!","v":{"$error":"#REF!"}},600]
[{"$f":"'Pob x Genero'!#REF!","v":{"$error":"#REF!"}},{"$f":"'Pob x Genero'!#REF!","v":{"$error":"#REF!"}},{"$f":"'Pob x Genero'!#REF!","v":{"$error":"#REF!"}},{"$f":"'Pob x Genero'!#REF!","v":{"$error":"#REF!"}},{"$f":"'Pob x Genero'!#REF!","v":{"$error":"#REF!"}},"Hombre","00-04",{"$f":"'Pob x Genero'!#REF!","v":{"$error":"#REF!"}},601]
[{"$f":"'Pob x Genero'!#REF!","v":{"$error":"#REF!"}},{"$f":"'Pob x Genero'!#REF!","v":{"$error":"#REF!"}},{"$f":"'Pob x Genero'!#REF!","v":{"$error":"#REF!"}},{"$f":"'Pob x Genero'!#REF!","v":{"$error":"#REF!"}},{"$f":"'Pob x Genero'!#REF!","v":{"$error":"#REF!"}},"Hombre","00-04",{"$f":"'Pob x Genero'!#REF!","v":{"$error":"#REF!"}},602]
[{"$f":"'Pob x Genero'!#REF!","v":{"$error":"#REF!"}},{"$f":"'Pob x Genero'!#REF!","v":{"$error":"#REF!"}},{"$f":"'Pob x Genero'!#REF!","v":{"$error":"#REF!"}},{"$f":"'Pob x Genero'!#REF!","v":{"$error":"#REF!"}},{"$f":"'Pob x Genero'!#REF!","v":{"$error":"#REF!"}},"Hombre","00-04",{"$f":"'Pob x Genero'!#REF!","v":{"$error":"#REF!"}},603]
[{"$f":"'Pob x Genero'!#REF!","v":{"$error":"#REF!"}},{"$f":"'Pob x Genero'!#REF!","v":{"$error":"#REF!"}},{"$f":"'Pob x Genero'!#REF!","v":{"$error":"#REF!"}},{"$f":"'Pob x Genero'!#REF!","v":{"$error":"#REF!"}},{"$f":"'Pob x Genero'!#REF!","v":{"$error":"#REF!"}},"Hombre","00-04",{"$f":"'Pob x Genero'!#REF!","v":{"$error":"#REF!"}},604]
[{"$f":"'Pob x Genero'!#REF!","v":{"$error":"#REF!"}},{"$f":"'Pob x Genero'!#REF!","v":{"$error":"#REF!"}},{"$f":"'Pob x Genero'!#REF!","v":{"$error":"#REF!"}},{"$f":"'Pob x Genero'!#REF!","v":{"$error":"#REF!"}},{"$f":"'Pob x Genero'!#REF!","v":{"$error":"#REF!"}},"Hombre","00-04",{"$f":"'Pob x Genero'!#REF!","v":{"$error":"#REF!"}},605]
[{"$f":"'Pob x Genero'!#REF!","v":{"$error":"#REF!"}},{"$f":"'Pob x Genero'!#REF!","v":{"$error":"#REF!"}},{"$f":"'Pob x Genero'!#REF!","v":{"$error":"#REF!"}},{"$f":"'Pob x Genero'!#REF!","v":{"$error":"#REF!"}},{"$f":"'Pob x Genero'!#REF!","v":{"$error":"#REF!"}},"Hombre","00-04",{"$f":"'Pob x Genero'!#REF!","v":{"$error":"#REF!"}},606]
[{"$f":"'Pob x Genero'!#REF!","v":{"$error":"#REF!"}},{"$f":"'Pob x Genero'!#REF!","v":{"$error":"#REF!"}},{"$f":"'Pob x Genero'!#REF!","v":{"$error":"#REF!"}},{"$f":"'Pob x Genero'!#REF!","v":{"$error":"#REF!"}},{"$f":"'Pob x Genero'!#REF!","v":{"$error":"#REF!"}},"Hombre","00-04",{"$f":"'Pob x Genero'!#REF!","v":{"$error":"#REF!"}},607]
[{"$f":"'Pob x Genero'!#REF!","v":{"$error":"#REF!"}},{"$f":"'Pob x Genero'!#REF!","v":{"$error":"#REF!"}},{"$f":"'Pob x Genero'!#REF!","v":{"$error":"#REF!"}},{"$f":"'Pob x Genero'!#REF!","v":{"$error":"#REF!"}},{"$f":"'Pob x Genero'!#REF!","v":{"$error":"#REF!"}},"Hombre","00-04",{"$f":"'Pob x Genero'!#REF!","v":{"$error":"#REF!"}},608]
[{"$f":"'Pob x Genero'!#REF!","v":{"$error":"#REF!"}},{"$f":"'Pob x Genero'!#REF!","v":{"$error":"#REF!"}},{"$f":"'Pob x Genero'!#REF!","v":{"$error":"#REF!"}},{"$f":"'Pob x Genero'!#REF!","v":{"$error":"#REF!"}},{"$f":"'Pob x Genero'!#REF!","v":{"$error":"#REF!"}},"Hombre","00-04",{"$f":"'Pob x Genero'!#REF!","v":{"$error":"#REF!"}},609]
[{"$f":"'Pob x Genero'!#REF!","v":{"$error":"#REF!"}},{"$f":"'Pob x Genero'!#REF!","v":{"$error":"#REF!"}},{"$f":"'Pob x Genero'!#REF!","v":{"$error":"#REF!"}},{"$f":"'Pob x Genero'!#REF!","v":{"$error":"#REF!"}},{"$f":"'Pob x Genero'!#REF!","v":{"$error":"#REF!"}},"Hombre","00-04",{"$f":"'Pob x Genero'!#REF!","v":{"$error":"#REF!"}},610]
[{"$f":"'Pob x Genero'!#REF!","v":{"$error":"#REF!"}},{"$f":"'Pob x Genero'!#REF!","v":{"$error":"#REF!"}},{"$f":"'Pob x Genero'!#REF!","v":{"$error":"#REF!"}},{"$f":"'Pob x Genero'!#REF!","v":{"$error":"#REF!"}},{"$f":"'Pob x Genero'!#REF!","v":{"$error":"#REF!"}},"Hombre","00-04",{"$f":"'Pob x Genero'!#REF!","v":{"$error":"#REF!"}},611]
[{"$f":"'Pob x Genero'!#REF!","v":{"$error":"#REF!"}},{"$f":"'Pob x Genero'!#REF!","v":{"$error":"#REF!"}},{"$f":"'Pob x Genero'!#REF!","v":{"$error":"#REF!"}},{"$f":"'Pob x Genero'!#REF!","v":{"$error":"#REF!"}},{"$f":"'Pob x Genero'!#REF!","v":{"$error":"#REF!"}},"Hombre","00-04",{"$f":"'Pob x Genero'!#REF!","v":{"$error":"#REF!"}},612]
[{"$f":"'Pob x Genero'!#REF!","v":{"$error":"#REF!"}},{"$f":"'Pob x Genero'!#REF!","v":{"$error":"#REF!"}},{"$f":"'Pob x Genero'!#REF!","v":{"$error":"#REF!"}},{"$f":"'Pob x Genero'!#REF!","v":{"$error":"#REF!"}},{"$f":"'Pob x Genero'!#REF!","v":{"$error":"#REF!"}},"Hombre","00-04",{"$f":"'Pob x Genero'!#REF!","v":{"$error":"#REF!"}},613]
[{"$f":"'Pob x Genero'!#REF!","v":{"$error":"#REF!"}},{"$f":"'Pob x Genero'!#REF!","v":{"$error":"#REF!"}},{"$f":"'Pob x Genero'!#REF!","v":{"$error":"#REF!"}},{"$f":"'Pob x Genero'!#REF!","v":{"$error":"#REF!"}},{"$f":"'Pob x Genero'!#REF!","v":{"$error":"#REF!"}},"Hombre","00-04",{"$f":"'Pob x Genero'!#REF!","v":{"$error":"#REF!"}},614]
[{"$f":"'Pob x Genero'!#REF!","v":{"$error":"#REF!"}},{"$f":"'Pob x Genero'!#REF!","v":{"$error":"#REF!"}},{"$f":"'Pob x Genero'!#REF!","v":{"$error":"#REF!"}},{"$f":"'Pob x Genero'!#REF!","v":{"$error":"#REF!"}},{"$f":"'Pob x Genero'!#REF!","v":{"$error":"#REF!"}},"Hombre","00-04",{"$f":"'Pob x Genero'!#REF!","v":{"$error":"#REF!"}},615]
[{"$f":"'Pob x Genero'!#REF!","v":{"$error":"#REF!"}},{"$f":"'Pob x Genero'!#REF!","v":{"$error":"#REF!"}},{"$f":"'Pob x Genero'!#REF!","v":{"$error":"#REF!"}},{"$f":"'Pob x Genero'!#REF!","v":{"$error":"#REF!"}},{"$f":"'Pob x Genero'!#REF!","v":{"$error":"#REF!"}},"Hombre","00-04",{"$f":"'Pob x Genero'!#REF!","v":{"$error":"#REF!"}},616]
[{"$f":"'Pob x Genero'!#REF!","v":{"$error":"#REF!"}},{"$f":"'Pob x Genero'!#REF!","v":{"$error":"#REF!"}},{"$f":"'Pob x Genero'!#REF!","v":{"$error":"#REF!"}},{"$f":"'Pob x Genero'!#REF!","v":{"$error":"#REF!"}},{"$f":"'Pob x Genero'!#REF!","v":{"$error":"#REF!"}},"Hombre","00-04",{"$f":"'Pob x Genero'!#REF!","v":{"$error":"#REF!"}},617]
[{"$f":"'Pob x Genero'!#REF!","v":{"$error":"#REF!"}},{"$f":"'Pob x Genero'!#REF!","v":{"$error":"#REF!"}},{"$f":"'Pob x Genero'!#REF!","v":{"$error":"#REF!"}},{"$f":"'Pob x Genero'!#REF!","v":{"$error":"#REF!"}},{"$f":"'Pob x Genero'!#REF!","v":{"$error":"#REF!"}},"Hombre","00-04",{"$f":"'Pob x Genero'!#REF!","v":{"$error":"#REF!"}},618]
[{"$f":"'Pob x Genero'!#REF!","v":{"$error":"#REF!"}},{"$f":"'Pob x Genero'!#REF!","v":{"$error":"#REF!"}},{"$f":"'Pob x Genero'!#REF!","v":{"$error":"#REF!"}},{"$f":"'Pob x Genero'!#REF!","v":{"$error":"#REF!"}},{"$f":"'Pob x Genero'!#REF!","v":{"$error":"#REF!"}},"Hombre","00-04",{"$f":"'Pob x Genero'!#REF!","v":{"$error":"#REF!"}},619]
[{"$f":"'Pob x Genero'!#REF!","v":{"$error":"#REF!"}},{"$f":"'Pob x Genero'!#REF!","v":{"$error":"#REF!"}},{"$f":"'Pob x Genero'!#REF!","v":{"$error":"#REF!"}},{"$f":"'Pob x Genero'!#REF!","v":{"$error":"#REF!"}},{"$f":"'Pob x Genero'!#REF!","v":{"$error":"#REF!"}},"Hombre","00-04",{"$f":"'Pob x Genero'!#REF!","v":{"$error":"#REF!"}},620]
[{"$f":"'Pob x Genero'!#REF!","v":{"$error":"#REF!"}},{"$f":"'Pob x Genero'!#REF!","v":{"$error":"#REF!"}},{"$f":"'Pob x Genero'!#REF!","v":{"$error":"#REF!"}},{"$f":"'Pob x Genero'!#REF!","v":{"$error":"#REF!"}},{"$f":"'Pob x Genero'!#REF!","v":{"$error":"#REF!"}},"Hombre","00-04",{"$f":"'Pob x Genero'!#REF!","v":{"$error":"#REF!"}},621]
[{"$f":"'Pob x Genero'!#REF!","v":{"$error":"#REF!"}},{"$f":"'Pob x Genero'!#REF!","v":{"$error":"#REF!"}},{"$f":"'Pob x Genero'!#REF!","v":{"$error":"#REF!"}},{"$f":"'Pob x Genero'!#REF!","v":{"$error":"#REF!"}},{"$f":"'Pob x Genero'!#REF!","v":{"$error":"#REF!"}},"Hombre","00-04",{"$f":"'Pob x Genero'!#REF!","v":{"$error":"#REF!"}},622]
[{"$f":"'Pob x Genero'!#REF!","v":{"$error":"#REF!"}},{"$f":"'Pob x Genero'!#REF!","v":{"$error":"#REF!"}},{"$f":"'Pob x Genero'!#REF!","v":{"$error":"#REF!"}},{"$f":"'Pob x Genero'!#REF!","v":{"$error":"#REF!"}},{"$f":"'Pob x Genero'!#REF!","v":{"$error":"#REF!"}},"Hombre","00-04",{"$f":"'Pob x Genero'!#REF!","v":{"$error":"#REF!"}},623]
[{"$f":"'Pob x Genero'!#REF!","v":{"$error":"#REF!"}},{"$f":"'Pob x Genero'!#REF!","v":{"$error":"#REF!"}},{"$f":"'Pob x Genero'!#REF!","v":{"$error":"#REF!"}},{"$f":"'Pob x Genero'!#REF!","v":{"$error":"#REF!"}},{"$f":"'Pob x Genero'!#REF!","v":{"$error":"#REF!"}},"Hombre","00-04",{"$f":"'Pob x Genero'!#REF!","v":{"$error":"#REF!"}},624]
[{"$f":"'Pob x Genero'!#REF!","v":{"$error":"#REF!"}},{"$f":"'Pob x Genero'!#REF!","v":{"$error":"#REF!"}},{"$f":"'Pob x Genero'!#REF!","v":{"$error":"#REF!"}},{"$f":"'Pob x Genero'!#REF!","v":{"$error":"#REF!"}},{"$f":"'Pob x Genero'!#REF!","v":{"$error":"#REF!"}},"Hombre","00-04",{"$f":"'Pob x Genero'!#REF!","v":{"$error":"#REF!"}},625]
[{"$f":"'Pob x Genero'!#REF!","v":{"$error":"#REF!"}},{"$f":"'Pob x Genero'!#REF!","v":{"$error":"#REF!"}},{"$f":"'Pob x Genero'!#REF!","v":{"$error":"#REF!"}},{"$f":"'Pob x Genero'!#REF!","v":{"$error":"#REF!"}},{"$f":"'Pob x Genero'!#REF!","v":{"$error":"#REF!"}},"Hombre","00-04",{"$f":"'Pob x Genero'!#REF!","v":{"$error":"#REF!"}},626]
[{"$f":"'Pob x Genero'!#REF!","v":{"$error":"#REF!"}},{"$f":"'Pob x Genero'!#REF!","v":{"$error":"#REF!"}},{"$f":"'Pob x Genero'!#REF!","v":{"$error":"#REF!"}},{"$f":"'Pob x Genero'!#REF!","v":{"$error":"#REF!"}},{"$f":"'Pob x Genero'!#REF!","v":{"$error":"#REF!"}},"Hombre","00-04",{"$f":"'Pob x Genero'!#REF!","v":{"$error":"#REF!"}},627]
[{"$f":"'Pob x Genero'!#REF!","v":{"$error":"#REF!"}},{"$f":"'Pob x Genero'!#REF!","v":{"$error":"#REF!"}},{"$f":"'Pob x Genero'!#REF!","v":{"$error":"#REF!"}},{"$f":"'Pob x Genero'!#REF!","v":{"$error":"#REF!"}},{"$f":"'Pob x Genero'!#REF!","v":{"$error":"#REF!"}},"Hombre","00-04",{"$f":"'Pob x Genero'!#REF!","v":{"$error":"#REF!"}},628]
[{"$f":"'Pob x Genero'!#REF!","v":{"$error":"#REF!"}},{"$f":"'Pob x Genero'!#REF!","v":{"$error":"#REF!"}},{"$f":"'Pob x Genero'!#REF!","v":{"$error":"#REF!"}},{"$f":"'Pob x Genero'!#REF!","v":{"$error":"#REF!"}},{"$f":"'Pob x Genero'!#REF!","v":{"$error":"#REF!"}},"Hombre","00-04",{"$f":"'Pob x Genero'!#REF!","v":{"$error":"#REF!"}},629]
[{"$f":"'Pob x Genero'!#REF!","v":{"$error":"#REF!"}},{"$f":"'Pob x Genero'!#REF!","v":{"$error":"#REF!"}},{"$f":"'Pob x Genero'!#REF!","v":{"$error":"#REF!"}},{"$f":"'Pob x Genero'!#REF!","v":{"$error":"#REF!"}},{"$f":"'Pob x Genero'!#REF!","v":{"$error":"#REF!"}},"Hombre","00-04",{"$f":"'Pob x Genero'!#REF!","v":{"$error":"#REF!"}},630]
[{"$f":"'Pob x Genero'!#REF!","v":{"$error":"#REF!"}},{"$f":"'Pob x Genero'!#REF!","v":{"$error":"#REF!"}},{"$f":"'Pob x Genero'!#REF!","v":{"$error":"#REF!"}},{"$f":"'Pob x Genero'!#REF!","v":{"$error":"#REF!"}},{"$f":"'Pob x Genero'!#REF!","v":{"$error":"#REF!"}},"Hombre","00-04",{"$f":"'Pob x Genero'!#REF!","v":{"$error":"#REF!"}},631]
[{"$f":"'Pob x Genero'!#REF!","v":{"$error":"#REF!"}},{"$f":"'Pob x Genero'!#REF!","v":{"$error":"#REF!"}},{"$f":"'Pob x Genero'!#REF!","v":{"$error":"#REF!"}},{"$f":"'Pob x Genero'!#REF!","v":{"$error":"#REF!"}},{"$f":"'Pob x Genero'!#REF!","v":{"$error":"#REF!"}},"Hombre","00-04",{"$f":"'Pob x Genero'!#REF!","v":{"$error":"#REF!"}},632]
[{"$f":"'Pob x Genero'!#REF!","v":{"$error":"#REF!"}},{"$f":"'Pob x Genero'!#REF!","v":{"$error":"#REF!"}},{"$f":"'Pob x Genero'!#REF!","v":{"$error":"#REF!"}},{"$f":"'Pob x Genero'!#REF!","v":{"$error":"#REF!"}},{"$f":"'Pob x Genero'!#REF!","v":{"$error":"#REF!"}},"Hombre","00-04",{"$f":"'Pob x Genero'!#REF!","v":{"$error":"#REF!"}},633]
[{"$f":"'Pob x Genero'!#REF!","v":{"$error":"#REF!"}},{"$f":"'Pob x Genero'!#REF!","v":{"$error":"#REF!"}},{"$f":"'Pob x Genero'!#REF!","v":{"$error":"#REF!"}},{"$f":"'Pob x Genero'!#REF!","v":{"$error":"#REF!"}},{"$f":"'Pob x Genero'!#REF!","v":{"$error":"#REF!"}},"Hombre","00-04",{"$f":"'Pob x Genero'!#REF!","v":{"$error":"#REF!"}},634]
[{"$f":"'Pob x Genero'!#REF!","v":{"$error":"#REF!"}},{"$f":"'Pob x Genero'!#REF!","v":{"$error":"#REF!"}},{"$f":"'Pob x Genero'!#REF!","v":{"$error":"#REF!"}},{"$f":"'Pob x Genero'!#REF!","v":{"$error":"#REF!"}},{"$f":"'Pob x Genero'!#REF!","v":{"$error":"#REF!"}},"Hombre","00-04",{"$f":"'Pob x Genero'!#REF!","v":{"$error":"#REF!"}},635]
[{"$f":"'Pob x Genero'!#REF!","v":{"$error":"#REF!"}},{"$f":"'Pob x Genero'!#REF!","v":{"$error":"#REF!"}},{"$f":"'Pob x Genero'!#REF!","v":{"$error":"#REF!"}},{"$f":"'Pob x Genero'!#REF!","v":{"$error":"#REF!"}},{"$f":"'Pob x Genero'!#REF!","v":{"$error":"#REF!"}},"Hombre","00-04",{"$f":"'Pob x Genero'!#REF!","v":{"$error":"#REF!"}},636]
[{"$f":"'Pob x Genero'!#REF!","v":{"$error":"#REF!"}},{"$f":"'Pob x Genero'!#REF!","v":{"$error":"#REF!"}},{"$f":"'Pob x Genero'!#REF!","v":{"$error":"#REF!"}},{"$f":"'Pob x Genero'!#REF!","v":{"$error":"#REF!"}},{"$f":"'Pob x Genero'!#REF!","v":{"$error":"#REF!"}},"Hombre","00-04",{"$f":"'Pob x Genero'!#REF!","v":{"$error":"#REF!"}},637]
[{"$f":"'Pob x Genero'!#REF!","v":{"$error":"#REF!"}},{"$f":"'Pob x Genero'!#REF!","v":{"$error":"#REF!"}},{"$f":"'Pob x Genero'!#REF!","v":{"$error":"#REF!"}},{"$f":"'Pob x Genero'!#REF!","v":{"$error":"#REF!"}},{"$f":"'Pob x Genero'!#REF!","v":{"$error":"#REF!"}},"Hombre","00-04",{"$f":"'Pob x Genero'!#REF!","v":{"$error":"#REF!"}},638]
[{"$f":"'Pob x Genero'!#REF!","v":{"$error":"#REF!"}},{"$f":"'Pob x Genero'!#REF!","v":{"$error":"#REF!"}},{"$f":"'Pob x Genero'!#REF!","v":{"$error":"#REF!"}},{"$f":"'Pob x Genero'!#REF!","v":{"$error":"#REF!"}},{"$f":"'Pob x Genero'!#REF!","v":{"$error":"#REF!"}},"Hombre","00-04",{"$f":"'Pob x Genero'!#REF!","v":{"$error":"#REF!"}},639]
[{"$f":"'Pob x Genero'!#REF!","v":{"$error":"#REF!"}},{"$f":"'Pob x Genero'!#REF!","v":{"$error":"#REF!"}},{"$f":"'Pob x Genero'!#REF!","v":{"$error":"#REF!"}},{"$f":"'Pob x Genero'!#REF!","v":{"$error":"#REF!"}},{"$f":"'Pob x Genero'!#REF!","v":{"$error":"#REF!"}},"Hombre","00-04",{"$f":"'Pob x Genero'!#REF!","v":{"$error":"#REF!"}},640]
[{"$f":"'Pob x Genero'!#REF!","v":{"$error":"#REF!"}},{"$f":"'Pob x Genero'!#REF!","v":{"$error":"#REF!"}},{"$f":"'Pob x Genero'!#REF!","v":{"$error":"#REF!"}},{"$f":"'Pob x Genero'!#REF!","v":{"$error":"#REF!"}},{"$f":"'Pob x Genero'!#REF!","v":{"$error":"#REF!"}},"Hombre","00-04",{"$f":"'Pob x Genero'!#REF!","v":{"$error":"#REF!"}},641]
[{"$f":"'Pob x Genero'!#REF!","v":{"$error":"#REF!"}},{"$f":"'Pob x Genero'!#REF!","v":{"$error":"#REF!"}},{"$f":"'Pob x Genero'!#REF!","v":{"$error":"#REF!"}},{"$f":"'Pob x Genero'!#REF!","v":{"$error":"#REF!"}},{"$f":"'Pob x Genero'!#REF!","v":{"$error":"#REF!"}},{"$f":"F642","v":"Hombre"},{"$f":"G642","v":"00-04"},{"$f":"'Pob x Genero'!#REF!","v":{"$error":"#REF!"}},642]
[{"$f":"'Pob x Genero'!#REF!","v":{"$error":"#REF!"}},{"$f":"'Pob x Genero'!#REF!","v":{"$error":"#REF!"}},{"$f":"'Pob x Genero'!#REF!","v":{"$error":"#REF!"}},{"$f":"'Pob x Genero'!#REF!","v":{"$error":"#REF!"}},{"$f":"'Pob x Genero'!#REF!","v":{"$error":"#REF!"}},"Hombre","00-04",{"$f":"'Pob x Genero'!#REF!","v":{"$error":"#REF!"}},643]
[{"$f":"'Pob x Genero'!#REF!","v":{"$error":"#REF!"}},{"$f":"'Pob x Genero'!#REF!","v":{"$error":"#REF!"}},{"$f":"'Pob x Genero'!#REF!","v":{"$error":"#REF!"}},{"$f":"'Pob x Genero'!#REF!","v":{"$error":"#REF!"}},{"$f":"'Pob x Genero'!#REF!","v":{"$error":"#REF!"}},"Hombre","00-04",{"$f":"'Pob x Genero'!#REF!","v":{"$error":"#REF!"}},644]
[{"$f":"'Pob x Genero'!#REF!","v":{"$error":"#REF!"}},{"$f":"'Pob x Genero'!#REF!","v":{"$error":"#REF!"}},{"$f":"'Pob x Genero'!#REF!","v":{"$error":"#REF!"}},{"$f":"'Pob x Genero'!#REF!","v":{"$error":"#REF!"}},{"$f":"'Pob x Genero'!#REF!","v":{"$error":"#REF!"}},"Hombre","00-04",{"$f":"'Pob x Genero'!#REF!","v":{"$error":"#REF!"}},645]
[{"$f":"'Pob x Genero'!#REF!","v":{"$error":"#REF!"}},{"$f":"'Pob x Genero'!#REF!","v":{"$error":"#REF!"}},{"$f":"'Pob x Genero'!#REF!","v":{"$error":"#REF!"}},{"$f":"'Pob x Genero'!#REF!","v":{"$error":"#REF!"}},{"$f":"'Pob x Genero'!#REF!","v":{"$error":"#REF!"}},"Hombre","00-04",{"$f":"'Pob x Genero'!#REF!","v":{"$error":"#REF!"}},646]
[{"$f":"'Pob x Genero'!#REF!","v":{"$error":"#REF!"}},{"$f":"'Pob x Genero'!#REF!","v":{"$error":"#REF!"}},{"$f":"'Pob x Genero'!#REF!","v":{"$error":"#REF!"}},{"$f":"'Pob x Genero'!#REF!","v":{"$error":"#REF!"}},{"$f":"'Pob x Genero'!#REF!","v":{"$error":"#REF!"}},"Hombre","00-04",{"$f":"'Pob x Genero'!#REF!","v":{"$error":"#REF!"}},647]
[{"$f":"'Pob x Genero'!#REF!","v":{"$error":"#REF!"}},{"$f":"'Pob x Genero'!#REF!","v":{"$error":"#REF!"}},{"$f":"'Pob x Genero'!#REF!","v":{"$error":"#REF!"}},{"$f":"'Pob x Genero'!#REF!","v":{"$error":"#REF!"}},{"$f":"'Pob x Genero'!#REF!","v":{"$error":"#REF!"}},"Hombre","00-04",{"$f":"'Pob x Genero'!#REF!","v":{"$error":"#REF!"}},648]
[{"$f":"'Pob x Genero'!#REF!","v":{"$error":"#REF!"}},{"$f":"'Pob x Genero'!#REF!","v":{"$error":"#REF!"}},{"$f":"'Pob x Genero'!#REF!","v":{"$error":"#REF!"}},{"$f":"'Pob x Genero'!#REF!","v":{"$error":"#REF!"}},{"$f":"'Pob x Genero'!#REF!","v":{"$error":"#REF!"}},"Hombre","00-04",{"$f":"'Pob x Genero'!#REF!","v":{"$error":"#REF!"}},649]
[{"$f":"'Pob x Genero'!#REF!","v":{"$error":"#REF!"}},{"$f":"'Pob x Genero'!#REF!","v":{"$error":"#REF!"}},{"$f":"'Pob x Genero'!#REF!","v":{"$error":"#REF!"}},{"$f":"'Pob x Genero'!#REF!","v":{"$error":"#REF!"}},{"$f":"'Pob x Genero'!#REF!","v":{"$error":"#REF!"}},"Hombre","00-04",{"$f":"'Pob x Genero'!#REF!","v":{"$error":"#REF!"}},650]
[{"$f":"'Pob x Genero'!#REF!","v":{"$error":"#REF!"}},{"$f":"'Pob x Genero'!#REF!","v":{"$error":"#REF!"}},{"$f":"'Pob x Genero'!#REF!","v":{"$error":"#REF!"}},{"$f":"'Pob x Genero'!#REF!","v":{"$error":"#REF!"}},{"$f":"'Pob x Genero'!#REF!","v":{"$error":"#REF!"}},"Hombre","00-04",{"$f":"'Pob x Genero'!#REF!","v":{"$error":"#REF!"}},651]
[{"$f":"'Pob x Genero'!#REF!","v":{"$error":"#REF!"}},{"$f":"'Pob x Genero'!#REF!","v":{"$error":"#REF!"}},{"$f":"'Pob x Genero'!#REF!","v":{"$error":"#REF!"}},{"$f":"'Pob x Genero'!#REF!","v":{"$error":"#REF!"}},{"$f":"'Pob x Genero'!#REF!","v":{"$error":"#REF!"}},"Hombre","00-04",{"$f":"'Pob x Genero'!#REF!","v":{"$error":"#REF!"}},652]
[{"$f":"'Pob x Genero'!#REF!","v":{"$error":"#REF!"}},{"$f":"'Pob x Genero'!#REF!","v":{"$error":"#REF!"}},{"$f":"'Pob x Genero'!#REF!","v":{"$error":"#REF!"}},{"$f":"'Pob x Genero'!#REF!","v":{"$error":"#REF!"}},{"$f":"'Pob x Genero'!#REF!","v":{"$error":"#REF!"}},"Hombre","00-04",{"$f":"'Pob x Genero'!#REF!","v":{"$error":"#REF!"}},653]
[{"$f":"'Pob x Genero'!#REF!","v":{"$error":"#REF!"}},{"$f":"'Pob x Genero'!#REF!","v":{"$error":"#REF!"}},{"$f":"'Pob x Genero'!#REF!","v":{"$error":"#REF!"}},{"$f":"'Pob x Genero'!#REF!","v":{"$error":"#REF!"}},{"$f":"'Pob x Genero'!#REF!","v":{"$error":"#REF!"}},"Hombre","00-04",{"$f":"'Pob x Genero'!#REF!","v":{"$error":"#REF!"}},654]
[{"$f":"'Pob x Genero'!#REF!","v":{"$error":"#REF!"}},{"$f":"'Pob x Genero'!#REF!","v":{"$error":"#REF!"}},{"$f":"'Pob x Genero'!#REF!","v":{"$error":"#REF!"}},{"$f":"'Pob x Genero'!#REF!","v":{"$error":"#REF!"}},{"$f":"'Pob x Genero'!#REF!","v":{"$error":"#REF!"}},"Hombre","00-04",{"$f":"'Pob x Genero'!#REF!","v":{"$error":"#REF!"}},655]
[{"$f":"'Pob x Genero'!#REF!","v":{"$error":"#REF!"}},{"$f":"'Pob x Genero'!#REF!","v":{"$error":"#REF!"}},{"$f":"'Pob x Genero'!#REF!","v":{"$error":"#REF!"}},{"$f":"'Pob x Genero'!#REF!","v":{"$error":"#REF!"}},{"$f":"'Pob x Genero'!#REF!","v":{"$error":"#REF!"}},"Hombre","00-04",{"$f":"'Pob x Genero'!#REF!","v":{"$error":"#REF!"}},656]
[{"$f":"'Pob x Genero'!#REF!","v":{"$error":"#REF!"}},{"$f":"'Pob x Genero'!#REF!","v":{"$error":"#REF!"}},{"$f":"'Pob x Genero'!#REF!","v":{"$error":"#REF!"}},{"$f":"'Pob x Genero'!#REF!","v":{"$error":"#REF!"}},{"$f":"'Pob x Genero'!#REF!","v":{"$error":"#REF!"}},"Hombre","00-04",{"$f":"'Pob x Genero'!#REF!","v":{"$error":"#REF!"}},657]
[{"$f":"'Pob x Genero'!#REF!","v":{"$error":"#REF!"}},{"$f":"'Pob x Genero'!#REF!","v":{"$error":"#REF!"}},{"$f":"'Pob x Genero'!#REF!","v":{"$error":"#REF!"}},{"$f":"'Pob x Genero'!#REF!","v":{"$error":"#REF!"}},{"$f":"'Pob x Genero'!#REF!","v":{"$error":"#REF!"}},"Hombre","00-04",{"$f":"'Pob x Genero'!#REF!","v":{"$error":"#REF!"}},658]
[{"$f":"'Pob x Genero'!#REF!","v":{"$error":"#REF!"}},{"$f":"'Pob x Genero'!#REF!","v":{"$error":"#REF!"}},{"$f":"'Pob x Genero'!#REF!","v":{"$error":"#REF!"}},{"$f":"'Pob x Genero'!#REF!","v":{"$error":"#REF!"}},{"$f":"'Pob x Genero'!#REF!","v":{"$error":"#REF!"}},"Hombre","00-04",{"$f":"'Pob x Genero'!#REF!","v":{"$error":"#REF!"}},659]
[{"$f":"'Pob x Genero'!#REF!","v":{"$error":"#REF!"}},{"$f":"'Pob x Genero'!#REF!","v":{"$error":"#REF!"}},{"$f":"'Pob x Genero'!#REF!","v":{"$error":"#REF!"}},{"$f":"'Pob x Genero'!#REF!","v":{"$error":"#REF!"}},{"$f":"'Pob x Genero'!#REF!","v":{"$error":"#REF!"}},"Hombre","00-04",{"$f":"'Pob x Genero'!#REF!","v":{"$error":"#REF!"}},660]
[{"$f":"'Pob x Genero'!#REF!","v":{"$error":"#REF!"}},{"$f":"'Pob x Genero'!#REF!","v":{"$error":"#REF!"}},{"$f":"'Pob x Genero'!#REF!","v":{"$error":"#REF!"}},{"$f":"'Pob x Genero'!#REF!","v":{"$error":"#REF!"}},{"$f":"'Pob x Genero'!#REF!","v":{"$error":"#REF!"}},"Hombre","00-04",{"$f":"'Pob x Genero'!#REF!","v":{"$error":"#REF!"}},661]
[{"$f":"'Pob x Genero'!#REF!","v":{"$error":"#REF!"}},{"$f":"'Pob x Genero'!#REF!","v":{"$error":"#REF!"}},{"$f":"'Pob x Genero'!#REF!","v":{"$error":"#REF!"}},{"$f":"'Pob x Genero'!#REF!","v":{"$error":"#REF!"}},{"$f":"'Pob x Genero'!#REF!","v":{"$error":"#REF!"}},"Hombre","00-04",{"$f":"'Pob x Genero'!#REF!","v":{"$error":"#REF!"}},662]
[{"$f":"'Pob x Genero'!#REF!","v":{"$error":"#REF!"}},{"$f":"'Pob x Genero'!#REF!","v":{"$error":"#REF!"}},{"$f":"'Pob x Genero'!#REF!","v":{"$error":"#REF!"}},{"$f":"'Pob x Genero'!#REF!","v":{"$error":"#REF!"}},{"$f":"'Pob x Genero'!#REF!","v":{"$error":"#REF!"}},"Hombre","00-04",{"$f":"'Pob x Genero'!#REF!","v":{"$error":"#REF!"}},663]
[{"$f":"'Pob x Genero'!#REF!","v":{"$error":"#REF!"}},{"$f":"'Pob x Genero'!#REF!","v":{"$error":"#REF!"}},{"$f":"'Pob x Genero'!#REF!","v":{"$error":"#REF!"}},{"$f":"'Pob x Genero'!#REF!","v":{"$error":"#REF!"}},{"$f":"'Pob x Genero'!#REF!","v":{"$error":"#REF!"}},"Hombre","00-04",{"$f":"'Pob x Genero'!#REF!","v":{"$error":"#REF!"}},664]
[{"$f":"'Pob x Genero'!#REF!","v":{"$error":"#REF!"}},{"$f":"'Pob x Genero'!#REF!","v":{"$error":"#REF!"}},{"$f":"'Pob x Genero'!#REF!","v":{"$error":"#REF!"}},{"$f":"'Pob x Genero'!#REF!","v":{"$error":"#REF!"}},{"$f":"'Pob x Genero'!#REF!","v":{"$error":"#REF!"}},"Hombre","00-04",{"$f":"'Pob x Genero'!#REF!","v":{"$error":"#REF!"}},665]
[{"$f":"'Pob x Genero'!#REF!","v":{"$error":"#REF!"}},{"$f":"'Pob x Genero'!#REF!","v":{"$error":"#REF!"}},{"$f":"'Pob x Genero'!#REF!","v":{"$error":"#REF!"}},{"$f":"'Pob x Genero'!#REF!","v":{"$error":"#REF!"}},{"$f":"'Pob x Genero'!#REF!","v":{"$error":"#REF!"}},"Hombre","00-04",{"$f":"'Pob x Genero'!#REF!","v":{"$error":"#REF!"}},666]
[{"$f":"'Pob x Genero'!#REF!","v":{"$error":"#REF!"}},{"$f":"'Pob x Genero'!#REF!","v":{"$error":"#REF!"}},{"$f":"'Pob x Genero'!#REF!","v":{"$error":"#REF!"}},{"$f":"'Pob x Genero'!#REF!","v":{"$error":"#REF!"}},{"$f":"'Pob x Genero'!#REF!","v":{"$error":"#REF!"}},"Hombre","00-04",{"$f":"'Pob x Genero'!#REF!","v":{"$error":"#REF!"}},667]
[{"$f":"'Pob x Genero'!#REF!","v":{"$error":"#REF!"}},{"$f":"'Pob x Genero'!#REF!","v":{"$error":"#REF!"}},{"$f":"'Pob x Genero'!#REF!","v":{"$error":"#REF!"}},{"$f":"'Pob x Genero'!#REF!","v":{"$error":"#REF!"}},{"$f":"'Pob x Genero'!#REF!","v":{"$error":"#REF!"}},"Hombre","00-04",{"$f":"'Pob x Genero'!#REF!","v":{"$error":"#REF!"}},668]
[{"$f":"'Pob x Genero'!#REF!","v":{"$error":"#REF!"}},{"$f":"'Pob x Genero'!#REF!","v":{"$error":"#REF!"}},{"$f":"'Pob x Genero'!#REF!","v":{"$error":"#REF!"}},{"$f":"'Pob x Genero'!#REF!","v":{"$error":"#REF!"}},{"$f":"'Pob x Genero'!#REF!","v":{"$error":"#REF!"}},"Hombre","00-04",{"$f":"'Pob x Genero'!#REF!","v":{"$error":"#REF!"}},669]
[{"$f":"'Pob x Genero'!#REF!","v":{"$error":"#REF!"}},{"$f":"'Pob x Genero'!#REF!","v":{"$error":"#REF!"}},{"$f":"'Pob x Genero'!#REF!","v":{"$error":"#REF!"}},{"$f":"'Pob x Genero'!#REF!","v":{"$error":"#REF!"}},{"$f":"'Pob x Genero'!#REF!","v":{"$error":"#REF!"}},"Hombre","00-04",{"$f":"'Pob x Genero'!#REF!","v":{"$error":"#REF!"}},670]
[{"$f":"'Pob x Genero'!#REF!","v":{"$error":"#REF!"}},{"$f":"'Pob x Genero'!#REF!","v":{"$error":"#REF!"}},{"$f":"'Pob x Genero'!#REF!","v":{"$error":"#REF!"}},{"$f":"'Pob x Genero'!#REF!","v":{"$error":"#REF!"}},{"$f":"'Pob x Genero'!#REF!","v":{"$error":"#REF!"}},"Hombre","00-04",{"$f":"'Pob x Genero'!#REF!","v":{"$error":"#REF!"}},671]
[{"$f":"'Pob x Genero'!#REF!","v":{"$error":"#REF!"}},{"$f":"'Pob x Genero'!#REF!","v":{"$error":"#REF!"}},{"$f":"'Pob x Genero'!#REF!","v":{"$error":"#REF!"}},{"$f":"'Pob x Genero'!#REF!","v":{"$error":"#REF!"}},{"$f":"'Pob x Genero'!#REF!","v":{"$error":"#REF!"}},"Hombre","00-04",{"$f":"'Pob x Genero'!#REF!","v":{"$error":"#REF!"}},672]
[{"$f":"'Pob x Genero'!#REF!","v":{"$error":"#REF!"}},{"$f":"'Pob x Genero'!#REF!","v":{"$error":"#REF!"}},{"$f":"'Pob x Genero'!#REF!","v":{"$error":"#REF!"}},{"$f":"'Pob x Genero'!#REF!","v":{"$error":"#REF!"}},{"$f":"'Pob x Genero'!#REF!","v":{"$error":"#REF!"}},"Hombre","00-04",{"$f":"'Pob x Genero'!#REF!","v":{"$error":"#REF!"}},673]
[{"$f":"'Pob x Genero'!#REF!","v":{"$error":"#REF!"}},{"$f":"'Pob x Genero'!#REF!","v":{"$error":"#REF!"}},{"$f":"'Pob x Genero'!#REF!","v":{"$error":"#REF!"}},{"$f":"'Pob x Genero'!#REF!","v":{"$error":"#REF!"}},{"$f":"'Pob x Genero'!#REF!","v":{"$error":"#REF!"}},"Hombre","00-04",{"$f":"'Pob x Genero'!#REF!","v":{"$error":"#REF!"}},674]
[{"$f":"'Pob x Genero'!#REF!","v":{"$error":"#REF!"}},{"$f":"'Pob x Genero'!#REF!","v":{"$error":"#REF!"}},{"$f":"'Pob x Genero'!#REF!","v":{"$error":"#REF!"}},{"$f":"'Pob x Genero'!#REF!","v":{"$error":"#REF!"}},{"$f":"'Pob x Genero'!#REF!","v":{"$error":"#REF!"}},"Hombre","00-04",{"$f":"'Pob x Genero'!#REF!","v":{"$error":"#REF!"}},675]
[{"$f":"'Pob x Genero'!#REF!","v":{"$error":"#REF!"}},{"$f":"'Pob x Genero'!#REF!","v":{"$error":"#REF!"}},{"$f":"'Pob x Genero'!#REF!","v":{"$error":"#REF!"}},{"$f":"'Pob x Genero'!#REF!","v":{"$error":"#REF!"}},{"$f":"'Pob x Genero'!#REF!","v":{"$error":"#REF!"}},"Hombre","00-04",{"$f":"'Pob x Genero'!#REF!","v":{"$error":"#REF!"}},676]
[{"$f":"'Pob x Genero'!#REF!","v":{"$error":"#REF!"}},{"$f":"'Pob x Genero'!#REF!","v":{"$error":"#REF!"}},{"$f":"'Pob x Genero'!#REF!","v":{"$error":"#REF!"}},{"$f":"'Pob x Genero'!#REF!","v":{"$error":"#REF!"}},{"$f":"'Pob x Genero'!#REF!","v":{"$error":"#REF!"}},"Hombre","00-04",{"$f":"'Pob x Genero'!#REF!","v":{"$error":"#REF!"}},677]
[{"$f":"'Pob x Genero'!#REF!","v":{"$error":"#REF!"}},{"$f":"'Pob x Genero'!#REF!","v":{"$error":"#REF!"}},{"$f":"'Pob x Genero'!#REF!","v":{"$error":"#REF!"}},{"$f":"'Pob x Genero'!#REF!","v":{"$error":"#REF!"}},{"$f":"'Pob x Genero'!#REF!","v":{"$error":"#REF!"}},"Hombre","00-04",{"$f":"'Pob x Genero'!#REF!","v":{"$error":"#REF!"}},678]
[{"$f":"'Pob x Genero'!#REF!","v":{"$error":"#REF!"}},{"$f":"'Pob x Genero'!#REF!","v":{"$error":"#REF!"}},{"$f":"'Pob x Genero'!#REF!","v":{"$error":"#REF!"}},{"$f":"'Pob x Genero'!#REF!","v":{"$error":"#REF!"}},{"$f":"'Pob x Genero'!#REF!","v":{"$error":"#REF!"}},"Hombre","00-04",{"$f":"'Pob x Genero'!#REF!","v":{"$error":"#REF!"}},679]
[{"$f":"'Pob x Genero'!#REF!","v":{"$error":"#REF!"}},{"$f":"'Pob x Genero'!#REF!","v":{"$error":"#REF!"}},{"$f":"'Pob x Genero'!#REF!","v":{"$error":"#REF!"}},{"$f":"'Pob x Genero'!#REF!","v":{"$error":"#REF!"}},{"$f":"'Pob x Genero'!#REF!","v":{"$error":"#REF!"}},"Hombre","00-04",{"$f":"'Pob x Genero'!#REF!","v":{"$error":"#REF!"}},680]
[{"$f":"'Pob x Genero'!#REF!","v":{"$error":"#REF!"}},{"$f":"'Pob x Genero'!#REF!","v":{"$error":"#REF!"}},{"$f":"'Pob x Genero'!#REF!","v":{"$error":"#REF!"}},{"$f":"'Pob x Genero'!#REF!","v":{"$error":"#REF!"}},{"$f":"'Pob x Genero'!#REF!","v":{"$error":"#REF!"}},"Hombre","00-04",{"$f":"'Pob x Genero'!#REF!","v":{"$error":"#REF!"}},681]
[{"$f":"'Pob x Genero'!#REF!","v":{"$error":"#REF!"}},{"$f":"'Pob x Genero'!#REF!","v":{"$error":"#REF!"}},{"$f":"'Pob x Genero'!#REF!","v":{"$error":"#REF!"}},{"$f":"'Pob x Genero'!#REF!","v":{"$error":"#REF!"}},{"$f":"'Pob x Genero'!#REF!","v":{"$error":"#REF!"}},"Hombre","00-04",{"$f":"'Pob x Genero'!#REF!","v":{"$error":"#REF!"}},682]
[{"$f":"'Pob x Genero'!#REF!","v":{"$error":"#REF!"}},{"$f":"'Pob x Genero'!#REF!","v":{"$error":"#REF!"}},{"$f":"'Pob x Genero'!#REF!","v":{"$error":"#REF!"}},{"$f":"'Pob x Genero'!#REF!","v":{"$error":"#REF!"}},{"$f":"'Pob x Genero'!#REF!","v":{"$error":"#REF!"}},"Hombre","00-04",{"$f":"'Pob x Genero'!#REF!","v":{"$error":"#REF!"}},683]
[{"$f":"'Pob x Genero'!#REF!","v":{"$error":"#REF!"}},{"$f":"'Pob x Genero'!#REF!","v":{"$error":"#REF!"}},{"$f":"'Pob x Genero'!#REF!","v":{"$error":"#REF!"}},{"$f":"'Pob x Genero'!#REF!","v":{"$error":"#REF!"}},{"$f":"'Pob x Genero'!#REF!","v":{"$error":"#REF!"}},"Hombre","00-04",{"$f":"'Pob x Genero'!#REF!","v":{"$error":"#REF!"}},684]
[{"$f":"'Pob x Genero'!#REF!","v":{"$error":"#REF!"}},{"$f":"'Pob x Genero'!#REF!","v":{"$error":"#REF!"}},{"$f":"'Pob x Genero'!#REF!","v":{"$error":"#REF!"}},{"$f":"'Pob x Genero'!#REF!","v":{"$error":"#REF!"}},{"$f":"'Pob x Genero'!#REF!","v":{"$error":"#REF!"}},"Hombre","00-04",{"$f":"'Pob x Genero'!#REF!","v":{"$error":"#REF!"}},685]
[{"$f":"'Pob x Genero'!#REF!","v":{"$error":"#REF!"}},{"$f":"'Pob x Genero'!#REF!","v":{"$error":"#REF!"}},{"$f":"'Pob x Genero'!#REF!","v":{"$error":"#REF!"}},{"$f":"'Pob x Genero'!#REF!","v":{"$error":"#REF!"}},{"$f":"'Pob x Genero'!#REF!","v":{"$error":"#REF!"}},"Hombre","00-04",{"$f":"'Pob x Genero'!#REF!","v":{"$error":"#REF!"}},686]
[{"$f":"'Pob x Genero'!#REF!","v":{"$error":"#REF!"}},{"$f":"'Pob x Genero'!#REF!","v":{"$error":"#REF!"}},{"$f":"'Pob x Genero'!#REF!","v":{"$error":"#REF!"}},{"$f":"'Pob x Genero'!#REF!","v":{"$error":"#REF!"}},{"$f":"'Pob x Genero'!#REF!","v":{"$error":"#REF!"}},"Hombre","00-04",{"$f":"'Pob x Genero'!#REF!","v":{"$error":"#REF!"}},687]
[{"$f":"'Pob x Genero'!#REF!","v":{"$error":"#REF!"}},{"$f":"'Pob x Genero'!#REF!","v":{"$error":"#REF!"}},{"$f":"'Pob x Genero'!#REF!","v":{"$error":"#REF!"}},{"$f":"'Pob x Genero'!#REF!","v":{"$error":"#REF!"}},{"$f":"'Pob x Genero'!#REF!","v":{"$error":"#REF!"}},"Hombre","00-04",{"$f":"'Pob x Genero'!#REF!","v":{"$error":"#REF!"}},688]
[{"$f":"'Pob x Genero'!#REF!","v":{"$error":"#REF!"}},{"$f":"'Pob x Genero'!#REF!","v":{"$error":"#REF!"}},{"$f":"'Pob x Genero'!#REF!","v":{"$error":"#REF!"}},{"$f":"'Pob x Genero'!#REF!","v":{"$error":"#REF!"}},{"$f":"'Pob x Genero'!#REF!","v":{"$error":"#REF!"}},"Hombre","00-04",{"$f":"'Pob x Genero'!#REF!","v":{"$error":"#REF!"}},689]
[{"$f":"'Pob x Genero'!#REF!","v":{"$error":"#REF!"}},{"$f":"'Pob x Genero'!#REF!","v":{"$error":"#REF!"}},{"$f":"'Pob x Genero'!#REF!","v":{"$error":"#REF!"}},{"$f":"'Pob x Genero'!#REF!","v":{"$error":"#REF!"}},{"$f":"'Pob x Genero'!#REF!","v":{"$error":"#REF!"}},"Hombre","00-04",{"$f":"'Pob x Genero'!#REF!","v":{"$error":"#REF!"}},690]
[{"$f":"'Pob x Genero'!#REF!","v":{"$error":"#REF!"}},{"$f":"'Pob x Genero'!#REF!","v":{"$error":"#REF!"}},{"$f":"'Pob x Genero'!#REF!","v":{"$error":"#REF!"}},{"$f":"'Pob x Genero'!#REF!","v":{"$error":"#REF!"}},{"$f":"'Pob x Genero'!#REF!","v":{"$error":"#REF!"}},"Hombre","00-04",{"$f":"'Pob x Genero'!#REF!","v":{"$error":"#REF!"}},691]
[{"$f":"'Pob x Genero'!#REF!","v":{"$error":"#REF!"}},{"$f":"'Pob x Genero'!#REF!","v":{"$error":"#REF!"}},{"$f":"'Pob x Genero'!#REF!","v":{"$error":"#REF!"}},{"$f":"'Pob x Genero'!#REF!","v":{"$error":"#REF!"}},{"$f":"'Pob x Genero'!#REF!","v":{"$error":"#REF!"}},"Hombre","00-04",{"$f":"'Pob x Genero'!#REF!","v":{"$error":"#REF!"}},692]
[{"$f":"'Pob x Genero'!#REF!","v":{"$error":"#REF!"}},{"$f":"'Pob x Genero'!#REF!","v":{"$error":"#REF!"}},{"$f":"'Pob x Genero'!#REF!","v":{"$error":"#REF!"}},{"$f":"'Pob x Genero'!#REF!","v":{"$error":"#REF!"}},{"$f":"'Pob x Genero'!#REF!","v":{"$error":"#REF!"}},"Hombre","00-04",{"$f":"'Pob x Genero'!#REF!","v":{"$error":"#REF!"}},693]
[{"$f":"'Pob x Genero'!#REF!","v":{"$error":"#REF!"}},{"$f":"'Pob x Genero'!#REF!","v":{"$error":"#REF!"}},{"$f":"'Pob x Genero'!#REF!","v":{"$error":"#REF!"}},{"$f":"'Pob x Genero'!#REF!","v":{"$error":"#REF!"}},{"$f":"'Pob x Genero'!#REF!","v":{"$error":"#REF!"}},"Hombre","00-04",{"$f":"'Pob x Genero'!#REF!","v":{"$error":"#REF!"}},694]
[{"$f":"'Pob x Genero'!#REF!","v":{"$error":"#REF!"}},{"$f":"'Pob x Genero'!#REF!","v":{"$error":"#REF!"}},{"$f":"'Pob x Genero'!#REF!","v":{"$error":"#REF!"}},{"$f":"'Pob x Genero'!#REF!","v":{"$error":"#REF!"}},{"$f":"'Pob x Genero'!#REF!","v":{"$error":"#REF!"}},"Hombre","00-04",{"$f":"'Pob x Genero'!#REF!","v":{"$error":"#REF!"}},695]
[{"$f":"'Pob x Genero'!#REF!","v":{"$error":"#REF!"}},{"$f":"'Pob x Genero'!#REF!","v":{"$error":"#REF!"}},{"$f":"'Pob x Genero'!#REF!","v":{"$error":"#REF!"}},{"$f":"'Pob x Genero'!#REF!","v":{"$error":"#REF!"}},{"$f":"'Pob x Genero'!#REF!","v":{"$error":"#REF!"}},"Hombre","00-04",{"$f":"'Pob x Genero'!#REF!","v":{"$error":"#REF!"}},696]
[{"$f":"'Pob x Genero'!#REF!","v":{"$error":"#REF!"}},{"$f":"'Pob x Genero'!#REF!","v":{"$error":"#REF!"}},{"$f":"'Pob x Genero'!#REF!","v":{"$error":"#REF!"}},{"$f":"'Pob x Genero'!#REF!","v":{"$error":"#REF!"}},{"$f":"'Pob x Genero'!#REF!","v":{"$error":"#REF!"}},"Hombre","00-04",{"$f":"'Pob x Genero'!#REF!","v":{"$error":"#REF!"}},697]
[{"$f":"'Pob x Genero'!#REF!","v":{"$error":"#REF!"}},{"$f":"'Pob x Genero'!#REF!","v":{"$error":"#REF!"}},{"$f":"'Pob x Genero'!#REF!","v":{"$error":"#REF!"}},{"$f":"'Pob x Genero'!#REF!","v":{"$error":"#REF!"}},{"$f":"'Pob x Genero'!#REF!","v":{"$error":"#REF!"}},"Hombre","00-04",{"$f":"'Pob x Genero'!#REF!","v":{"$error":"#REF!"}},698]
[{"$f":"'Pob x Genero'!#REF!","v":{"$error":"#REF!"}},{"$f":"'Pob x Genero'!#REF!","v":{"$error":"#REF!"}},{"$f":"'Pob x Genero'!#REF!","v":{"$error":"#REF!"}},{"$f":"'Pob x Genero'!#REF!","v":{"$error":"#REF!"}},{"$f":"'Pob x Genero'!#REF!","v":{"$error":"#REF!"}},"Hombre","00-04",{"$f":"'Pob x Genero'!#REF!","v":{"$error":"#REF!"}},699]
[{"$f":"'Pob x Genero'!#REF!","v":{"$error":"#REF!"}},{"$f":"'Pob x Genero'!#REF!","v":{"$error":"#REF!"}},{"$f":"'Pob x Genero'!#REF!","v":{"$error":"#REF!"}},{"$f":"'Pob x Genero'!#REF!","v":{"$error":"#REF!"}},{"$f":"'Pob x Genero'!#REF!","v":{"$error":"#REF!"}},"Hombre","00-04",{"$f":"'Pob x Genero'!#REF!","v":{"$error":"#REF!"}},700]
[{"$f":"'Pob x Genero'!#REF!","v":{"$error":"#REF!"}},{"$f":"'Pob x Genero'!#REF!","v":{"$error":"#REF!"}},{"$f":"'Pob x Genero'!#REF!","v":{"$error":"#REF!"}},{"$f":"'Pob x Genero'!#REF!","v":{"$error":"#REF!"}},{"$f":"'Pob x Genero'!#REF!","v":{"$error":"#REF!"}},"Hombre","00-04",{"$f":"'Pob x Genero'!#REF!","v":{"$error":"#REF!"}},701]
[{"$f":"'Pob x Genero'!#REF!","v":{"$error":"#REF!"}},{"$f":"'Pob x Genero'!#REF!","v":{"$error":"#REF!"}},{"$f":"'Pob x Genero'!#REF!","v":{"$error":"#REF!"}},{"$f":"'Pob x Genero'!#REF!","v":{"$error":"#REF!"}},{"$f":"'Pob x Genero'!#REF!","v":{"$error":"#REF!"}},"Hombre","00-04",{"$f":"'Pob x Genero'!#REF!","v":{"$error":"#REF!"}},702]
[{"$f":"'Pob x Genero'!#REF!","v":{"$error":"#REF!"}},{"$f":"'Pob x Genero'!#REF!","v":{"$error":"#REF!"}},{"$f":"'Pob x Genero'!#REF!","v":{"$error":"#REF!"}},{"$f":"'Pob x Genero'!#REF!","v":{"$error":"#REF!"}},{"$f":"'Pob x Genero'!#REF!","v":{"$error":"#REF!"}},"Hombre","00-04",{"$f":"'Pob x Genero'!#REF!","v":{"$error":"#REF!"}},703]
[{"$f":"'Pob x Genero'!#REF!","v":{"$error":"#REF!"}},{"$f":"'Pob x Genero'!#REF!","v":{"$error":"#REF!"}},{"$f":"'Pob x Genero'!#REF!","v":{"$error":"#REF!"}},{"$f":"'Pob x Genero'!#REF!","v":{"$error":"#REF!"}},{"$f":"'Pob x Genero'!#REF!","v":{"$error":"#REF!"}},"Hombre","00-04",{"$f":"'Pob x Genero'!#REF!","v":{"$error":"#REF!"}},704]
[{"$f":"'Pob x Genero'!#REF!","v":{"$error":"#REF!"}},{"$f":"'Pob x Genero'!#REF!","v":{"$error":"#REF!"}},{"$f":"'Pob x Genero'!#REF!","v":{"$error":"#REF!"}},{"$f":"'Pob x Genero'!#REF!","v":{"$error":"#REF!"}},{"$f":"'Pob x Genero'!#REF!","v":{"$error":"#REF!"}},"Hombre","00-04",{"$f":"'Pob x Genero'!#REF!","v":{"$error":"#REF!"}},705]
[{"$f":"'Pob x Genero'!#REF!","v":{"$error":"#REF!"}},{"$f":"'Pob x Genero'!#REF!","v":{"$error":"#REF!"}},{"$f":"'Pob x Genero'!#REF!","v":{"$error":"#REF!"}},{"$f":"'Pob x Genero'!#REF!","v":{"$error":"#REF!"}},{"$f":"'Pob x Genero'!#REF!","v":{"$error":"#REF!"}},{"$f":"F706","v":"Hombre"},{"$f":"G706","v":"00-04"},{"$f":"'Pob x Genero'!#REF!","v":{"$error":"#REF!"}},706]
[{"$f":"'Pob x Genero'!#REF!","v":{"$error":"#REF!"}},{"$f":"'Pob x Genero'!#REF!","v":{"$error":"#REF!"}},{"$f":"'Pob x Genero'!#REF!","v":{"$error":"#REF!"}},{"$f":"'Pob x Genero'!#REF!","v":{"$error":"#REF!"}},{"$f":"'Pob x Genero'!#REF!","v":{"$error":"#REF!"}},"Hombre","00-04",{"$f":"'Pob x Genero'!#REF!","v":{"$error":"#REF!"}},707]
[{"$f":"'Pob x Genero'!#REF!","v":{"$error":"#REF!"}},{"$f":"'Pob x Genero'!#REF!","v":{"$error":"#REF!"}},{"$f":"'Pob x Genero'!#REF!","v":{"$error":"#REF!"}},{"$f":"'Pob x Genero'!#REF!","v":{"$error":"#REF!"}},{"$f":"'Pob x Genero'!#REF!","v":{"$error":"#REF!"}},"Hombre","00-04",{"$f":"'Pob x Genero'!#REF!","v":{"$error":"#REF!"}},708]
[{"$f":"'Pob x Genero'!#REF!","v":{"$error":"#REF!"}},{"$f":"'Pob x Genero'!#REF!","v":{"$error":"#REF!"}},{"$f":"'Pob x Genero'!#REF!","v":{"$error":"#REF!"}},{"$f":"'Pob x Genero'!#REF!","v":{"$error":"#REF!"}},{"$f":"'Pob x Genero'!#REF!","v":{"$error":"#REF!"}},"Hombre","00-04",{"$f":"'Pob x Genero'!#REF!","v":{"$error":"#REF!"}},709]
[{"$f":"'Pob x Genero'!#REF!","v":{"$error":"#REF!"}},{"$f":"'Pob x Genero'!#REF!","v":{"$error":"#REF!"}},{"$f":"'Pob x Genero'!#REF!","v":{"$error":"#REF!"}},{"$f":"'Pob x Genero'!#REF!","v":{"$error":"#REF!"}},{"$f":"'Pob x Genero'!#REF!","v":{"$error":"#REF!"}},"Hombre","00-04",{"$f":"'Pob x Genero'!#REF!","v":{"$error":"#REF!"}},710]
[{"$f":"'Pob x Genero'!#REF!","v":{"$error":"#REF!"}},{"$f":"'Pob x Genero'!#REF!","v":{"$error":"#REF!"}},{"$f":"'Pob x Genero'!#REF!","v":{"$error":"#REF!"}},{"$f":"'Pob x Genero'!#REF!","v":{"$error":"#REF!"}},{"$f":"'Pob x Genero'!#REF!","v":{"$error":"#REF!"}},"Hombre","00-04",{"$f":"'Pob x Genero'!#REF!","v":{"$error":"#REF!"}},711]
[{"$f":"'Pob x Genero'!#REF!","v":{"$error":"#REF!"}},{"$f":"'Pob x Genero'!#REF!","v":{"$error":"#REF!"}},{"$f":"'Pob x Genero'!#REF!","v":{"$error":"#REF!"}},{"$f":"'Pob x Genero'!#REF!","v":{"$error":"#REF!"}},{"$f":"'Pob x Genero'!#REF!","v":{"$error":"#REF!"}},"Hombre","00-04",{"$f":"'Pob x Genero'!#REF!","v":{"$error":"#REF!"}},712]
[{"$f":"'Pob x Genero'!#REF!","v":{"$error":"#REF!"}},{"$f":"'Pob x Genero'!#REF!","v":{"$error":"#REF!"}},{"$f":"'Pob x Genero'!#REF!","v":{"$error":"#REF!"}},{"$f":"'Pob x Genero'!#REF!","v":{"$error":"#REF!"}},{"$f":"'Pob x Genero'!#REF!","v":{"$error":"#REF!"}},"Hombre","00-04",{"$f":"'Pob x Genero'!#REF!","v":{"$error":"#REF!"}},713]
[{"$f":"'Pob x Genero'!#REF!","v":{"$error":"#REF!"}},{"$f":"'Pob x Genero'!#REF!","v":{"$error":"#REF!"}},{"$f":"'Pob x Genero'!#REF!","v":{"$error":"#REF!"}},{"$f":"'Pob x Genero'!#REF!","v":{"$error":"#REF!"}},{"$f":"'Pob x Genero'!#REF!","v":{"$error":"#REF!"}},"Hombre","00-04",{"$f":"'Pob x Genero'!#REF!","v":{"$error":"#REF!"}},714]
[{"$f":"'Pob x Genero'!#REF!","v":{"$error":"#REF!"}},{"$f":"'Pob x Genero'!#REF!","v":{"$error":"#REF!"}},{"$f":"'Pob x Genero'!#REF!","v":{"$error":"#REF!"}},{"$f":"'Pob x Genero'!#REF!","v":{"$error":"#REF!"}},{"$f":"'Pob x Genero'!#REF!","v":{"$error":"#REF!"}},"Hombre","00-04",{"$f":"'Pob x Genero'!#REF!","v":{"$error":"#REF!"}},715]
[{"$f":"'Pob x Genero'!#REF!","v":{"$error":"#REF!"}},{"$f":"'Pob x Genero'!#REF!","v":{"$error":"#REF!"}},{"$f":"'Pob x Genero'!#REF!","v":{"$error":"#REF!"}},{"$f":"'Pob x Genero'!#REF!","v":{"$error":"#REF!"}},{"$f":"'Pob x Genero'!#REF!","v":{"$error":"#REF!"}},"Hombre","00-04",{"$f":"'Pob x Genero'!#REF!","v":{"$error":"#REF!"}},716]
[{"$f":"'Pob x Genero'!#REF!","v":{"$error":"#REF!"}},{"$f":"'Pob x Genero'!#REF!","v":{"$error":"#REF!"}},{"$f":"'Pob x Genero'!#REF!","v":{"$error":"#REF!"}},{"$f":"'Pob x Genero'!#REF!","v":{"$error":"#REF!"}},{"$f":"'Pob x Genero'!#REF!","v":{"$error":"#REF!"}},"Hombre","00-04",{"$f":"'Pob x Genero'!#REF!","v":{"$error":"#REF!"}},717]
[{"$f":"'Pob x Genero'!#REF!","v":{"$error":"#REF!"}},{"$f":"'Pob x Genero'!#REF!","v":{"$error":"#REF!"}},{"$f":"'Pob x Genero'!#REF!","v":{"$error":"#REF!"}},{"$f":"'Pob x Genero'!#REF!","v":{"$error":"#REF!"}},{"$f":"'Pob x Genero'!#REF!","v":{"$error":"#REF!"}},"Hombre","00-04",{"$f":"'Pob x Genero'!#REF!","v":{"$error":"#REF!"}},718]
[{"$f":"'Pob x Genero'!#REF!","v":{"$error":"#REF!"}},{"$f":"'Pob x Genero'!#REF!","v":{"$error":"#REF!"}},{"$f":"'Pob x Genero'!#REF!","v":{"$error":"#REF!"}},{"$f":"'Pob x Genero'!#REF!","v":{"$error":"#REF!"}},{"$f":"'Pob x Genero'!#REF!","v":{"$error":"#REF!"}},"Hombre","00-04",{"$f":"'Pob x Genero'!#REF!","v":{"$error":"#REF!"}},719]
[{"$f":"'Pob x Genero'!#REF!","v":{"$error":"#REF!"}},{"$f":"'Pob x Genero'!#REF!","v":{"$error":"#REF!"}},{"$f":"'Pob x Genero'!#REF!","v":{"$error":"#REF!"}},{"$f":"'Pob x Genero'!#REF!","v":{"$error":"#REF!"}},{"$f":"'Pob x Genero'!#REF!","v":{"$error":"#REF!"}},"Hombre","00-04",{"$f":"'Pob x Genero'!#REF!","v":{"$error":"#REF!"}},720]
[{"$f":"'Pob x Genero'!#REF!","v":{"$error":"#REF!"}},{"$f":"'Pob x Genero'!#REF!","v":{"$error":"#REF!"}},{"$f":"'Pob x Genero'!#REF!","v":{"$error":"#REF!"}},{"$f":"'Pob x Genero'!#REF!","v":{"$error":"#REF!"}},{"$f":"'Pob x Genero'!#REF!","v":{"$error":"#REF!"}},"Hombre","00-04",{"$f":"'Pob x Genero'!#REF!","v":{"$error":"#REF!"}},721]
[{"$f":"'Pob x Genero'!#REF!","v":{"$error":"#REF!"}},{"$f":"'Pob x Genero'!#REF!","v":{"$error":"#REF!"}},{"$f":"'Pob x Genero'!#REF!","v":{"$error":"#REF!"}},{"$f":"'Pob x Genero'!#REF!","v":{"$error":"#REF!"}},{"$f":"'Pob x Genero'!#REF!","v":{"$error":"#REF!"}},"Hombre","00-04",{"$f":"'Pob x Genero'!#REF!","v":{"$error":"#REF!"}},722]
[{"$f":"'Pob x Genero'!#REF!","v":{"$error":"#REF!"}},{"$f":"'Pob x Genero'!#REF!","v":{"$error":"#REF!"}},{"$f":"'Pob x Genero'!#REF!","v":{"$error":"#REF!"}},{"$f":"'Pob x Genero'!#REF!","v":{"$error":"#REF!"}},{"$f":"'Pob x Genero'!#REF!","v":{"$error":"#REF!"}},"Hombre","00-04",{"$f":"'Pob x Genero'!#REF!","v":{"$error":"#REF!"}},723]
[{"$f":"'Pob x Genero'!#REF!","v":{"$error":"#REF!"}},{"$f":"'Pob x Genero'!#REF!","v":{"$error":"#REF!"}},{"$f":"'Pob x Genero'!#REF!","v":{"$error":"#REF!"}},{"$f":"'Pob x Genero'!#REF!","v":{"$error":"#REF!"}},{"$f":"'Pob x Genero'!#REF!","v":{"$error":"#REF!"}},"Hombre","00-04",{"$f":"'Pob x Genero'!#REF!","v":{"$error":"#REF!"}},724]
[{"$f":"'Pob x Genero'!#REF!","v":{"$error":"#REF!"}},{"$f":"'Pob x Genero'!#REF!","v":{"$error":"#REF!"}},{"$f":"'Pob x Genero'!#REF!","v":{"$error":"#REF!"}},{"$f":"'Pob x Genero'!#REF!","v":{"$error":"#REF!"}},{"$f":"'Pob x Genero'!#REF!","v":{"$error":"#REF!"}},"Hombre","00-04",{"$f":"'Pob x Genero'!#REF!","v":{"$error":"#REF!"}},725]
[{"$f":"'Pob x Genero'!#REF!","v":{"$error":"#REF!"}},{"$f":"'Pob x Genero'!#REF!","v":{"$error":"#REF!"}},{"$f":"'Pob x Genero'!#REF!","v":{"$error":"#REF!"}},{"$f":"'Pob x Genero'!#REF!","v":{"$error":"#REF!"}},{"$f":"'Pob x Genero'!#REF!","v":{"$error":"#REF!"}},"Hombre","00-04",{"$f":"'Pob x Genero'!#REF!","v":{"$error":"#REF!"}},726]
[{"$f":"'Pob x Genero'!#REF!","v":{"$error":"#REF!"}},{"$f":"'Pob x Genero'!#REF!","v":{"$error":"#REF!"}},{"$f":"'Pob x Genero'!#REF!","v":{"$error":"#REF!"}},{"$f":"'Pob x Genero'!#REF!","v":{"$error":"#REF!"}},{"$f":"'Pob x Genero'!#REF!","v":{"$error":"#REF!"}},"Hombre","00-04",{"$f":"'Pob x Genero'!#REF!","v":{"$error":"#REF!"}},727]
[{"$f":"'Pob x Genero'!#REF!","v":{"$error":"#REF!"}},{"$f":"'Pob x Genero'!#REF!","v":{"$error":"#REF!"}},{"$f":"'Pob x Genero'!#REF!","v":{"$error":"#REF!"}},{"$f":"'Pob x Genero'!#REF!","v":{"$error":"#REF!"}},{"$f":"'Pob x Genero'!#REF!","v":{"$error":"#REF!"}},"Hombre","00-04",{"$f":"'Pob x Genero'!#REF!","v":{"$error":"#REF!"}},728]
[{"$f":"'Pob x Genero'!#REF!","v":{"$error":"#REF!"}},{"$f":"'Pob x Genero'!#REF!","v":{"$error":"#REF!"}},{"$f":"'Pob x Genero'!#REF!","v":{"$error":"#REF!"}},{"$f":"'Pob x Genero'!#REF!","v":{"$error":"#REF!"}},{"$f":"'Pob x Genero'!#REF!","v":{"$error":"#REF!"}},"Hombre","00-04",{"$f":"'Pob x Genero'!#REF!","v":{"$error":"#REF!"}},729]
[{"$f":"'Pob x Genero'!#REF!","v":{"$error":"#REF!"}},{"$f":"'Pob x Genero'!#REF!","v":{"$error":"#REF!"}},{"$f":"'Pob x Genero'!#REF!","v":{"$error":"#REF!"}},{"$f":"'Pob x Genero'!#REF!","v":{"$error":"#REF!"}},{"$f":"'Pob x Genero'!#REF!","v":{"$error":"#REF!"}},"Hombre","00-04",{"$f":"'Pob x Genero'!#REF!","v":{"$error":"#REF!"}},730]
[{"$f":"'Pob x Genero'!#REF!","v":{"$error":"#REF!"}},{"$f":"'Pob x Genero'!#REF!","v":{"$error":"#REF!"}},{"$f":"'Pob x Genero'!#REF!","v":{"$error":"#REF!"}},{"$f":"'Pob x Genero'!#REF!","v":{"$error":"#REF!"}},{"$f":"'Pob x Genero'!#REF!","v":{"$error":"#REF!"}},"Hombre","00-04",{"$f":"'Pob x Genero'!#REF!","v":{"$error":"#REF!"}},731]
[{"$f":"'Pob x Genero'!#REF!","v":{"$error":"#REF!"}},{"$f":"'Pob x Genero'!#REF!","v":{"$error":"#REF!"}},{"$f":"'Pob x Genero'!#REF!","v":{"$error":"#REF!"}},{"$f":"'Pob x Genero'!#REF!","v":{"$error":"#REF!"}},{"$f":"'Pob x Genero'!#REF!","v":{"$error":"#REF!"}},"Hombre","00-04",{"$f":"'Pob x Genero'!#REF!","v":{"$error":"#REF!"}},732]
[{"$f":"'Pob x Genero'!#REF!","v":{"$error":"#REF!"}},{"$f":"'Pob x Genero'!#REF!","v":{"$error":"#REF!"}},{"$f":"'Pob x Genero'!#REF!","v":{"$error":"#REF!"}},{"$f":"'Pob x Genero'!#REF!","v":{"$error":"#REF!"}},{"$f":"'Pob x Genero'!#REF!","v":{"$error":"#REF!"}},"Hombre","00-04",{"$f":"'Pob x Genero'!#REF!","v":{"$error":"#REF!"}},733]
[{"$f":"'Pob x Genero'!#REF!","v":{"$error":"#REF!"}},{"$f":"'Pob x Genero'!#REF!","v":{"$error":"#REF!"}},{"$f":"'Pob x Genero'!#REF!","v":{"$error":"#REF!"}},{"$f":"'Pob x Genero'!#REF!","v":{"$error":"#REF!"}},{"$f":"'Pob x Genero'!#REF!","v":{"$error":"#REF!"}},"Hombre","00-04",{"$f":"'Pob x Genero'!#REF!","v":{"$error":"#REF!"}},734]
[{"$f":"'Pob x Genero'!#REF!","v":{"$error":"#REF!"}},{"$f":"'Pob x Genero'!#REF!","v":{"$error":"#REF!"}},{"$f":"'Pob x Genero'!#REF!","v":{"$error":"#REF!"}},{"$f":"'Pob x Genero'!#REF!","v":{"$error":"#REF!"}},{"$f":"'Pob x Genero'!#REF!","v":{"$error":"#REF!"}},"Hombre","00-04",{"$f":"'Pob x Genero'!#REF!","v":{"$error":"#REF!"}},735]
[{"$f":"'Pob x Genero'!#REF!","v":{"$error":"#REF!"}},{"$f":"'Pob x Genero'!#REF!","v":{"$error":"#REF!"}},{"$f":"'Pob x Genero'!#REF!","v":{"$error":"#REF!"}},{"$f":"'Pob x Genero'!#REF!","v":{"$error":"#REF!"}},{"$f":"'Pob x Genero'!#REF!","v":{"$error":"#REF!"}},"Hombre","00-04",{"$f":"'Pob x Genero'!#REF!","v":{"$error":"#REF!"}},736]
[{"$f":"'Pob x Genero'!#REF!","v":{"$error":"#REF!"}},{"$f":"'Pob x Genero'!#REF!","v":{"$error":"#REF!"}},{"$f":"'Pob x Genero'!#REF!","v":{"$error":"#REF!"}},{"$f":"'Pob x Genero'!#REF!","v":{"$error":"#REF!"}},{"$f":"'Pob x Genero'!#REF!","v":{"$error":"#REF!"}},"Hombre","00-04",{"$f":"'Pob x Genero'!#REF!","v":{"$error":"#REF!"}},737]
[{"$f":"'Pob x Genero'!#REF!","v":{"$error":"#REF!"}},{"$f":"'Pob x Genero'!#REF!","v":{"$error":"#REF!"}},{"$f":"'Pob x Genero'!#REF!","v":{"$error":"#REF!"}},{"$f":"'Pob x Genero'!#REF!","v":{"$error":"#REF!"}},{"$f":"'Pob x Genero'!#REF!","v":{"$error":"#REF!"}},"Hombre","00-04",{"$f":"'Pob x Genero'!#REF!","v":{"$error":"#REF!"}},738]
[{"$f":"'Pob x Genero'!#REF!","v":{"$error":"#REF!"}},{"$f":"'Pob x Genero'!#REF!","v":{"$error":"#REF!"}},{"$f":"'Pob x Genero'!#REF!","v":{"$error":"#REF!"}},{"$f":"'Pob x Genero'!#REF!","v":{"$error":"#REF!"}},{"$f":"'Pob x Genero'!#REF!","v":{"$error":"#REF!"}},"Hombre","00-04",{"$f":"'Pob x Genero'!#REF!","v":{"$error":"#REF!"}},739]
[{"$f":"'Pob x Genero'!#REF!","v":{"$error":"#REF!"}},{"$f":"'Pob x Genero'!#REF!","v":{"$error":"#REF!"}},{"$f":"'Pob x Genero'!#REF!","v":{"$error":"#REF!"}},{"$f":"'Pob x Genero'!#REF!","v":{"$error":"#REF!"}},{"$f":"'Pob x Genero'!#REF!","v":{"$error":"#REF!"}},"Hombre","00-04",{"$f":"'Pob x Genero'!#REF!","v":{"$error":"#REF!"}},740]
[{"$f":"'Pob x Genero'!#REF!","v":{"$error":"#REF!"}},{"$f":"'Pob x Genero'!#REF!","v":{"$error":"#REF!"}},{"$f":"'Pob x Genero'!#REF!","v":{"$error":"#REF!"}},{"$f":"'Pob x Genero'!#REF!","v":{"$error":"#REF!"}},{"$f":"'Pob x Genero'!#REF!","v":{"$error":"#REF!"}},"Hombre","00-04",{"$f":"'Pob x Genero'!#REF!","v":{"$error":"#REF!"}},741]
[{"$f":"'Pob x Genero'!#REF!","v":{"$error":"#REF!"}},{"$f":"'Pob x Genero'!#REF!","v":{"$error":"#REF!"}},{"$f":"'Pob x Genero'!#REF!","v":{"$error":"#REF!"}},{"$f":"'Pob x Genero'!#REF!","v":{"$error":"#REF!"}},{"$f":"'Pob x Genero'!#REF!","v":{"$error":"#REF!"}},"Hombre","00-04",{"$f":"'Pob x Genero'!#REF!","v":{"$error":"#REF!"}},742]
[{"$f":"'Pob x Genero'!#REF!","v":{"$error":"#REF!"}},{"$f":"'Pob x Genero'!#REF!","v":{"$error":"#REF!"}},{"$f":"'Pob x Genero'!#REF!","v":{"$error":"#REF!"}},{"$f":"'Pob x Genero'!#REF!","v":{"$error":"#REF!"}},{"$f":"'Pob x Genero'!#REF!","v":{"$error":"#REF!"}},"Hombre","00-04",{"$f":"'Pob x Genero'!#REF!","v":{"$error":"#REF!"}},743]
[{"$f":"'Pob x Genero'!#REF!","v":{"$error":"#REF!"}},{"$f":"'Pob x Genero'!#REF!","v":{"$error":"#REF!"}},{"$f":"'Pob x Genero'!#REF!","v":{"$error":"#REF!"}},{"$f":"'Pob x Genero'!#REF!","v":{"$error":"#REF!"}},{"$f":"'Pob x Genero'!#REF!","v":{"$error":"#REF!"}},"Hombre","00-04",{"$f":"'Pob x Genero'!#REF!","v":{"$error":"#REF!"}},744]
[{"$f":"'Pob x Genero'!#REF!","v":{"$error":"#REF!"}},{"$f":"'Pob x Genero'!#REF!","v":{"$error":"#REF!"}},{"$f":"'Pob x Genero'!#REF!","v":{"$error":"#REF!"}},{"$f":"'Pob x Genero'!#REF!","v":{"$error":"#REF!"}},{"$f":"'Pob x Genero'!#REF!","v":{"$error":"#REF!"}},"Hombre","00-04",{"$f":"'Pob x Genero'!#REF!","v":{"$error":"#REF!"}},745]
[{"$f":"'Pob x Genero'!#REF!","v":{"$error":"#REF!"}},{"$f":"'Pob x Genero'!#REF!","v":{"$error":"#REF!"}},{"$f":"'Pob x Genero'!#REF!","v":{"$error":"#REF!"}},{"$f":"'Pob x Genero'!#REF!","v":{"$error":"#REF!"}},{"$f":"'Pob x Genero'!#REF!","v":{"$error":"#REF!"}},"Hombre","00-04",{"$f":"'Pob x Genero'!#REF!","v":{"$error":"#REF!"}},746]
[{"$f":"'Pob x Genero'!#REF!","v":{"$error":"#REF!"}},{"$f":"'Pob x Genero'!#REF!","v":{"$error":"#REF!"}},{"$f":"'Pob x Genero'!#REF!","v":{"$error":"#REF!"}},{"$f":"'Pob x Genero'!#REF!","v":{"$error":"#REF!"}},{"$f":"'Pob x Genero'!#REF!","v":{"$error":"#REF!"}},"Hombre","00-04",{"$f":"'Pob x Genero'!#REF!","v":{"$error":"#REF!"}},747]
[{"$f":"'Pob x Genero'!#REF!","v":{"$error":"#REF!"}},{"$f":"'Pob x Genero'!#REF!","v":{"$error":"#REF!"}},{"$f":"'Pob x Genero'!#REF!","v":{"$error":"#REF!"}},{"$f":"'Pob x Genero'!#REF!","v":{"$error":"#REF!"}},{"$f":"'Pob x Genero'!#REF!","v":{"$error":"#REF!"}},"Hombre","00-04",{"$f":"'Pob x Genero'!#REF!","v":{"$error":"#REF!"}},748]
[{"$f":"'Pob x Genero'!#REF!","v":{"$error":"#REF!"}},{"$f":"'Pob x Genero'!#REF!","v":{"$error":"#REF!"}},{"$f":"'Pob x Genero'!#REF!","v":{"$error":"#REF!"}},{"$f":"'Pob x Genero'!#REF!","v":{"$error":"#REF!"}},{"$f":"'Pob x Genero'!#REF!","v":{"$error":"#REF!"}},"Hombre","00-04",{"$f":"'Pob x Genero'!#REF!","v":{"$error":"#REF!"}},749]
[{"$f":"'Pob x Genero'!#REF!","v":{"$error":"#REF!"}},{"$f":"'Pob x Genero'!#REF!","v":{"$error":"#REF!"}},{"$f":"'Pob x Genero'!#REF!","v":{"$error":"#REF!"}},{"$f":"'Pob x Genero'!#REF!","v":{"$error":"#REF!"}},{"$f":"'Pob x Genero'!#REF!","v":{"$error":"#REF!"}},"Hombre","00-04",{"$f":"'Pob x Genero'!#REF!","v":{"$error":"#REF!"}},750]
[{"$f":"'Pob x Genero'!#REF!","v":{"$error":"#REF!"}},{"$f":"'Pob x Genero'!#REF!","v":{"$error":"#REF!"}},{"$f":"'Pob x Genero'!#REF!","v":{"$error":"#REF!"}},{"$f":"'Pob x Genero'!#REF!","v":{"$error":"#REF!"}},{"$f":"'Pob x Genero'!#REF!","v":{"$error":"#REF!"}},"Hombre","00-04",{"$f":"'Pob x Genero'!#REF!","v":{"$error":"#REF!"}},751]
[{"$f":"'Pob x Genero'!#REF!","v":{"$error":"#REF!"}},{"$f":"'Pob x Genero'!#REF!","v":{"$error":"#REF!"}},{"$f":"'Pob x Genero'!#REF!","v":{"$error":"#REF!"}},{"$f":"'Pob x Genero'!#REF!","v":{"$error":"#REF!"}},{"$f":"'Pob x Genero'!#REF!","v":{"$error":"#REF!"}},"Hombre","00-04",{"$f":"'Pob x Genero'!#REF!","v":{"$error":"#REF!"}},752]
[{"$f":"'Pob x Genero'!#REF!","v":{"$error":"#REF!"}},{"$f":"'Pob x Genero'!#REF!","v":{"$error":"#REF!"}},{"$f":"'Pob x Genero'!#REF!","v":{"$error":"#REF!"}},{"$f":"'Pob x Genero'!#REF!","v":{"$error":"#REF!"}},{"$f":"'Pob x Genero'!#REF!","v":{"$error":"#REF!"}},"Hombre","00-04",{"$f":"'Pob x Genero'!#REF!","v":{"$error":"#REF!"}},753]
[{"$f":"'Pob x Genero'!#REF!","v":{"$error":"#REF!"}},{"$f":"'Pob x Genero'!#REF!","v":{"$error":"#REF!"}},{"$f":"'Pob x Genero'!#REF!","v":{"$error":"#REF!"}},{"$f":"'Pob x Genero'!#REF!","v":{"$error":"#REF!"}},{"$f":"'Pob x Genero'!#REF!","v":{"$error":"#REF!"}},"Hombre","00-04",{"$f":"'Pob x Genero'!#REF!","v":{"$error":"#REF!"}},754]
[{"$f":"'Pob x Genero'!#REF!","v":{"$error":"#REF!"}},{"$f":"'Pob x Genero'!#REF!","v":{"$error":"#REF!"}},{"$f":"'Pob x Genero'!#REF!","v":{"$error":"#REF!"}},{"$f":"'Pob x Genero'!#REF!","v":{"$error":"#REF!"}},{"$f":"'Pob x Genero'!#REF!","v":{"$error":"#REF!"}},"Hombre","00-04",{"$f":"'Pob x Genero'!#REF!","v":{"$error":"#REF!"}},755]
[{"$f":"'Pob x Genero'!#REF!","v":{"$error":"#REF!"}},{"$f":"'Pob x Genero'!#REF!","v":{"$error":"#REF!"}},{"$f":"'Pob x Genero'!#REF!","v":{"$error":"#REF!"}},{"$f":"'Pob x Genero'!#REF!","v":{"$error":"#REF!"}},{"$f":"'Pob x Genero'!#REF!","v":{"$error":"#REF!"}},"Hombre","00-04",{"$f":"'Pob x Genero'!#REF!","v":{"$error":"#REF!"}},756]
[{"$f":"'Pob x Genero'!#REF!","v":{"$error":"#REF!"}},{"$f":"'Pob x Genero'!#REF!","v":{"$error":"#REF!"}},{"$f":"'Pob x Genero'!#REF!","v":{"$error":"#REF!"}},{"$f":"'Pob x Genero'!#REF!","v":{"$error":"#REF!"}},{"$f":"'Pob x Genero'!#REF!","v":{"$error":"#REF!"}},"Hombre","00-04",{"$f":"'Pob x Genero'!#REF!","v":{"$error":"#REF!"}},757]
[{"$f":"'Pob x Genero'!#REF!","v":{"$error":"#REF!"}},{"$f":"'Pob x Genero'!#REF!","v":{"$error":"#REF!"}},{"$f":"'Pob x Genero'!#REF!","v":{"$error":"#REF!"}},{"$f":"'Pob x Genero'!#REF!","v":{"$error":"#REF!"}},{"$f":"'Pob x Genero'!#REF!","v":{"$error":"#REF!"}},"Hombre","00-04",{"$f":"'Pob x Genero'!#REF!","v":{"$error":"#REF!"}},758]
[{"$f":"'Pob x Genero'!#REF!","v":{"$error":"#REF!"}},{"$f":"'Pob x Genero'!#REF!","v":{"$error":"#REF!"}},{"$f":"'Pob x Genero'!#REF!","v":{"$error":"#REF!"}},{"$f":"'Pob x Genero'!#REF!","v":{"$error":"#REF!"}},{"$f":"'Pob x Genero'!#REF!","v":{"$error":"#REF!"}},"Hombre","00-04",{"$f":"'Pob x Genero'!#REF!","v":{"$error":"#REF!"}},759]
[{"$f":"'Pob x Genero'!#REF!","v":{"$error":"#REF!"}},{"$f":"'Pob x Genero'!#REF!","v":{"$error":"#REF!"}},{"$f":"'Pob x Genero'!#REF!","v":{"$error":"#REF!"}},{"$f":"'Pob x Genero'!#REF!","v":{"$error":"#REF!"}},{"$f":"'Pob x Genero'!#REF!","v":{"$error":"#REF!"}},"Hombre","00-04",{"$f":"'Pob x Genero'!#REF!","v":{"$error":"#REF!"}},760]
[{"$f":"'Pob x Genero'!#REF!","v":{"$error":"#REF!"}},{"$f":"'Pob x Genero'!#REF!","v":{"$error":"#REF!"}},{"$f":"'Pob x Genero'!#REF!","v":{"$error":"#REF!"}},{"$f":"'Pob x Genero'!#REF!","v":{"$error":"#REF!"}},{"$f":"'Pob x Genero'!#REF!","v":{"$error":"#REF!"}},"Hombre","00-04",{"$f":"'Pob x Genero'!#REF!","v":{"$error":"#REF!"}},761]
[{"$f":"'Pob x Genero'!#REF!","v":{"$error":"#REF!"}},{"$f":"'Pob x Genero'!#REF!","v":{"$error":"#REF!"}},{"$f":"'Pob x Genero'!#REF!","v":{"$error":"#REF!"}},{"$f":"'Pob x Genero'!#REF!","v":{"$error":"#REF!"}},{"$f":"'Pob x Genero'!#REF!","v":{"$error":"#REF!"}},"Hombre","00-04",{"$f":"'Pob x Genero'!#REF!","v":{"$error":"#REF!"}},762]
[{"$f":"'Pob x Genero'!#REF!","v":{"$error":"#REF!"}},{"$f":"'Pob x Genero'!#REF!","v":{"$error":"#REF!"}},{"$f":"'Pob x Genero'!#REF!","v":{"$error":"#REF!"}},{"$f":"'Pob x Genero'!#REF!","v":{"$error":"#REF!"}},{"$f":"'Pob x Genero'!#REF!","v":{"$error":"#REF!"}},"Hombre","00-04",{"$f":"'Pob x Genero'!#REF!","v":{"$error":"#REF!"}},763]
[{"$f":"'Pob x Genero'!#REF!","v":{"$error":"#REF!"}},{"$f":"'Pob x Genero'!#REF!","v":{"$error":"#REF!"}},{"$f":"'Pob x Genero'!#REF!","v":{"$error":"#REF!"}},{"$f":"'Pob x Genero'!#REF!","v":{"$error":"#REF!"}},{"$f":"'Pob x Genero'!#REF!","v":{"$error":"#REF!"}},"Hombre","00-04",{"$f":"'Pob x Genero'!#REF!","v":{"$error":"#REF!"}},764]
[{"$f":"'Pob x Genero'!#REF!","v":{"$error":"#REF!"}},{"$f":"'Pob x Genero'!#REF!","v":{"$error":"#REF!"}},{"$f":"'Pob x Genero'!#REF!","v":{"$error":"#REF!"}},{"$f":"'Pob x Genero'!#REF!","v":{"$error":"#REF!"}},{"$f":"'Pob x Genero'!#REF!","v":{"$error":"#REF!"}},"Hombre","00-04",{"$f":"'Pob x Genero'!#REF!","v":{"$error":"#REF!"}},765]
[{"$f":"'Pob x Genero'!#REF!","v":{"$error":"#REF!"}},{"$f":"'Pob x Genero'!#REF!","v":{"$error":"#REF!"}},{"$f":"'Pob x Genero'!#REF!","v":{"$error":"#REF!"}},{"$f":"'Pob x Genero'!#REF!","v":{"$error":"#REF!"}},{"$f":"'Pob x Genero'!#REF!","v":{"$error":"#REF!"}},"Hombre","00-04",{"$f":"'Pob x Genero'!#REF!","v":{"$error":"#REF!"}},766]
[{"$f":"'Pob x Genero'!#REF!","v":{"$error":"#REF!"}},{"$f":"'Pob x Genero'!#REF!","v":{"$error":"#REF!"}},{"$f":"'Pob x Genero'!#REF!","v":{"$error":"#REF!"}},{"$f":"'Pob x Genero'!#REF!","v":{"$error":"#REF!"}},{"$f":"'Pob x Genero'!#REF!","v":{"$error":"#REF!"}},"Hombre","00-04",{"$f":"'Pob x Genero'!#REF!","v":{"$error":"#REF!"}},767]
[{"$f":"'Pob x Genero'!#REF!","v":{"$error":"#REF!"}},{"$f":"'Pob x Genero'!#REF!","v":{"$error":"#REF!"}},{"$f":"'Pob x Genero'!#REF!","v":{"$error":"#REF!"}},{"$f":"'Pob x Genero'!#REF!","v":{"$error":"#REF!"}},{"$f":"'Pob x Genero'!#REF!","v":{"$error":"#REF!"}},"Hombre","00-04",{"$f":"'Pob x Genero'!#REF!","v":{"$error":"#REF!"}},768]
[{"$f":"'Pob x Genero'!#REF!","v":{"$error":"#REF!"}},{"$f":"'Pob x Genero'!#REF!","v":{"$error":"#REF!"}},{"$f":"'Pob x Genero'!#REF!","v":{"$error":"#REF!"}},{"$f":"'Pob x Genero'!#REF!","v":{"$error":"#REF!"}},{"$f":"'Pob x Genero'!#REF!","v":{"$error":"#REF!"}},"Hombre","00-04",{"$f":"'Pob x Genero'!#REF!","v":{"$error":"#REF!"}},769]
[{"$f":"'Pob x Genero'!#REF!","v":{"$error":"#REF!"}},{"$f":"'Pob x Genero'!#REF!","v":{"$error":"#REF!"}},{"$f":"'Pob x Genero'!#REF!","v":{"$error":"#REF!"}},{"$f":"'Pob x Genero'!#REF!","v":{"$error":"#REF!"}},{"$f":"'Pob x Genero'!#REF!","v":{"$error":"#REF!"}},{"$f":"F770","v":"Hombre"},{"$f":"G770","v":"00-04"},{"$f":"'Pob x Genero'!#REF!","v":{"$error":"#REF!"}},770]
[{"$f":"'Pob x Genero'!#REF!","v":{"$error":"#REF!"}},{"$f":"'Pob x Genero'!#REF!","v":{"$error":"#REF!"}},{"$f":"'Pob x Genero'!#REF!","v":{"$error":"#REF!"}},{"$f":"'Pob x Genero'!#REF!","v":{"$error":"#REF!"}},{"$f":"'Pob x Genero'!#REF!","v":{"$error":"#REF!"}},"Hombre","00-04",{"$f":"'Pob x Genero'!#REF!","v":{"$error":"#REF!"}},771]
[{"$f":"'Pob x Genero'!#REF!","v":{"$error":"#REF!"}},{"$f":"'Pob x Genero'!#REF!","v":{"$error":"#REF!"}},{"$f":"'Pob x Genero'!#REF!","v":{"$error":"#REF!"}},{"$f":"'Pob x Genero'!#REF!","v":{"$error":"#REF!"}},{"$f":"'Pob x Genero'!#REF!","v":{"$error":"#REF!"}},"Hombre","00-04",{"$f":"'Pob x Genero'!#REF!","v":{"$error":"#REF!"}},772]
[{"$f":"'Pob x Genero'!#REF!","v":{"$error":"#REF!"}},{"$f":"'Pob x Genero'!#REF!","v":{"$error":"#REF!"}},{"$f":"'Pob x Genero'!#REF!","v":{"$error":"#REF!"}},{"$f":"'Pob x Genero'!#REF!","v":{"$error":"#REF!"}},{"$f":"'Pob x Genero'!#REF!","v":{"$error":"#REF!"}},"Hombre","00-04",{"$f":"'Pob x Genero'!#REF!","v":{"$error":"#REF!"}},773]
[{"$f":"'Pob x Genero'!#REF!","v":{"$error":"#REF!"}},{"$f":"'Pob x Genero'!#REF!","v":{"$error":"#REF!"}},{"$f":"'Pob x Genero'!#REF!","v":{"$error":"#REF!"}},{"$f":"'Pob x Genero'!#REF!","v":{"$error":"#REF!"}},{"$f":"'Pob x Genero'!#REF!","v":{"$error":"#REF!"}},"Hombre","00-04",{"$f":"'Pob x Genero'!#REF!","v":{"$error":"#REF!"}},774]
[{"$f":"'Pob x Genero'!#REF!","v":{"$error":"#REF!"}},{"$f":"'Pob x Genero'!#REF!","v":{"$error":"#REF!"}},{"$f":"'Pob x Genero'!#REF!","v":{"$error":"#REF!"}},{"$f":"'Pob x Genero'!#REF!","v":{"$error":"#REF!"}},{"$f":"'Pob x Genero'!#REF!","v":{"$error":"#REF!"}},"Hombre","00-04",{"$f":"'Pob x Genero'!#REF!","v":{"$error":"#REF!"}},775]
[{"$f":"'Pob x Genero'!#REF!","v":{"$error":"#REF!"}},{"$f":"'Pob x Genero'!#REF!","v":{"$error":"#REF!"}},{"$f":"'Pob x Genero'!#REF!","v":{"$error":"#REF!"}},{"$f":"'Pob x Genero'!#REF!","v":{"$error":"#REF!"}},{"$f":"'Pob x Genero'!#REF!","v":{"$error":"#REF!"}},"Hombre","00-04",{"$f":"'Pob x Genero'!#REF!","v":{"$error":"#REF!"}},776]
[{"$f":"'Pob x Genero'!#REF!","v":{"$error":"#REF!"}},{"$f":"'Pob x Genero'!#REF!","v":{"$error":"#REF!"}},{"$f":"'Pob x Genero'!#REF!","v":{"$error":"#REF!"}},{"$f":"'Pob x Genero'!#REF!","v":{"$error":"#REF!"}},{"$f":"'Pob x Genero'!#REF!","v":{"$error":"#REF!"}},"Hombre","00-04",{"$f":"'Pob x Genero'!#REF!","v":{"$error":"#REF!"}},777]
[{"$f":"'Pob x Genero'!#REF!","v":{"$error":"#REF!"}},{"$f":"'Pob x Genero'!#REF!","v":{"$error":"#REF!"}},{"$f":"'Pob x Genero'!#REF!","v":{"$error":"#REF!"}},{"$f":"'Pob x Genero'!#REF!","v":{"$error":"#REF!"}},{"$f":"'Pob x Genero'!#REF!","v":{"$error":"#REF!"}},"Hombre","00-04",{"$f":"'Pob x Genero'!#REF!","v":{"$error":"#REF!"}},778]
[{"$f":"'Pob x Genero'!#REF!","v":{"$error":"#REF!"}},{"$f":"'Pob x Genero'!#REF!","v":{"$error":"#REF!"}},{"$f":"'Pob x Genero'!#REF!","v":{"$error":"#REF!"}},{"$f":"'Pob x Genero'!#REF!","v":{"$error":"#REF!"}},{"$f":"'Pob x Genero'!#REF!","v":{"$error":"#REF!"}},"Hombre","00-04",{"$f":"'Pob x Genero'!#REF!","v":{"$error":"#REF!"}},779]
[{"$f":"'Pob x Genero'!#REF!","v":{"$error":"#REF!"}},{"$f":"'Pob x Genero'!#REF!","v":{"$error":"#REF!"}},{"$f":"'Pob x Genero'!#REF!","v":{"$error":"#REF!"}},{"$f":"'Pob x Genero'!#REF!","v":{"$error":"#REF!"}},{"$f":"'Pob x Genero'!#REF!","v":{"$error":"#REF!"}},"Hombre","00-04",{"$f":"'Pob x Genero'!#REF!","v":{"$error":"#REF!"}},780]
[{"$f":"'Pob x Genero'!#REF!","v":{"$error":"#REF!"}},{"$f":"'Pob x Genero'!#REF!","v":{"$error":"#REF!"}},{"$f":"'Pob x Genero'!#REF!","v":{"$error":"#REF!"}},{"$f":"'Pob x Genero'!#REF!","v":{"$error":"#REF!"}},{"$f":"'Pob x Genero'!#REF!","v":{"$error":"#REF!"}},"Hombre","00-04",{"$f":"'Pob x Genero'!#REF!","v":{"$error":"#REF!"}},781]
[{"$f":"'Pob x Genero'!#REF!","v":{"$error":"#REF!"}},{"$f":"'Pob x Genero'!#REF!","v":{"$error":"#REF!"}},{"$f":"'Pob x Genero'!#REF!","v":{"$error":"#REF!"}},{"$f":"'Pob x Genero'!#REF!","v":{"$error":"#REF!"}},{"$f":"'Pob x Genero'!#REF!","v":{"$error":"#REF!"}},"Hombre","00-04",{"$f":"'Pob x Genero'!#REF!","v":{"$error":"#REF!"}},782]
[{"$f":"'Pob x Genero'!#REF!","v":{"$error":"#REF!"}},{"$f":"'Pob x Genero'!#REF!","v":{"$error":"#REF!"}},{"$f":"'Pob x Genero'!#REF!","v":{"$error":"#REF!"}},{"$f":"'Pob x Genero'!#REF!","v":{"$error":"#REF!"}},{"$f":"'Pob x Genero'!#REF!","v":{"$error":"#REF!"}},"Hombre","00-04",{"$f":"'Pob x Genero'!#REF!","v":{"$error":"#REF!"}},783]
[{"$f":"'Pob x Genero'!#REF!","v":{"$error":"#REF!"}},{"$f":"'Pob x Genero'!#REF!","v":{"$error":"#REF!"}},{"$f":"'Pob x Genero'!#REF!","v":{"$error":"#REF!"}},{"$f":"'Pob x Genero'!#REF!","v":{"$error":"#REF!"}},{"$f":"'Pob x Genero'!#REF!","v":{"$error":"#REF!"}},"Hombre","00-04",{"$f":"'Pob x Genero'!#REF!","v":{"$error":"#REF!"}},784]
[{"$f":"'Pob x Genero'!#REF!","v":{"$error":"#REF!"}},{"$f":"'Pob x Genero'!#REF!","v":{"$error":"#REF!"}},{"$f":"'Pob x Genero'!#REF!","v":{"$error":"#REF!"}},{"$f":"'Pob x Genero'!#REF!","v":{"$error":"#REF!"}},{"$f":"'Pob x Genero'!#REF!","v":{"$error":"#REF!"}},"Hombre","00-04",{"$f":"'Pob x Genero'!#REF!","v":{"$error":"#REF!"}},785]
[{"$f":"'Pob x Genero'!#REF!","v":{"$error":"#REF!"}},{"$f":"'Pob x Genero'!#REF!","v":{"$error":"#REF!"}},{"$f":"'Pob x Genero'!#REF!","v":{"$error":"#REF!"}},{"$f":"'Pob x Genero'!#REF!","v":{"$error":"#REF!"}},{"$f":"'Pob x Genero'!#REF!","v":{"$error":"#REF!"}},"Hombre","00-04",{"$f":"'Pob x Genero'!#REF!","v":{"$error":"#REF!"}},786]
[{"$f":"'Pob x Genero'!#REF!","v":{"$error":"#REF!"}},{"$f":"'Pob x Genero'!#REF!","v":{"$error":"#REF!"}},{"$f":"'Pob x Genero'!#REF!","v":{"$error":"#REF!"}},{"$f":"'Pob x Genero'!#REF!","v":{"$error":"#REF!"}},{"$f":"'Pob x Genero'!#REF!","v":{"$error":"#REF!"}},"Hombre","00-04",{"$f":"'Pob x Genero'!#REF!","v":{"$error":"#REF!"}},787]
[{"$f":"'Pob x Genero'!#REF!","v":{"$error":"#REF!"}},{"$f":"'Pob x Genero'!#REF!","v":{"$error":"#REF!"}},{"$f":"'Pob x Genero'!#REF!","v":{"$error":"#REF!"}},{"$f":"'Pob x Genero'!#REF!","v":{"$error":"#REF!"}},{"$f":"'Pob x Genero'!#REF!","v":{"$error":"#REF!"}},"Hombre","00-04",{"$f":"'Pob x Genero'!#REF!","v":{"$error":"#REF!"}},788]
[{"$f":"'Pob x Genero'!#REF!","v":{"$error":"#REF!"}},{"$f":"'Pob x Genero'!#REF!","v":{"$error":"#REF!"}},{"$f":"'Pob x Genero'!#REF!","v":{"$error":"#REF!"}},{"$f":"'Pob x Genero'!#REF!","v":{"$error":"#REF!"}},{"$f":"'Pob x Genero'!#REF!","v":{"$error":"#REF!"}},"Hombre","00-04",{"$f":"'Pob x Genero'!#REF!","v":{"$error":"#REF!"}},789]
[{"$f":"'Pob x Genero'!#REF!","v":{"$error":"#REF!"}},{"$f":"'Pob x Genero'!#REF!","v":{"$error":"#REF!"}},{"$f":"'Pob x Genero'!#REF!","v":{"$error":"#REF!"}},{"$f":"'Pob x Genero'!#REF!","v":{"$error":"#REF!"}},{"$f":"'Pob x Genero'!#REF!","v":{"$error":"#REF!"}},"Hombre","00-04",{"$f":"'Pob x Genero'!#REF!","v":{"$error":"#REF!"}},790]
[{"$f":"'Pob x Genero'!#REF!","v":{"$error":"#REF!"}},{"$f":"'Pob x Genero'!#REF!","v":{"$error":"#REF!"}},{"$f":"'Pob x Genero'!#REF!","v":{"$error":"#REF!"}},{"$f":"'Pob x Genero'!#REF!","v":{"$error":"#REF!"}},{"$f":"'Pob x Genero'!#REF!","v":{"$error":"#REF!"}},"Hombre","00-04",{"$f":"'Pob x Genero'!#REF!","v":{"$error":"#REF!"}},791]
[{"$f":"'Pob x Genero'!#REF!","v":{"$error":"#REF!"}},{"$f":"'Pob x Genero'!#REF!","v":{"$error":"#REF!"}},{"$f":"'Pob x Genero'!#REF!","v":{"$error":"#REF!"}},{"$f":"'Pob x Genero'!#REF!","v":{"$error":"#REF!"}},{"$f":"'Pob x Genero'!#REF!","v":{"$error":"#REF!"}},"Hombre","00-04",{"$f":"'Pob x Genero'!#REF!","v":{"$error":"#REF!"}},792]
[{"$f":"'Pob x Genero'!#REF!","v":{"$error":"#REF!"}},{"$f":"'Pob x Genero'!#REF!","v":{"$error":"#REF!"}},{"$f":"'Pob x Genero'!#REF!","v":{"$error":"#REF!"}},{"$f":"'Pob x Genero'!#REF!","v":{"$error":"#REF!"}},{"$f":"'Pob x Genero'!#REF!","v":{"$error":"#REF!"}},"Hombre","00-04",{"$f":"'Pob x Genero'!#REF!","v":{"$error":"#REF!"}},793]
[{"$f":"'Pob x Genero'!#REF!","v":{"$error":"#REF!"}},{"$f":"'Pob x Genero'!#REF!","v":{"$error":"#REF!"}},{"$f":"'Pob x Genero'!#REF!","v":{"$error":"#REF!"}},{"$f":"'Pob x Genero'!#REF!","v":{"$error":"#REF!"}},{"$f":"'Pob x Genero'!#REF!","v":{"$error":"#REF!"}},"Hombre","00-04",{"$f":"'Pob x Genero'!#REF!","v":{"$error":"#REF!"}},794]
[{"$f":"'Pob x Genero'!#REF!","v":{"$error":"#REF!"}},{"$f":"'Pob x Genero'!#REF!","v":{"$error":"#REF!"}},{"$f":"'Pob x Genero'!#REF!","v":{"$error":"#REF!"}},{"$f":"'Pob x Genero'!#REF!","v":{"$error":"#REF!"}},{"$f":"'Pob x Genero'!#REF!","v":{"$error":"#REF!"}},"Hombre","00-04",{"$f":"'Pob x Genero'!#REF!","v":{"$error":"#REF!"}},795]
[{"$f":"'Pob x Genero'!#REF!","v":{"$error":"#REF!"}},{"$f":"'Pob x Genero'!#REF!","v":{"$error":"#REF!"}},{"$f":"'Pob x Genero'!#REF!","v":{"$error":"#REF!"}},{"$f":"'Pob x Genero'!#REF!","v":{"$error":"#REF!"}},{"$f":"'Pob x Genero'!#REF!","v":{"$error":"#REF!"}},"Hombre","00-04",{"$f":"'Pob x Genero'!#REF!","v":{"$error":"#REF!"}},796]
[{"$f":"'Pob x Genero'!#REF!","v":{"$error":"#REF!"}},{"$f":"'Pob x Genero'!#REF!","v":{"$error":"#REF!"}},{"$f":"'Pob x Genero'!#REF!","v":{"$error":"#REF!"}},{"$f":"'Pob x Genero'!#REF!","v":{"$error":"#REF!"}},{"$f":"'Pob x Genero'!#REF!","v":{"$error":"#REF!"}},"Hombre","00-04",{"$f":"'Pob x Genero'!#REF!","v":{"$error":"#REF!"}},797]
[{"$f":"'Pob x Genero'!#REF!","v":{"$error":"#REF!"}},{"$f":"'Pob x Genero'!#REF!","v":{"$error":"#REF!"}},{"$f":"'Pob x Genero'!#REF!","v":{"$error":"#REF!"}},{"$f":"'Pob x Genero'!#REF!","v":{"$error":"#REF!"}},{"$f":"'Pob x Genero'!#REF!","v":{"$error":"#REF!"}},"Hombre","00-04",{"$f":"'Pob x Genero'!#REF!","v":{"$error":"#REF!"}},798]
[{"$f":"'Pob x Genero'!#REF!","v":{"$error":"#REF!"}},{"$f":"'Pob x Genero'!#REF!","v":{"$error":"#REF!"}},{"$f":"'Pob x Genero'!#REF!","v":{"$error":"#REF!"}},{"$f":"'Pob x Genero'!#REF!","v":{"$error":"#REF!"}},{"$f":"'Pob x Genero'!#REF!","v":{"$error":"#REF!"}},"Hombre","00-04",{"$f":"'Pob x Genero'!#REF!","v":{"$error":"#REF!"}},799]
[{"$f":"'Pob x Genero'!#REF!","v":{"$error":"#REF!"}},{"$f":"'Pob x Genero'!#REF!","v":{"$error":"#REF!"}},{"$f":"'Pob x Genero'!#REF!","v":{"$error":"#REF!"}},{"$f":"'Pob x Genero'!#REF!","v":{"$error":"#REF!"}},{"$f":"'Pob x Genero'!#REF!","v":{"$error":"#REF!"}},"Hombre","00-04",{"$f":"'Pob x Genero'!#REF!","v":{"$error":"#REF!"}},800]
[{"$f":"'Pob x Genero'!#REF!","v":{"$error":"#REF!"}},{"$f":"'Pob x Genero'!#REF!","v":{"$error":"#REF!"}},{"$f":"'Pob x Genero'!#REF!","v":{"$error":"#REF!"}},{"$f":"'Pob x Genero'!#REF!","v":{"$error":"#REF!"}},{"$f":"'Pob x Genero'!#REF!","v":{"$error":"#REF!"}},"Hombre","00-04",{"$f":"'Pob x Genero'!#REF!","v":{"$error":"#REF!"}},801]
[{"$f":"'Pob x Genero'!#REF!","v":{"$error":"#REF!"}},{"$f":"'Pob x Genero'!#REF!","v":{"$error":"#REF!"}},{"$f":"'Pob x Genero'!#REF!","v":{"$error":"#REF!"}},{"$f":"'Pob x Genero'!#REF!","v":{"$error":"#REF!"}},{"$f":"'Pob x Genero'!#REF!","v":{"$error":"#REF!"}},"Hombre","00-04",{"$f":"'Pob x Genero'!#REF!","v":{"$error":"#REF!"}},802]
[{"$f":"'Pob x Genero'!#REF!","v":{"$error":"#REF!"}},{"$f":"'Pob x Genero'!#REF!","v":{"$error":"#REF!"}},{"$f":"'Pob x Genero'!#REF!","v":{"$error":"#REF!"}},{"$f":"'Pob x Genero'!#REF!","v":{"$error":"#REF!"}},{"$f":"'Pob x Genero'!#REF!","v":{"$error":"#REF!"}},"Hombre","00-04",{"$f":"'Pob x Genero'!#REF!","v":{"$error":"#REF!"}},803]
[{"$f":"'Pob x Genero'!#REF!","v":{"$error":"#REF!"}},{"$f":"'Pob x Genero'!#REF!","v":{"$error":"#REF!"}},{"$f":"'Pob x Genero'!#REF!","v":{"$error":"#REF!"}},{"$f":"'Pob x Genero'!#REF!","v":{"$error":"#REF!"}},{"$f":"'Pob x Genero'!#REF!","v":{"$error":"#REF!"}},"Hombre","00-04",{"$f":"'Pob x Genero'!#REF!","v":{"$error":"#REF!"}},804]
[{"$f":"'Pob x Genero'!#REF!","v":{"$error":"#REF!"}},{"$f":"'Pob x Genero'!#REF!","v":{"$error":"#REF!"}},{"$f":"'Pob x Genero'!#REF!","v":{"$error":"#REF!"}},{"$f":"'Pob x Genero'!#REF!","v":{"$error":"#REF!"}},{"$f":"'Pob x Genero'!#REF!","v":{"$error":"#REF!"}},"Hombre","00-04",{"$f":"'Pob x Genero'!#REF!","v":{"$error":"#REF!"}},805]
[{"$f":"'Pob x Genero'!#REF!","v":{"$error":"#REF!"}},{"$f":"'Pob x Genero'!#REF!","v":{"$error":"#REF!"}},{"$f":"'Pob x Genero'!#REF!","v":{"$error":"#REF!"}},{"$f":"'Pob x Genero'!#REF!","v":{"$error":"#REF!"}},{"$f":"'Pob x Genero'!#REF!","v":{"$error":"#REF!"}},"Hombre","00-04",{"$f":"'Pob x Genero'!#REF!","v":{"$error":"#REF!"}},806]
[{"$f":"'Pob x Genero'!#REF!","v":{"$error":"#REF!"}},{"$f":"'Pob x Genero'!#REF!","v":{"$error":"#REF!"}},{"$f":"'Pob x Genero'!#REF!","v":{"$error":"#REF!"}},{"$f":"'Pob x Genero'!#REF!","v":{"$error":"#REF!"}},{"$f":"'Pob x Genero'!#REF!","v":{"$error":"#REF!"}},"Hombre","00-04",{"$f":"'Pob x Genero'!#REF!","v":{"$error":"#REF!"}},807]
[{"$f":"'Pob x Genero'!#REF!","v":{"$error":"#REF!"}},{"$f":"'Pob x Genero'!#REF!","v":{"$error":"#REF!"}},{"$f":"'Pob x Genero'!#REF!","v":{"$error":"#REF!"}},{"$f":"'Pob x Genero'!#REF!","v":{"$error":"#REF!"}},{"$f":"'Pob x Genero'!#REF!","v":{"$error":"#REF!"}},"Hombre","00-04",{"$f":"'Pob x Genero'!#REF!","v":{"$error":"#REF!"}},808]
[{"$f":"'Pob x Genero'!#REF!","v":{"$error":"#REF!"}},{"$f":"'Pob x Genero'!#REF!","v":{"$error":"#REF!"}},{"$f":"'Pob x Genero'!#REF!","v":{"$error":"#REF!"}},{"$f":"'Pob x Genero'!#REF!","v":{"$error":"#REF!"}},{"$f":"'Pob x Genero'!#REF!","v":{"$error":"#REF!"}},"Hombre","00-04",{"$f":"'Pob x Genero'!#REF!","v":{"$error":"#REF!"}},809]
[{"$f":"'Pob x Genero'!#REF!","v":{"$error":"#REF!"}},{"$f":"'Pob x Genero'!#REF!","v":{"$error":"#REF!"}},{"$f":"'Pob x Genero'!#REF!","v":{"$error":"#REF!"}},{"$f":"'Pob x Genero'!#REF!","v":{"$error":"#REF!"}},{"$f":"'Pob x Genero'!#REF!","v":{"$error":"#REF!"}},"Hombre","00-04",{"$f":"'Pob x Genero'!#REF!","v":{"$error":"#REF!"}},810]
[{"$f":"'Pob x Genero'!#REF!","v":{"$error":"#REF!"}},{"$f":"'Pob x Genero'!#REF!","v":{"$error":"#REF!"}},{"$f":"'Pob x Genero'!#REF!","v":{"$error":"#REF!"}},{"$f":"'Pob x Genero'!#REF!","v":{"$error":"#REF!"}},{"$f":"'Pob x Genero'!#REF!","v":{"$error":"#REF!"}},"Hombre","00-04",{"$f":"'Pob x Genero'!#REF!","v":{"$error":"#REF!"}},811]
[{"$f":"'Pob x Genero'!#REF!","v":{"$error":"#REF!"}},{"$f":"'Pob x Genero'!#REF!","v":{"$error":"#REF!"}},{"$f":"'Pob x Genero'!#REF!","v":{"$error":"#REF!"}},{"$f":"'Pob x Genero'!#REF!","v":{"$error":"#REF!"}},{"$f":"'Pob x Genero'!#REF!","v":{"$error":"#REF!"}},"Hombre","00-04",{"$f":"'Pob x Genero'!#REF!","v":{"$error":"#REF!"}},812]
[{"$f":"'Pob x Genero'!#REF!","v":{"$error":"#REF!"}},{"$f":"'Pob x Genero'!#REF!","v":{"$error":"#REF!"}},{"$f":"'Pob x Genero'!#REF!","v":{"$error":"#REF!"}},{"$f":"'Pob x Genero'!#REF!","v":{"$error":"#REF!"}},{"$f":"'Pob x Genero'!#REF!","v":{"$error":"#REF!"}},"Hombre","00-04",{"$f":"'Pob x Genero'!#REF!","v":{"$error":"#REF!"}},813]
[{"$f":"'Pob x Genero'!#REF!","v":{"$error":"#REF!"}},{"$f":"'Pob x Genero'!#REF!","v":{"$error":"#REF!"}},{"$f":"'Pob x Genero'!#REF!","v":{"$error":"#REF!"}},{"$f":"'Pob x Genero'!#REF!","v":{"$error":"#REF!"}},{"$f":"'Pob x Genero'!#REF!","v":{"$error":"#REF!"}},"Hombre","00-04",{"$f":"'Pob x Genero'!#REF!","v":{"$error":"#REF!"}},814]
[{"$f":"'Pob x Genero'!#REF!","v":{"$error":"#REF!"}},{"$f":"'Pob x Genero'!#REF!","v":{"$error":"#REF!"}},{"$f":"'Pob x Genero'!#REF!","v":{"$error":"#REF!"}},{"$f":"'Pob x Genero'!#REF!","v":{"$error":"#REF!"}},{"$f":"'Pob x Genero'!#REF!","v":{"$error":"#REF!"}},"Hombre","00-04",{"$f":"'Pob x Genero'!#REF!","v":{"$error":"#REF!"}},815]
[{"$f":"'Pob x Genero'!#REF!","v":{"$error":"#REF!"}},{"$f":"'Pob x Genero'!#REF!","v":{"$error":"#REF!"}},{"$f":"'Pob x Genero'!#REF!","v":{"$error":"#REF!"}},{"$f":"'Pob x Genero'!#REF!","v":{"$error":"#REF!"}},{"$f":"'Pob x Genero'!#REF!","v":{"$error":"#REF!"}},"Hombre","00-04",{"$f":"'Pob x Genero'!#REF!","v":{"$error":"#REF!"}},816]
[{"$f":"'Pob x Genero'!#REF!","v":{"$error":"#REF!"}},{"$f":"'Pob x Genero'!#REF!","v":{"$error":"#REF!"}},{"$f":"'Pob x Genero'!#REF!","v":{"$error":"#REF!"}},{"$f":"'Pob x Genero'!#REF!","v":{"$error":"#REF!"}},{"$f":"'Pob x Genero'!#REF!","v":{"$error":"#REF!"}},"Hombre","00-04",{"$f":"'Pob x Genero'!#REF!","v":{"$error":"#REF!"}},817]
[{"$f":"'Pob x Genero'!#REF!","v":{"$error":"#REF!"}},{"$f":"'Pob x Genero'!#REF!","v":{"$error":"#REF!"}},{"$f":"'Pob x Genero'!#REF!","v":{"$error":"#REF!"}},{"$f":"'Pob x Genero'!#REF!","v":{"$error":"#REF!"}},{"$f":"'Pob x Genero'!#REF!","v":{"$error":"#REF!"}},"Hombre","00-04",{"$f":"'Pob x Genero'!#REF!","v":{"$error":"#REF!"}},818]
[{"$f":"'Pob x Genero'!#REF!","v":{"$error":"#REF!"}},{"$f":"'Pob x Genero'!#REF!","v":{"$error":"#REF!"}},{"$f":"'Pob x Genero'!#REF!","v":{"$error":"#REF!"}},{"$f":"'Pob x Genero'!#REF!","v":{"$error":"#REF!"}},{"$f":"'Pob x Genero'!#REF!","v":{"$error":"#REF!"}},"Hombre","00-04",{"$f":"'Pob x Genero'!#REF!","v":{"$error":"#REF!"}},819]
[{"$f":"'Pob x Genero'!#REF!","v":{"$error":"#REF!"}},{"$f":"'Pob x Genero'!#REF!","v":{"$error":"#REF!"}},{"$f":"'Pob x Genero'!#REF!","v":{"$error":"#REF!"}},{"$f":"'Pob x Genero'!#REF!","v":{"$error":"#REF!"}},{"$f":"'Pob x Genero'!#REF!","v":{"$error":"#REF!"}},"Hombre","00-04",{"$f":"'Pob x Genero'!#REF!","v":{"$error":"#REF!"}},820]
[{"$f":"'Pob x Genero'!#REF!","v":{"$error":"#REF!"}},{"$f":"'Pob x Genero'!#REF!","v":{"$error":"#REF!"}},{"$f":"'Pob x Genero'!#REF!","v":{"$error":"#REF!"}},{"$f":"'Pob x Genero'!#REF!","v":{"$error":"#REF!"}},{"$f":"'Pob x Genero'!#REF!","v":{"$error":"#REF!"}},"Hombre","00-04",{"$f":"'Pob x Genero'!#REF!","v":{"$error":"#REF!"}},821]
[{"$f":"'Pob x Genero'!#REF!","v":{"$error":"#REF!"}},{"$f":"'Pob x Genero'!#REF!","v":{"$error":"#REF!"}},{"$f":"'Pob x Genero'!#REF!","v":{"$error":"#REF!"}},{"$f":"'Pob x Genero'!#REF!","v":{"$error":"#REF!"}},{"$f":"'Pob x Genero'!#REF!","v":{"$error":"#REF!"}},"Hombre","00-04",{"$f":"'Pob x Genero'!#REF!","v":{"$error":"#REF!"}},822]
[{"$f":"'Pob x Genero'!#REF!","v":{"$error":"#REF!"}},{"$f":"'Pob x Genero'!#REF!","v":{"$error":"#REF!"}},{"$f":"'Pob x Genero'!#REF!","v":{"$error":"#REF!"}},{"$f":"'Pob x Genero'!#REF!","v":{"$error":"#REF!"}},{"$f":"'Pob x Genero'!#REF!","v":{"$error":"#REF!"}},"Hombre","00-04",{"$f":"'Pob x Genero'!#REF!","v":{"$error":"#REF!"}},823]
[{"$f":"'Pob x Genero'!#REF!","v":{"$error":"#REF!"}},{"$f":"'Pob x Genero'!#REF!","v":{"$error":"#REF!"}},{"$f":"'Pob x Genero'!#REF!","v":{"$error":"#REF!"}},{"$f":"'Pob x Genero'!#REF!","v":{"$error":"#REF!"}},{"$f":"'Pob x Genero'!#REF!","v":{"$error":"#REF!"}},"Hombre","00-04",{"$f":"'Pob x Genero'!#REF!","v":{"$error":"#REF!"}},824]
[{"$f":"'Pob x Genero'!#REF!","v":{"$error":"#REF!"}},{"$f":"'Pob x Genero'!#REF!","v":{"$error":"#REF!"}},{"$f":"'Pob x Genero'!#REF!","v":{"$error":"#REF!"}},{"$f":"'Pob x Genero'!#REF!","v":{"$error":"#REF!"}},{"$f":"'Pob x Genero'!#REF!","v":{"$error":"#REF!"}},"Hombre","00-04",{"$f":"'Pob x Genero'!#REF!","v":{"$error":"#REF!"}},825]
[{"$f":"'Pob x Genero'!#REF!","v":{"$error":"#REF!"}},{"$f":"'Pob x Genero'!#REF!","v":{"$error":"#REF!"}},{"$f":"'Pob x Genero'!#REF!","v":{"$error":"#REF!"}},{"$f":"'Pob x Genero'!#REF!","v":{"$error":"#REF!"}},{"$f":"'Pob x Genero'!#REF!","v":{"$error":"#REF!"}},"Hombre","00-04",{"$f":"'Pob x Genero'!#REF!","v":{"$error":"#REF!"}},826]
[{"$f":"'Pob x Genero'!#REF!","v":{"$error":"#REF!"}},{"$f":"'Pob x Genero'!#REF!","v":{"$error":"#REF!"}},{"$f":"'Pob x Genero'!#REF!","v":{"$error":"#REF!"}},{"$f":"'Pob x Genero'!#REF!","v":{"$error":"#REF!"}},{"$f":"'Pob x Genero'!#REF!","v":{"$error":"#REF!"}},"Hombre","00-04",{"$f":"'Pob x Genero'!#REF!","v":{"$error":"#REF!"}},827]
[{"$f":"'Pob x Genero'!#REF!","v":{"$error":"#REF!"}},{"$f":"'Pob x Genero'!#REF!","v":{"$error":"#REF!"}},{"$f":"'Pob x Genero'!#REF!","v":{"$error":"#REF!"}},{"$f":"'Pob x Genero'!#REF!","v":{"$error":"#REF!"}},{"$f":"'Pob x Genero'!#REF!","v":{"$error":"#REF!"}},"Hombre","00-04",{"$f":"'Pob x Genero'!#REF!","v":{"$error":"#REF!"}},828]
[{"$f":"'Pob x Genero'!#REF!","v":{"$error":"#REF!"}},{"$f":"'Pob x Genero'!#REF!","v":{"$error":"#REF!"}},{"$f":"'Pob x Genero'!#REF!","v":{"$error":"#REF!"}},{"$f":"'Pob x Genero'!#REF!","v":{"$error":"#REF!"}},{"$f":"'Pob x Genero'!#REF!","v":{"$error":"#REF!"}},"Hombre","00-04",{"$f":"'Pob x Genero'!#REF!","v":{"$error":"#REF!"}},829]
[{"$f":"'Pob x Genero'!#REF!","v":{"$error":"#REF!"}},{"$f":"'Pob x Genero'!#REF!","v":{"$error":"#REF!"}},{"$f":"'Pob x Genero'!#REF!","v":{"$error":"#REF!"}},{"$f":"'Pob x Genero'!#REF!","v":{"$error":"#REF!"}},{"$f":"'Pob x Genero'!#REF!","v":{"$error":"#REF!"}},"Hombre","00-04",{"$f":"'Pob x Genero'!#REF!","v":{"$error":"#REF!"}},830]
[{"$f":"'Pob x Genero'!#REF!","v":{"$error":"#REF!"}},{"$f":"'Pob x Genero'!#REF!","v":{"$error":"#REF!"}},{"$f":"'Pob x Genero'!#REF!","v":{"$error":"#REF!"}},{"$f":"'Pob x Genero'!#REF!","v":{"$error":"#REF!"}},{"$f":"'Pob x Genero'!#REF!","v":{"$error":"#REF!"}},"Hombre","00-04",{"$f":"'Pob x Genero'!#REF!","v":{"$error":"#REF!"}},831]
[{"$f":"'Pob x Genero'!#REF!","v":{"$error":"#REF!"}},{"$f":"'Pob x Genero'!#REF!","v":{"$error":"#REF!"}},{"$f":"'Pob x Genero'!#REF!","v":{"$error":"#REF!"}},{"$f":"'Pob x Genero'!#REF!","v":{"$error":"#REF!"}},{"$f":"'Pob x Genero'!#REF!","v":{"$error":"#REF!"}},"Hombre","00-04",{"$f":"'Pob x Genero'!#REF!","v":{"$error":"#REF!"}},832]
[{"$f":"'Pob x Genero'!#REF!","v":{"$error":"#REF!"}},{"$f":"'Pob x Genero'!#REF!","v":{"$error":"#REF!"}},{"$f":"'Pob x Genero'!#REF!","v":{"$error":"#REF!"}},{"$f":"'Pob x Genero'!#REF!","v":{"$error":"#REF!"}},{"$f":"'Pob x Genero'!#REF!","v":{"$error":"#REF!"}},"Hombre","00-04",{"$f":"'Pob x Genero'!#REF!","v":{"$error":"#REF!"}},833]
[{"$f":"'Pob x Genero'!#REF!","v":{"$error":"#REF!"}},{"$f":"'Pob x Genero'!#REF!","v":{"$error":"#REF!"}},{"$f":"'Pob x Genero'!#REF!","v":{"$error":"#REF!"}},{"$f":"'Pob x Genero'!#REF!","v":{"$error":"#REF!"}},{"$f":"'Pob x Genero'!#REF!","v":{"$error":"#REF!"}},{"$f":"F834","v":"Hombre"},{"$f":"G834","v":"00-04"},{"$f":"'Pob x Genero'!#REF!","v":{"$error":"#REF!"}},834]
[{"$f":"'Pob x Genero'!#REF!","v":{"$error":"#REF!"}},{"$f":"'Pob x Genero'!#REF!","v":{"$error":"#REF!"}},{"$f":"'Pob x Genero'!#REF!","v":{"$error":"#REF!"}},{"$f":"'Pob x Genero'!#REF!","v":{"$error":"#REF!"}},{"$f":"'Pob x Genero'!#REF!","v":{"$error":"#REF!"}},"Hombre","00-04",{"$f":"'Pob x Genero'!#REF!","v":{"$error":"#REF!"}},835]
[{"$f":"'Pob x Genero'!#REF!","v":{"$error":"#REF!"}},{"$f":"'Pob x Genero'!#REF!","v":{"$error":"#REF!"}},{"$f":"'Pob x Genero'!#REF!","v":{"$error":"#REF!"}},{"$f":"'Pob x Genero'!#REF!","v":{"$error":"#REF!"}},{"$f":"'Pob x Genero'!#REF!","v":{"$error":"#REF!"}},"Hombre","00-04",{"$f":"'Pob x Genero'!#REF!","v":{"$error":"#REF!"}},836]
[{"$f":"'Pob x Genero'!#REF!","v":{"$error":"#REF!"}},{"$f":"'Pob x Genero'!#REF!","v":{"$error":"#REF!"}},{"$f":"'Pob x Genero'!#REF!","v":{"$error":"#REF!"}},{"$f":"'Pob x Genero'!#REF!","v":{"$error":"#REF!"}},{"$f":"'Pob x Genero'!#REF!","v":{"$error":"#REF!"}},"Hombre","00-04",{"$f":"'Pob x Genero'!#REF!","v":{"$error":"#REF!"}},837]
[{"$f":"'Pob x Genero'!#REF!","v":{"$error":"#REF!"}},{"$f":"'Pob x Genero'!#REF!","v":{"$error":"#REF!"}},{"$f":"'Pob x Genero'!#REF!","v":{"$error":"#REF!"}},{"$f":"'Pob x Genero'!#REF!","v":{"$error":"#REF!"}},{"$f":"'Pob x Genero'!#REF!","v":{"$error":"#REF!"}},"Hombre","00-04",{"$f":"'Pob x Genero'!#REF!","v":{"$error":"#REF!"}},838]
[{"$f":"'Pob x Genero'!#REF!","v":{"$error":"#REF!"}},{"$f":"'Pob x Genero'!#REF!","v":{"$error":"#REF!"}},{"$f":"'Pob x Genero'!#REF!","v":{"$error":"#REF!"}},{"$f":"'Pob x Genero'!#REF!","v":{"$error":"#REF!"}},{"$f":"'Pob x Genero'!#REF!","v":{"$error":"#REF!"}},"Hombre","00-04",{"$f":"'Pob x Genero'!#REF!","v":{"$error":"#REF!"}},839]
[{"$f":"'Pob x Genero'!#REF!","v":{"$error":"#REF!"}},{"$f":"'Pob x Genero'!#REF!","v":{"$error":"#REF!"}},{"$f":"'Pob x Genero'!#REF!","v":{"$error":"#REF!"}},{"$f":"'Pob x Genero'!#REF!","v":{"$error":"#REF!"}},{"$f":"'Pob x Genero'!#REF!","v":{"$error":"#REF!"}},"Hombre","00-04",{"$f":"'Pob x Genero'!#REF!","v":{"$error":"#REF!"}},840]
[{"$f":"'Pob x Genero'!#REF!","v":{"$error":"#REF!"}},{"$f":"'Pob x Genero'!#REF!","v":{"$error":"#REF!"}},{"$f":"'Pob x Genero'!#REF!","v":{"$error":"#REF!"}},{"$f":"'Pob x Genero'!#REF!","v":{"$error":"#REF!"}},{"$f":"'Pob x Genero'!#REF!","v":{"$error":"#REF!"}},"Hombre","00-04",{"$f":"'Pob x Genero'!#REF!","v":{"$error":"#REF!"}},841]
[{"$f":"'Pob x Genero'!#REF!","v":{"$error":"#REF!"}},{"$f":"'Pob x Genero'!#REF!","v":{"$error":"#REF!"}},{"$f":"'Pob x Genero'!#REF!","v":{"$error":"#REF!"}},{"$f":"'Pob x Genero'!#REF!","v":{"$error":"#REF!"}},{"$f":"'Pob x Genero'!#REF!","v":{"$error":"#REF!"}},"Hombre","00-04",{"$f":"'Pob x Genero'!#REF!","v":{"$error":"#REF!"}},842]
[{"$f":"'Pob x Genero'!#REF!","v":{"$error":"#REF!"}},{"$f":"'Pob x Genero'!#REF!","v":{"$error":"#REF!"}},{"$f":"'Pob x Genero'!#REF!","v":{"$error":"#REF!"}},{"$f":"'Pob x Genero'!#REF!","v":{"$error":"#REF!"}},{"$f":"'Pob x Genero'!#REF!","v":{"$error":"#REF!"}},"Hombre","00-04",{"$f":"'Pob x Genero'!#REF!","v":{"$error":"#REF!"}},843]
[{"$f":"'Pob x Genero'!#REF!","v":{"$error":"#REF!"}},{"$f":"'Pob x Genero'!#REF!","v":{"$error":"#REF!"}},{"$f":"'Pob x Genero'!#REF!","v":{"$error":"#REF!"}},{"$f":"'Pob x Genero'!#REF!","v":{"$error":"#REF!"}},{"$f":"'Pob x Genero'!#REF!","v":{"$error":"#REF!"}},"Hombre","00-04",{"$f":"'Pob x Genero'!#REF!","v":{"$error":"#REF!"}},844]
[{"$f":"'Pob x Genero'!#REF!","v":{"$error":"#REF!"}},{"$f":"'Pob x Genero'!#REF!","v":{"$error":"#REF!"}},{"$f":"'Pob x Genero'!#REF!","v":{"$error":"#REF!"}},{"$f":"'Pob x Genero'!#REF!","v":{"$error":"#REF!"}},{"$f":"'Pob x Genero'!#REF!","v":{"$error":"#REF!"}},"Hombre","00-04",{"$f":"'Pob x Genero'!#REF!","v":{"$error":"#REF!"}},845]
[{"$f":"'Pob x Genero'!#REF!","v":{"$error":"#REF!"}},{"$f":"'Pob x Genero'!#REF!","v":{"$error":"#REF!"}},{"$f":"'Pob x Genero'!#REF!","v":{"$error":"#REF!"}},{"$f":"'Pob x Genero'!#REF!","v":{"$error":"#REF!"}},{"$f":"'Pob x Genero'!#REF!","v":{"$error":"#REF!"}},"Hombre","00-04",{"$f":"'Pob x Genero'!#REF!","v":{"$error":"#REF!"}},846]
[{"$f":"'Pob x Genero'!#REF!","v":{"$error":"#REF!"}},{"$f":"'Pob x Genero'!#REF!","v":{"$error":"#REF!"}},{"$f":"'Pob x Genero'!#REF!","v":{"$error":"#REF!"}},{"$f":"'Pob x Genero'!#REF!","v":{"$error":"#REF!"}},{"$f":"'Pob x Genero'!#REF!","v":{"$error":"#REF!"}},"Hombre","00-04",{"$f":"'Pob x Genero'!#REF!","v":{"$error":"#REF!"}},847]
[{"$f":"'Pob x Genero'!#REF!","v":{"$error":"#REF!"}},{"$f":"'Pob x Genero'!#REF!","v":{"$error":"#REF!"}},{"$f":"'Pob x Genero'!#REF!","v":{"$error":"#REF!"}},{"$f":"'Pob x Genero'!#REF!","v":{"$error":"#REF!"}},{"$f":"'Pob x Genero'!#REF!","v":{"$error":"#REF!"}},"Hombre","00-04",{"$f":"'Pob x Genero'!#REF!","v":{"$error":"#REF!"}},848]
[{"$f":"'Pob x Genero'!#REF!","v":{"$error":"#REF!"}},{"$f":"'Pob x Genero'!#REF!","v":{"$error":"#REF!"}},{"$f":"'Pob x Genero'!#REF!","v":{"$error":"#REF!"}},{"$f":"'Pob x Genero'!#REF!","v":{"$error":"#REF!"}},{"$f":"'Pob x Genero'!#REF!","v":{"$error":"#REF!"}},"Hombre","00-04",{"$f":"'Pob x Genero'!#REF!","v":{"$error":"#REF!"}},849]
[{"$f":"'Pob x Genero'!#REF!","v":{"$error":"#REF!"}},{"$f":"'Pob x Genero'!#REF!","v":{"$error":"#REF!"}},{"$f":"'Pob x Genero'!#REF!","v":{"$error":"#REF!"}},{"$f":"'Pob x Genero'!#REF!","v":{"$error":"#REF!"}},{"$f":"'Pob x Genero'!#REF!","v":{"$error":"#REF!"}},"Hombre","00-04",{"$f":"'Pob x Genero'!#REF!","v":{"$error":"#REF!"}},850]
[{"$f":"'Pob x Genero'!#REF!","v":{"$error":"#REF!"}},{"$f":"'Pob x Genero'!#REF!","v":{"$error":"#REF!"}},{"$f":"'Pob x Genero'!#REF!","v":{"$error":"#REF!"}},{"$f":"'Pob x Genero'!#REF!","v":{"$error":"#REF!"}},{"$f":"'Pob x Genero'!#REF!","v":{"$error":"#REF!"}},"Hombre","00-04",{"$f":"'Pob x Genero'!#REF!","v":{"$error":"#REF!"}},851]
[{"$f":"'Pob x Genero'!#REF!","v":{"$error":"#REF!"}},{"$f":"'Pob x Genero'!#REF!","v":{"$error":"#REF!"}},{"$f":"'Pob x Genero'!#REF!","v":{"$error":"#REF!"}},{"$f":"'Pob x Genero'!#REF!","v":{"$error":"#REF!"}},{"$f":"'Pob x Genero'!#REF!","v":{"$error":"#REF!"}},"Hombre","00-04",{"$f":"'Pob x Genero'!#REF!","v":{"$error":"#REF!"}},852]
[{"$f":"'Pob x Genero'!#REF!","v":{"$error":"#REF!"}},{"$f":"'Pob x Genero'!#REF!","v":{"$error":"#REF!"}},{"$f":"'Pob x Genero'!#REF!","v":{"$error":"#REF!"}},{"$f":"'Pob x Genero'!#REF!","v":{"$error":"#REF!"}},{"$f":"'Pob x Genero'!#REF!","v":{"$error":"#REF!"}},"Hombre","00-04",{"$f":"'Pob x Genero'!#REF!","v":{"$error":"#REF!"}},853]
[{"$f":"'Pob x Genero'!#REF!","v":{"$error":"#REF!"}},{"$f":"'Pob x Genero'!#REF!","v":{"$error":"#REF!"}},{"$f":"'Pob x Genero'!#REF!","v":{"$error":"#REF!"}},{"$f":"'Pob x Genero'!#REF!","v":{"$error":"#REF!"}},{"$f":"'Pob x Genero'!#REF!","v":{"$error":"#REF!"}},"Hombre","00-04",{"$f":"'Pob x Genero'!#REF!","v":{"$error":"#REF!"}},854]
[{"$f":"'Pob x Genero'!#REF!","v":{"$error":"#REF!"}},{"$f":"'Pob x Genero'!#REF!","v":{"$error":"#REF!"}},{"$f":"'Pob x Genero'!#REF!","v":{"$error":"#REF!"}},{"$f":"'Pob x Genero'!#REF!","v":{"$error":"#REF!"}},{"$f":"'Pob x Genero'!#REF!","v":{"$error":"#REF!"}},"Hombre","00-04",{"$f":"'Pob x Genero'!#REF!","v":{"$error":"#REF!"}},855]
[{"$f":"'Pob x Genero'!#REF!","v":{"$error":"#REF!"}},{"$f":"'Pob x Genero'!#REF!","v":{"$error":"#REF!"}},{"$f":"'Pob x Genero'!#REF!","v":{"$error":"#REF!"}},{"$f":"'Pob x Genero'!#REF!","v":{"$error":"#REF!"}},{"$f":"'Pob x Genero'!#REF!","v":{"$error":"#REF!"}},"Hombre","00-04",{"$f":"'Pob x Genero'!#REF!","v":{"$error":"#REF!"}},856]
[{"$f":"'Pob x Genero'!#REF!","v":{"$error":"#REF!"}},{"$f":"'Pob x Genero'!#REF!","v":{"$error":"#REF!"}},{"$f":"'Pob x Genero'!#REF!","v":{"$error":"#REF!"}},{"$f":"'Pob x Genero'!#REF!","v":{"$error":"#REF!"}},{"$f":"'Pob x Genero'!#REF!","v":{"$error":"#REF!"}},"Hombre","00-04",{"$f":"'Pob x Genero'!#REF!","v":{"$error":"#REF!"}},857]
[{"$f":"'Pob x Genero'!#REF!","v":{"$error":"#REF!"}},{"$f":"'Pob x Genero'!#REF!","v":{"$error":"#REF!"}},{"$f":"'Pob x Genero'!#REF!","v":{"$error":"#REF!"}},{"$f":"'Pob x Genero'!#REF!","v":{"$error":"#REF!"}},{"$f":"'Pob x Genero'!#REF!","v":{"$error":"#REF!"}},"Hombre","00-04",{"$f":"'Pob x Genero'!#REF!","v":{"$error":"#REF!"}},858]
[{"$f":"'Pob x Genero'!#REF!","v":{"$error":"#REF!"}},{"$f":"'Pob x Genero'!#REF!","v":{"$error":"#REF!"}},{"$f":"'Pob x Genero'!#REF!","v":{"$error":"#REF!"}},{"$f":"'Pob x Genero'!#REF!","v":{"$error":"#REF!"}},{"$f":"'Pob x Genero'!#REF!","v":{"$error":"#REF!"}},"Hombre","00-04",{"$f":"'Pob x Genero'!#REF!","v":{"$error":"#REF!"}},859]
[{"$f":"'Pob x Genero'!#REF!","v":{"$error":"#REF!"}},{"$f":"'Pob x Genero'!#REF!","v":{"$error":"#REF!"}},{"$f":"'Pob x Genero'!#REF!","v":{"$error":"#REF!"}},{"$f":"'Pob x Genero'!#REF!","v":{"$error":"#REF!"}},{"$f":"'Pob x Genero'!#REF!","v":{"$error":"#REF!"}},"Hombre","00-04",{"$f":"'Pob x Genero'!#REF!","v":{"$error":"#REF!"}},860]
[{"$f":"'Pob x Genero'!#REF!","v":{"$error":"#REF!"}},{"$f":"'Pob x Genero'!#REF!","v":{"$error":"#REF!"}},{"$f":"'Pob x Genero'!#REF!","v":{"$error":"#REF!"}},{"$f":"'Pob x Genero'!#REF!","v":{"$error":"#REF!"}},{"$f":"'Pob x Genero'!#REF!","v":{"$error":"#REF!"}},"Hombre","00-04",{"$f":"'Pob x Genero'!#REF!","v":{"$error":"#REF!"}},861]
[{"$f":"'Pob x Genero'!#REF!","v":{"$error":"#REF!"}},{"$f":"'Pob x Genero'!#REF!","v":{"$error":"#REF!"}},{"$f":"'Pob x Genero'!#REF!","v":{"$error":"#REF!"}},{"$f":"'Pob x Genero'!#REF!","v":{"$error":"#REF!"}},{"$f":"'Pob x Genero'!#REF!","v":{"$error":"#REF!"}},"Hombre","00-04",{"$f":"'Pob x Genero'!#REF!","v":{"$error":"#REF!"}},862]
[{"$f":"'Pob x Genero'!#REF!","v":{"$error":"#REF!"}},{"$f":"'Pob x Genero'!#REF!","v":{"$error":"#REF!"}},{"$f":"'Pob x Genero'!#REF!","v":{"$error":"#REF!"}},{"$f":"'Pob x Genero'!#REF!","v":{"$error":"#REF!"}},{"$f":"'Pob x Genero'!#REF!","v":{"$error":"#REF!"}},"Hombre","00-04",{"$f":"'Pob x Genero'!#REF!","v":{"$error":"#REF!"}},863]
[{"$f":"'Pob x Genero'!#REF!","v":{"$error":"#REF!"}},{"$f":"'Pob x Genero'!#REF!","v":{"$error":"#REF!"}},{"$f":"'Pob x Genero'!#REF!","v":{"$error":"#REF!"}},{"$f":"'Pob x Genero'!#REF!","v":{"$error":"#REF!"}},{"$f":"'Pob x Genero'!#REF!","v":{"$error":"#REF!"}},"Hombre","00-04",{"$f":"'Pob x Genero'!#REF!","v":{"$error":"#REF!"}},864]
[{"$f":"'Pob x Genero'!#REF!","v":{"$error":"#REF!"}},{"$f":"'Pob x Genero'!#REF!","v":{"$error":"#REF!"}},{"$f":"'Pob x Genero'!#REF!","v":{"$error":"#REF!"}},{"$f":"'Pob x Genero'!#REF!","v":{"$error":"#REF!"}},{"$f":"'Pob x Genero'!#REF!","v":{"$error":"#REF!"}},"Hombre","00-04",{"$f":"'Pob x Genero'!#REF!","v":{"$error":"#REF!"}},865]
[{"$f":"'Pob x Genero'!#REF!","v":{"$error":"#REF!"}},{"$f":"'Pob x Genero'!#REF!","v":{"$error":"#REF!"}},{"$f":"'Pob x Genero'!#REF!","v":{"$error":"#REF!"}},{"$f":"'Pob x Genero'!#REF!","v":{"$error":"#REF!"}},{"$f":"'Pob x Genero'!#REF!","v":{"$error":"#REF!"}},"Hombre","00-04",{"$f":"'Pob x Genero'!#REF!","v":{"$error":"#REF!"}},866]
[{"$f":"'Pob x Genero'!#REF!","v":{"$error":"#REF!"}},{"$f":"'Pob x Genero'!#REF!","v":{"$error":"#REF!"}},{"$f":"'Pob x Genero'!#REF!","v":{"$error":"#REF!"}},{"$f":"'Pob x Genero'!#REF!","v":{"$error":"#REF!"}},{"$f":"'Pob x Genero'!#REF!","v":{"$error":"#REF!"}},"Hombre","00-04",{"$f":"'Pob x Genero'!#REF!","v":{"$error":"#REF!"}},867]
[{"$f":"'Pob x Genero'!#REF!","v":{"$error":"#REF!"}},{"$f":"'Pob x Genero'!#REF!","v":{"$error":"#REF!"}},{"$f":"'Pob x Genero'!#REF!","v":{"$error":"#REF!"}},{"$f":"'Pob x Genero'!#REF!","v":{"$error":"#REF!"}},{"$f":"'Pob x Genero'!#REF!","v":{"$error":"#REF!"}},"Hombre","00-04",{"$f":"'Pob x Genero'!#REF!","v":{"$error":"#REF!"}},868]
[{"$f":"'Pob x Genero'!#REF!","v":{"$error":"#REF!"}},{"$f":"'Pob x Genero'!#REF!","v":{"$error":"#REF!"}},{"$f":"'Pob x Genero'!#REF!","v":{"$error":"#REF!"}},{"$f":"'Pob x Genero'!#REF!","v":{"$error":"#REF!"}},{"$f":"'Pob x Genero'!#REF!","v":{"$error":"#REF!"}},"Hombre","00-04",{"$f":"'Pob x Genero'!#REF!","v":{"$error":"#REF!"}},869]
[{"$f":"'Pob x Genero'!#REF!","v":{"$error":"#REF!"}},{"$f":"'Pob x Genero'!#REF!","v":{"$error":"#REF!"}},{"$f":"'Pob x Genero'!#REF!","v":{"$error":"#REF!"}},{"$f":"'Pob x Genero'!#REF!","v":{"$error":"#REF!"}},{"$f":"'Pob x Genero'!#REF!","v":{"$error":"#REF!"}},"Hombre","00-04",{"$f":"'Pob x Genero'!#REF!","v":{"$error":"#REF!"}},870]
[{"$f":"'Pob x Genero'!#REF!","v":{"$error":"#REF!"}},{"$f":"'Pob x Genero'!#REF!","v":{"$error":"#REF!"}},{"$f":"'Pob x Genero'!#REF!","v":{"$error":"#REF!"}},{"$f":"'Pob x Genero'!#REF!","v":{"$error":"#REF!"}},{"$f":"'Pob x Genero'!#REF!","v":{"$error":"#REF!"}},"Hombre","00-04",{"$f":"'Pob x Genero'!#REF!","v":{"$error":"#REF!"}},871]
[{"$f":"'Pob x Genero'!#REF!","v":{"$error":"#REF!"}},{"$f":"'Pob x Genero'!#REF!","v":{"$error":"#REF!"}},{"$f":"'Pob x Genero'!#REF!","v":{"$error":"#REF!"}},{"$f":"'Pob x Genero'!#REF!","v":{"$error":"#REF!"}},{"$f":"'Pob x Genero'!#REF!","v":{"$error":"#REF!"}},"Hombre","00-04",{"$f":"'Pob x Genero'!#REF!","v":{"$error":"#REF!"}},872]
[{"$f":"'Pob x Genero'!#REF!","v":{"$error":"#REF!"}},{"$f":"'Pob x Genero'!#REF!","v":{"$error":"#REF!"}},{"$f":"'Pob x Genero'!#REF!","v":{"$error":"#REF!"}},{"$f":"'Pob x Genero'!#REF!","v":{"$error":"#REF!"}},{"$f":"'Pob x Genero'!#REF!","v":{"$error":"#REF!"}},"Hombre","00-04",{"$f":"'Pob x Genero'!#REF!","v":{"$error":"#REF!"}},873]
[{"$f":"'Pob x Genero'!#REF!","v":{"$error":"#REF!"}},{"$f":"'Pob x Genero'!#REF!","v":{"$error":"#REF!"}},{"$f":"'Pob x Genero'!#REF!","v":{"$error":"#REF!"}},{"$f":"'Pob x Genero'!#REF!","v":{"$error":"#REF!"}},{"$f":"'Pob x Genero'!#REF!","v":{"$error":"#REF!"}},"Hombre","00-04",{"$f":"'Pob x Genero'!#REF!","v":{"$error":"#REF!"}},874]
[{"$f":"'Pob x Genero'!#REF!","v":{"$error":"#REF!"}},{"$f":"'Pob x Genero'!#REF!","v":{"$error":"#REF!"}},{"$f":"'Pob x Genero'!#REF!","v":{"$error":"#REF!"}},{"$f":"'Pob x Genero'!#REF!","v":{"$error":"#REF!"}},{"$f":"'Pob x Genero'!#REF!","v":{"$error":"#REF!"}},"Hombre","00-04",{"$f":"'Pob x Genero'!#REF!","v":{"$error":"#REF!"}},875]
[{"$f":"'Pob x Genero'!#REF!","v":{"$error":"#REF!"}},{"$f":"'Pob x Genero'!#REF!","v":{"$error":"#REF!"}},{"$f":"'Pob x Genero'!#REF!","v":{"$error":"#REF!"}},{"$f":"'Pob x Genero'!#REF!","v":{"$error":"#REF!"}},{"$f":"'Pob x Genero'!#REF!","v":{"$error":"#REF!"}},"Hombre","00-04",{"$f":"'Pob x Genero'!#REF!","v":{"$error":"#REF!"}},876]
[{"$f":"'Pob x Genero'!#REF!","v":{"$error":"#REF!"}},{"$f":"'Pob x Genero'!#REF!","v":{"$error":"#REF!"}},{"$f":"'Pob x Genero'!#REF!","v":{"$error":"#REF!"}},{"$f":"'Pob x Genero'!#REF!","v":{"$error":"#REF!"}},{"$f":"'Pob x Genero'!#REF!","v":{"$error":"#REF!"}},"Hombre","00-04",{"$f":"'Pob x Genero'!#REF!","v":{"$error":"#REF!"}},877]
[{"$f":"'Pob x Genero'!#REF!","v":{"$error":"#REF!"}},{"$f":"'Pob x Genero'!#REF!","v":{"$error":"#REF!"}},{"$f":"'Pob x Genero'!#REF!","v":{"$error":"#REF!"}},{"$f":"'Pob x Genero'!#REF!","v":{"$error":"#REF!"}},{"$f":"'Pob x Genero'!#REF!","v":{"$error":"#REF!"}},"Hombre","00-04",{"$f":"'Pob x Genero'!#REF!","v":{"$error":"#REF!"}},878]
[{"$f":"'Pob x Genero'!#REF!","v":{"$error":"#REF!"}},{"$f":"'Pob x Genero'!#REF!","v":{"$error":"#REF!"}},{"$f":"'Pob x Genero'!#REF!","v":{"$error":"#REF!"}},{"$f":"'Pob x Genero'!#REF!","v":{"$error":"#REF!"}},{"$f":"'Pob x Genero'!#REF!","v":{"$error":"#REF!"}},"Hombre","00-04",{"$f":"'Pob x Genero'!#REF!","v":{"$error":"#REF!"}},879]
[{"$f":"'Pob x Genero'!#REF!","v":{"$error":"#REF!"}},{"$f":"'Pob x Genero'!#REF!","v":{"$error":"#REF!"}},{"$f":"'Pob x Genero'!#REF!","v":{"$error":"#REF!"}},{"$f":"'Pob x Genero'!#REF!","v":{"$error":"#REF!"}},{"$f":"'Pob x Genero'!#REF!","v":{"$error":"#REF!"}},"Hombre","00-04",{"$f":"'Pob x Genero'!#REF!","v":{"$error":"#REF!"}},880]
[{"$f":"'Pob x Genero'!#REF!","v":{"$error":"#REF!"}},{"$f":"'Pob x Genero'!#REF!","v":{"$error":"#REF!"}},{"$f":"'Pob x Genero'!#REF!","v":{"$error":"#REF!"}},{"$f":"'Pob x Genero'!#REF!","v":{"$error":"#REF!"}},{"$f":"'Pob x Genero'!#REF!","v":{"$error":"#REF!"}},"Hombre","00-04",{"$f":"'Pob x Genero'!#REF!","v":{"$error":"#REF!"}},881]
[{"$f":"'Pob x Genero'!#REF!","v":{"$error":"#REF!"}},{"$f":"'Pob x Genero'!#REF!","v":{"$error":"#REF!"}},{"$f":"'Pob x Genero'!#REF!","v":{"$error":"#REF!"}},{"$f":"'Pob x Genero'!#REF!","v":{"$error":"#REF!"}},{"$f":"'Pob x Genero'!#REF!","v":{"$error":"#REF!"}},"Hombre","00-04",{"$f":"'Pob x Genero'!#REF!","v":{"$error":"#REF!"}},882]
[{"$f":"'Pob x Genero'!#REF!","v":{"$error":"#REF!"}},{"$f":"'Pob x Genero'!#REF!","v":{"$error":"#REF!"}},{"$f":"'Pob x Genero'!#REF!","v":{"$error":"#REF!"}},{"$f":"'Pob x Genero'!#REF!","v":{"$error":"#REF!"}},{"$f":"'Pob x Genero'!#REF!","v":{"$error":"#REF!"}},"Hombre","00-04",{"$f":"'Pob x Genero'!#REF!","v":{"$error":"#REF!"}},883]
[{"$f":"'Pob x Genero'!#REF!","v":{"$error":"#REF!"}},{"$f":"'Pob x Genero'!#REF!","v":{"$error":"#REF!"}},{"$f":"'Pob x Genero'!#REF!","v":{"$error":"#REF!"}},{"$f":"'Pob x Genero'!#REF!","v":{"$error":"#REF!"}},{"$f":"'Pob x Genero'!#REF!","v":{"$error":"#REF!"}},"Hombre","00-04",{"$f":"'Pob x Genero'!#REF!","v":{"$error":"#REF!"}},884]
[{"$f":"'Pob x Genero'!#REF!","v":{"$error":"#REF!"}},{"$f":"'Pob x Genero'!#REF!","v":{"$error":"#REF!"}},{"$f":"'Pob x Genero'!#REF!","v":{"$error":"#REF!"}},{"$f":"'Pob x Genero'!#REF!","v":{"$error":"#REF!"}},{"$f":"'Pob x Genero'!#REF!","v":{"$error":"#REF!"}},"Hombre","00-04",{"$f":"'Pob x Genero'!#REF!","v":{"$error":"#REF!"}},885]
[{"$f":"'Pob x Genero'!#REF!","v":{"$error":"#REF!"}},{"$f":"'Pob x Genero'!#REF!","v":{"$error":"#REF!"}},{"$f":"'Pob x Genero'!#REF!","v":{"$error":"#REF!"}},{"$f":"'Pob x Genero'!#REF!","v":{"$error":"#REF!"}},{"$f":"'Pob x Genero'!#REF!","v":{"$error":"#REF!"}},"Hombre","00-04",{"$f":"'Pob x Genero'!#REF!","v":{"$error":"#REF!"}},886]
[{"$f":"'Pob x Genero'!#REF!","v":{"$error":"#REF!"}},{"$f":"'Pob x Genero'!#REF!","v":{"$error":"#REF!"}},{"$f":"'Pob x Genero'!#REF!","v":{"$error":"#REF!"}},{"$f":"'Pob x Genero'!#REF!","v":{"$error":"#REF!"}},{"$f":"'Pob x Genero'!#REF!","v":{"$error":"#REF!"}},"Hombre","00-04",{"$f":"'Pob x Genero'!#REF!","v":{"$error":"#REF!"}},887]
[{"$f":"'Pob x Genero'!#REF!","v":{"$error":"#REF!"}},{"$f":"'Pob x Genero'!#REF!","v":{"$error":"#REF!"}},{"$f":"'Pob x Genero'!#REF!","v":{"$error":"#REF!"}},{"$f":"'Pob x Genero'!#REF!","v":{"$error":"#REF!"}},{"$f":"'Pob x Genero'!#REF!","v":{"$error":"#REF!"}},"Hombre","00-04",{"$f":"'Pob x Genero'!#REF!","v":{"$error":"#REF!"}},888]
[{"$f":"'Pob x Genero'!#REF!","v":{"$error":"#REF!"}},{"$f":"'Pob x Genero'!#REF!","v":{"$error":"#REF!"}},{"$f":"'Pob x Genero'!#REF!","v":{"$error":"#REF!"}},{"$f":"'Pob x Genero'!#REF!","v":{"$error":"#REF!"}},{"$f":"'Pob x Genero'!#REF!","v":{"$error":"#REF!"}},"Hombre","00-04",{"$f":"'Pob x Genero'!#REF!","v":{"$error":"#REF!"}},889]
[{"$f":"'Pob x Genero'!#REF!","v":{"$error":"#REF!"}},{"$f":"'Pob x Genero'!#REF!","v":{"$error":"#REF!"}},{"$f":"'Pob x Genero'!#REF!","v":{"$error":"#REF!"}},{"$f":"'Pob x Genero'!#REF!","v":{"$error":"#REF!"}},{"$f":"'Pob x Genero'!#REF!","v":{"$error":"#REF!"}},"Hombre","00-04",{"$f":"'Pob x Genero'!#REF!","v":{"$error":"#REF!"}},890]
[{"$f":"'Pob x Genero'!#REF!","v":{"$error":"#REF!"}},{"$f":"'Pob x Genero'!#REF!","v":{"$error":"#REF!"}},{"$f":"'Pob x Genero'!#REF!","v":{"$error":"#REF!"}},{"$f":"'Pob x Genero'!#REF!","v":{"$error":"#REF!"}},{"$f":"'Pob x Genero'!#REF!","v":{"$error":"#REF!"}},"Hombre","00-04",{"$f":"'Pob x Genero'!#REF!","v":{"$error":"#REF!"}},891]
[{"$f":"'Pob x Genero'!#REF!","v":{"$error":"#REF!"}},{"$f":"'Pob x Genero'!#REF!","v":{"$error":"#REF!"}},{"$f":"'Pob x Genero'!#REF!","v":{"$error":"#REF!"}},{"$f":"'Pob x Genero'!#REF!","v":{"$error":"#REF!"}},{"$f":"'Pob x Genero'!#REF!","v":{"$error":"#REF!"}},"Hombre","00-04",{"$f":"'Pob x Genero'!#REF!","v":{"$error":"#REF!"}},892]
[{"$f":"'Pob x Genero'!#REF!","v":{"$error":"#REF!"}},{"$f":"'Pob x Genero'!#REF!","v":{"$error":"#REF!"}},{"$f":"'Pob x Genero'!#REF!","v":{"$error":"#REF!"}},{"$f":"'Pob x Genero'!#REF!","v":{"$error":"#REF!"}},{"$f":"'Pob x Genero'!#REF!","v":{"$error":"#REF!"}},"Hombre","00-04",{"$f":"'Pob x Genero'!#REF!","v":{"$error":"#REF!"}},893]
[{"$f":"'Pob x Genero'!#REF!","v":{"$error":"#REF!"}},{"$f":"'Pob x Genero'!#REF!","v":{"$error":"#REF!"}},{"$f":"'Pob x Genero'!#REF!","v":{"$error":"#REF!"}},{"$f":"'Pob x Genero'!#REF!","v":{"$error":"#REF!"}},{"$f":"'Pob x Genero'!#REF!","v":{"$error":"#REF!"}},"Hombre","00-04",{"$f":"'Pob x Genero'!#REF!","v":{"$error":"#REF!"}},894]
[{"$f":"'Pob x Genero'!#REF!","v":{"$error":"#REF!"}},{"$f":"'Pob x Genero'!#REF!","v":{"$error":"#REF!"}},{"$f":"'Pob x Genero'!#REF!","v":{"$error":"#REF!"}},{"$f":"'Pob x Genero'!#REF!","v":{"$error":"#REF!"}},{"$f":"'Pob x Genero'!#REF!","v":{"$error":"#REF!"}},"Hombre","00-04",{"$f":"'Pob x Genero'!#REF!","v":{"$error":"#REF!"}},895]
[{"$f":"'Pob x Genero'!#REF!","v":{"$error":"#REF!"}},{"$f":"'Pob x Genero'!#REF!","v":{"$error":"#REF!"}},{"$f":"'Pob x Genero'!#REF!","v":{"$error":"#REF!"}},{"$f":"'Pob x Genero'!#REF!","v":{"$error":"#REF!"}},{"$f":"'Pob x Genero'!#REF!","v":{"$error":"#REF!"}},"Hombre","00-04",{"$f":"'Pob x Genero'!#REF!","v":{"$error":"#REF!"}},896]
[{"$f":"'Pob x Genero'!#REF!","v":{"$error":"#REF!"}},{"$f":"'Pob x Genero'!#REF!","v":{"$error":"#REF!"}},{"$f":"'Pob x Genero'!#REF!","v":{"$error":"#REF!"}},{"$f":"'Pob x Genero'!#REF!","v":{"$error":"#REF!"}},{"$f":"'Pob x Genero'!#REF!","v":{"$error":"#REF!"}},"Hombre","00-04",{"$f":"'Pob x Genero'!#REF!","v":{"$error":"#REF!"}},897]
[{"$f":"'Pob x Genero'!#REF!","v":{"$error":"#REF!"}},{"$f":"'Pob x Genero'!#REF!","v":{"$error":"#REF!"}},{"$f":"'Pob x Genero'!#REF!","v":{"$error":"#REF!"}},{"$f":"'Pob x Genero'!#REF!","v":{"$error":"#REF!"}},{"$f":"'Pob x Genero'!#REF!","v":{"$error":"#REF!"}},{"$f":"F898","v":"Hombre"},{"$f":"G898","v":"00-04"},{"$f":"'Pob x Genero'!#REF!","v":{"$error":"#REF!"}},898]
[{"$f":"'Pob x Genero'!#REF!","v":{"$error":"#REF!"}},{"$f":"'Pob x Genero'!#REF!","v":{"$error":"#REF!"}},{"$f":"'Pob x Genero'!#REF!","v":{"$error":"#REF!"}},{"$f":"'Pob x Genero'!#REF!","v":{"$error":"#REF!"}},{"$f":"'Pob x Genero'!#REF!","v":{"$error":"#REF!"}},"Hombre","00-04",{"$f":"'Pob x Genero'!#REF!","v":{"$error":"#REF!"}},899]
[{"$f":"'Pob x Genero'!#REF!","v":{"$error":"#REF!"}},{"$f":"'Pob x Genero'!#REF!","v":{"$error":"#REF!"}},{"$f":"'Pob x Genero'!#REF!","v":{"$error":"#REF!"}},{"$f":"'Pob x Genero'!#REF!","v":{"$error":"#REF!"}},{"$f":"'Pob x Genero'!#REF!","v":{"$error":"#REF!"}},"Hombre","00-04",{"$f":"'Pob x Genero'!#REF!","v":{"$error":"#REF!"}},900]
[{"$f":"'Pob x Genero'!#REF!","v":{"$error":"#REF!"}},{"$f":"'Pob x Genero'!#REF!","v":{"$error":"#REF!"}},{"$f":"'Pob x Genero'!#REF!","v":{"$error":"#REF!"}},{"$f":"'Pob x Genero'!#REF!","v":{"$error":"#REF!"}},{"$f":"'Pob x Genero'!#REF!","v":{"$error":"#REF!"}},"Hombre","00-04",{"$f":"'Pob x Genero'!#REF!","v":{"$error":"#REF!"}},901]
[{"$f":"'Pob x Genero'!#REF!","v":{"$error":"#REF!"}},{"$f":"'Pob x Genero'!#REF!","v":{"$error":"#REF!"}},{"$f":"'Pob x Genero'!#REF!","v":{"$error":"#REF!"}},{"$f":"'Pob x Genero'!#REF!","v":{"$error":"#REF!"}},{"$f":"'Pob x Genero'!#REF!","v":{"$error":"#REF!"}},"Hombre","00-04",{"$f":"'Pob x Genero'!#REF!","v":{"$error":"#REF!"}},902]
[{"$f":"'Pob x Genero'!#REF!","v":{"$error":"#REF!"}},{"$f":"'Pob x Genero'!#REF!","v":{"$error":"#REF!"}},{"$f":"'Pob x Genero'!#REF!","v":{"$error":"#REF!"}},{"$f":"'Pob x Genero'!#REF!","v":{"$error":"#REF!"}},{"$f":"'Pob x Genero'!#REF!","v":{"$error":"#REF!"}},"Hombre","00-04",{"$f":"'Pob x Genero'!#REF!","v":{"$error":"#REF!"}},903]
[{"$f":"'Pob x Genero'!#REF!","v":{"$error":"#REF!"}},{"$f":"'Pob x Genero'!#REF!","v":{"$error":"#REF!"}},{"$f":"'Pob x Genero'!#REF!","v":{"$error":"#REF!"}},{"$f":"'Pob x Genero'!#REF!","v":{"$error":"#REF!"}},{"$f":"'Pob x Genero'!#REF!","v":{"$error":"#REF!"}},"Hombre","00-04",{"$f":"'Pob x Genero'!#REF!","v":{"$error":"#REF!"}},904]
[{"$f":"'Pob x Genero'!#REF!","v":{"$error":"#REF!"}},{"$f":"'Pob x Genero'!#REF!","v":{"$error":"#REF!"}},{"$f":"'Pob x Genero'!#REF!","v":{"$error":"#REF!"}},{"$f":"'Pob x Genero'!#REF!","v":{"$error":"#REF!"}},{"$f":"'Pob x Genero'!#REF!","v":{"$error":"#REF!"}},"Hombre","00-04",{"$f":"'Pob x Genero'!#REF!","v":{"$error":"#REF!"}},905]
[{"$f":"'Pob x Genero'!#REF!","v":{"$error":"#REF!"}},{"$f":"'Pob x Genero'!#REF!","v":{"$error":"#REF!"}},{"$f":"'Pob x Genero'!#REF!","v":{"$error":"#REF!"}},{"$f":"'Pob x Genero'!#REF!","v":{"$error":"#REF!"}},{"$f":"'Pob x Genero'!#REF!","v":{"$error":"#REF!"}},"Hombre","00-04",{"$f":"'Pob x Genero'!#REF!","v":{"$error":"#REF!"}},906]
[{"$f":"'Pob x Genero'!#REF!","v":{"$error":"#REF!"}},{"$f":"'Pob x Genero'!#REF!","v":{"$error":"#REF!"}},{"$f":"'Pob x Genero'!#REF!","v":{"$error":"#REF!"}},{"$f":"'Pob x Genero'!#REF!","v":{"$error":"#REF!"}},{"$f":"'Pob x Genero'!#REF!","v":{"$error":"#REF!"}},"Hombre","00-04",{"$f":"'Pob x Genero'!#REF!","v":{"$error":"#REF!"}},907]
[{"$f":"'Pob x Genero'!#REF!","v":{"$error":"#REF!"}},{"$f":"'Pob x Genero'!#REF!","v":{"$error":"#REF!"}},{"$f":"'Pob x Genero'!#REF!","v":{"$error":"#REF!"}},{"$f":"'Pob x Genero'!#REF!","v":{"$error":"#REF!"}},{"$f":"'Pob x Genero'!#REF!","v":{"$error":"#REF!"}},"Hombre","00-04",{"$f":"'Pob x Genero'!#REF!","v":{"$error":"#REF!"}},908]
[{"$f":"'Pob x Genero'!#REF!","v":{"$error":"#REF!"}},{"$f":"'Pob x Genero'!#REF!","v":{"$error":"#REF!"}},{"$f":"'Pob x Genero'!#REF!","v":{"$error":"#REF!"}},{"$f":"'Pob x Genero'!#REF!","v":{"$error":"#REF!"}},{"$f":"'Pob x Genero'!#REF!","v":{"$error":"#REF!"}},"Hombre","00-04",{"$f":"'Pob x Genero'!#REF!","v":{"$error":"#REF!"}},909]
[{"$f":"'Pob x Genero'!#REF!","v":{"$error":"#REF!"}},{"$f":"'Pob x Genero'!#REF!","v":{"$error":"#REF!"}},{"$f":"'Pob x Genero'!#REF!","v":{"$error":"#REF!"}},{"$f":"'Pob x Genero'!#REF!","v":{"$error":"#REF!"}},{"$f":"'Pob x Genero'!#REF!","v":{"$error":"#REF!"}},"Hombre","00-04",{"$f":"'Pob x Genero'!#REF!","v":{"$error":"#REF!"}},910]
[{"$f":"'Pob x Genero'!#REF!","v":{"$error":"#REF!"}},{"$f":"'Pob x Genero'!#REF!","v":{"$error":"#REF!"}},{"$f":"'Pob x Genero'!#REF!","v":{"$error":"#REF!"}},{"$f":"'Pob x Genero'!#REF!","v":{"$error":"#REF!"}},{"$f":"'Pob x Genero'!#REF!","v":{"$error":"#REF!"}},"Hombre","00-04",{"$f":"'Pob x Genero'!#REF!","v":{"$error":"#REF!"}},911]
[{"$f":"'Pob x Genero'!#REF!","v":{"$error":"#REF!"}},{"$f":"'Pob x Genero'!#REF!","v":{"$error":"#REF!"}},{"$f":"'Pob x Genero'!#REF!","v":{"$error":"#REF!"}},{"$f":"'Pob x Genero'!#REF!","v":{"$error":"#REF!"}},{"$f":"'Pob x Genero'!#REF!","v":{"$error":"#REF!"}},"Hombre","00-04",{"$f":"'Pob x Genero'!#REF!","v":{"$error":"#REF!"}},912]
[{"$f":"'Pob x Genero'!#REF!","v":{"$error":"#REF!"}},{"$f":"'Pob x Genero'!#REF!","v":{"$error":"#REF!"}},{"$f":"'Pob x Genero'!#REF!","v":{"$error":"#REF!"}},{"$f":"'Pob x Genero'!#REF!","v":{"$error":"#REF!"}},{"$f":"'Pob x Genero'!#REF!","v":{"$error":"#REF!"}},"Hombre","00-04",{"$f":"'Pob x Genero'!#REF!","v":{"$error":"#REF!"}},913]
[{"$f":"'Pob x Genero'!#REF!","v":{"$error":"#REF!"}},{"$f":"'Pob x Genero'!#REF!","v":{"$error":"#REF!"}},{"$f":"'Pob x Genero'!#REF!","v":{"$error":"#REF!"}},{"$f":"'Pob x Genero'!#REF!","v":{"$error":"#REF!"}},{"$f":"'Pob x Genero'!#REF!","v":{"$error":"#REF!"}},"Hombre","00-04",{"$f":"'Pob x Genero'!#REF!","v":{"$error":"#REF!"}},914]
[{"$f":"'Pob x Genero'!#REF!","v":{"$error":"#REF!"}},{"$f":"'Pob x Genero'!#REF!","v":{"$error":"#REF!"}},{"$f":"'Pob x Genero'!#REF!","v":{"$error":"#REF!"}},{"$f":"'Pob x Genero'!#REF!","v":{"$error":"#REF!"}},{"$f":"'Pob x Genero'!#REF!","v":{"$error":"#REF!"}},"Hombre","00-04",{"$f":"'Pob x Genero'!#REF!","v":{"$error":"#REF!"}},915]
[{"$f":"'Pob x Genero'!#REF!","v":{"$error":"#REF!"}},{"$f":"'Pob x Genero'!#REF!","v":{"$error":"#REF!"}},{"$f":"'Pob x Genero'!#REF!","v":{"$error":"#REF!"}},{"$f":"'Pob x Genero'!#REF!","v":{"$error":"#REF!"}},{"$f":"'Pob x Genero'!#REF!","v":{"$error":"#REF!"}},"Hombre","00-04",{"$f":"'Pob x Genero'!#REF!","v":{"$error":"#REF!"}},916]
[{"$f":"'Pob x Genero'!#REF!","v":{"$error":"#REF!"}},{"$f":"'Pob x Genero'!#REF!","v":{"$error":"#REF!"}},{"$f":"'Pob x Genero'!#REF!","v":{"$error":"#REF!"}},{"$f":"'Pob x Genero'!#REF!","v":{"$error":"#REF!"}},{"$f":"'Pob x Genero'!#REF!","v":{"$error":"#REF!"}},"Hombre","00-04",{"$f":"'Pob x Genero'!#REF!","v":{"$error":"#REF!"}},917]
[{"$f":"'Pob x Genero'!#REF!","v":{"$error":"#REF!"}},{"$f":"'Pob x Genero'!#REF!","v":{"$error":"#REF!"}},{"$f":"'Pob x Genero'!#REF!","v":{"$error":"#REF!"}},{"$f":"'Pob x Genero'!#REF!","v":{"$error":"#REF!"}},{"$f":"'Pob x Genero'!#REF!","v":{"$error":"#REF!"}},"Hombre","00-04",{"$f":"'Pob x Genero'!#REF!","v":{"$error":"#REF!"}},918]
[{"$f":"'Pob x Genero'!#REF!","v":{"$error":"#REF!"}},{"$f":"'Pob x Genero'!#REF!","v":{"$error":"#REF!"}},{"$f":"'Pob x Genero'!#REF!","v":{"$error":"#REF!"}},{"$f":"'Pob x Genero'!#REF!","v":{"$error":"#REF!"}},{"$f":"'Pob x Genero'!#REF!","v":{"$error":"#REF!"}},"Hombre","00-04",{"$f":"'Pob x Genero'!#REF!","v":{"$error":"#REF!"}},919]
[{"$f":"'Pob x Genero'!#REF!","v":{"$error":"#REF!"}},{"$f":"'Pob x Genero'!#REF!","v":{"$error":"#REF!"}},{"$f":"'Pob x Genero'!#REF!","v":{"$error":"#REF!"}},{"$f":"'Pob x Genero'!#REF!","v":{"$error":"#REF!"}},{"$f":"'Pob x Genero'!#REF!","v":{"$error":"#REF!"}},"Hombre","00-04",{"$f":"'Pob x Genero'!#REF!","v":{"$error":"#REF!"}},920]
[{"$f":"'Pob x Genero'!#REF!","v":{"$error":"#REF!"}},{"$f":"'Pob x Genero'!#REF!","v":{"$error":"#REF!"}},{"$f":"'Pob x Genero'!#REF!","v":{"$error":"#REF!"}},{"$f":"'Pob x Genero'!#REF!","v":{"$error":"#REF!"}},{"$f":"'Pob x Genero'!#REF!","v":{"$error":"#REF!"}},"Hombre","00-04",{"$f":"'Pob x Genero'!#REF!","v":{"$error":"#REF!"}},921]
[{"$f":"'Pob x Genero'!#REF!","v":{"$error":"#REF!"}},{"$f":"'Pob x Genero'!#REF!","v":{"$error":"#REF!"}},{"$f":"'Pob x Genero'!#REF!","v":{"$error":"#REF!"}},{"$f":"'Pob x Genero'!#REF!","v":{"$error":"#REF!"}},{"$f":"'Pob x Genero'!#REF!","v":{"$error":"#REF!"}},"Hombre","00-04",{"$f":"'Pob x Genero'!#REF!","v":{"$error":"#REF!"}},922]
[{"$f":"'Pob x Genero'!#REF!","v":{"$error":"#REF!"}},{"$f":"'Pob x Genero'!#REF!","v":{"$error":"#REF!"}},{"$f":"'Pob x Genero'!#REF!","v":{"$error":"#REF!"}},{"$f":"'Pob x Genero'!#REF!","v":{"$error":"#REF!"}},{"$f":"'Pob x Genero'!#REF!","v":{"$error":"#REF!"}},"Hombre","00-04",{"$f":"'Pob x Genero'!#REF!","v":{"$error":"#REF!"}},923]
[{"$f":"'Pob x Genero'!#REF!","v":{"$error":"#REF!"}},{"$f":"'Pob x Genero'!#REF!","v":{"$error":"#REF!"}},{"$f":"'Pob x Genero'!#REF!","v":{"$error":"#REF!"}},{"$f":"'Pob x Genero'!#REF!","v":{"$error":"#REF!"}},{"$f":"'Pob x Genero'!#REF!","v":{"$error":"#REF!"}},"Hombre","00-04",{"$f":"'Pob x Genero'!#REF!","v":{"$error":"#REF!"}},924]
[{"$f":"'Pob x Genero'!#REF!","v":{"$error":"#REF!"}},{"$f":"'Pob x Genero'!#REF!","v":{"$error":"#REF!"}},{"$f":"'Pob x Genero'!#REF!","v":{"$error":"#REF!"}},{"$f":"'Pob x Genero'!#REF!","v":{"$error":"#REF!"}},{"$f":"'Pob x Genero'!#REF!","v":{"$error":"#REF!"}},"Hombre","00-04",{"$f":"'Pob x Genero'!#REF!","v":{"$error":"#REF!"}},925]
[{"$f":"'Pob x Genero'!#REF!","v":{"$error":"#REF!"}},{"$f":"'Pob x Genero'!#REF!","v":{"$error":"#REF!"}},{"$f":"'Pob x Genero'!#REF!","v":{"$error":"#REF!"}},{"$f":"'Pob x Genero'!#REF!","v":{"$error":"#REF!"}},{"$f":"'Pob x Genero'!#REF!","v":{"$error":"#REF!"}},"Hombre","00-04",{"$f":"'Pob x Genero'!#REF!","v":{"$error":"#REF!"}},926]
[{"$f":"'Pob x Genero'!#REF!","v":{"$error":"#REF!"}},{"$f":"'Pob x Genero'!#REF!","v":{"$error":"#REF!"}},{"$f":"'Pob x Genero'!#REF!","v":{"$error":"#REF!"}},{"$f":"'Pob x Genero'!#REF!","v":{"$error":"#REF!"}},{"$f":"'Pob x Genero'!#REF!","v":{"$error":"#REF!"}},"Hombre","00-04",{"$f":"'Pob x Genero'!#REF!","v":{"$error":"#REF!"}},927]
[{"$f":"'Pob x Genero'!#REF!","v":{"$error":"#REF!"}},{"$f":"'Pob x Genero'!#REF!","v":{"$error":"#REF!"}},{"$f":"'Pob x Genero'!#REF!","v":{"$error":"#REF!"}},{"$f":"'Pob x Genero'!#REF!","v":{"$error":"#REF!"}},{"$f":"'Pob x Genero'!#REF!","v":{"$error":"#REF!"}},"Hombre","00-04",{"$f":"'Pob x Genero'!#REF!","v":{"$error":"#REF!"}},928]
[{"$f":"'Pob x Genero'!#REF!","v":{"$error":"#REF!"}},{"$f":"'Pob x Genero'!#REF!","v":{"$error":"#REF!"}},{"$f":"'Pob x Genero'!#REF!","v":{"$error":"#REF!"}},{"$f":"'Pob x Genero'!#REF!","v":{"$error":"#REF!"}},{"$f":"'Pob x Genero'!#REF!","v":{"$error":"#REF!"}},"Hombre","00-04",{"$f":"'Pob x Genero'!#REF!","v":{"$error":"#REF!"}},929]
[{"$f":"'Pob x Genero'!#REF!","v":{"$error":"#REF!"}},{"$f":"'Pob x Genero'!#REF!","v":{"$error":"#REF!"}},{"$f":"'Pob x Genero'!#REF!","v":{"$error":"#REF!"}},{"$f":"'Pob x Genero'!#REF!","v":{"$error":"#REF!"}},{"$f":"'Pob x Genero'!#REF!","v":{"$error":"#REF!"}},"Hombre","00-04",{"$f":"'Pob x Genero'!#REF!","v":{"$error":"#REF!"}},930]
[{"$f":"'Pob x Genero'!#REF!","v":{"$error":"#REF!"}},{"$f":"'Pob x Genero'!#REF!","v":{"$error":"#REF!"}},{"$f":"'Pob x Genero'!#REF!","v":{"$error":"#REF!"}},{"$f":"'Pob x Genero'!#REF!","v":{"$error":"#REF!"}},{"$f":"'Pob x Genero'!#REF!","v":{"$error":"#REF!"}},"Hombre","00-04",{"$f":"'Pob x Genero'!#REF!","v":{"$error":"#REF!"}},931]
[{"$f":"'Pob x Genero'!#REF!","v":{"$error":"#REF!"}},{"$f":"'Pob x Genero'!#REF!","v":{"$error":"#REF!"}},{"$f":"'Pob x Genero'!#REF!","v":{"$error":"#REF!"}},{"$f":"'Pob x Genero'!#REF!","v":{"$error":"#REF!"}},{"$f":"'Pob x Genero'!#REF!","v":{"$error":"#REF!"}},"Hombre","00-04",{"$f":"'Pob x Genero'!#REF!","v":{"$error":"#REF!"}},932]
[{"$f":"'Pob x Genero'!#REF!","v":{"$error":"#REF!"}},{"$f":"'Pob x Genero'!#REF!","v":{"$error":"#REF!"}},{"$f":"'Pob x Genero'!#REF!","v":{"$error":"#REF!"}},{"$f":"'Pob x Genero'!#REF!","v":{"$error":"#REF!"}},{"$f":"'Pob x Genero'!#REF!","v":{"$error":"#REF!"}},"Hombre","00-04",{"$f":"'Pob x Genero'!#REF!","v":{"$error":"#REF!"}},933]
[{"$f":"'Pob x Genero'!#REF!","v":{"$error":"#REF!"}},{"$f":"'Pob x Genero'!#REF!","v":{"$error":"#REF!"}},{"$f":"'Pob x Genero'!#REF!","v":{"$error":"#REF!"}},{"$f":"'Pob x Genero'!#REF!","v":{"$error":"#REF!"}},{"$f":"'Pob x Genero'!#REF!","v":{"$error":"#REF!"}},"Hombre","00-04",{"$f":"'Pob x Genero'!#REF!","v":{"$error":"#REF!"}},934]
[{"$f":"'Pob x Genero'!#REF!","v":{"$error":"#REF!"}},{"$f":"'Pob x Genero'!#REF!","v":{"$error":"#REF!"}},{"$f":"'Pob x Genero'!#REF!","v":{"$error":"#REF!"}},{"$f":"'Pob x Genero'!#REF!","v":{"$error":"#REF!"}},{"$f":"'Pob x Genero'!#REF!","v":{"$error":"#REF!"}},"Hombre","00-04",{"$f":"'Pob x Genero'!#REF!","v":{"$error":"#REF!"}},935]
[{"$f":"'Pob x Genero'!#REF!","v":{"$error":"#REF!"}},{"$f":"'Pob x Genero'!#REF!","v":{"$error":"#REF!"}},{"$f":"'Pob x Genero'!#REF!","v":{"$error":"#REF!"}},{"$f":"'Pob x Genero'!#REF!","v":{"$error":"#REF!"}},{"$f":"'Pob x Genero'!#REF!","v":{"$error":"#REF!"}},"Hombre","00-04",{"$f":"'Pob x Genero'!#REF!","v":{"$error":"#REF!"}},936]
[{"$f":"'Pob x Genero'!#REF!","v":{"$error":"#REF!"}},{"$f":"'Pob x Genero'!#REF!","v":{"$error":"#REF!"}},{"$f":"'Pob x Genero'!#REF!","v":{"$error":"#REF!"}},{"$f":"'Pob x Genero'!#REF!","v":{"$error":"#REF!"}},{"$f":"'Pob x Genero'!#REF!","v":{"$error":"#REF!"}},"Hombre","00-04",{"$f":"'Pob x Genero'!#REF!","v":{"$error":"#REF!"}},937]
[{"$f":"'Pob x Genero'!#REF!","v":{"$error":"#REF!"}},{"$f":"'Pob x Genero'!#REF!","v":{"$error":"#REF!"}},{"$f":"'Pob x Genero'!#REF!","v":{"$error":"#REF!"}},{"$f":"'Pob x Genero'!#REF!","v":{"$error":"#REF!"}},{"$f":"'Pob x Genero'!#REF!","v":{"$error":"#REF!"}},"Hombre","00-04",{"$f":"'Pob x Genero'!#REF!","v":{"$error":"#REF!"}},938]
[{"$f":"'Pob x Genero'!#REF!","v":{"$error":"#REF!"}},{"$f":"'Pob x Genero'!#REF!","v":{"$error":"#REF!"}},{"$f":"'Pob x Genero'!#REF!","v":{"$error":"#REF!"}},{"$f":"'Pob x Genero'!#REF!","v":{"$error":"#REF!"}},{"$f":"'Pob x Genero'!#REF!","v":{"$error":"#REF!"}},"Hombre","00-04",{"$f":"'Pob x Genero'!#REF!","v":{"$error":"#REF!"}},939]
[{"$f":"'Pob x Genero'!#REF!","v":{"$error":"#REF!"}},{"$f":"'Pob x Genero'!#REF!","v":{"$error":"#REF!"}},{"$f":"'Pob x Genero'!#REF!","v":{"$error":"#REF!"}},{"$f":"'Pob x Genero'!#REF!","v":{"$error":"#REF!"}},{"$f":"'Pob x Genero'!#REF!","v":{"$error":"#REF!"}},"Hombre","00-04",{"$f":"'Pob x Genero'!#REF!","v":{"$error":"#REF!"}},940]
[{"$f":"'Pob x Genero'!#REF!","v":{"$error":"#REF!"}},{"$f":"'Pob x Genero'!#REF!","v":{"$error":"#REF!"}},{"$f":"'Pob x Genero'!#REF!","v":{"$error":"#REF!"}},{"$f":"'Pob x Genero'!#REF!","v":{"$error":"#REF!"}},{"$f":"'Pob x Genero'!#REF!","v":{"$error":"#REF!"}},"Hombre","00-04",{"$f":"'Pob x Genero'!#REF!","v":{"$error":"#REF!"}},941]
[{"$f":"'Pob x Genero'!#REF!","v":{"$error":"#REF!"}},{"$f":"'Pob x Genero'!#REF!","v":{"$error":"#REF!"}},{"$f":"'Pob x Genero'!#REF!","v":{"$error":"#REF!"}},{"$f":"'Pob x Genero'!#REF!","v":{"$error":"#REF!"}},{"$f":"'Pob x Genero'!#REF!","v":{"$error":"#REF!"}},"Hombre","00-04",{"$f":"'Pob x Genero'!#REF!","v":{"$error":"#REF!"}},942]
[{"$f":"'Pob x Genero'!#REF!","v":{"$error":"#REF!"}},{"$f":"'Pob x Genero'!#REF!","v":{"$error":"#REF!"}},{"$f":"'Pob x Genero'!#REF!","v":{"$error":"#REF!"}},{"$f":"'Pob x Genero'!#REF!","v":{"$error":"#REF!"}},{"$f":"'Pob x Genero'!#REF!","v":{"$error":"#REF!"}},"Hombre","00-04",{"$f":"'Pob x Genero'!#REF!","v":{"$error":"#REF!"}},943]
[{"$f":"'Pob x Genero'!#REF!","v":{"$error":"#REF!"}},{"$f":"'Pob x Genero'!#REF!","v":{"$error":"#REF!"}},{"$f":"'Pob x Genero'!#REF!","v":{"$error":"#REF!"}},{"$f":"'Pob x Genero'!#REF!","v":{"$error":"#REF!"}},{"$f":"'Pob x Genero'!#REF!","v":{"$error":"#REF!"}},"Hombre","00-04",{"$f":"'Pob x Genero'!#REF!","v":{"$error":"#REF!"}},944]
[{"$f":"'Pob x Genero'!#REF!","v":{"$error":"#REF!"}},{"$f":"'Pob x Genero'!#REF!","v":{"$error":"#REF!"}},{"$f":"'Pob x Genero'!#REF!","v":{"$error":"#REF!"}},{"$f":"'Pob x Genero'!#REF!","v":{"$error":"#REF!"}},{"$f":"'Pob x Genero'!#REF!","v":{"$error":"#REF!"}},"Hombre","00-04",{"$f":"'Pob x Genero'!#REF!","v":{"$error":"#REF!"}},945]
[{"$f":"'Pob x Genero'!#REF!","v":{"$error":"#REF!"}},{"$f":"'Pob x Genero'!#REF!","v":{"$error":"#REF!"}},{"$f":"'Pob x Genero'!#REF!","v":{"$error":"#REF!"}},{"$f":"'Pob x Genero'!#REF!","v":{"$error":"#REF!"}},{"$f":"'Pob x Genero'!#REF!","v":{"$error":"#REF!"}},"Hombre","00-04",{"$f":"'Pob x Genero'!#REF!","v":{"$error":"#REF!"}},946]
[{"$f":"'Pob x Genero'!#REF!","v":{"$error":"#REF!"}},{"$f":"'Pob x Genero'!#REF!","v":{"$error":"#REF!"}},{"$f":"'Pob x Genero'!#REF!","v":{"$error":"#REF!"}},{"$f":"'Pob x Genero'!#REF!","v":{"$error":"#REF!"}},{"$f":"'Pob x Genero'!#REF!","v":{"$error":"#REF!"}},"Hombre","00-04",{"$f":"'Pob x Genero'!#REF!","v":{"$error":"#REF!"}},947]
[{"$f":"'Pob x Genero'!#REF!","v":{"$error":"#REF!"}},{"$f":"'Pob x Genero'!#REF!","v":{"$error":"#REF!"}},{"$f":"'Pob x Genero'!#REF!","v":{"$error":"#REF!"}},{"$f":"'Pob x Genero'!#REF!","v":{"$error":"#REF!"}},{"$f":"'Pob x Genero'!#REF!","v":{"$error":"#REF!"}},"Hombre","00-04",{"$f":"'Pob x Genero'!#REF!","v":{"$error":"#REF!"}},948]
[{"$f":"'Pob x Genero'!#REF!","v":{"$error":"#REF!"}},{"$f":"'Pob x Genero'!#REF!","v":{"$error":"#REF!"}},{"$f":"'Pob x Genero'!#REF!","v":{"$error":"#REF!"}},{"$f":"'Pob x Genero'!#REF!","v":{"$error":"#REF!"}},{"$f":"'Pob x Genero'!#REF!","v":{"$error":"#REF!"}},"Hombre","00-04",{"$f":"'Pob x Genero'!#REF!","v":{"$error":"#REF!"}},949]
[{"$f":"'Pob x Genero'!#REF!","v":{"$error":"#REF!"}},{"$f":"'Pob x Genero'!#REF!","v":{"$error":"#REF!"}},{"$f":"'Pob x Genero'!#REF!","v":{"$error":"#REF!"}},{"$f":"'Pob x Genero'!#REF!","v":{"$error":"#REF!"}},{"$f":"'Pob x Genero'!#REF!","v":{"$error":"#REF!"}},"Hombre","00-04",{"$f":"'Pob x Genero'!#REF!","v":{"$error":"#REF!"}},950]
[{"$f":"'Pob x Genero'!#REF!","v":{"$error":"#REF!"}},{"$f":"'Pob x Genero'!#REF!","v":{"$error":"#REF!"}},{"$f":"'Pob x Genero'!#REF!","v":{"$error":"#REF!"}},{"$f":"'Pob x Genero'!#REF!","v":{"$error":"#REF!"}},{"$f":"'Pob x Genero'!#REF!","v":{"$error":"#REF!"}},"Hombre","00-04",{"$f":"'Pob x Genero'!#REF!","v":{"$error":"#REF!"}},951]
[{"$f":"'Pob x Genero'!#REF!","v":{"$error":"#REF!"}},{"$f":"'Pob x Genero'!#REF!","v":{"$error":"#REF!"}},{"$f":"'Pob x Genero'!#REF!","v":{"$error":"#REF!"}},{"$f":"'Pob x Genero'!#REF!","v":{"$error":"#REF!"}},{"$f":"'Pob x Genero'!#REF!","v":{"$error":"#REF!"}},"Hombre","00-04",{"$f":"'Pob x Genero'!#REF!","v":{"$error":"#REF!"}},952]
[{"$f":"'Pob x Genero'!#REF!","v":{"$error":"#REF!"}},{"$f":"'Pob x Genero'!#REF!","v":{"$error":"#REF!"}},{"$f":"'Pob x Genero'!#REF!","v":{"$error":"#REF!"}},{"$f":"'Pob x Genero'!#REF!","v":{"$error":"#REF!"}},{"$f":"'Pob x Genero'!#REF!","v":{"$error":"#REF!"}},"Hombre","00-04",{"$f":"'Pob x Genero'!#REF!","v":{"$error":"#REF!"}},953]
[{"$f":"'Pob x Genero'!#REF!","v":{"$error":"#REF!"}},{"$f":"'Pob x Genero'!#REF!","v":{"$error":"#REF!"}},{"$f":"'Pob x Genero'!#REF!","v":{"$error":"#REF!"}},{"$f":"'Pob x Genero'!#REF!","v":{"$error":"#REF!"}},{"$f":"'Pob x Genero'!#REF!","v":{"$error":"#REF!"}},"Hombre","00-04",{"$f":"'Pob x Genero'!#REF!","v":{"$error":"#REF!"}},954]
[{"$f":"'Pob x Genero'!#REF!","v":{"$error":"#REF!"}},{"$f":"'Pob x Genero'!#REF!","v":{"$error":"#REF!"}},{"$f":"'Pob x Genero'!#REF!","v":{"$error":"#REF!"}},{"$f":"'Pob x Genero'!#REF!","v":{"$error":"#REF!"}},{"$f":"'Pob x Genero'!#REF!","v":{"$error":"#REF!"}},"Hombre","00-04",{"$f":"'Pob x Genero'!#REF!","v":{"$error":"#REF!"}},955]
[{"$f":"'Pob x Genero'!#REF!","v":{"$error":"#REF!"}},{"$f":"'Pob x Genero'!#REF!","v":{"$error":"#REF!"}},{"$f":"'Pob x Genero'!#REF!","v":{"$error":"#REF!"}},{"$f":"'Pob x Genero'!#REF!","v":{"$error":"#REF!"}},{"$f":"'Pob x Genero'!#REF!","v":{"$error":"#REF!"}},"Hombre","00-04",{"$f":"'Pob x Genero'!#REF!","v":{"$error":"#REF!"}},956]
[{"$f":"'Pob x Genero'!#REF!","v":{"$error":"#REF!"}},{"$f":"'Pob x Genero'!#REF!","v":{"$error":"#REF!"}},{"$f":"'Pob x Genero'!#REF!","v":{"$error":"#REF!"}},{"$f":"'Pob x Genero'!#REF!","v":{"$error":"#REF!"}},{"$f":"'Pob x Genero'!#REF!","v":{"$error":"#REF!"}},"Hombre","00-04",{"$f":"'Pob x Genero'!#REF!","v":{"$error":"#REF!"}},957]
[{"$f":"'Pob x Genero'!#REF!","v":{"$error":"#REF!"}},{"$f":"'Pob x Genero'!#REF!","v":{"$error":"#REF!"}},{"$f":"'Pob x Genero'!#REF!","v":{"$error":"#REF!"}},{"$f":"'Pob x Genero'!#REF!","v":{"$error":"#REF!"}},{"$f":"'Pob x Genero'!#REF!","v":{"$error":"#REF!"}},"Hombre","00-04",{"$f":"'Pob x Genero'!#REF!","v":{"$error":"#REF!"}},958]
[{"$f":"'Pob x Genero'!#REF!","v":{"$error":"#REF!"}},{"$f":"'Pob x Genero'!#REF!","v":{"$error":"#REF!"}},{"$f":"'Pob x Genero'!#REF!","v":{"$error":"#REF!"}},{"$f":"'Pob x Genero'!#REF!","v":{"$error":"#REF!"}},{"$f":"'Pob x Genero'!#REF!","v":{"$error":"#REF!"}},"Hombre","00-04",{"$f":"'Pob x Genero'!#REF!","v":{"$error":"#REF!"}},959]
[{"$f":"'Pob x Genero'!#REF!","v":{"$error":"#REF!"}},{"$f":"'Pob x Genero'!#REF!","v":{"$error":"#REF!"}},{"$f":"'Pob x Genero'!#REF!","v":{"$error":"#REF!"}},{"$f":"'Pob x Genero'!#REF!","v":{"$error":"#REF!"}},{"$f":"'Pob x Genero'!#REF!","v":{"$error":"#REF!"}},"Hombre","00-04",{"$f":"'Pob x Genero'!#REF!","v":{"$error":"#REF!"}},960]
[{"$f":"'Pob x Genero'!#REF!","v":{"$error":"#REF!"}},{"$f":"'Pob x Genero'!#REF!","v":{"$error":"#REF!"}},{"$f":"'Pob x Genero'!#REF!","v":{"$error":"#REF!"}},{"$f":"'Pob x Genero'!#REF!","v":{"$error":"#REF!"}},{"$f":"'Pob x Genero'!#REF!","v":{"$error":"#REF!"}},"Hombre","00-04",{"$f":"'Pob x Genero'!#REF!","v":{"$error":"#REF!"}},961]
[{"$f":"'Pob x Genero'!#REF!","v":{"$error":"#REF!"}},{"$f":"'Pob x Genero'!#REF!","v":{"$error":"#REF!"}},{"$f":"'Pob x Genero'!#REF!","v":{"$error":"#REF!"}},{"$f":"'Pob x Genero'!#REF!","v":{"$error":"#REF!"}},{"$f":"'Pob x Genero'!#REF!","v":{"$error":"#REF!"}},{"$f":"F962","v":"Hombre"},{"$f":"G962","v":"00-04"},{"$f":"'Pob x Genero'!#REF!","v":{"$error":"#REF!"}},962]
[{"$f":"'Pob x Genero'!#REF!","v":{"$error":"#REF!"}},{"$f":"'Pob x Genero'!#REF!","v":{"$error":"#REF!"}},{"$f":"'Pob x Genero'!#REF!","v":{"$error":"#REF!"}},{"$f":"'Pob x Genero'!#REF!","v":{"$error":"#REF!"}},{"$f":"'Pob x Genero'!#REF!","v":{"$error":"#REF!"}},"Hombre","00-04",{"$f":"'Pob x Genero'!#REF!","v":{"$error":"#REF!"}},963]
[{"$f":"'Pob x Genero'!#REF!","v":{"$error":"#REF!"}},{"$f":"'Pob x Genero'!#REF!","v":{"$error":"#REF!"}},{"$f":"'Pob x Genero'!#REF!","v":{"$error":"#REF!"}},{"$f":"'Pob x Genero'!#REF!","v":{"$error":"#REF!"}},{"$f":"'Pob x Genero'!#REF!","v":{"$error":"#REF!"}},"Hombre","00-04",{"$f":"'Pob x Genero'!#REF!","v":{"$error":"#REF!"}},964]
[{"$f":"'Pob x Genero'!#REF!","v":{"$error":"#REF!"}},{"$f":"'Pob x Genero'!#REF!","v":{"$error":"#REF!"}},{"$f":"'Pob x Genero'!#REF!","v":{"$error":"#REF!"}},{"$f":"'Pob x Genero'!#REF!","v":{"$error":"#REF!"}},{"$f":"'Pob x Genero'!#REF!","v":{"$error":"#REF!"}},"Hombre","00-04",{"$f":"'Pob x Genero'!#REF!","v":{"$error":"#REF!"}},965]
[{"$f":"'Pob x Genero'!#REF!","v":{"$error":"#REF!"}},{"$f":"'Pob x Genero'!#REF!","v":{"$error":"#REF!"}},{"$f":"'Pob x Genero'!#REF!","v":{"$error":"#REF!"}},{"$f":"'Pob x Genero'!#REF!","v":{"$error":"#REF!"}},{"$f":"'Pob x Genero'!#REF!","v":{"$error":"#REF!"}},"Hombre","00-04",{"$f":"'Pob x Genero'!#REF!","v":{"$error":"#REF!"}},966]
[{"$f":"'Pob x Genero'!#REF!","v":{"$error":"#REF!"}},{"$f":"'Pob x Genero'!#REF!","v":{"$error":"#REF!"}},{"$f":"'Pob x Genero'!#REF!","v":{"$error":"#REF!"}},{"$f":"'Pob x Genero'!#REF!","v":{"$error":"#REF!"}},{"$f":"'Pob x Genero'!#REF!","v":{"$error":"#REF!"}},"Hombre","00-04",{"$f":"'Pob x Genero'!#REF!","v":{"$error":"#REF!"}},967]
[{"$f":"'Pob x Genero'!#REF!","v":{"$error":"#REF!"}},{"$f":"'Pob x Genero'!#REF!","v":{"$error":"#REF!"}},{"$f":"'Pob x Genero'!#REF!","v":{"$error":"#REF!"}},{"$f":"'Pob x Genero'!#REF!","v":{"$error":"#REF!"}},{"$f":"'Pob x Genero'!#REF!","v":{"$error":"#REF!"}},"Hombre","00-04",{"$f":"'Pob x Genero'!#REF!","v":{"$error":"#REF!"}},968]
[{"$f":"'Pob x Genero'!#REF!","v":{"$error":"#REF!"}},{"$f":"'Pob x Genero'!#REF!","v":{"$error":"#REF!"}},{"$f":"'Pob x Genero'!#REF!","v":{"$error":"#REF!"}},{"$f":"'Pob x Genero'!#REF!","v":{"$error":"#REF!"}},{"$f":"'Pob x Genero'!#REF!","v":{"$error":"#REF!"}},"Hombre","00-04",{"$f":"'Pob x Genero'!#REF!","v":{"$error":"#REF!"}},969]
[{"$f":"'Pob x Genero'!#REF!","v":{"$error":"#REF!"}},{"$f":"'Pob x Genero'!#REF!","v":{"$error":"#REF!"}},{"$f":"'Pob x Genero'!#REF!","v":{"$error":"#REF!"}},{"$f":"'Pob x Genero'!#REF!","v":{"$error":"#REF!"}},{"$f":"'Pob x Genero'!#REF!","v":{"$error":"#REF!"}},"Hombre","00-04",{"$f":"'Pob x Genero'!#REF!","v":{"$error":"#REF!"}},970]
[{"$f":"'Pob x Genero'!#REF!","v":{"$error":"#REF!"}},{"$f":"'Pob x Genero'!#REF!","v":{"$error":"#REF!"}},{"$f":"'Pob x Genero'!#REF!","v":{"$error":"#REF!"}},{"$f":"'Pob x Genero'!#REF!","v":{"$error":"#REF!"}},{"$f":"'Pob x Genero'!#REF!","v":{"$error":"#REF!"}},"Hombre","00-04",{"$f":"'Pob x Genero'!#REF!","v":{"$error":"#REF!"}},971]
[{"$f":"'Pob x Genero'!#REF!","v":{"$error":"#REF!"}},{"$f":"'Pob x Genero'!#REF!","v":{"$error":"#REF!"}},{"$f":"'Pob x Genero'!#REF!","v":{"$error":"#REF!"}},{"$f":"'Pob x Genero'!#REF!","v":{"$error":"#REF!"}},{"$f":"'Pob x Genero'!#REF!","v":{"$error":"#REF!"}},"Hombre","00-04",{"$f":"'Pob x Genero'!#REF!","v":{"$error":"#REF!"}},972]
[{"$f":"'Pob x Genero'!#REF!","v":{"$error":"#REF!"}},{"$f":"'Pob x Genero'!#REF!","v":{"$error":"#REF!"}},{"$f":"'Pob x Genero'!#REF!","v":{"$error":"#REF!"}},{"$f":"'Pob x Genero'!#REF!","v":{"$error":"#REF!"}},{"$f":"'Pob x Genero'!#REF!","v":{"$error":"#REF!"}},"Hombre","00-04",{"$f":"'Pob x Genero'!#REF!","v":{"$error":"#REF!"}},973]
[{"$f":"'Pob x Genero'!#REF!","v":{"$error":"#REF!"}},{"$f":"'Pob x Genero'!#REF!","v":{"$error":"#REF!"}},{"$f":"'Pob x Genero'!#REF!","v":{"$error":"#REF!"}},{"$f":"'Pob x Genero'!#REF!","v":{"$error":"#REF!"}},{"$f":"'Pob x Genero'!#REF!","v":{"$error":"#REF!"}},"Hombre","00-04",{"$f":"'Pob x Genero'!#REF!","v":{"$error":"#REF!"}},974]
[{"$f":"'Pob x Genero'!#REF!","v":{"$error":"#REF!"}},{"$f":"'Pob x Genero'!#REF!","v":{"$error":"#REF!"}},{"$f":"'Pob x Genero'!#REF!","v":{"$error":"#REF!"}},{"$f":"'Pob x Genero'!#REF!","v":{"$error":"#REF!"}},{"$f":"'Pob x Genero'!#REF!","v":{"$error":"#REF!"}},"Hombre","00-04",{"$f":"'Pob x Genero'!#REF!","v":{"$error":"#REF!"}},975]
[{"$f":"'Pob x Genero'!#REF!","v":{"$error":"#REF!"}},{"$f":"'Pob x Genero'!#REF!","v":{"$error":"#REF!"}},{"$f":"'Pob x Genero'!#REF!","v":{"$error":"#REF!"}},{"$f":"'Pob x Genero'!#REF!","v":{"$error":"#REF!"}},{"$f":"'Pob x Genero'!#REF!","v":{"$error":"#REF!"}},"Hombre","00-04",{"$f":"'Pob x Genero'!#REF!","v":{"$error":"#REF!"}},976]
[{"$f":"'Pob x Genero'!#REF!","v":{"$error":"#REF!"}},{"$f":"'Pob x Genero'!#REF!","v":{"$error":"#REF!"}},{"$f":"'Pob x Genero'!#REF!","v":{"$error":"#REF!"}},{"$f":"'Pob x Genero'!#REF!","v":{"$error":"#REF!"}},{"$f":"'Pob x Genero'!#REF!","v":{"$error":"#REF!"}},"Hombre","00-04",{"$f":"'Pob x Genero'!#REF!","v":{"$error":"#REF!"}},977]
[{"$f":"'Pob x Genero'!#REF!","v":{"$error":"#REF!"}},{"$f":"'Pob x Genero'!#REF!","v":{"$error":"#REF!"}},{"$f":"'Pob x Genero'!#REF!","v":{"$error":"#REF!"}},{"$f":"'Pob x Genero'!#REF!","v":{"$error":"#REF!"}},{"$f":"'Pob x Genero'!#REF!","v":{"$error":"#REF!"}},"Hombre","00-04",{"$f":"'Pob x Genero'!#REF!","v":{"$error":"#REF!"}},978]
[{"$f":"'Pob x Genero'!#REF!","v":{"$error":"#REF!"}},{"$f":"'Pob x Genero'!#REF!","v":{"$error":"#REF!"}},{"$f":"'Pob x Genero'!#REF!","v":{"$error":"#REF!"}},{"$f":"'Pob x Genero'!#REF!","v":{"$error":"#REF!"}},{"$f":"'Pob x Genero'!#REF!","v":{"$error":"#REF!"}},"Hombre","00-04",{"$f":"'Pob x Genero'!#REF!","v":{"$error":"#REF!"}},979]
[{"$f":"'Pob x Genero'!#REF!","v":{"$error":"#REF!"}},{"$f":"'Pob x Genero'!#REF!","v":{"$error":"#REF!"}},{"$f":"'Pob x Genero'!#REF!","v":{"$error":"#REF!"}},{"$f":"'Pob x Genero'!#REF!","v":{"$error":"#REF!"}},{"$f":"'Pob x Genero'!#REF!","v":{"$error":"#REF!"}},"Hombre","00-04",{"$f":"'Pob x Genero'!#REF!","v":{"$error":"#REF!"}},980]
[{"$f":"'Pob x Genero'!#REF!","v":{"$error":"#REF!"}},{"$f":"'Pob x Genero'!#REF!","v":{"$error":"#REF!"}},{"$f":"'Pob x Genero'!#REF!","v":{"$error":"#REF!"}},{"$f":"'Pob x Genero'!#REF!","v":{"$error":"#REF!"}},{"$f":"'Pob x Genero'!#REF!","v":{"$error":"#REF!"}},"Hombre","00-04",{"$f":"'Pob x Genero'!#REF!","v":{"$error":"#REF!"}},981]
[{"$f":"'Pob x Genero'!#REF!","v":{"$error":"#REF!"}},{"$f":"'Pob x Genero'!#REF!","v":{"$error":"#REF!"}},{"$f":"'Pob x Genero'!#REF!","v":{"$error":"#REF!"}},{"$f":"'Pob x Genero'!#REF!","v":{"$error":"#REF!"}},{"$f":"'Pob x Genero'!#REF!","v":{"$error":"#REF!"}},"Hombre","00-04",{"$f":"'Pob x Genero'!#REF!","v":{"$error":"#REF!"}},982]
[{"$f":"'Pob x Genero'!#REF!","v":{"$error":"#REF!"}},{"$f":"'Pob x Genero'!#REF!","v":{"$error":"#REF!"}},{"$f":"'Pob x Genero'!#REF!","v":{"$error":"#REF!"}},{"$f":"'Pob x Genero'!#REF!","v":{"$error":"#REF!"}},{"$f":"'Pob x Genero'!#REF!","v":{"$error":"#REF!"}},"Hombre","00-04",{"$f":"'Pob x Genero'!#REF!","v":{"$error":"#REF!"}},983]
[{"$f":"'Pob x Genero'!#REF!","v":{"$error":"#REF!"}},{"$f":"'Pob x Genero'!#REF!","v":{"$error":"#REF!"}},{"$f":"'Pob x Genero'!#REF!","v":{"$error":"#REF!"}},{"$f":"'Pob x Genero'!#REF!","v":{"$error":"#REF!"}},{"$f":"'Pob x Genero'!#REF!","v":{"$error":"#REF!"}},"Hombre","00-04",{"$f":"'Pob x Genero'!#REF!","v":{"$error":"#REF!"}},984]
[{"$f":"'Pob x Genero'!#REF!","v":{"$error":"#REF!"}},{"$f":"'Pob x Genero'!#REF!","v":{"$error":"#REF!"}},{"$f":"'Pob x Genero'!#REF!","v":{"$error":"#REF!"}},{"$f":"'Pob x Genero'!#REF!","v":{"$error":"#REF!"}},{"$f":"'Pob x Genero'!#REF!","v":{"$error":"#REF!"}},"Hombre","00-04",{"$f":"'Pob x Genero'!#REF!","v":{"$error":"#REF!"}},985]
[{"$f":"'Pob x Genero'!#REF!","v":{"$error":"#REF!"}},{"$f":"'Pob x Genero'!#REF!","v":{"$error":"#REF!"}},{"$f":"'Pob x Genero'!#REF!","v":{"$error":"#REF!"}},{"$f":"'Pob x Genero'!#REF!","v":{"$error":"#REF!"}},{"$f":"'Pob x Genero'!#REF!","v":{"$error":"#REF!"}},"Hombre","00-04",{"$f":"'Pob x Genero'!#REF!","v":{"$error":"#REF!"}},986]
[{"$f":"'Pob x Genero'!#REF!","v":{"$error":"#REF!"}},{"$f":"'Pob x Genero'!#REF!","v":{"$error":"#REF!"}},{"$f":"'Pob x Genero'!#REF!","v":{"$error":"#REF!"}},{"$f":"'Pob x Genero'!#REF!","v":{"$error":"#REF!"}},{"$f":"'Pob x Genero'!#REF!","v":{"$error":"#REF!"}},"Hombre","00-04",{"$f":"'Pob x Genero'!#REF!","v":{"$error":"#REF!"}},987]
[{"$f":"'Pob x Genero'!#REF!","v":{"$error":"#REF!"}},{"$f":"'Pob x Genero'!#REF!","v":{"$error":"#REF!"}},{"$f":"'Pob x Genero'!#REF!","v":{"$error":"#REF!"}},{"$f":"'Pob x Genero'!#REF!","v":{"$error":"#REF!"}},{"$f":"'Pob x Genero'!#REF!","v":{"$error":"#REF!"}},"Hombre","00-04",{"$f":"'Pob x Genero'!#REF!","v":{"$error":"#REF!"}},988]
[{"$f":"'Pob x Genero'!#REF!","v":{"$error":"#REF!"}},{"$f":"'Pob x Genero'!#REF!","v":{"$error":"#REF!"}},{"$f":"'Pob x Genero'!#REF!","v":{"$error":"#REF!"}},{"$f":"'Pob x Genero'!#REF!","v":{"$error":"#REF!"}},{"$f":"'Pob x Genero'!#REF!","v":{"$error":"#REF!"}},"Hombre","00-04",{"$f":"'Pob x Genero'!#REF!","v":{"$error":"#REF!"}},989]
[{"$f":"'Pob x Genero'!#REF!","v":{"$error":"#REF!"}},{"$f":"'Pob x Genero'!#REF!","v":{"$error":"#REF!"}},{"$f":"'Pob x Genero'!#REF!","v":{"$error":"#REF!"}},{"$f":"'Pob x Genero'!#REF!","v":{"$error":"#REF!"}},{"$f":"'Pob x Genero'!#REF!","v":{"$error":"#REF!"}},"Hombre","00-04",{"$f":"'Pob x Genero'!#REF!","v":{"$error":"#REF!"}},990]
[{"$f":"'Pob x Genero'!#REF!","v":{"$error":"#REF!"}},{"$f":"'Pob x Genero'!#REF!","v":{"$error":"#REF!"}},{"$f":"'Pob x Genero'!#REF!","v":{"$error":"#REF!"}},{"$f":"'Pob x Genero'!#REF!","v":{"$error":"#REF!"}},{"$f":"'Pob x Genero'!#REF!","v":{"$error":"#REF!"}},"Hombre","00-04",{"$f":"'Pob x Genero'!#REF!","v":{"$error":"#REF!"}},991]
[{"$f":"'Pob x Genero'!#REF!","v":{"$error":"#REF!"}},{"$f":"'Pob x Genero'!#REF!","v":{"$error":"#REF!"}},{"$f":"'Pob x Genero'!#REF!","v":{"$error":"#REF!"}},{"$f":"'Pob x Genero'!#REF!","v":{"$error":"#REF!"}},{"$f":"'Pob x Genero'!#REF!","v":{"$error":"#REF!"}},"Hombre","00-04",{"$f":"'Pob x Genero'!#REF!","v":{"$error":"#REF!"}},992]
[{"$f":"'Pob x Genero'!#REF!","v":{"$error":"#REF!"}},{"$f":"'Pob x Genero'!#REF!","v":{"$error":"#REF!"}},{"$f":"'Pob x Genero'!#REF!","v":{"$error":"#REF!"}},{"$f":"'Pob x Genero'!#REF!","v":{"$error":"#REF!"}},{"$f":"'Pob x Genero'!#REF!","v":{"$error":"#REF!"}},"Hombre","00-04",{"$f":"'Pob x Genero'!#REF!","v":{"$error":"#REF!"}},993]
[{"$f":"'Pob x Genero'!#REF!","v":{"$error":"#REF!"}},{"$f":"'Pob x Genero'!#REF!","v":{"$error":"#REF!"}},{"$f":"'Pob x Genero'!#REF!","v":{"$error":"#REF!"}},{"$f":"'Pob x Genero'!#REF!","v":{"$error":"#REF!"}},{"$f":"'Pob x Genero'!#REF!","v":{"$error":"#REF!"}},"Hombre","00-04",{"$f":"'Pob x Genero'!#REF!","v":{"$error":"#REF!"}},994]
[{"$f":"'Pob x Genero'!#REF!","v":{"$error":"#REF!"}},{"$f":"'Pob x Genero'!#REF!","v":{"$error":"#REF!"}},{"$f":"'Pob x Genero'!#REF!","v":{"$error":"#REF!"}},{"$f":"'Pob x Genero'!#REF!","v":{"$error":"#REF!"}},{"$f":"'Pob x Genero'!#REF!","v":{"$error":"#REF!"}},"Hombre","00-04",{"$f":"'Pob x Genero'!#REF!","v":{"$error":"#REF!"}},995]
[{"$f":"'Pob x Genero'!#REF!","v":{"$error":"#REF!"}},{"$f":"'Pob x Genero'!#REF!","v":{"$error":"#REF!"}},{"$f":"'Pob x Genero'!#REF!","v":{"$error":"#REF!"}},{"$f":"'Pob x Genero'!#REF!","v":{"$error":"#REF!"}},{"$f":"'Pob x Genero'!#REF!","v":{"$error":"#REF!"}},"Hombre","00-04",{"$f":"'Pob x Genero'!#REF!","v":{"$error":"#REF!"}},996]
[{"$f":"'Pob x Genero'!#REF!","v":{"$error":"#REF!"}},{"$f":"'Pob x Genero'!#REF!","v":{"$error":"#REF!"}},{"$f":"'Pob x Genero'!#REF!","v":{"$error":"#REF!"}},{"$f":"'Pob x Genero'!#REF!","v":{"$error":"#REF!"}},{"$f":"'Pob x Genero'!#REF!","v":{"$error":"#REF!"}},"Hombre","00-04",{"$f":"'Pob x Genero'!#REF!","v":{"$error":"#REF!"}},997]
[{"$f":"'Pob x Genero'!#REF!","v":{"$error":"#REF!"}},{"$f":"'Pob x Genero'!#REF!","v":{"$error":"#REF!"}},{"$f":"'Pob x Genero'!#REF!","v":{"$error":"#REF!"}},{"$f":"'Pob x Genero'!#REF!","v":{"$error":"#REF!"}},{"$f":"'Pob x Genero'!#REF!","v":{"$error":"#REF!"}},"Hombre","00-04",{"$f":"'Pob x Genero'!#REF!","v":{"$error":"#REF!"}},998]
[{"$f":"'Pob x Genero'!#REF!","v":{"$error":"#REF!"}},{"$f":"'Pob x Genero'!#REF!","v":{"$error":"#REF!"}},{"$f":"'Pob x Genero'!#REF!","v":{"$error":"#REF!"}},{"$f":"'Pob x Genero'!#REF!","v":{"$error":"#REF!"}},{"$f":"'Pob x Genero'!#REF!","v":{"$error":"#REF!"}},"Hombre","00-04",{"$f":"'Pob x Genero'!#REF!","v":{"$error":"#REF!"}},999]
[{"$f":"'Pob x Genero'!#REF!","v":{"$error":"#REF!"}},{"$f":"'Pob x Genero'!#REF!","v":{"$error":"#REF!"}},{"$f":"'Pob x Genero'!#REF!","v":{"$error":"#REF!"}},{"$f":"'Pob x Genero'!#REF!","v":{"$error":"#REF!"}},{"$f":"'Pob x Genero'!#REF!","v":{"$error":"#REF!"}},"Hombre","00-04",{"$f":"'Pob x Genero'!#REF!","v":{"$error":"#REF!"}},1000]
[{"$f":"'Pob x Genero'!#REF!","v":{"$error":"#REF!"}},{"$f":"'Pob x Genero'!#REF!","v":{"$error":"#REF!"}},{"$f":"'Pob x Genero'!#REF!","v":{"$error":"#REF!"}},{"$f":"'Pob x Genero'!#REF!","v":{"$error":"#REF!"}},{"$f":"'Pob x Genero'!#REF!","v":{"$error":"#REF!"}},"Hombre","00-04",{"$f":"'Pob x Genero'!#REF!","v":{"$error":"#REF!"}},1001]
[{"$f":"'Pob x Genero'!#REF!","v":{"$error":"#REF!"}},{"$f":"'Pob x Genero'!#REF!","v":{"$error":"#REF!"}},{"$f":"'Pob x Genero'!#REF!","v":{"$error":"#REF!"}},{"$f":"'Pob x Genero'!#REF!","v":{"$error":"#REF!"}},{"$f":"'Pob x Genero'!#REF!","v":{"$error":"#REF!"}},"Hombre","00-04",{"$f":"'Pob x Genero'!#REF!","v":{"$error":"#REF!"}},1002]
[{"$f":"'Pob x Genero'!#REF!","v":{"$error":"#REF!"}},{"$f":"'Pob x Genero'!#REF!","v":{"$error":"#REF!"}},{"$f":"'Pob x Genero'!#REF!","v":{"$error":"#REF!"}},{"$f":"'Pob x Genero'!#REF!","v":{"$error":"#REF!"}},{"$f":"'Pob x Genero'!#REF!","v":{"$error":"#REF!"}},"Hombre","00-04",{"$f":"'Pob x Genero'!#REF!","v":{"$error":"#REF!"}},1003]
[{"$f":"'Pob x Genero'!#REF!","v":{"$error":"#REF!"}},{"$f":"'Pob x Genero'!#REF!","v":{"$error":"#REF!"}},{"$f":"'Pob x Genero'!#REF!","v":{"$error":"#REF!"}},{"$f":"'Pob x Genero'!#REF!","v":{"$error":"#REF!"}},{"$f":"'Pob x Genero'!#REF!","v":{"$error":"#REF!"}},"Hombre","00-04",{"$f":"'Pob x Genero'!#REF!","v":{"$error":"#REF!"}},1004]
[{"$f":"'Pob x Genero'!#REF!","v":{"$error":"#REF!"}},{"$f":"'Pob x Genero'!#REF!","v":{"$error":"#REF!"}},{"$f":"'Pob x Genero'!#REF!","v":{"$error":"#REF!"}},{"$f":"'Pob x Genero'!#REF!","v":{"$error":"#REF!"}},{"$f":"'Pob x Genero'!#REF!","v":{"$error":"#REF!"}},"Hombre","00-04",{"$f":"'Pob x Genero'!#REF!","v":{"$error":"#REF!"}},1005]
[{"$f":"'Pob x Genero'!#REF!","v":{"$error":"#REF!"}},{"$f":"'Pob x Genero'!#REF!","v":{"$error":"#REF!"}},{"$f":"'Pob x Genero'!#REF!","v":{"$error":"#REF!"}},{"$f":"'Pob x Genero'!#REF!","v":{"$error":"#REF!"}},{"$f":"'Pob x Genero'!#REF!","v":{"$error":"#REF!"}},"Hombre","00-04",{"$f":"'Pob x Genero'!#REF!","v":{"$error":"#REF!"}},1006]
[{"$f":"'Pob x Genero'!#REF!","v":{"$error":"#REF!"}},{"$f":"'Pob x Genero'!#REF!","v":{"$error":"#REF!"}},{"$f":"'Pob x Genero'!#REF!","v":{"$error":"#REF!"}},{"$f":"'Pob x Genero'!#REF!","v":{"$error":"#REF!"}},{"$f":"'Pob x Genero'!#REF!","v":{"$error":"#REF!"}},"Hombre","00-04",{"$f":"'Pob x Genero'!#REF!","v":{"$error":"#REF!"}},1007]
[{"$f":"'Pob x Genero'!#REF!","v":{"$error":"#REF!"}},{"$f":"'Pob x Genero'!#REF!","v":{"$error":"#REF!"}},{"$f":"'Pob x Genero'!#REF!","v":{"$error":"#REF!"}},{"$f":"'Pob x Genero'!#REF!","v":{"$error":"#REF!"}},{"$f":"'Pob x Genero'!#REF!","v":{"$error":"#REF!"}},"Hombre","00-04",{"$f":"'Pob x Genero'!#REF!","v":{"$error":"#REF!"}},1008]
[{"$f":"'Pob x Genero'!#REF!","v":{"$error":"#REF!"}},{"$f":"'Pob x Genero'!#REF!","v":{"$error":"#REF!"}},{"$f":"'Pob x Genero'!#REF!","v":{"$error":"#REF!"}},{"$f":"'Pob x Genero'!#REF!","v":{"$error":"#REF!"}},{"$f":"'Pob x Genero'!#REF!","v":{"$error":"#REF!"}},"Hombre","00-04",{"$f":"'Pob x Genero'!#REF!","v":{"$error":"#REF!"}},1009]
[{"$f":"'Pob x Genero'!#REF!","v":{"$error":"#REF!"}},{"$f":"'Pob x Genero'!#REF!","v":{"$error":"#REF!"}},{"$f":"'Pob x Genero'!#REF!","v":{"$error":"#REF!"}},{"$f":"'Pob x Genero'!#REF!","v":{"$error":"#REF!"}},{"$f":"'Pob x Genero'!#REF!","v":{"$error":"#REF!"}},"Hombre","00-04",{"$f":"'Pob x Genero'!#REF!","v":{"$error":"#REF!"}},1010]
[{"$f":"'Pob x Genero'!#REF!","v":{"$error":"#REF!"}},{"$f":"'Pob x Genero'!#REF!","v":{"$error":"#REF!"}},{"$f":"'Pob x Genero'!#REF!","v":{"$error":"#REF!"}},{"$f":"'Pob x Genero'!#REF!","v":{"$error":"#REF!"}},{"$f":"'Pob x Genero'!#REF!","v":{"$error":"#REF!"}},"Hombre","00-04",{"$f":"'Pob x Genero'!#REF!","v":{"$error":"#REF!"}},1011]
[{"$f":"'Pob x Genero'!#REF!","v":{"$error":"#REF!"}},{"$f":"'Pob x Genero'!#REF!","v":{"$error":"#REF!"}},{"$f":"'Pob x Genero'!#REF!","v":{"$error":"#REF!"}},{"$f":"'Pob x Genero'!#REF!","v":{"$error":"#REF!"}},{"$f":"'Pob x Genero'!#REF!","v":{"$error":"#REF!"}},"Hombre","00-04",{"$f":"'Pob x Genero'!#REF!","v":{"$error":"#REF!"}},1012]
[{"$f":"'Pob x Genero'!#REF!","v":{"$error":"#REF!"}},{"$f":"'Pob x Genero'!#REF!","v":{"$error":"#REF!"}},{"$f":"'Pob x Genero'!#REF!","v":{"$error":"#REF!"}},{"$f":"'Pob x Genero'!#REF!","v":{"$error":"#REF!"}},{"$f":"'Pob x Genero'!#REF!","v":{"$error":"#REF!"}},"Hombre","00-04",{"$f":"'Pob x Genero'!#REF!","v":{"$error":"#REF!"}},1013]
[{"$f":"'Pob x Genero'!#REF!","v":{"$error":"#REF!"}},{"$f":"'Pob x Genero'!#REF!","v":{"$error":"#REF!"}},{"$f":"'Pob x Genero'!#REF!","v":{"$error":"#REF!"}},{"$f":"'Pob x Genero'!#REF!","v":{"$error":"#REF!"}},{"$f":"'Pob x Genero'!#REF!","v":{"$error":"#REF!"}},"Hombre","00-04",{"$f":"'Pob x Genero'!#REF!","v":{"$error":"#REF!"}},1014]
[{"$f":"'Pob x Genero'!#REF!","v":{"$error":"#REF!"}},{"$f":"'Pob x Genero'!#REF!","v":{"$error":"#REF!"}},{"$f":"'Pob x Genero'!#REF!","v":{"$error":"#REF!"}},{"$f":"'Pob x Genero'!#REF!","v":{"$error":"#REF!"}},{"$f":"'Pob x Genero'!#REF!","v":{"$error":"#REF!"}},"Hombre","00-04",{"$f":"'Pob x Genero'!#REF!","v":{"$error":"#REF!"}},1015]
[{"$f":"'Pob x Genero'!#REF!","v":{"$error":"#REF!"}},{"$f":"'Pob x Genero'!#REF!","v":{"$error":"#REF!"}},{"$f":"'Pob x Genero'!#REF!","v":{"$error":"#REF!"}},{"$f":"'Pob x Genero'!#REF!","v":{"$error":"#REF!"}},{"$f":"'Pob x Genero'!#REF!","v":{"$error":"#REF!"}},"Hombre","00-04",{"$f":"'Pob x Genero'!#REF!","v":{"$error":"#REF!"}},1016]
[{"$f":"'Pob x Genero'!#REF!","v":{"$error":"#REF!"}},{"$f":"'Pob x Genero'!#REF!","v":{"$error":"#REF!"}},{"$f":"'Pob x Genero'!#REF!","v":{"$error":"#REF!"}},{"$f":"'Pob x Genero'!#REF!","v":{"$error":"#REF!"}},{"$f":"'Pob x Genero'!#REF!","v":{"$error":"#REF!"}},"Hombre","00-04",{"$f":"'Pob x Genero'!#REF!","v":{"$error":"#REF!"}},1017]
[{"$f":"'Pob x Genero'!#REF!","v":{"$error":"#REF!"}},{"$f":"'Pob x Genero'!#REF!","v":{"$error":"#REF!"}},{"$f":"'Pob x Genero'!#REF!","v":{"$error":"#REF!"}},{"$f":"'Pob x Genero'!#REF!","v":{"$error":"#REF!"}},{"$f":"'Pob x Genero'!#REF!","v":{"$error":"#REF!"}},"Hombre","00-04",{"$f":"'Pob x Genero'!#REF!","v":{"$error":"#REF!"}},1018]
[{"$f":"'Pob x Genero'!#REF!","v":{"$error":"#REF!"}},{"$f":"'Pob x Genero'!#REF!","v":{"$error":"#REF!"}},{"$f":"'Pob x Genero'!#REF!","v":{"$error":"#REF!"}},{"$f":"'Pob x Genero'!#REF!","v":{"$error":"#REF!"}},{"$f":"'Pob x Genero'!#REF!","v":{"$error":"#REF!"}},"Hombre","00-04",{"$f":"'Pob x Genero'!#REF!","v":{"$error":"#REF!"}},1019]
[{"$f":"'Pob x Genero'!#REF!","v":{"$error":"#REF!"}},{"$f":"'Pob x Genero'!#REF!","v":{"$error":"#REF!"}},{"$f":"'Pob x Genero'!#REF!","v":{"$error":"#REF!"}},{"$f":"'Pob x Genero'!#REF!","v":{"$error":"#REF!"}},{"$f":"'Pob x Genero'!#REF!","v":{"$error":"#REF!"}},"Hombre","00-04",{"$f":"'Pob x Genero'!#REF!","v":{"$error":"#REF!"}},1020]
[{"$f":"'Pob x Genero'!#REF!","v":{"$error":"#REF!"}},{"$f":"'Pob x Genero'!#REF!","v":{"$error":"#REF!"}},{"$f":"'Pob x Genero'!#REF!","v":{"$error":"#REF!"}},{"$f":"'Pob x Genero'!#REF!","v":{"$error":"#REF!"}},{"$f":"'Pob x Genero'!#REF!","v":{"$error":"#REF!"}},"Hombre","00-04",{"$f":"'Pob x Genero'!#REF!","v":{"$error":"#REF!"}},1021]
[{"$f":"'Pob x Genero'!#REF!","v":{"$error":"#REF!"}},{"$f":"'Pob x Genero'!#REF!","v":{"$error":"#REF!"}},{"$f":"'Pob x Genero'!#REF!","v":{"$error":"#REF!"}},{"$f":"'Pob x Genero'!#REF!","v":{"$error":"#REF!"}},{"$f":"'Pob x Genero'!#REF!","v":{"$error":"#REF!"}},"Hombre","00-04",{"$f":"'Pob x Genero'!#REF!","v":{"$error":"#REF!"}},1022]
[{"$f":"'Pob x Genero'!#REF!","v":{"$error":"#REF!"}},{"$f":"'Pob x Genero'!#REF!","v":{"$error":"#REF!"}},{"$f":"'Pob x Genero'!#REF!","v":{"$error":"#REF!"}},{"$f":"'Pob x Genero'!#REF!","v":{"$error":"#REF!"}},{"$f":"'Pob x Genero'!#REF!","v":{"$error":"#REF!"}},"Hombre","00-04",{"$f":"'Pob x Genero'!#REF!","v":{"$error":"#REF!"}},1023]
[{"$f":"'Pob x Genero'!#REF!","v":{"$error":"#REF!"}},{"$f":"'Pob x Genero'!#REF!","v":{"$error":"#REF!"}},{"$f":"'Pob x Genero'!#REF!","v":{"$error":"#REF!"}},{"$f":"'Pob x Genero'!#REF!","v":{"$error":"#REF!"}},{"$f":"'Pob x Genero'!#REF!","v":{"$error":"#REF!"}},"Hombre","00-04",{"$f":"'Pob x Genero'!#REF!","v":{"$error":"#REF!"}},1024]
[{"$f":"'Pob x Genero'!#REF!","v":{"$error":"#REF!"}},{"$f":"'Pob x Genero'!#REF!","v":{"$error":"#REF!"}},{"$f":"'Pob x Genero'!#REF!","v":{"$error":"#REF!"}},{"$f":"'Pob x Genero'!#REF!","v":{"$error":"#REF!"}},{"$f":"'Pob x Genero'!#REF!","v":{"$error":"#REF!"}},"Hombre","00-04",{"$f":"'Pob x Genero'!#REF!","v":{"$error":"#REF!"}},1025]
[{"$f":"'Pob x Genero'!#REF!","v":{"$error":"#REF!"}},{"$f":"'Pob x Genero'!#REF!","v":{"$error":"#REF!"}},{"$f":"'Pob x Genero'!#REF!","v":{"$error":"#REF!"}},{"$f":"'Pob x Genero'!#REF!","v":{"$error":"#REF!"}},{"$f":"'Pob x Genero'!#REF!","v":{"$error":"#REF!"}},{"$f":"F1026","v":"Hombre"},{"$f":"G1026","v":"00-04"},{"$f":"'Pob x Genero'!#REF!","v":{"$error":"#REF!"}},1026]
[{"$f":"'Pob x Genero'!#REF!","v":{"$error":"#REF!"}},{"$f":"'Pob x Genero'!#REF!","v":{"$error":"#REF!"}},{"$f":"'Pob x Genero'!#REF!","v":{"$error":"#REF!"}},{"$f":"'Pob x Genero'!#REF!","v":{"$error":"#REF!"}},{"$f":"'Pob x Genero'!#REF!","v":{"$error":"#REF!"}},"Hombre","00-04",{"$f":"'Pob x Genero'!#REF!","v":{"$error":"#REF!"}},1027]
[{"$f":"'Pob x Genero'!#REF!","v":{"$error":"#REF!"}},{"$f":"'Pob x Genero'!#REF!","v":{"$error":"#REF!"}},{"$f":"'Pob x Genero'!#REF!","v":{"$error":"#REF!"}},{"$f":"'Pob x Genero'!#REF!","v":{"$error":"#REF!"}},{"$f":"'Pob x Genero'!#REF!","v":{"$error":"#REF!"}},"Hombre","00-04",{"$f":"'Pob x Genero'!#REF!","v":{"$error":"#REF!"}},1028]
[{"$f":"'Pob x Genero'!#REF!","v":{"$error":"#REF!"}},{"$f":"'Pob x Genero'!#REF!","v":{"$error":"#REF!"}},{"$f":"'Pob x Genero'!#REF!","v":{"$error":"#REF!"}},{"$f":"'Pob x Genero'!#REF!","v":{"$error":"#REF!"}},{"$f":"'Pob x Genero'!#REF!","v":{"$error":"#REF!"}},"Hombre","00-04",{"$f":"'Pob x Genero'!#REF!","v":{"$error":"#REF!"}},1029]
[{"$f":"'Pob x Genero'!#REF!","v":{"$error":"#REF!"}},{"$f":"'Pob x Genero'!#REF!","v":{"$error":"#REF!"}},{"$f":"'Pob x Genero'!#REF!","v":{"$error":"#REF!"}},{"$f":"'Pob x Genero'!#REF!","v":{"$error":"#REF!"}},{"$f":"'Pob x Genero'!#REF!","v":{"$error":"#REF!"}},"Hombre","00-04",{"$f":"'Pob x Genero'!#REF!","v":{"$error":"#REF!"}},1030]
[{"$f":"'Pob x Genero'!#REF!","v":{"$error":"#REF!"}},{"$f":"'Pob x Genero'!#REF!","v":{"$error":"#REF!"}},{"$f":"'Pob x Genero'!#REF!","v":{"$error":"#REF!"}},{"$f":"'Pob x Genero'!#REF!","v":{"$error":"#REF!"}},{"$f":"'Pob x Genero'!#REF!","v":{"$error":"#REF!"}},"Hombre","00-04",{"$f":"'Pob x Genero'!#REF!","v":{"$error":"#REF!"}},1031]
[{"$f":"'Pob x Genero'!#REF!","v":{"$error":"#REF!"}},{"$f":"'Pob x Genero'!#REF!","v":{"$error":"#REF!"}},{"$f":"'Pob x Genero'!#REF!","v":{"$error":"#REF!"}},{"$f":"'Pob x Genero'!#REF!","v":{"$error":"#REF!"}},{"$f":"'Pob x Genero'!#REF!","v":{"$error":"#REF!"}},"Hombre","00-04",{"$f":"'Pob x Genero'!#REF!","v":{"$error":"#REF!"}},1032]
[{"$f":"'Pob x Genero'!#REF!","v":{"$error":"#REF!"}},{"$f":"'Pob x Genero'!#REF!","v":{"$error":"#REF!"}},{"$f":"'Pob x Genero'!#REF!","v":{"$error":"#REF!"}},{"$f":"'Pob x Genero'!#REF!","v":{"$error":"#REF!"}},{"$f":"'Pob x Genero'!#REF!","v":{"$error":"#REF!"}},"Hombre","00-04",{"$f":"'Pob x Genero'!#REF!","v":{"$error":"#REF!"}},1033]
[{"$f":"'Pob x Genero'!#REF!","v":{"$error":"#REF!"}},{"$f":"'Pob x Genero'!#REF!","v":{"$error":"#REF!"}},{"$f":"'Pob x Genero'!#REF!","v":{"$error":"#REF!"}},{"$f":"'Pob x Genero'!#REF!","v":{"$error":"#REF!"}},{"$f":"'Pob x Genero'!#REF!","v":{"$error":"#REF!"}},"Hombre","00-04",{"$f":"'Pob x Genero'!#REF!","v":{"$error":"#REF!"}},1034]
[{"$f":"'Pob x Genero'!#REF!","v":{"$error":"#REF!"}},{"$f":"'Pob x Genero'!#REF!","v":{"$error":"#REF!"}},{"$f":"'Pob x Genero'!#REF!","v":{"$error":"#REF!"}},{"$f":"'Pob x Genero'!#REF!","v":{"$error":"#REF!"}},{"$f":"'Pob x Genero'!#REF!","v":{"$error":"#REF!"}},"Hombre","00-04",{"$f":"'Pob x Genero'!#REF!","v":{"$error":"#REF!"}},1035]
[{"$f":"'Pob x Genero'!#REF!","v":{"$error":"#REF!"}},{"$f":"'Pob x Genero'!#REF!","v":{"$error":"#REF!"}},{"$f":"'Pob x Genero'!#REF!","v":{"$error":"#REF!"}},{"$f":"'Pob x Genero'!#REF!","v":{"$error":"#REF!"}},{"$f":"'Pob x Genero'!#REF!","v":{"$error":"#REF!"}},"Hombre","00-04",{"$f":"'Pob x Genero'!#REF!","v":{"$error":"#REF!"}},1036]
[{"$f":"'Pob x Genero'!#REF!","v":{"$error":"#REF!"}},{"$f":"'Pob x Genero'!#REF!","v":{"$error":"#REF!"}},{"$f":"'Pob x Genero'!#REF!","v":{"$error":"#REF!"}},{"$f":"'Pob x Genero'!#REF!","v":{"$error":"#REF!"}},{"$f":"'Pob x Genero'!#REF!","v":{"$error":"#REF!"}},"Hombre","00-04",{"$f":"'Pob x Genero'!#REF!","v":{"$error":"#REF!"}},1037]
[{"$f":"'Pob x Genero'!#REF!","v":{"$error":"#REF!"}},{"$f":"'Pob x Genero'!#REF!","v":{"$error":"#REF!"}},{"$f":"'Pob x Genero'!#REF!","v":{"$error":"#REF!"}},{"$f":"'Pob x Genero'!#REF!","v":{"$error":"#REF!"}},{"$f":"'Pob x Genero'!#REF!","v":{"$error":"#REF!"}},"Hombre","00-04",{"$f":"'Pob x Genero'!#REF!","v":{"$error":"#REF!"}},1038]
[{"$f":"'Pob x Genero'!#REF!","v":{"$error":"#REF!"}},{"$f":"'Pob x Genero'!#REF!","v":{"$error":"#REF!"}},{"$f":"'Pob x Genero'!#REF!","v":{"$error":"#REF!"}},{"$f":"'Pob x Genero'!#REF!","v":{"$error":"#REF!"}},{"$f":"'Pob x Genero'!#REF!","v":{"$error":"#REF!"}},"Hombre","00-04",{"$f":"'Pob x Genero'!#REF!","v":{"$error":"#REF!"}},1039]
[{"$f":"'Pob x Genero'!#REF!","v":{"$error":"#REF!"}},{"$f":"'Pob x Genero'!#REF!","v":{"$error":"#REF!"}},{"$f":"'Pob x Genero'!#REF!","v":{"$error":"#REF!"}},{"$f":"'Pob x Genero'!#REF!","v":{"$error":"#REF!"}},{"$f":"'Pob x Genero'!#REF!","v":{"$error":"#REF!"}},"Hombre","00-04",{"$f":"'Pob x Genero'!#REF!","v":{"$error":"#REF!"}},1040]
[{"$f":"'Pob x Genero'!#REF!","v":{"$error":"#REF!"}},{"$f":"'Pob x Genero'!#REF!","v":{"$error":"#REF!"}},{"$f":"'Pob x Genero'!#REF!","v":{"$error":"#REF!"}},{"$f":"'Pob x Genero'!#REF!","v":{"$error":"#REF!"}},{"$f":"'Pob x Genero'!#REF!","v":{"$error":"#REF!"}},"Hombre","00-04",{"$f":"'Pob x Genero'!#REF!","v":{"$error":"#REF!"}},1041]
[{"$f":"'Pob x Genero'!#REF!","v":{"$error":"#REF!"}},{"$f":"'Pob x Genero'!#REF!","v":{"$error":"#REF!"}},{"$f":"'Pob x Genero'!#REF!","v":{"$error":"#REF!"}},{"$f":"'Pob x Genero'!#REF!","v":{"$error":"#REF!"}},{"$f":"'Pob x Genero'!#REF!","v":{"$error":"#REF!"}},"Hombre","00-04",{"$f":"'Pob x Genero'!#REF!","v":{"$error":"#REF!"}},1042]
[{"$f":"'Pob x Genero'!#REF!","v":{"$error":"#REF!"}},{"$f":"'Pob x Genero'!#REF!","v":{"$error":"#REF!"}},{"$f":"'Pob x Genero'!#REF!","v":{"$error":"#REF!"}},{"$f":"'Pob x Genero'!#REF!","v":{"$error":"#REF!"}},{"$f":"'Pob x Genero'!#REF!","v":{"$error":"#REF!"}},"Hombre","00-04",{"$f":"'Pob x Genero'!#REF!","v":{"$error":"#REF!"}},1043]
[{"$f":"'Pob x Genero'!#REF!","v":{"$error":"#REF!"}},{"$f":"'Pob x Genero'!#REF!","v":{"$error":"#REF!"}},{"$f":"'Pob x Genero'!#REF!","v":{"$error":"#REF!"}},{"$f":"'Pob x Genero'!#REF!","v":{"$error":"#REF!"}},{"$f":"'Pob x Genero'!#REF!","v":{"$error":"#REF!"}},"Hombre","00-04",{"$f":"'Pob x Genero'!#REF!","v":{"$error":"#REF!"}},1044]
[{"$f":"'Pob x Genero'!#REF!","v":{"$error":"#REF!"}},{"$f":"'Pob x Genero'!#REF!","v":{"$error":"#REF!"}},{"$f":"'Pob x Genero'!#REF!","v":{"$error":"#REF!"}},{"$f":"'Pob x Genero'!#REF!","v":{"$error":"#REF!"}},{"$f":"'Pob x Genero'!#REF!","v":{"$error":"#REF!"}},"Hombre","00-04",{"$f":"'Pob x Genero'!#REF!","v":{"$error":"#REF!"}},1045]
[{"$f":"'Pob x Genero'!#REF!","v":{"$error":"#REF!"}},{"$f":"'Pob x Genero'!#REF!","v":{"$error":"#REF!"}},{"$f":"'Pob x Genero'!#REF!","v":{"$error":"#REF!"}},{"$f":"'Pob x Genero'!#REF!","v":{"$error":"#REF!"}},{"$f":"'Pob x Genero'!#REF!","v":{"$error":"#REF!"}},"Hombre","00-04",{"$f":"'Pob x Genero'!#REF!","v":{"$error":"#REF!"}},1046]
[{"$f":"'Pob x Genero'!#REF!","v":{"$error":"#REF!"}},{"$f":"'Pob x Genero'!#REF!","v":{"$error":"#REF!"}},{"$f":"'Pob x Genero'!#REF!","v":{"$error":"#REF!"}},{"$f":"'Pob x Genero'!#REF!","v":{"$error":"#REF!"}},{"$f":"'Pob x Genero'!#REF!","v":{"$error":"#REF!"}},"Hombre","00-04",{"$f":"'Pob x Genero'!#REF!","v":{"$error":"#REF!"}},1047]
[{"$f":"'Pob x Genero'!#REF!","v":{"$error":"#REF!"}},{"$f":"'Pob x Genero'!#REF!","v":{"$error":"#REF!"}},{"$f":"'Pob x Genero'!#REF!","v":{"$error":"#REF!"}},{"$f":"'Pob x Genero'!#REF!","v":{"$error":"#REF!"}},{"$f":"'Pob x Genero'!#REF!","v":{"$error":"#REF!"}},"Hombre","00-04",{"$f":"'Pob x Genero'!#REF!","v":{"$error":"#REF!"}},1048]
[{"$f":"'Pob x Genero'!#REF!","v":{"$error":"#REF!"}},{"$f":"'Pob x Genero'!#REF!","v":{"$error":"#REF!"}},{"$f":"'Pob x Genero'!#REF!","v":{"$error":"#REF!"}},{"$f":"'Pob x Genero'!#REF!","v":{"$error":"#REF!"}},{"$f":"'Pob x Genero'!#REF!","v":{"$error":"#REF!"}},"Hombre","00-04",{"$f":"'Pob x Genero'!#REF!","v":{"$error":"#REF!"}},1049]
[{"$f":"'Pob x Genero'!#REF!","v":{"$error":"#REF!"}},{"$f":"'Pob x Genero'!#REF!","v":{"$error":"#REF!"}},{"$f":"'Pob x Genero'!#REF!","v":{"$error":"#REF!"}},{"$f":"'Pob x Genero'!#REF!","v":{"$error":"#REF!"}},{"$f":"'Pob x Genero'!#REF!","v":{"$error":"#REF!"}},"Hombre","00-04",{"$f":"'Pob x Genero'!#REF!","v":{"$error":"#REF!"}},1050]
[{"$f":"'Pob x Genero'!#REF!","v":{"$error":"#REF!"}},{"$f":"'Pob x Genero'!#REF!","v":{"$error":"#REF!"}},{"$f":"'Pob x Genero'!#REF!","v":{"$error":"#REF!"}},{"$f":"'Pob x Genero'!#REF!","v":{"$error":"#REF!"}},{"$f":"'Pob x Genero'!#REF!","v":{"$error":"#REF!"}},"Hombre","00-04",{"$f":"'Pob x Genero'!#REF!","v":{"$error":"#REF!"}},1051]
[{"$f":"'Pob x Genero'!#REF!","v":{"$error":"#REF!"}},{"$f":"'Pob x Genero'!#REF!","v":{"$error":"#REF!"}},{"$f":"'Pob x Genero'!#REF!","v":{"$error":"#REF!"}},{"$f":"'Pob x Genero'!#REF!","v":{"$error":"#REF!"}},{"$f":"'Pob x Genero'!#REF!","v":{"$error":"#REF!"}},"Hombre","00-04",{"$f":"'Pob x Genero'!#REF!","v":{"$error":"#REF!"}},1052]
[{"$f":"'Pob x Genero'!#REF!","v":{"$error":"#REF!"}},{"$f":"'Pob x Genero'!#REF!","v":{"$error":"#REF!"}},{"$f":"'Pob x Genero'!#REF!","v":{"$error":"#REF!"}},{"$f":"'Pob x Genero'!#REF!","v":{"$error":"#REF!"}},{"$f":"'Pob x Genero'!#REF!","v":{"$error":"#REF!"}},"Hombre","00-04",{"$f":"'Pob x Genero'!#REF!","v":{"$error":"#REF!"}},1053]
[{"$f":"'Pob x Genero'!#REF!","v":{"$error":"#REF!"}},{"$f":"'Pob x Genero'!#REF!","v":{"$error":"#REF!"}},{"$f":"'Pob x Genero'!#REF!","v":{"$error":"#REF!"}},{"$f":"'Pob x Genero'!#REF!","v":{"$error":"#REF!"}},{"$f":"'Pob x Genero'!#REF!","v":{"$error":"#REF!"}},"Hombre","00-04",{"$f":"'Pob x Genero'!#REF!","v":{"$error":"#REF!"}},1054]
[{"$f":"'Pob x Genero'!#REF!","v":{"$error":"#REF!"}},{"$f":"'Pob x Genero'!#REF!","v":{"$error":"#REF!"}},{"$f":"'Pob x Genero'!#REF!","v":{"$error":"#REF!"}},{"$f":"'Pob x Genero'!#REF!","v":{"$error":"#REF!"}},{"$f":"'Pob x Genero'!#REF!","v":{"$error":"#REF!"}},"Hombre","00-04",{"$f":"'Pob x Genero'!#REF!","v":{"$error":"#REF!"}},1055]
[{"$f":"'Pob x Genero'!#REF!","v":{"$error":"#REF!"}},{"$f":"'Pob x Genero'!#REF!","v":{"$error":"#REF!"}},{"$f":"'Pob x Genero'!#REF!","v":{"$error":"#REF!"}},{"$f":"'Pob x Genero'!#REF!","v":{"$error":"#REF!"}},{"$f":"'Pob x Genero'!#REF!","v":{"$error":"#REF!"}},"Hombre","00-04",{"$f":"'Pob x Genero'!#REF!","v":{"$error":"#REF!"}},1056]
[{"$f":"'Pob x Genero'!#REF!","v":{"$error":"#REF!"}},{"$f":"'Pob x Genero'!#REF!","v":{"$error":"#REF!"}},{"$f":"'Pob x Genero'!#REF!","v":{"$error":"#REF!"}},{"$f":"'Pob x Genero'!#REF!","v":{"$error":"#REF!"}},{"$f":"'Pob x Genero'!#REF!","v":{"$error":"#REF!"}},"Hombre","00-04",{"$f":"'Pob x Genero'!#REF!","v":{"$error":"#REF!"}},1057]
[{"$f":"'Pob x Genero'!#REF!","v":{"$error":"#REF!"}},{"$f":"'Pob x Genero'!#REF!","v":{"$error":"#REF!"}},{"$f":"'Pob x Genero'!#REF!","v":{"$error":"#REF!"}},{"$f":"'Pob x Genero'!#REF!","v":{"$error":"#REF!"}},{"$f":"'Pob x Genero'!#REF!","v":{"$error":"#REF!"}},"Hombre","00-04",{"$f":"'Pob x Genero'!#REF!","v":{"$error":"#REF!"}},1058]
[{"$f":"'Pob x Genero'!#REF!","v":{"$error":"#REF!"}},{"$f":"'Pob x Genero'!#REF!","v":{"$error":"#REF!"}},{"$f":"'Pob x Genero'!#REF!","v":{"$error":"#REF!"}},{"$f":"'Pob x Genero'!#REF!","v":{"$error":"#REF!"}},{"$f":"'Pob x Genero'!#REF!","v":{"$error":"#REF!"}},"Hombre","00-04",{"$f":"'Pob x Genero'!#REF!","v":{"$error":"#REF!"}},1059]
[{"$f":"'Pob x Genero'!#REF!","v":{"$error":"#REF!"}},{"$f":"'Pob x Genero'!#REF!","v":{"$error":"#REF!"}},{"$f":"'Pob x Genero'!#REF!","v":{"$error":"#REF!"}},{"$f":"'Pob x Genero'!#REF!","v":{"$error":"#REF!"}},{"$f":"'Pob x Genero'!#REF!","v":{"$error":"#REF!"}},"Hombre","00-04",{"$f":"'Pob x Genero'!#REF!","v":{"$error":"#REF!"}},1060]
[{"$f":"'Pob x Genero'!#REF!","v":{"$error":"#REF!"}},{"$f":"'Pob x Genero'!#REF!","v":{"$error":"#REF!"}},{"$f":"'Pob x Genero'!#REF!","v":{"$error":"#REF!"}},{"$f":"'Pob x Genero'!#REF!","v":{"$error":"#REF!"}},{"$f":"'Pob x Genero'!#REF!","v":{"$error":"#REF!"}},"Hombre","00-04",{"$f":"'Pob x Genero'!#REF!","v":{"$error":"#REF!"}},1061]
[{"$f":"'Pob x Genero'!#REF!","v":{"$error":"#REF!"}},{"$f":"'Pob x Genero'!#REF!","v":{"$error":"#REF!"}},{"$f":"'Pob x Genero'!#REF!","v":{"$error":"#REF!"}},{"$f":"'Pob x Genero'!#REF!","v":{"$error":"#REF!"}},{"$f":"'Pob x Genero'!#REF!","v":{"$error":"#REF!"}},"Hombre","00-04",{"$f":"'Pob x Genero'!#REF!","v":{"$error":"#REF!"}},1062]
[{"$f":"'Pob x Genero'!#REF!","v":{"$error":"#REF!"}},{"$f":"'Pob x Genero'!#REF!","v":{"$error":"#REF!"}},{"$f":"'Pob x Genero'!#REF!","v":{"$error":"#REF!"}},{"$f":"'Pob x Genero'!#REF!","v":{"$error":"#REF!"}},{"$f":"'Pob x Genero'!#REF!","v":{"$error":"#REF!"}},"Hombre","00-04",{"$f":"'Pob x Genero'!#REF!","v":{"$error":"#REF!"}},1063]
[{"$f":"'Pob x Genero'!#REF!","v":{"$error":"#REF!"}},{"$f":"'Pob x Genero'!#REF!","v":{"$error":"#REF!"}},{"$f":"'Pob x Genero'!#REF!","v":{"$error":"#REF!"}},{"$f":"'Pob x Genero'!#REF!","v":{"$error":"#REF!"}},{"$f":"'Pob x Genero'!#REF!","v":{"$error":"#REF!"}},"Hombre","00-04",{"$f":"'Pob x Genero'!#REF!","v":{"$error":"#REF!"}},1064]
[{"$f":"'Pob x Genero'!#REF!","v":{"$error":"#REF!"}},{"$f":"'Pob x Genero'!#REF!","v":{"$error":"#REF!"}},{"$f":"'Pob x Genero'!#REF!","v":{"$error":"#REF!"}},{"$f":"'Pob x Genero'!#REF!","v":{"$error":"#REF!"}},{"$f":"'Pob x Genero'!#REF!","v":{"$error":"#REF!"}},"Hombre","00-04",{"$f":"'Pob x Genero'!#REF!","v":{"$error":"#REF!"}},1065]
[{"$f":"'Pob x Genero'!#REF!","v":{"$error":"#REF!"}},{"$f":"'Pob x Genero'!#REF!","v":{"$error":"#REF!"}},{"$f":"'Pob x Genero'!#REF!","v":{"$error":"#REF!"}},{"$f":"'Pob x Genero'!#REF!","v":{"$error":"#REF!"}},{"$f":"'Pob x Genero'!#REF!","v":{"$error":"#REF!"}},"Hombre","00-04",{"$f":"'Pob x Genero'!#REF!","v":{"$error":"#REF!"}},1066]
[{"$f":"'Pob x Genero'!#REF!","v":{"$error":"#REF!"}},{"$f":"'Pob x Genero'!#REF!","v":{"$error":"#REF!"}},{"$f":"'Pob x Genero'!#REF!","v":{"$error":"#REF!"}},{"$f":"'Pob x Genero'!#REF!","v":{"$error":"#REF!"}},{"$f":"'Pob x Genero'!#REF!","v":{"$error":"#REF!"}},"Hombre","00-04",{"$f":"'Pob x Genero'!#REF!","v":{"$error":"#REF!"}},1067]
[{"$f":"'Pob x Genero'!#REF!","v":{"$error":"#REF!"}},{"$f":"'Pob x Genero'!#REF!","v":{"$error":"#REF!"}},{"$f":"'Pob x Genero'!#REF!","v":{"$error":"#REF!"}},{"$f":"'Pob x Genero'!#REF!","v":{"$error":"#REF!"}},{"$f":"'Pob x Genero'!#REF!","v":{"$error":"#REF!"}},"Hombre","00-04",{"$f":"'Pob x Genero'!#REF!","v":{"$error":"#REF!"}},1068]
[{"$f":"'Pob x Genero'!#REF!","v":{"$error":"#REF!"}},{"$f":"'Pob x Genero'!#REF!","v":{"$error":"#REF!"}},{"$f":"'Pob x Genero'!#REF!","v":{"$error":"#REF!"}},{"$f":"'Pob x Genero'!#REF!","v":{"$error":"#REF!"}},{"$f":"'Pob x Genero'!#REF!","v":{"$error":"#REF!"}},"Hombre","00-04",{"$f":"'Pob x Genero'!#REF!","v":{"$error":"#REF!"}},1069]
[{"$f":"'Pob x Genero'!#REF!","v":{"$error":"#REF!"}},{"$f":"'Pob x Genero'!#REF!","v":{"$error":"#REF!"}},{"$f":"'Pob x Genero'!#REF!","v":{"$error":"#REF!"}},{"$f":"'Pob x Genero'!#REF!","v":{"$error":"#REF!"}},{"$f":"'Pob x Genero'!#REF!","v":{"$error":"#REF!"}},"Hombre","00-04",{"$f":"'Pob x Genero'!#REF!","v":{"$error":"#REF!"}},1070]
[{"$f":"'Pob x Genero'!#REF!","v":{"$error":"#REF!"}},{"$f":"'Pob x Genero'!#REF!","v":{"$error":"#REF!"}},{"$f":"'Pob x Genero'!#REF!","v":{"$error":"#REF!"}},{"$f":"'Pob x Genero'!#REF!","v":{"$error":"#REF!"}},{"$f":"'Pob x Genero'!#REF!","v":{"$error":"#REF!"}},"Hombre","00-04",{"$f":"'Pob x Genero'!#REF!","v":{"$error":"#REF!"}},1071]
[{"$f":"'Pob x Genero'!#REF!","v":{"$error":"#REF!"}},{"$f":"'Pob x Genero'!#REF!","v":{"$error":"#REF!"}},{"$f":"'Pob x Genero'!#REF!","v":{"$error":"#REF!"}},{"$f":"'Pob x Genero'!#REF!","v":{"$error":"#REF!"}},{"$f":"'Pob x Genero'!#REF!","v":{"$error":"#REF!"}},"Hombre","00-04",{"$f":"'Pob x Genero'!#REF!","v":{"$error":"#REF!"}},1072]
[{"$f":"'Pob x Genero'!#REF!","v":{"$error":"#REF!"}},{"$f":"'Pob x Genero'!#REF!","v":{"$error":"#REF!"}},{"$f":"'Pob x Genero'!#REF!","v":{"$error":"#REF!"}},{"$f":"'Pob x Genero'!#REF!","v":{"$error":"#REF!"}},{"$f":"'Pob x Genero'!#REF!","v":{"$error":"#REF!"}},"Hombre","00-04",{"$f":"'Pob x Genero'!#REF!","v":{"$error":"#REF!"}},1073]
[{"$f":"'Pob x Genero'!#REF!","v":{"$error":"#REF!"}},{"$f":"'Pob x Genero'!#REF!","v":{"$error":"#REF!"}},{"$f":"'Pob x Genero'!#REF!","v":{"$error":"#REF!"}},{"$f":"'Pob x Genero'!#REF!","v":{"$error":"#REF!"}},{"$f":"'Pob x Genero'!#REF!","v":{"$error":"#REF!"}},"Hombre","00-04",{"$f":"'Pob x Genero'!#REF!","v":{"$error":"#REF!"}},1074]
[{"$f":"'Pob x Genero'!#REF!","v":{"$error":"#REF!"}},{"$f":"'Pob x Genero'!#REF!","v":{"$error":"#REF!"}},{"$f":"'Pob x Genero'!#REF!","v":{"$error":"#REF!"}},{"$f":"'Pob x Genero'!#REF!","v":{"$error":"#REF!"}},{"$f":"'Pob x Genero'!#REF!","v":{"$error":"#REF!"}},"Hombre","00-04",{"$f":"'Pob x Genero'!#REF!","v":{"$error":"#REF!"}},1075]
[{"$f":"'Pob x Genero'!#REF!","v":{"$error":"#REF!"}},{"$f":"'Pob x Genero'!#REF!","v":{"$error":"#REF!"}},{"$f":"'Pob x Genero'!#REF!","v":{"$error":"#REF!"}},{"$f":"'Pob x Genero'!#REF!","v":{"$error":"#REF!"}},{"$f":"'Pob x Genero'!#REF!","v":{"$error":"#REF!"}},"Hombre","00-04",{"$f":"'Pob x Genero'!#REF!","v":{"$error":"#REF!"}},1076]
[{"$f":"'Pob x Genero'!#REF!","v":{"$error":"#REF!"}},{"$f":"'Pob x Genero'!#REF!","v":{"$error":"#REF!"}},{"$f":"'Pob x Genero'!#REF!","v":{"$error":"#REF!"}},{"$f":"'Pob x Genero'!#REF!","v":{"$error":"#REF!"}},{"$f":"'Pob x Genero'!#REF!","v":{"$error":"#REF!"}},"Hombre","00-04",{"$f":"'Pob x Genero'!#REF!","v":{"$error":"#REF!"}},1077]
[{"$f":"'Pob x Genero'!#REF!","v":{"$error":"#REF!"}},{"$f":"'Pob x Genero'!#REF!","v":{"$error":"#REF!"}},{"$f":"'Pob x Genero'!#REF!","v":{"$error":"#REF!"}},{"$f":"'Pob x Genero'!#REF!","v":{"$error":"#REF!"}},{"$f":"'Pob x Genero'!#REF!","v":{"$error":"#REF!"}},"Hombre","00-04",{"$f":"'Pob x Genero'!#REF!","v":{"$error":"#REF!"}},1078]
[{"$f":"'Pob x Genero'!#REF!","v":{"$error":"#REF!"}},{"$f":"'Pob x Genero'!#REF!","v":{"$error":"#REF!"}},{"$f":"'Pob x Genero'!#REF!","v":{"$error":"#REF!"}},{"$f":"'Pob x Genero'!#REF!","v":{"$error":"#REF!"}},{"$f":"'Pob x Genero'!#REF!","v":{"$error":"#REF!"}},"Hombre","00-04",{"$f":"'Pob x Genero'!#REF!","v":{"$error":"#REF!"}},1079]
[{"$f":"'Pob x Genero'!#REF!","v":{"$error":"#REF!"}},{"$f":"'Pob x Genero'!#REF!","v":{"$error":"#REF!"}},{"$f":"'Pob x Genero'!#REF!","v":{"$error":"#REF!"}},{"$f":"'Pob x Genero'!#REF!","v":{"$error":"#REF!"}},{"$f":"'Pob x Genero'!#REF!","v":{"$error":"#REF!"}},"Hombre","00-04",{"$f":"'Pob x Genero'!#REF!","v":{"$error":"#REF!"}},1080]
[{"$f":"'Pob x Genero'!#REF!","v":{"$error":"#REF!"}},{"$f":"'Pob x Genero'!#REF!","v":{"$error":"#REF!"}},{"$f":"'Pob x Genero'!#REF!","v":{"$error":"#REF!"}},{"$f":"'Pob x Genero'!#REF!","v":{"$error":"#REF!"}},{"$f":"'Pob x Genero'!#REF!","v":{"$error":"#REF!"}},"Hombre","00-04",{"$f":"'Pob x Genero'!#REF!","v":{"$error":"#REF!"}},1081]
[{"$f":"'Pob x Genero'!#REF!","v":{"$error":"#REF!"}},{"$f":"'Pob x Genero'!#REF!","v":{"$error":"#REF!"}},{"$f":"'Pob x Genero'!#REF!","v":{"$error":"#REF!"}},{"$f":"'Pob x Genero'!#REF!","v":{"$error":"#REF!"}},{"$f":"'Pob x Genero'!#REF!","v":{"$error":"#REF!"}},"Hombre","00-04",{"$f":"'Pob x Genero'!#REF!","v":{"$error":"#REF!"}},1082]
[{"$f":"'Pob x Genero'!#REF!","v":{"$error":"#REF!"}},{"$f":"'Pob x Genero'!#REF!","v":{"$error":"#REF!"}},{"$f":"'Pob x Genero'!#REF!","v":{"$error":"#REF!"}},{"$f":"'Pob x Genero'!#REF!","v":{"$error":"#REF!"}},{"$f":"'Pob x Genero'!#REF!","v":{"$error":"#REF!"}},"Hombre","00-04",{"$f":"'Pob x Genero'!#REF!","v":{"$error":"#REF!"}},1083]
[{"$f":"'Pob x Genero'!#REF!","v":{"$error":"#REF!"}},{"$f":"'Pob x Genero'!#REF!","v":{"$error":"#REF!"}},{"$f":"'Pob x Genero'!#REF!","v":{"$error":"#REF!"}},{"$f":"'Pob x Genero'!#REF!","v":{"$error":"#REF!"}},{"$f":"'Pob x Genero'!#REF!","v":{"$error":"#REF!"}},"Hombre","00-04",{"$f":"'Pob x Genero'!#REF!","v":{"$error":"#REF!"}},1084]
[{"$f":"'Pob x Genero'!#REF!","v":{"$error":"#REF!"}},{"$f":"'Pob x Genero'!#REF!","v":{"$error":"#REF!"}},{"$f":"'Pob x Genero'!#REF!","v":{"$error":"#REF!"}},{"$f":"'Pob x Genero'!#REF!","v":{"$error":"#REF!"}},{"$f":"'Pob x Genero'!#REF!","v":{"$error":"#REF!"}},"Hombre","00-04",{"$f":"'Pob x Genero'!#REF!","v":{"$error":"#REF!"}},1085]
[{"$f":"'Pob x Genero'!#REF!","v":{"$error":"#REF!"}},{"$f":"'Pob x Genero'!#REF!","v":{"$error":"#REF!"}},{"$f":"'Pob x Genero'!#REF!","v":{"$error":"#REF!"}},{"$f":"'Pob x Genero'!#REF!","v":{"$error":"#REF!"}},{"$f":"'Pob x Genero'!#REF!","v":{"$error":"#REF!"}},"Hombre","00-04",{"$f":"'Pob x Genero'!#REF!","v":{"$error":"#REF!"}},1086]
[{"$f":"'Pob x Genero'!#REF!","v":{"$error":"#REF!"}},{"$f":"'Pob x Genero'!#REF!","v":{"$error":"#REF!"}},{"$f":"'Pob x Genero'!#REF!","v":{"$error":"#REF!"}},{"$f":"'Pob x Genero'!#REF!","v":{"$error":"#REF!"}},{"$f":"'Pob x Genero'!#REF!","v":{"$error":"#REF!"}},"Hombre","00-04",{"$f":"'Pob x Genero'!#REF!","v":{"$error":"#REF!"}},1087]
[{"$f":"'Pob x Genero'!#REF!","v":{"$error":"#REF!"}},{"$f":"'Pob x Genero'!#REF!","v":{"$error":"#REF!"}},{"$f":"'Pob x Genero'!#REF!","v":{"$error":"#REF!"}},{"$f":"'Pob x Genero'!#REF!","v":{"$error":"#REF!"}},{"$f":"'Pob x Genero'!#REF!","v":{"$error":"#REF!"}},"Hombre","00-04",{"$f":"'Pob x Genero'!#REF!","v":{"$error":"#REF!"}},1088]
[{"$f":"'Pob x Genero'!#REF!","v":{"$error":"#REF!"}},{"$f":"'Pob x Genero'!#REF!","v":{"$error":"#REF!"}},{"$f":"'Pob x Genero'!#REF!","v":{"$error":"#REF!"}},{"$f":"'Pob x Genero'!#REF!","v":{"$error":"#REF!"}},{"$f":"'Pob x Genero'!#REF!","v":{"$error":"#REF!"}},"Hombre","00-04",{"$f":"'Pob x Genero'!#REF!","v":{"$error":"#REF!"}},1089]
[{"$f":"'Pob x Genero'!#REF!","v":{"$error":"#REF!"}},{"$f":"'Pob x Genero'!#REF!","v":{"$error":"#REF!"}},{"$f":"'Pob x Genero'!#REF!","v":{"$error":"#REF!"}},{"$f":"'Pob x Genero'!#REF!","v":{"$error":"#REF!"}},{"$f":"'Pob x Genero'!#REF!","v":{"$error":"#REF!"}},{"$f":"F1090","v":"Hombre"},{"$f":"G1090","v":"00-04"},{"$f":"'Pob x Genero'!#REF!","v":{"$error":"#REF!"}},1090]
[{"$f":"'Pob x Genero'!#REF!","v":{"$error":"#REF!"}},{"$f":"'Pob x Genero'!#REF!","v":{"$error":"#REF!"}},{"$f":"'Pob x Genero'!#REF!","v":{"$error":"#REF!"}},{"$f":"'Pob x Genero'!#REF!","v":{"$error":"#REF!"}},{"$f":"'Pob x Genero'!#REF!","v":{"$error":"#REF!"}},"Hombre","00-04",{"$f":"'Pob x Genero'!#REF!","v":{"$error":"#REF!"}},1091]
[{"$f":"'Pob x Genero'!#REF!","v":{"$error":"#REF!"}},{"$f":"'Pob x Genero'!#REF!","v":{"$error":"#REF!"}},{"$f":"'Pob x Genero'!#REF!","v":{"$error":"#REF!"}},{"$f":"'Pob x Genero'!#REF!","v":{"$error":"#REF!"}},{"$f":"'Pob x Genero'!#REF!","v":{"$error":"#REF!"}},"Hombre","00-04",{"$f":"'Pob x Genero'!#REF!","v":{"$error":"#REF!"}},1092]
[{"$f":"'Pob x Genero'!#REF!","v":{"$error":"#REF!"}},{"$f":"'Pob x Genero'!#REF!","v":{"$error":"#REF!"}},{"$f":"'Pob x Genero'!#REF!","v":{"$error":"#REF!"}},{"$f":"'Pob x Genero'!#REF!","v":{"$error":"#REF!"}},{"$f":"'Pob x Genero'!#REF!","v":{"$error":"#REF!"}},"Hombre","00-04",{"$f":"'Pob x Genero'!#REF!","v":{"$error":"#REF!"}},1093]
[{"$f":"'Pob x Genero'!#REF!","v":{"$error":"#REF!"}},{"$f":"'Pob x Genero'!#REF!","v":{"$error":"#REF!"}},{"$f":"'Pob x Genero'!#REF!","v":{"$error":"#REF!"}},{"$f":"'Pob x Genero'!#REF!","v":{"$error":"#REF!"}},{"$f":"'Pob x Genero'!#REF!","v":{"$error":"#REF!"}},"Hombre","00-04",{"$f":"'Pob x Genero'!#REF!","v":{"$error":"#REF!"}},1094]
[{"$f":"'Pob x Genero'!#REF!","v":{"$error":"#REF!"}},{"$f":"'Pob x Genero'!#REF!","v":{"$error":"#REF!"}},{"$f":"'Pob x Genero'!#REF!","v":{"$error":"#REF!"}},{"$f":"'Pob x Genero'!#REF!","v":{"$error":"#REF!"}},{"$f":"'Pob x Genero'!#REF!","v":{"$error":"#REF!"}},"Hombre","00-04",{"$f":"'Pob x Genero'!#REF!","v":{"$error":"#REF!"}},1095]
[{"$f":"'Pob x Genero'!#REF!","v":{"$error":"#REF!"}},{"$f":"'Pob x Genero'!#REF!","v":{"$error":"#REF!"}},{"$f":"'Pob x Genero'!#REF!","v":{"$error":"#REF!"}},{"$f":"'Pob x Genero'!#REF!","v":{"$error":"#REF!"}},{"$f":"'Pob x Genero'!#REF!","v":{"$error":"#REF!"}},"Hombre","00-04",{"$f":"'Pob x Genero'!#REF!","v":{"$error":"#REF!"}},1096]
[{"$f":"'Pob x Genero'!#REF!","v":{"$error":"#REF!"}},{"$f":"'Pob x Genero'!#REF!","v":{"$error":"#REF!"}},{"$f":"'Pob x Genero'!#REF!","v":{"$error":"#REF!"}},{"$f":"'Pob x Genero'!#REF!","v":{"$error":"#REF!"}},{"$f":"'Pob x Genero'!#REF!","v":{"$error":"#REF!"}},"Hombre","00-04",{"$f":"'Pob x Genero'!#REF!","v":{"$error":"#REF!"}},1097]
[{"$f":"'Pob x Genero'!#REF!","v":{"$error":"#REF!"}},{"$f":"'Pob x Genero'!#REF!","v":{"$error":"#REF!"}},{"$f":"'Pob x Genero'!#REF!","v":{"$error":"#REF!"}},{"$f":"'Pob x Genero'!#REF!","v":{"$error":"#REF!"}},{"$f":"'Pob x Genero'!#REF!","v":{"$error":"#REF!"}},"Hombre","00-04",{"$f":"'Pob x Genero'!#REF!","v":{"$error":"#REF!"}},1098]
[{"$f":"'Pob x Genero'!#REF!","v":{"$error":"#REF!"}},{"$f":"'Pob x Genero'!#REF!","v":{"$error":"#REF!"}},{"$f":"'Pob x Genero'!#REF!","v":{"$error":"#REF!"}},{"$f":"'Pob x Genero'!#REF!","v":{"$error":"#REF!"}},{"$f":"'Pob x Genero'!#REF!","v":{"$error":"#REF!"}},"Hombre","00-04",{"$f":"'Pob x Genero'!#REF!","v":{"$error":"#REF!"}},1099]
[{"$f":"'Pob x Genero'!#REF!","v":{"$error":"#REF!"}},{"$f":"'Pob x Genero'!#REF!","v":{"$error":"#REF!"}},{"$f":"'Pob x Genero'!#REF!","v":{"$error":"#REF!"}},{"$f":"'Pob x Genero'!#REF!","v":{"$error":"#REF!"}},{"$f":"'Pob x Genero'!#REF!","v":{"$error":"#REF!"}},"Hombre","00-04",{"$f":"'Pob x Genero'!#REF!","v":{"$error":"#REF!"}},1100]
[{"$f":"'Pob x Genero'!#REF!","v":{"$error":"#REF!"}},{"$f":"'Pob x Genero'!#REF!","v":{"$error":"#REF!"}},{"$f":"'Pob x Genero'!#REF!","v":{"$error":"#REF!"}},{"$f":"'Pob x Genero'!#REF!","v":{"$error":"#REF!"}},{"$f":"'Pob x Genero'!#REF!","v":{"$error":"#REF!"}},"Hombre","00-04",{"$f":"'Pob x Genero'!#REF!","v":{"$error":"#REF!"}},1101]
[{"$f":"'Pob x Genero'!#REF!","v":{"$error":"#REF!"}},{"$f":"'Pob x Genero'!#REF!","v":{"$error":"#REF!"}},{"$f":"'Pob x Genero'!#REF!","v":{"$error":"#REF!"}},{"$f":"'Pob x Genero'!#REF!","v":{"$error":"#REF!"}},{"$f":"'Pob x Genero'!#REF!","v":{"$error":"#REF!"}},"Hombre","00-04",{"$f":"'Pob x Genero'!#REF!","v":{"$error":"#REF!"}},1102]
[{"$f":"'Pob x Genero'!#REF!","v":{"$error":"#REF!"}},{"$f":"'Pob x Genero'!#REF!","v":{"$error":"#REF!"}},{"$f":"'Pob x Genero'!#REF!","v":{"$error":"#REF!"}},{"$f":"'Pob x Genero'!#REF!","v":{"$error":"#REF!"}},{"$f":"'Pob x Genero'!#REF!","v":{"$error":"#REF!"}},"Hombre","00-04",{"$f":"'Pob x Genero'!#REF!","v":{"$error":"#REF!"}},1103]
[{"$f":"'Pob x Genero'!#REF!","v":{"$error":"#REF!"}},{"$f":"'Pob x Genero'!#REF!","v":{"$error":"#REF!"}},{"$f":"'Pob x Genero'!#REF!","v":{"$error":"#REF!"}},{"$f":"'Pob x Genero'!#REF!","v":{"$error":"#REF!"}},{"$f":"'Pob x Genero'!#REF!","v":{"$error":"#REF!"}},"Hombre","00-04",{"$f":"'Pob x Genero'!#REF!","v":{"$error":"#REF!"}},1104]
[{"$f":"'Pob x Genero'!#REF!","v":{"$error":"#REF!"}},{"$f":"'Pob x Genero'!#REF!","v":{"$error":"#REF!"}},{"$f":"'Pob x Genero'!#REF!","v":{"$error":"#REF!"}},{"$f":"'Pob x Genero'!#REF!","v":{"$error":"#REF!"}},{"$f":"'Pob x Genero'!#REF!","v":{"$error":"#REF!"}},"Hombre","00-04",{"$f":"'Pob x Genero'!#REF!","v":{"$error":"#REF!"}},1105]
[{"$f":"'Pob x Genero'!#REF!","v":{"$error":"#REF!"}},{"$f":"'Pob x Genero'!#REF!","v":{"$error":"#REF!"}},{"$f":"'Pob x Genero'!#REF!","v":{"$error":"#REF!"}},{"$f":"'Pob x Genero'!#REF!","v":{"$error":"#REF!"}},{"$f":"'Pob x Genero'!#REF!","v":{"$error":"#REF!"}},"Hombre","00-04",{"$f":"'Pob x Genero'!#REF!","v":{"$error":"#REF!"}},1106]
[{"$f":"'Pob x Genero'!#REF!","v":{"$error":"#REF!"}},{"$f":"'Pob x Genero'!#REF!","v":{"$error":"#REF!"}},{"$f":"'Pob x Genero'!#REF!","v":{"$error":"#REF!"}},{"$f":"'Pob x Genero'!#REF!","v":{"$error":"#REF!"}},{"$f":"'Pob x Genero'!#REF!","v":{"$error":"#REF!"}},"Hombre","00-04",{"$f":"'Pob x Genero'!#REF!","v":{"$error":"#REF!"}},1107]
[{"$f":"'Pob x Genero'!#REF!","v":{"$error":"#REF!"}},{"$f":"'Pob x Genero'!#REF!","v":{"$error":"#REF!"}},{"$f":"'Pob x Genero'!#REF!","v":{"$error":"#REF!"}},{"$f":"'Pob x Genero'!#REF!","v":{"$error":"#REF!"}},{"$f":"'Pob x Genero'!#REF!","v":{"$error":"#REF!"}},"Hombre","00-04",{"$f":"'Pob x Genero'!#REF!","v":{"$error":"#REF!"}},1108]
[{"$f":"'Pob x Genero'!#REF!","v":{"$error":"#REF!"}},{"$f":"'Pob x Genero'!#REF!","v":{"$error":"#REF!"}},{"$f":"'Pob x Genero'!#REF!","v":{"$error":"#REF!"}},{"$f":"'Pob x Genero'!#REF!","v":{"$error":"#REF!"}},{"$f":"'Pob x Genero'!#REF!","v":{"$error":"#REF!"}},"Hombre","00-04",{"$f":"'Pob x Genero'!#REF!","v":{"$error":"#REF!"}},1109]
[{"$f":"'Pob x Genero'!#REF!","v":{"$error":"#REF!"}},{"$f":"'Pob x Genero'!#REF!","v":{"$error":"#REF!"}},{"$f":"'Pob x Genero'!#REF!","v":{"$error":"#REF!"}},{"$f":"'Pob x Genero'!#REF!","v":{"$error":"#REF!"}},{"$f":"'Pob x Genero'!#REF!","v":{"$error":"#REF!"}},"Hombre","00-04",{"$f":"'Pob x Genero'!#REF!","v":{"$error":"#REF!"}},1110]
[{"$f":"'Pob x Genero'!#REF!","v":{"$error":"#REF!"}},{"$f":"'Pob x Genero'!#REF!","v":{"$error":"#REF!"}},{"$f":"'Pob x Genero'!#REF!","v":{"$error":"#REF!"}},{"$f":"'Pob x Genero'!#REF!","v":{"$error":"#REF!"}},{"$f":"'Pob x Genero'!#REF!","v":{"$error":"#REF!"}},"Hombre","00-04",{"$f":"'Pob x Genero'!#REF!","v":{"$error":"#REF!"}},1111]
[{"$f":"'Pob x Genero'!#REF!","v":{"$error":"#REF!"}},{"$f":"'Pob x Genero'!#REF!","v":{"$error":"#REF!"}},{"$f":"'Pob x Genero'!#REF!","v":{"$error":"#REF!"}},{"$f":"'Pob x Genero'!#REF!","v":{"$error":"#REF!"}},{"$f":"'Pob x Genero'!#REF!","v":{"$error":"#REF!"}},"Hombre","00-04",{"$f":"'Pob x Genero'!#REF!","v":{"$error":"#REF!"}},1112]
[{"$f":"'Pob x Genero'!#REF!","v":{"$error":"#REF!"}},{"$f":"'Pob x Genero'!#REF!","v":{"$error":"#REF!"}},{"$f":"'Pob x Genero'!#REF!","v":{"$error":"#REF!"}},{"$f":"'Pob x Genero'!#REF!","v":{"$error":"#REF!"}},{"$f":"'Pob x Genero'!#REF!","v":{"$error":"#REF!"}},"Hombre","00-04",{"$f":"'Pob x Genero'!#REF!","v":{"$error":"#REF!"}},1113]
[{"$f":"'Pob x Genero'!#REF!","v":{"$error":"#REF!"}},{"$f":"'Pob x Genero'!#REF!","v":{"$error":"#REF!"}},{"$f":"'Pob x Genero'!#REF!","v":{"$error":"#REF!"}},{"$f":"'Pob x Genero'!#REF!","v":{"$error":"#REF!"}},{"$f":"'Pob x Genero'!#REF!","v":{"$error":"#REF!"}},"Hombre","00-04",{"$f":"'Pob x Genero'!#REF!","v":{"$error":"#REF!"}},1114]
[{"$f":"'Pob x Genero'!#REF!","v":{"$error":"#REF!"}},{"$f":"'Pob x Genero'!#REF!","v":{"$error":"#REF!"}},{"$f":"'Pob x Genero'!#REF!","v":{"$error":"#REF!"}},{"$f":"'Pob x Genero'!#REF!","v":{"$error":"#REF!"}},{"$f":"'Pob x Genero'!#REF!","v":{"$error":"#REF!"}},"Hombre","00-04",{"$f":"'Pob x Genero'!#REF!","v":{"$error":"#REF!"}},1115]
[{"$f":"'Pob x Genero'!#REF!","v":{"$error":"#REF!"}},{"$f":"'Pob x Genero'!#REF!","v":{"$error":"#REF!"}},{"$f":"'Pob x Genero'!#REF!","v":{"$error":"#REF!"}},{"$f":"'Pob x Genero'!#REF!","v":{"$error":"#REF!"}},{"$f":"'Pob x Genero'!#REF!","v":{"$error":"#REF!"}},"Hombre","00-04",{"$f":"'Pob x Genero'!#REF!","v":{"$error":"#REF!"}},1116]
[{"$f":"'Pob x Genero'!#REF!","v":{"$error":"#REF!"}},{"$f":"'Pob x Genero'!#REF!","v":{"$error":"#REF!"}},{"$f":"'Pob x Genero'!#REF!","v":{"$error":"#REF!"}},{"$f":"'Pob x Genero'!#REF!","v":{"$error":"#REF!"}},{"$f":"'Pob x Genero'!#REF!","v":{"$error":"#REF!"}},"Hombre","00-04",{"$f":"'Pob x Genero'!#REF!","v":{"$error":"#REF!"}},1117]
[{"$f":"'Pob x Genero'!#REF!","v":{"$error":"#REF!"}},{"$f":"'Pob x Genero'!#REF!","v":{"$error":"#REF!"}},{"$f":"'Pob x Genero'!#REF!","v":{"$error":"#REF!"}},{"$f":"'Pob x Genero'!#REF!","v":{"$error":"#REF!"}},{"$f":"'Pob x Genero'!#REF!","v":{"$error":"#REF!"}},"Hombre","00-04",{"$f":"'Pob x Genero'!#REF!","v":{"$error":"#REF!"}},1118]
[{"$f":"'Pob x Genero'!#REF!","v":{"$error":"#REF!"}},{"$f":"'Pob x Genero'!#REF!","v":{"$error":"#REF!"}},{"$f":"'Pob x Genero'!#REF!","v":{"$error":"#REF!"}},{"$f":"'Pob x Genero'!#REF!","v":{"$error":"#REF!"}},{"$f":"'Pob x Genero'!#REF!","v":{"$error":"#REF!"}},"Hombre","00-04",{"$f":"'Pob x Genero'!#REF!","v":{"$error":"#REF!"}},1119]
[{"$f":"'Pob x Genero'!#REF!","v":{"$error":"#REF!"}},{"$f":"'Pob x Genero'!#REF!","v":{"$error":"#REF!"}},{"$f":"'Pob x Genero'!#REF!","v":{"$error":"#REF!"}},{"$f":"'Pob x Genero'!#REF!","v":{"$error":"#REF!"}},{"$f":"'Pob x Genero'!#REF!","v":{"$error":"#REF!"}},"Hombre","00-04",{"$f":"'Pob x Genero'!#REF!","v":{"$error":"#REF!"}},1120]
[{"$f":"'Pob x Genero'!#REF!","v":{"$error":"#REF!"}},{"$f":"'Pob x Genero'!#REF!","v":{"$error":"#REF!"}},{"$f":"'Pob x Genero'!#REF!","v":{"$error":"#REF!"}},{"$f":"'Pob x Genero'!#REF!","v":{"$error":"#REF!"}},{"$f":"'Pob x Genero'!#REF!","v":{"$error":"#REF!"}},"Hombre","00-04",{"$f":"'Pob x Genero'!#REF!","v":{"$error":"#REF!"}},1121]
[{"$f":"'Pob x Genero'!#REF!","v":{"$error":"#REF!"}},{"$f":"'Pob x Genero'!#REF!","v":{"$error":"#REF!"}},{"$f":"'Pob x Genero'!#REF!","v":{"$error":"#REF!"}},{"$f":"'Pob x Genero'!#REF!","v":{"$error":"#REF!"}},{"$f":"'Pob x Genero'!#REF!","v":{"$error":"#REF!"}},"Hombre","00-04",{"$f":"'Pob x Genero'!#REF!","v":{"$error":"#REF!"}},1122]
[{"$f":"'Pob x Genero'!#REF!","v":{"$error":"#REF!"}},{"$f":"'Pob x Genero'!#REF!","v":{"$error":"#REF!"}},{"$f":"'Pob x Genero'!#REF!","v":{"$error":"#REF!"}},{"$f":"'Pob x Genero'!#REF!","v":{"$error":"#REF!"}},{"$f":"'Pob x Genero'!#REF!","v":{"$error":"#REF!"}},"Hombre","00-04",{"$f":"'Pob x Genero'!#REF!","v":{"$error":"#REF!"}},1123]
[{"$f":"'Pob x Genero'!#REF!","v":{"$error":"#REF!"}},{"$f":"'Pob x Genero'!#REF!","v":{"$error":"#REF!"}},{"$f":"'Pob x Genero'!#REF!","v":{"$error":"#REF!"}},{"$f":"'Pob x Genero'!#REF!","v":{"$error":"#REF!"}},{"$f":"'Pob x Genero'!#REF!","v":{"$error":"#REF!"}},"Hombre","00-04",{"$f":"'Pob x Genero'!#REF!","v":{"$error":"#REF!"}},1124]
[{"$f":"'Pob x Genero'!#REF!","v":{"$error":"#REF!"}},{"$f":"'Pob x Genero'!#REF!","v":{"$error":"#REF!"}},{"$f":"'Pob x Genero'!#REF!","v":{"$error":"#REF!"}},{"$f":"'Pob x Genero'!#REF!","v":{"$error":"#REF!"}},{"$f":"'Pob x Genero'!#REF!","v":{"$error":"#REF!"}},"Hombre","00-04",{"$f":"'Pob x Genero'!#REF!","v":{"$error":"#REF!"}},1125]
[{"$f":"'Pob x Genero'!#REF!","v":{"$error":"#REF!"}},{"$f":"'Pob x Genero'!#REF!","v":{"$error":"#REF!"}},{"$f":"'Pob x Genero'!#REF!","v":{"$error":"#REF!"}},{"$f":"'Pob x Genero'!#REF!","v":{"$error":"#REF!"}},{"$f":"'Pob x Genero'!#REF!","v":{"$error":"#REF!"}},"Hombre","00-04",{"$f":"'Pob x Genero'!#REF!","v":{"$error":"#REF!"}},1126]
[{"$f":"'Pob x Genero'!#REF!","v":{"$error":"#REF!"}},{"$f":"'Pob x Genero'!#REF!","v":{"$error":"#REF!"}},{"$f":"'Pob x Genero'!#REF!","v":{"$error":"#REF!"}},{"$f":"'Pob x Genero'!#REF!","v":{"$error":"#REF!"}},{"$f":"'Pob x Genero'!#REF!","v":{"$error":"#REF!"}},"Hombre","00-04",{"$f":"'Pob x Genero'!#REF!","v":{"$error":"#REF!"}},1127]
[{"$f":"'Pob x Genero'!#REF!","v":{"$error":"#REF!"}},{"$f":"'Pob x Genero'!#REF!","v":{"$error":"#REF!"}},{"$f":"'Pob x Genero'!#REF!","v":{"$error":"#REF!"}},{"$f":"'Pob x Genero'!#REF!","v":{"$error":"#REF!"}},{"$f":"'Pob x Genero'!#REF!","v":{"$error":"#REF!"}},"Hombre","00-04",{"$f":"'Pob x Genero'!#REF!","v":{"$error":"#REF!"}},1128]
[{"$f":"'Pob x Genero'!#REF!","v":{"$error":"#REF!"}},{"$f":"'Pob x Genero'!#REF!","v":{"$error":"#REF!"}},{"$f":"'Pob x Genero'!#REF!","v":{"$error":"#REF!"}},{"$f":"'Pob x Genero'!#REF!","v":{"$error":"#REF!"}},{"$f":"'Pob x Genero'!#REF!","v":{"$error":"#REF!"}},"Hombre","00-04",{"$f":"'Pob x Genero'!#REF!","v":{"$error":"#REF!"}},1129]
[{"$f":"'Pob x Genero'!#REF!","v":{"$error":"#REF!"}},{"$f":"'Pob x Genero'!#REF!","v":{"$error":"#REF!"}},{"$f":"'Pob x Genero'!#REF!","v":{"$error":"#REF!"}},{"$f":"'Pob x Genero'!#REF!","v":{"$error":"#REF!"}},{"$f":"'Pob x Genero'!#REF!","v":{"$error":"#REF!"}},"Hombre","00-04",{"$f":"'Pob x Genero'!#REF!","v":{"$error":"#REF!"}},1130]
[{"$f":"'Pob x Genero'!#REF!","v":{"$error":"#REF!"}},{"$f":"'Pob x Genero'!#REF!","v":{"$error":"#REF!"}},{"$f":"'Pob x Genero'!#REF!","v":{"$error":"#REF!"}},{"$f":"'Pob x Genero'!#REF!","v":{"$error":"#REF!"}},{"$f":"'Pob x Genero'!#REF!","v":{"$error":"#REF!"}},"Hombre","00-04",{"$f":"'Pob x Genero'!#REF!","v":{"$error":"#REF!"}},1131]
[{"$f":"'Pob x Genero'!#REF!","v":{"$error":"#REF!"}},{"$f":"'Pob x Genero'!#REF!","v":{"$error":"#REF!"}},{"$f":"'Pob x Genero'!#REF!","v":{"$error":"#REF!"}},{"$f":"'Pob x Genero'!#REF!","v":{"$error":"#REF!"}},{"$f":"'Pob x Genero'!#REF!","v":{"$error":"#REF!"}},"Hombre","00-04",{"$f":"'Pob x Genero'!#REF!","v":{"$error":"#REF!"}},1132]
[{"$f":"'Pob x Genero'!#REF!","v":{"$error":"#REF!"}},{"$f":"'Pob x Genero'!#REF!","v":{"$error":"#REF!"}},{"$f":"'Pob x Genero'!#REF!","v":{"$error":"#REF!"}},{"$f":"'Pob x Genero'!#REF!","v":{"$error":"#REF!"}},{"$f":"'Pob x Genero'!#REF!","v":{"$error":"#REF!"}},"Hombre","00-04",{"$f":"'Pob x Genero'!#REF!","v":{"$error":"#REF!"}},1133]
[{"$f":"'Pob x Genero'!#REF!","v":{"$error":"#REF!"}},{"$f":"'Pob x Genero'!#REF!","v":{"$error":"#REF!"}},{"$f":"'Pob x Genero'!#REF!","v":{"$error":"#REF!"}},{"$f":"'Pob x Genero'!#REF!","v":{"$error":"#REF!"}},{"$f":"'Pob x Genero'!#REF!","v":{"$error":"#REF!"}},"Hombre","00-04",{"$f":"'Pob x Genero'!#REF!","v":{"$error":"#REF!"}},1134]
[{"$f":"'Pob x Genero'!#REF!","v":{"$error":"#REF!"}},{"$f":"'Pob x Genero'!#REF!","v":{"$error":"#REF!"}},{"$f":"'Pob x Genero'!#REF!","v":{"$error":"#REF!"}},{"$f":"'Pob x Genero'!#REF!","v":{"$error":"#REF!"}},{"$f":"'Pob x Genero'!#REF!","v":{"$error":"#REF!"}},"Hombre","00-04",{"$f":"'Pob x Genero'!#REF!","v":{"$error":"#REF!"}},1135]
[{"$f":"'Pob x Genero'!#REF!","v":{"$error":"#REF!"}},{"$f":"'Pob x Genero'!#REF!","v":{"$error":"#REF!"}},{"$f":"'Pob x Genero'!#REF!","v":{"$error":"#REF!"}},{"$f":"'Pob x Genero'!#REF!","v":{"$error":"#REF!"}},{"$f":"'Pob x Genero'!#REF!","v":{"$error":"#REF!"}},"Hombre","00-04",{"$f":"'Pob x Genero'!#REF!","v":{"$error":"#REF!"}},1136]
[{"$f":"'Pob x Genero'!#REF!","v":{"$error":"#REF!"}},{"$f":"'Pob x Genero'!#REF!","v":{"$error":"#REF!"}},{"$f":"'Pob x Genero'!#REF!","v":{"$error":"#REF!"}},{"$f":"'Pob x Genero'!#REF!","v":{"$error":"#REF!"}},{"$f":"'Pob x Genero'!#REF!","v":{"$error":"#REF!"}},"Hombre","00-04",{"$f":"'Pob x Genero'!#REF!","v":{"$error":"#REF!"}},1137]
[{"$f":"'Pob x Genero'!#REF!","v":{"$error":"#REF!"}},{"$f":"'Pob x Genero'!#REF!","v":{"$error":"#REF!"}},{"$f":"'Pob x Genero'!#REF!","v":{"$error":"#REF!"}},{"$f":"'Pob x Genero'!#REF!","v":{"$error":"#REF!"}},{"$f":"'Pob x Genero'!#REF!","v":{"$error":"#REF!"}},"Hombre","00-04",{"$f":"'Pob x Genero'!#REF!","v":{"$error":"#REF!"}},1138]
[{"$f":"'Pob x Genero'!#REF!","v":{"$error":"#REF!"}},{"$f":"'Pob x Genero'!#REF!","v":{"$error":"#REF!"}},{"$f":"'Pob x Genero'!#REF!","v":{"$error":"#REF!"}},{"$f":"'Pob x Genero'!#REF!","v":{"$error":"#REF!"}},{"$f":"'Pob x Genero'!#REF!","v":{"$error":"#REF!"}},"Hombre","00-04",{"$f":"'Pob x Genero'!#REF!","v":{"$error":"#REF!"}},1139]
[{"$f":"'Pob x Genero'!#REF!","v":{"$error":"#REF!"}},{"$f":"'Pob x Genero'!#REF!","v":{"$error":"#REF!"}},{"$f":"'Pob x Genero'!#REF!","v":{"$error":"#REF!"}},{"$f":"'Pob x Genero'!#REF!","v":{"$error":"#REF!"}},{"$f":"'Pob x Genero'!#REF!","v":{"$error":"#REF!"}},"Hombre","00-04",{"$f":"'Pob x Genero'!#REF!","v":{"$error":"#REF!"}},1140]
[{"$f":"'Pob x Genero'!#REF!","v":{"$error":"#REF!"}},{"$f":"'Pob x Genero'!#REF!","v":{"$error":"#REF!"}},{"$f":"'Pob x Genero'!#REF!","v":{"$error":"#REF!"}},{"$f":"'Pob x Genero'!#REF!","v":{"$error":"#REF!"}},{"$f":"'Pob x Genero'!#REF!","v":{"$error":"#REF!"}},"Hombre","00-04",{"$f":"'Pob x Genero'!#REF!","v":{"$error":"#REF!"}},1141]
[{"$f":"'Pob x Genero'!#REF!","v":{"$error":"#REF!"}},{"$f":"'Pob x Genero'!#REF!","v":{"$error":"#REF!"}},{"$f":"'Pob x Genero'!#REF!","v":{"$error":"#REF!"}},{"$f":"'Pob x Genero'!#REF!","v":{"$error":"#REF!"}},{"$f":"'Pob x Genero'!#REF!","v":{"$error":"#REF!"}},"Hombre","00-04",{"$f":"'Pob x Genero'!#REF!","v":{"$error":"#REF!"}},1142]
[{"$f":"'Pob x Genero'!#REF!","v":{"$error":"#REF!"}},{"$f":"'Pob x Genero'!#REF!","v":{"$error":"#REF!"}},{"$f":"'Pob x Genero'!#REF!","v":{"$error":"#REF!"}},{"$f":"'Pob x Genero'!#REF!","v":{"$error":"#REF!"}},{"$f":"'Pob x Genero'!#REF!","v":{"$error":"#REF!"}},"Hombre","00-04",{"$f":"'Pob x Genero'!#REF!","v":{"$error":"#REF!"}},1143]
[{"$f":"'Pob x Genero'!#REF!","v":{"$error":"#REF!"}},{"$f":"'Pob x Genero'!#REF!","v":{"$error":"#REF!"}},{"$f":"'Pob x Genero'!#REF!","v":{"$error":"#REF!"}},{"$f":"'Pob x Genero'!#REF!","v":{"$error":"#REF!"}},{"$f":"'Pob x Genero'!#REF!","v":{"$error":"#REF!"}},"Hombre","00-04",{"$f":"'Pob x Genero'!#REF!","v":{"$error":"#REF!"}},1144]
[{"$f":"'Pob x Genero'!#REF!","v":{"$error":"#REF!"}},{"$f":"'Pob x Genero'!#REF!","v":{"$error":"#REF!"}},{"$f":"'Pob x Genero'!#REF!","v":{"$error":"#REF!"}},{"$f":"'Pob x Genero'!#REF!","v":{"$error":"#REF!"}},{"$f":"'Pob x Genero'!#REF!","v":{"$error":"#REF!"}},"Hombre","00-04",{"$f":"'Pob x Genero'!#REF!","v":{"$error":"#REF!"}},1145]
[{"$f":"'Pob x Genero'!#REF!","v":{"$error":"#REF!"}},{"$f":"'Pob x Genero'!#REF!","v":{"$error":"#REF!"}},{"$f":"'Pob x Genero'!#REF!","v":{"$error":"#REF!"}},{"$f":"'Pob x Genero'!#REF!","v":{"$error":"#REF!"}},{"$f":"'Pob x Genero'!#REF!","v":{"$error":"#REF!"}},"Hombre","00-04",{"$f":"'Pob x Genero'!#REF!","v":{"$error":"#REF!"}},1146]
[{"$f":"'Pob x Genero'!#REF!","v":{"$error":"#REF!"}},{"$f":"'Pob x Genero'!#REF!","v":{"$error":"#REF!"}},{"$f":"'Pob x Genero'!#REF!","v":{"$error":"#REF!"}},{"$f":"'Pob x Genero'!#REF!","v":{"$error":"#REF!"}},{"$f":"'Pob x Genero'!#REF!","v":{"$error":"#REF!"}},"Hombre","00-04",{"$f":"'Pob x Genero'!#REF!","v":{"$error":"#REF!"}},1147]
[{"$f":"'Pob x Genero'!#REF!","v":{"$error":"#REF!"}},{"$f":"'Pob x Genero'!#REF!","v":{"$error":"#REF!"}},{"$f":"'Pob x Genero'!#REF!","v":{"$error":"#REF!"}},{"$f":"'Pob x Genero'!#REF!","v":{"$error":"#REF!"}},{"$f":"'Pob x Genero'!#REF!","v":{"$error":"#REF!"}},"Hombre","00-04",{"$f":"'Pob x Genero'!#REF!","v":{"$error":"#REF!"}},1148]
[{"$f":"'Pob x Genero'!#REF!","v":{"$error":"#REF!"}},{"$f":"'Pob x Genero'!#REF!","v":{"$error":"#REF!"}},{"$f":"'Pob x Genero'!#REF!","v":{"$error":"#REF!"}},{"$f":"'Pob x Genero'!#REF!","v":{"$error":"#REF!"}},{"$f":"'Pob x Genero'!#REF!","v":{"$error":"#REF!"}},"Hombre","00-04",{"$f":"'Pob x Genero'!#REF!","v":{"$error":"#REF!"}},1149]
[{"$f":"'Pob x Genero'!#REF!","v":{"$error":"#REF!"}},{"$f":"'Pob x Genero'!#REF!","v":{"$error":"#REF!"}},{"$f":"'Pob x Genero'!#REF!","v":{"$error":"#REF!"}},{"$f":"'Pob x Genero'!#REF!","v":{"$error":"#REF!"}},{"$f":"'Pob x Genero'!#REF!","v":{"$error":"#REF!"}},"Hombre","00-04",{"$f":"'Pob x Genero'!#REF!","v":{"$error":"#REF!"}},1150]
[{"$f":"'Pob x Genero'!#REF!","v":{"$error":"#REF!"}},{"$f":"'Pob x Genero'!#REF!","v":{"$error":"#REF!"}},{"$f":"'Pob x Genero'!#REF!","v":{"$error":"#REF!"}},{"$f":"'Pob x Genero'!#REF!","v":{"$error":"#REF!"}},{"$f":"'Pob x Genero'!#REF!","v":{"$error":"#REF!"}},"Hombre","00-04",{"$f":"'Pob x Genero'!#REF!","v":{"$error":"#REF!"}},1151]
[{"$f":"'Pob x Genero'!#REF!","v":{"$error":"#REF!"}},{"$f":"'Pob x Genero'!#REF!","v":{"$error":"#REF!"}},{"$f":"'Pob x Genero'!#REF!","v":{"$error":"#REF!"}},{"$f":"'Pob x Genero'!#REF!","v":{"$error":"#REF!"}},{"$f":"'Pob x Genero'!#REF!","v":{"$error":"#REF!"}},"Hombre","00-04",{"$f":"'Pob x Genero'!#REF!","v":{"$error":"#REF!"}},1152]
[{"$f":"'Pob x Genero'!#REF!","v":{"$error":"#REF!"}},{"$f":"'Pob x Genero'!#REF!","v":{"$error":"#REF!"}},{"$f":"'Pob x Genero'!#REF!","v":{"$error":"#REF!"}},{"$f":"'Pob x Genero'!#REF!","v":{"$error":"#REF!"}},{"$f":"'Pob x Genero'!#REF!","v":{"$error":"#REF!"}},"Hombre","00-04",{"$f":"'Pob x Genero'!#REF!","v":{"$error":"#REF!"}},1153]
[{"$f":"'Pob x Genero'!#REF!","v":{"$error":"#REF!"}},{"$f":"'Pob x Genero'!#REF!","v":{"$error":"#REF!"}},{"$f":"'Pob x Genero'!#REF!","v":{"$error":"#REF!"}},{"$f":"'Pob x Genero'!#REF!","v":{"$error":"#REF!"}},{"$f":"'Pob x Genero'!#REF!","v":{"$error":"#REF!"}},{"$f":"F1154","v":"Hombre"},{"$f":"G1154","v":"00-04"},{"$f":"'Pob x Genero'!#REF!","v":{"$error":"#REF!"}},1154]
[{"$f":"'Pob x Genero'!#REF!","v":{"$error":"#REF!"}},{"$f":"'Pob x Genero'!#REF!","v":{"$error":"#REF!"}},{"$f":"'Pob x Genero'!#REF!","v":{"$error":"#REF!"}},{"$f":"'Pob x Genero'!#REF!","v":{"$error":"#REF!"}},{"$f":"'Pob x Genero'!#REF!","v":{"$error":"#REF!"}},"Hombre","00-04",{"$f":"'Pob x Genero'!#REF!","v":{"$error":"#REF!"}},1155]
[{"$f":"'Pob x Genero'!#REF!","v":{"$error":"#REF!"}},{"$f":"'Pob x Genero'!#REF!","v":{"$error":"#REF!"}},{"$f":"'Pob x Genero'!#REF!","v":{"$error":"#REF!"}},{"$f":"'Pob x Genero'!#REF!","v":{"$error":"#REF!"}},{"$f":"'Pob x Genero'!#REF!","v":{"$error":"#REF!"}},"Hombre","00-04",{"$f":"'Pob x Genero'!#REF!","v":{"$error":"#REF!"}},1156]
[{"$f":"'Pob x Genero'!#REF!","v":{"$error":"#REF!"}},{"$f":"'Pob x Genero'!#REF!","v":{"$error":"#REF!"}},{"$f":"'Pob x Genero'!#REF!","v":{"$error":"#REF!"}},{"$f":"'Pob x Genero'!#REF!","v":{"$error":"#REF!"}},{"$f":"'Pob x Genero'!#REF!","v":{"$error":"#REF!"}},"Hombre","00-04",{"$f":"'Pob x Genero'!#REF!","v":{"$error":"#REF!"}},1157]
[{"$f":"'Pob x Genero'!#REF!","v":{"$error":"#REF!"}},{"$f":"'Pob x Genero'!#REF!","v":{"$error":"#REF!"}},{"$f":"'Pob x Genero'!#REF!","v":{"$error":"#REF!"}},{"$f":"'Pob x Genero'!#REF!","v":{"$error":"#REF!"}},{"$f":"'Pob x Genero'!#REF!","v":{"$error":"#REF!"}},"Hombre","00-04",{"$f":"'Pob x Genero'!#REF!","v":{"$error":"#REF!"}},1158]
[{"$f":"'Pob x Genero'!#REF!","v":{"$error":"#REF!"}},{"$f":"'Pob x Genero'!#REF!","v":{"$error":"#REF!"}},{"$f":"'Pob x Genero'!#REF!","v":{"$error":"#REF!"}},{"$f":"'Pob x Genero'!#REF!","v":{"$error":"#REF!"}},{"$f":"'Pob x Genero'!#REF!","v":{"$error":"#REF!"}},"Hombre","00-04",{"$f":"'Pob x Genero'!#REF!","v":{"$error":"#REF!"}},1159]
[{"$f":"'Pob x Genero'!#REF!","v":{"$error":"#REF!"}},{"$f":"'Pob x Genero'!#REF!","v":{"$error":"#REF!"}},{"$f":"'Pob x Genero'!#REF!","v":{"$error":"#REF!"}},{"$f":"'Pob x Genero'!#REF!","v":{"$error":"#REF!"}},{"$f":"'Pob x Genero'!#REF!","v":{"$error":"#REF!"}},"Hombre","00-04",{"$f":"'Pob x Genero'!#REF!","v":{"$error":"#REF!"}},1160]
[{"$f":"'Pob x Genero'!#REF!","v":{"$error":"#REF!"}},{"$f":"'Pob x Genero'!#REF!","v":{"$error":"#REF!"}},{"$f":"'Pob x Genero'!#REF!","v":{"$error":"#REF!"}},{"$f":"'Pob x Genero'!#REF!","v":{"$error":"#REF!"}},{"$f":"'Pob x Genero'!#REF!","v":{"$error":"#REF!"}},"Hombre","00-04",{"$f":"'Pob x Genero'!#REF!","v":{"$error":"#REF!"}},1161]
[{"$f":"'Pob x Genero'!#REF!","v":{"$error":"#REF!"}},{"$f":"'Pob x Genero'!#REF!","v":{"$error":"#REF!"}},{"$f":"'Pob x Genero'!#REF!","v":{"$error":"#REF!"}},{"$f":"'Pob x Genero'!#REF!","v":{"$error":"#REF!"}},{"$f":"'Pob x Genero'!#REF!","v":{"$error":"#REF!"}},"Hombre","00-04",{"$f":"'Pob x Genero'!#REF!","v":{"$error":"#REF!"}},1162]
[{"$f":"'Pob x Genero'!#REF!","v":{"$error":"#REF!"}},{"$f":"'Pob x Genero'!#REF!","v":{"$error":"#REF!"}},{"$f":"'Pob x Genero'!#REF!","v":{"$error":"#REF!"}},{"$f":"'Pob x Genero'!#REF!","v":{"$error":"#REF!"}},{"$f":"'Pob x Genero'!#REF!","v":{"$error":"#REF!"}},"Hombre","00-04",{"$f":"'Pob x Genero'!#REF!","v":{"$error":"#REF!"}},1163]
[{"$f":"'Pob x Genero'!#REF!","v":{"$error":"#REF!"}},{"$f":"'Pob x Genero'!#REF!","v":{"$error":"#REF!"}},{"$f":"'Pob x Genero'!#REF!","v":{"$error":"#REF!"}},{"$f":"'Pob x Genero'!#REF!","v":{"$error":"#REF!"}},{"$f":"'Pob x Genero'!#REF!","v":{"$error":"#REF!"}},"Hombre","00-04",{"$f":"'Pob x Genero'!#REF!","v":{"$error":"#REF!"}},1164]
[{"$f":"'Pob x Genero'!#REF!","v":{"$error":"#REF!"}},{"$f":"'Pob x Genero'!#REF!","v":{"$error":"#REF!"}},{"$f":"'Pob x Genero'!#REF!","v":{"$error":"#REF!"}},{"$f":"'Pob x Genero'!#REF!","v":{"$error":"#REF!"}},{"$f":"'Pob x Genero'!#REF!","v":{"$error":"#REF!"}},"Hombre","00-04",{"$f":"'Pob x Genero'!#REF!","v":{"$error":"#REF!"}},1165]
[{"$f":"'Pob x Genero'!#REF!","v":{"$error":"#REF!"}},{"$f":"'Pob x Genero'!#REF!","v":{"$error":"#REF!"}},{"$f":"'Pob x Genero'!#REF!","v":{"$error":"#REF!"}},{"$f":"'Pob x Genero'!#REF!","v":{"$error":"#REF!"}},{"$f":"'Pob x Genero'!#REF!","v":{"$error":"#REF!"}},"Hombre","00-04",{"$f":"'Pob x Genero'!#REF!","v":{"$error":"#REF!"}},1166]
[{"$f":"'Pob x Genero'!#REF!","v":{"$error":"#REF!"}},{"$f":"'Pob x Genero'!#REF!","v":{"$error":"#REF!"}},{"$f":"'Pob x Genero'!#REF!","v":{"$error":"#REF!"}},{"$f":"'Pob x Genero'!#REF!","v":{"$error":"#REF!"}},{"$f":"'Pob x Genero'!#REF!","v":{"$error":"#REF!"}},"Hombre","00-04",{"$f":"'Pob x Genero'!#REF!","v":{"$error":"#REF!"}},1167]
[{"$f":"'Pob x Genero'!#REF!","v":{"$error":"#REF!"}},{"$f":"'Pob x Genero'!#REF!","v":{"$error":"#REF!"}},{"$f":"'Pob x Genero'!#REF!","v":{"$error":"#REF!"}},{"$f":"'Pob x Genero'!#REF!","v":{"$error":"#REF!"}},{"$f":"'Pob x Genero'!#REF!","v":{"$error":"#REF!"}},"Hombre","00-04",{"$f":"'Pob x Genero'!#REF!","v":{"$error":"#REF!"}},1168]
[{"$f":"'Pob x Genero'!#REF!","v":{"$error":"#REF!"}},{"$f":"'Pob x Genero'!#REF!","v":{"$error":"#REF!"}},{"$f":"'Pob x Genero'!#REF!","v":{"$error":"#REF!"}},{"$f":"'Pob x Genero'!#REF!","v":{"$error":"#REF!"}},{"$f":"'Pob x Genero'!#REF!","v":{"$error":"#REF!"}},"Hombre","00-04",{"$f":"'Pob x Genero'!#REF!","v":{"$error":"#REF!"}},1169]
[{"$f":"'Pob x Genero'!#REF!","v":{"$error":"#REF!"}},{"$f":"'Pob x Genero'!#REF!","v":{"$error":"#REF!"}},{"$f":"'Pob x Genero'!#REF!","v":{"$error":"#REF!"}},{"$f":"'Pob x Genero'!#REF!","v":{"$error":"#REF!"}},{"$f":"'Pob x Genero'!#REF!","v":{"$error":"#REF!"}},"Hombre","00-04",{"$f":"'Pob x Genero'!#REF!","v":{"$error":"#REF!"}},1170]
[{"$f":"'Pob x Genero'!#REF!","v":{"$error":"#REF!"}},{"$f":"'Pob x Genero'!#REF!","v":{"$error":"#REF!"}},{"$f":"'Pob x Genero'!#REF!","v":{"$error":"#REF!"}},{"$f":"'Pob x Genero'!#REF!","v":{"$error":"#REF!"}},{"$f":"'Pob x Genero'!#REF!","v":{"$error":"#REF!"}},"Hombre","00-04",{"$f":"'Pob x Genero'!#REF!","v":{"$error":"#REF!"}},1171]
[{"$f":"'Pob x Genero'!#REF!","v":{"$error":"#REF!"}},{"$f":"'Pob x Genero'!#REF!","v":{"$error":"#REF!"}},{"$f":"'Pob x Genero'!#REF!","v":{"$error":"#REF!"}},{"$f":"'Pob x Genero'!#REF!","v":{"$error":"#REF!"}},{"$f":"'Pob x Genero'!#REF!","v":{"$error":"#REF!"}},"Hombre","00-04",{"$f":"'Pob x Genero'!#REF!","v":{"$error":"#REF!"}},1172]
[{"$f":"'Pob x Genero'!#REF!","v":{"$error":"#REF!"}},{"$f":"'Pob x Genero'!#REF!","v":{"$error":"#REF!"}},{"$f":"'Pob x Genero'!#REF!","v":{"$error":"#REF!"}},{"$f":"'Pob x Genero'!#REF!","v":{"$error":"#REF!"}},{"$f":"'Pob x Genero'!#REF!","v":{"$error":"#REF!"}},"Hombre","00-04",{"$f":"'Pob x Genero'!#REF!","v":{"$error":"#REF!"}},1173]
[{"$f":"'Pob x Genero'!#REF!","v":{"$error":"#REF!"}},{"$f":"'Pob x Genero'!#REF!","v":{"$error":"#REF!"}},{"$f":"'Pob x Genero'!#REF!","v":{"$error":"#REF!"}},{"$f":"'Pob x Genero'!#REF!","v":{"$error":"#REF!"}},{"$f":"'Pob x Genero'!#REF!","v":{"$error":"#REF!"}},"Hombre","00-04",{"$f":"'Pob x Genero'!#REF!","v":{"$error":"#REF!"}},1174]
[{"$f":"'Pob x Genero'!#REF!","v":{"$error":"#REF!"}},{"$f":"'Pob x Genero'!#REF!","v":{"$error":"#REF!"}},{"$f":"'Pob x Genero'!#REF!","v":{"$error":"#REF!"}},{"$f":"'Pob x Genero'!#REF!","v":{"$error":"#REF!"}},{"$f":"'Pob x Genero'!#REF!","v":{"$error":"#REF!"}},"Hombre","00-04",{"$f":"'Pob x Genero'!#REF!","v":{"$error":"#REF!"}},1175]
[{"$f":"'Pob x Genero'!#REF!","v":{"$error":"#REF!"}},{"$f":"'Pob x Genero'!#REF!","v":{"$error":"#REF!"}},{"$f":"'Pob x Genero'!#REF!","v":{"$error":"#REF!"}},{"$f":"'Pob x Genero'!#REF!","v":{"$error":"#REF!"}},{"$f":"'Pob x Genero'!#REF!","v":{"$error":"#REF!"}},"Hombre","00-04",{"$f":"'Pob x Genero'!#REF!","v":{"$error":"#REF!"}},1176]
[{"$f":"'Pob x Genero'!#REF!","v":{"$error":"#REF!"}},{"$f":"'Pob x Genero'!#REF!","v":{"$error":"#REF!"}},{"$f":"'Pob x Genero'!#REF!","v":{"$error":"#REF!"}},{"$f":"'Pob x Genero'!#REF!","v":{"$error":"#REF!"}},{"$f":"'Pob x Genero'!#REF!","v":{"$error":"#REF!"}},"Hombre","00-04",{"$f":"'Pob x Genero'!#REF!","v":{"$error":"#REF!"}},1177]
[{"$f":"'Pob x Genero'!#REF!","v":{"$error":"#REF!"}},{"$f":"'Pob x Genero'!#REF!","v":{"$error":"#REF!"}},{"$f":"'Pob x Genero'!#REF!","v":{"$error":"#REF!"}},{"$f":"'Pob x Genero'!#REF!","v":{"$error":"#REF!"}},{"$f":"'Pob x Genero'!#REF!","v":{"$error":"#REF!"}},"Hombre","00-04",{"$f":"'Pob x Genero'!#REF!","v":{"$error":"#REF!"}},1178]
[{"$f":"'Pob x Genero'!#REF!","v":{"$error":"#REF!"}},{"$f":"'Pob x Genero'!#REF!","v":{"$error":"#REF!"}},{"$f":"'Pob x Genero'!#REF!","v":{"$error":"#REF!"}},{"$f":"'Pob x Genero'!#REF!","v":{"$error":"#REF!"}},{"$f":"'Pob x Genero'!#REF!","v":{"$error":"#REF!"}},"Hombre","00-04",{"$f":"'Pob x Genero'!#REF!","v":{"$error":"#REF!"}},1179]
[{"$f":"'Pob x Genero'!#REF!","v":{"$error":"#REF!"}},{"$f":"'Pob x Genero'!#REF!","v":{"$error":"#REF!"}},{"$f":"'Pob x Genero'!#REF!","v":{"$error":"#REF!"}},{"$f":"'Pob x Genero'!#REF!","v":{"$error":"#REF!"}},{"$f":"'Pob x Genero'!#REF!","v":{"$error":"#REF!"}},"Hombre","00-04",{"$f":"'Pob x Genero'!#REF!","v":{"$error":"#REF!"}},1180]
[{"$f":"'Pob x Genero'!#REF!","v":{"$error":"#REF!"}},{"$f":"'Pob x Genero'!#REF!","v":{"$error":"#REF!"}},{"$f":"'Pob x Genero'!#REF!","v":{"$error":"#REF!"}},{"$f":"'Pob x Genero'!#REF!","v":{"$error":"#REF!"}},{"$f":"'Pob x Genero'!#REF!","v":{"$error":"#REF!"}},"Hombre","00-04",{"$f":"'Pob x Genero'!#REF!","v":{"$error":"#REF!"}},1181]
[{"$f":"'Pob x Genero'!#REF!","v":{"$error":"#REF!"}},{"$f":"'Pob x Genero'!#REF!","v":{"$error":"#REF!"}},{"$f":"'Pob x Genero'!#REF!","v":{"$error":"#REF!"}},{"$f":"'Pob x Genero'!#REF!","v":{"$error":"#REF!"}},{"$f":"'Pob x Genero'!#REF!","v":{"$error":"#REF!"}},"Hombre","00-04",{"$f":"'Pob x Genero'!#REF!","v":{"$error":"#REF!"}},1182]
[{"$f":"'Pob x Genero'!#REF!","v":{"$error":"#REF!"}},{"$f":"'Pob x Genero'!#REF!","v":{"$error":"#REF!"}},{"$f":"'Pob x Genero'!#REF!","v":{"$error":"#REF!"}},{"$f":"'Pob x Genero'!#REF!","v":{"$error":"#REF!"}},{"$f":"'Pob x Genero'!#REF!","v":{"$error":"#REF!"}},"Hombre","00-04",{"$f":"'Pob x Genero'!#REF!","v":{"$error":"#REF!"}},1183]
[{"$f":"'Pob x Genero'!#REF!","v":{"$error":"#REF!"}},{"$f":"'Pob x Genero'!#REF!","v":{"$error":"#REF!"}},{"$f":"'Pob x Genero'!#REF!","v":{"$error":"#REF!"}},{"$f":"'Pob x Genero'!#REF!","v":{"$error":"#REF!"}},{"$f":"'Pob x Genero'!#REF!","v":{"$error":"#REF!"}},"Hombre","00-04",{"$f":"'Pob x Genero'!#REF!","v":{"$error":"#REF!"}},1184]
[{"$f":"'Pob x Genero'!#REF!","v":{"$error":"#REF!"}},{"$f":"'Pob x Genero'!#REF!","v":{"$error":"#REF!"}},{"$f":"'Pob x Genero'!#REF!","v":{"$error":"#REF!"}},{"$f":"'Pob x Genero'!#REF!","v":{"$error":"#REF!"}},{"$f":"'Pob x Genero'!#REF!","v":{"$error":"#REF!"}},"Hombre","00-04",{"$f":"'Pob x Genero'!#REF!","v":{"$error":"#REF!"}},1185]
[{"$f":"'Pob x Genero'!#REF!","v":{"$error":"#REF!"}},{"$f":"'Pob x Genero'!#REF!","v":{"$error":"#REF!"}},{"$f":"'Pob x Genero'!#REF!","v":{"$error":"#REF!"}},{"$f":"'Pob x Genero'!#REF!","v":{"$error":"#REF!"}},{"$f":"'Pob x Genero'!#REF!","v":{"$error":"#REF!"}},"Hombre","00-04",{"$f":"'Pob x Genero'!#REF!","v":{"$error":"#REF!"}},1186]
[{"$f":"'Pob x Genero'!#REF!","v":{"$error":"#REF!"}},{"$f":"'Pob x Genero'!#REF!","v":{"$error":"#REF!"}},{"$f":"'Pob x Genero'!#REF!","v":{"$error":"#REF!"}},{"$f":"'Pob x Genero'!#REF!","v":{"$error":"#REF!"}},{"$f":"'Pob x Genero'!#REF!","v":{"$error":"#REF!"}},"Hombre","00-04",{"$f":"'Pob x Genero'!#REF!","v":{"$error":"#REF!"}},1187]
[{"$f":"'Pob x Genero'!#REF!","v":{"$error":"#REF!"}},{"$f":"'Pob x Genero'!#REF!","v":{"$error":"#REF!"}},{"$f":"'Pob x Genero'!#REF!","v":{"$error":"#REF!"}},{"$f":"'Pob x Genero'!#REF!","v":{"$error":"#REF!"}},{"$f":"'Pob x Genero'!#REF!","v":{"$error":"#REF!"}},"Hombre","00-04",{"$f":"'Pob x Genero'!#REF!","v":{"$error":"#REF!"}},1188]
[{"$f":"'Pob x Genero'!#REF!","v":{"$error":"#REF!"}},{"$f":"'Pob x Genero'!#REF!","v":{"$error":"#REF!"}},{"$f":"'Pob x Genero'!#REF!","v":{"$error":"#REF!"}},{"$f":"'Pob x Genero'!#REF!","v":{"$error":"#REF!"}},{"$f":"'Pob x Genero'!#REF!","v":{"$error":"#REF!"}},"Hombre","00-04",{"$f":"'Pob x Genero'!#REF!","v":{"$error":"#REF!"}},1189]
[{"$f":"'Pob x Genero'!#REF!","v":{"$error":"#REF!"}},{"$f":"'Pob x Genero'!#REF!","v":{"$error":"#REF!"}},{"$f":"'Pob x Genero'!#REF!","v":{"$error":"#REF!"}},{"$f":"'Pob x Genero'!#REF!","v":{"$error":"#REF!"}},{"$f":"'Pob x Genero'!#REF!","v":{"$error":"#REF!"}},"Hombre","00-04",{"$f":"'Pob x Genero'!#REF!","v":{"$error":"#REF!"}},1190]
[{"$f":"'Pob x Genero'!#REF!","v":{"$error":"#REF!"}},{"$f":"'Pob x Genero'!#REF!","v":{"$error":"#REF!"}},{"$f":"'Pob x Genero'!#REF!","v":{"$error":"#REF!"}},{"$f":"'Pob x Genero'!#REF!","v":{"$error":"#REF!"}},{"$f":"'Pob x Genero'!#REF!","v":{"$error":"#REF!"}},"Hombre","00-04",{"$f":"'Pob x Genero'!#REF!","v":{"$error":"#REF!"}},1191]
[{"$f":"'Pob x Genero'!#REF!","v":{"$error":"#REF!"}},{"$f":"'Pob x Genero'!#REF!","v":{"$error":"#REF!"}},{"$f":"'Pob x Genero'!#REF!","v":{"$error":"#REF!"}},{"$f":"'Pob x Genero'!#REF!","v":{"$error":"#REF!"}},{"$f":"'Pob x Genero'!#REF!","v":{"$error":"#REF!"}},"Hombre","00-04",{"$f":"'Pob x Genero'!#REF!","v":{"$error":"#REF!"}},1192]
[{"$f":"'Pob x Genero'!#REF!","v":{"$error":"#REF!"}},{"$f":"'Pob x Genero'!#REF!","v":{"$error":"#REF!"}},{"$f":"'Pob x Genero'!#REF!","v":{"$error":"#REF!"}},{"$f":"'Pob x Genero'!#REF!","v":{"$error":"#REF!"}},{"$f":"'Pob x Genero'!#REF!","v":{"$error":"#REF!"}},"Hombre","00-04",{"$f":"'Pob x Genero'!#REF!","v":{"$error":"#REF!"}},1193]
[{"$f":"'Pob x Genero'!#REF!","v":{"$error":"#REF!"}},{"$f":"'Pob x Genero'!#REF!","v":{"$error":"#REF!"}},{"$f":"'Pob x Genero'!#REF!","v":{"$error":"#REF!"}},{"$f":"'Pob x Genero'!#REF!","v":{"$error":"#REF!"}},{"$f":"'Pob x Genero'!#REF!","v":{"$error":"#REF!"}},"Hombre","00-04",{"$f":"'Pob x Genero'!#REF!","v":{"$error":"#REF!"}},1194]
[{"$f":"'Pob x Genero'!#REF!","v":{"$error":"#REF!"}},{"$f":"'Pob x Genero'!#REF!","v":{"$error":"#REF!"}},{"$f":"'Pob x Genero'!#REF!","v":{"$error":"#REF!"}},{"$f":"'Pob x Genero'!#REF!","v":{"$error":"#REF!"}},{"$f":"'Pob x Genero'!#REF!","v":{"$error":"#REF!"}},"Hombre","00-04",{"$f":"'Pob x Genero'!#REF!","v":{"$error":"#REF!"}},1195]
[{"$f":"'Pob x Genero'!#REF!","v":{"$error":"#REF!"}},{"$f":"'Pob x Genero'!#REF!","v":{"$error":"#REF!"}},{"$f":"'Pob x Genero'!#REF!","v":{"$error":"#REF!"}},{"$f":"'Pob x Genero'!#REF!","v":{"$error":"#REF!"}},{"$f":"'Pob x Genero'!#REF!","v":{"$error":"#REF!"}},"Hombre","00-04",{"$f":"'Pob x Genero'!#REF!","v":{"$error":"#REF!"}},1196]
[{"$f":"'Pob x Genero'!#REF!","v":{"$error":"#REF!"}},{"$f":"'Pob x Genero'!#REF!","v":{"$error":"#REF!"}},{"$f":"'Pob x Genero'!#REF!","v":{"$error":"#REF!"}},{"$f":"'Pob x Genero'!#REF!","v":{"$error":"#REF!"}},{"$f":"'Pob x Genero'!#REF!","v":{"$error":"#REF!"}},"Hombre","00-04",{"$f":"'Pob x Genero'!#REF!","v":{"$error":"#REF!"}},1197]
[{"$f":"'Pob x Genero'!#REF!","v":{"$error":"#REF!"}},{"$f":"'Pob x Genero'!#REF!","v":{"$error":"#REF!"}},{"$f":"'Pob x Genero'!#REF!","v":{"$error":"#REF!"}},{"$f":"'Pob x Genero'!#REF!","v":{"$error":"#REF!"}},{"$f":"'Pob x Genero'!#REF!","v":{"$error":"#REF!"}},"Hombre","00-04",{"$f":"'Pob x Genero'!#REF!","v":{"$error":"#REF!"}},1198]
[{"$f":"'Pob x Genero'!#REF!","v":{"$error":"#REF!"}},{"$f":"'Pob x Genero'!#REF!","v":{"$error":"#REF!"}},{"$f":"'Pob x Genero'!#REF!","v":{"$error":"#REF!"}},{"$f":"'Pob x Genero'!#REF!","v":{"$error":"#REF!"}},{"$f":"'Pob x Genero'!#REF!","v":{"$error":"#REF!"}},"Hombre","00-04",{"$f":"'Pob x Genero'!#REF!","v":{"$error":"#REF!"}},1199]
[{"$f":"'Pob x Genero'!#REF!","v":{"$error":"#REF!"}},{"$f":"'Pob x Genero'!#REF!","v":{"$error":"#REF!"}},{"$f":"'Pob x Genero'!#REF!","v":{"$error":"#REF!"}},{"$f":"'Pob x Genero'!#REF!","v":{"$error":"#REF!"}},{"$f":"'Pob x Genero'!#REF!","v":{"$error":"#REF!"}},"Hombre","00-04",{"$f":"'Pob x Genero'!#REF!","v":{"$error":"#REF!"}},1200]
[{"$f":"'Pob x Genero'!#REF!","v":{"$error":"#REF!"}},{"$f":"'Pob x Genero'!#REF!","v":{"$error":"#REF!"}},{"$f":"'Pob x Genero'!#REF!","v":{"$error":"#REF!"}},{"$f":"'Pob x Genero'!#REF!","v":{"$error":"#REF!"}},{"$f":"'Pob x Genero'!#REF!","v":{"$error":"#REF!"}},"Hombre","00-04",{"$f":"'Pob x Genero'!#REF!","v":{"$error":"#REF!"}},1201]
[{"$f":"'Pob x Genero'!#REF!","v":{"$error":"#REF!"}},{"$f":"'Pob x Genero'!#REF!","v":{"$error":"#REF!"}},{"$f":"'Pob x Genero'!#REF!","v":{"$error":"#REF!"}},{"$f":"'Pob x Genero'!#REF!","v":{"$error":"#REF!"}},{"$f":"'Pob x Genero'!#REF!","v":{"$error":"#REF!"}},"Hombre","00-04",{"$f":"'Pob x Genero'!#REF!","v":{"$error":"#REF!"}},1202]
[{"$f":"'Pob x Genero'!#REF!","v":{"$error":"#REF!"}},{"$f":"'Pob x Genero'!#REF!","v":{"$error":"#REF!"}},{"$f":"'Pob x Genero'!#REF!","v":{"$error":"#REF!"}},{"$f":"'Pob x Genero'!#REF!","v":{"$error":"#REF!"}},{"$f":"'Pob x Genero'!#REF!","v":{"$error":"#REF!"}},"Hombre","00-04",{"$f":"'Pob x Genero'!#REF!","v":{"$error":"#REF!"}},1203]
[{"$f":"'Pob x Genero'!#REF!","v":{"$error":"#REF!"}},{"$f":"'Pob x Genero'!#REF!","v":{"$error":"#REF!"}},{"$f":"'Pob x Genero'!#REF!","v":{"$error":"#REF!"}},{"$f":"'Pob x Genero'!#REF!","v":{"$error":"#REF!"}},{"$f":"'Pob x Genero'!#REF!","v":{"$error":"#REF!"}},"Hombre","00-04",{"$f":"'Pob x Genero'!#REF!","v":{"$error":"#REF!"}},1204]
[{"$f":"'Pob x Genero'!#REF!","v":{"$error":"#REF!"}},{"$f":"'Pob x Genero'!#REF!","v":{"$error":"#REF!"}},{"$f":"'Pob x Genero'!#REF!","v":{"$error":"#REF!"}},{"$f":"'Pob x Genero'!#REF!","v":{"$error":"#REF!"}},{"$f":"'Pob x Genero'!#REF!","v":{"$error":"#REF!"}},"Hombre","00-04",{"$f":"'Pob x Genero'!#REF!","v":{"$error":"#REF!"}},1205]
[{"$f":"'Pob x Genero'!#REF!","v":{"$error":"#REF!"}},{"$f":"'Pob x Genero'!#REF!","v":{"$error":"#REF!"}},{"$f":"'Pob x Genero'!#REF!","v":{"$error":"#REF!"}},{"$f":"'Pob x Genero'!#REF!","v":{"$error":"#REF!"}},{"$f":"'Pob x Genero'!#REF!","v":{"$error":"#REF!"}},"Hombre","00-04",{"$f":"'Pob x Genero'!#REF!","v":{"$error":"#REF!"}},1206]
[{"$f":"'Pob x Genero'!#REF!","v":{"$error":"#REF!"}},{"$f":"'Pob x Genero'!#REF!","v":{"$error":"#REF!"}},{"$f":"'Pob x Genero'!#REF!","v":{"$error":"#REF!"}},{"$f":"'Pob x Genero'!#REF!","v":{"$error":"#REF!"}},{"$f":"'Pob x Genero'!#REF!","v":{"$error":"#REF!"}},"Hombre","00-04",{"$f":"'Pob x Genero'!#REF!","v":{"$error":"#REF!"}},1207]
[{"$f":"'Pob x Genero'!#REF!","v":{"$error":"#REF!"}},{"$f":"'Pob x Genero'!#REF!","v":{"$error":"#REF!"}},{"$f":"'Pob x Genero'!#REF!","v":{"$error":"#REF!"}},{"$f":"'Pob x Genero'!#REF!","v":{"$error":"#REF!"}},{"$f":"'Pob x Genero'!#REF!","v":{"$error":"#REF!"}},"Hombre","00-04",{"$f":"'Pob x Genero'!#REF!","v":{"$error":"#REF!"}},1208]
[{"$f":"'Pob x Genero'!#REF!","v":{"$error":"#REF!"}},{"$f":"'Pob x Genero'!#REF!","v":{"$error":"#REF!"}},{"$f":"'Pob x Genero'!#REF!","v":{"$error":"#REF!"}},{"$f":"'Pob x Genero'!#REF!","v":{"$error":"#REF!"}},{"$f":"'Pob x Genero'!#REF!","v":{"$error":"#REF!"}},"Hombre","00-04",{"$f":"'Pob x Genero'!#REF!","v":{"$error":"#REF!"}},1209]
[{"$f":"'Pob x Genero'!#REF!","v":{"$error":"#REF!"}},{"$f":"'Pob x Genero'!#REF!","v":{"$error":"#REF!"}},{"$f":"'Pob x Genero'!#REF!","v":{"$error":"#REF!"}},{"$f":"'Pob x Genero'!#REF!","v":{"$error":"#REF!"}},{"$f":"'Pob x Genero'!#REF!","v":{"$error":"#REF!"}},"Hombre","00-04",{"$f":"'Pob x Genero'!#REF!","v":{"$error":"#REF!"}},1210]
[{"$f":"'Pob x Genero'!#REF!","v":{"$error":"#REF!"}},{"$f":"'Pob x Genero'!#REF!","v":{"$error":"#REF!"}},{"$f":"'Pob x Genero'!#REF!","v":{"$error":"#REF!"}},{"$f":"'Pob x Genero'!#REF!","v":{"$error":"#REF!"}},{"$f":"'Pob x Genero'!#REF!","v":{"$error":"#REF!"}},"Hombre","00-04",{"$f":"'Pob x Genero'!#REF!","v":{"$error":"#REF!"}},1211]
[{"$f":"'Pob x Genero'!#REF!","v":{"$error":"#REF!"}},{"$f":"'Pob x Genero'!#REF!","v":{"$error":"#REF!"}},{"$f":"'Pob x Genero'!#REF!","v":{"$error":"#REF!"}},{"$f":"'Pob x Genero'!#REF!","v":{"$error":"#REF!"}},{"$f":"'Pob x Genero'!#REF!","v":{"$error":"#REF!"}},"Hombre","00-04",{"$f":"'Pob x Genero'!#REF!","v":{"$error":"#REF!"}},1212]
[{"$f":"'Pob x Genero'!#REF!","v":{"$error":"#REF!"}},{"$f":"'Pob x Genero'!#REF!","v":{"$error":"#REF!"}},{"$f":"'Pob x Genero'!#REF!","v":{"$error":"#REF!"}},{"$f":"'Pob x Genero'!#REF!","v":{"$error":"#REF!"}},{"$f":"'Pob x Genero'!#REF!","v":{"$error":"#REF!"}},"Hombre","00-04",{"$f":"'Pob x Genero'!#REF!","v":{"$error":"#REF!"}},1213]
[{"$f":"'Pob x Genero'!#REF!","v":{"$error":"#REF!"}},{"$f":"'Pob x Genero'!#REF!","v":{"$error":"#REF!"}},{"$f":"'Pob x Genero'!#REF!","v":{"$error":"#REF!"}},{"$f":"'Pob x Genero'!#REF!","v":{"$error":"#REF!"}},{"$f":"'Pob x Genero'!#REF!","v":{"$error":"#REF!"}},"Hombre","00-04",{"$f":"'Pob x Genero'!#REF!","v":{"$error":"#REF!"}},1214]
[{"$f":"'Pob x Genero'!#REF!","v":{"$error":"#REF!"}},{"$f":"'Pob x Genero'!#REF!","v":{"$error":"#REF!"}},{"$f":"'Pob x Genero'!#REF!","v":{"$error":"#REF!"}},{"$f":"'Pob x Genero'!#REF!","v":{"$error":"#REF!"}},{"$f":"'Pob x Genero'!#REF!","v":{"$error":"#REF!"}},"Hombre","00-04",{"$f":"'Pob x Genero'!#REF!","v":{"$error":"#REF!"}},1215]
[{"$f":"'Pob x Genero'!#REF!","v":{"$error":"#REF!"}},{"$f":"'Pob x Genero'!#REF!","v":{"$error":"#REF!"}},{"$f":"'Pob x Genero'!#REF!","v":{"$error":"#REF!"}},{"$f":"'Pob x Genero'!#REF!","v":{"$error":"#REF!"}},{"$f":"'Pob x Genero'!#REF!","v":{"$error":"#REF!"}},"Hombre","00-04",{"$f":"'Pob x Genero'!#REF!","v":{"$error":"#REF!"}},1216]
[{"$f":"'Pob x Genero'!#REF!","v":{"$error":"#REF!"}},{"$f":"'Pob x Genero'!#REF!","v":{"$error":"#REF!"}},{"$f":"'Pob x Genero'!#REF!","v":{"$error":"#REF!"}},{"$f":"'Pob x Genero'!#REF!","v":{"$error":"#REF!"}},{"$f":"'Pob x Genero'!#REF!","v":{"$error":"#REF!"}},"Hombre","00-04",{"$f":"'Pob x Genero'!#REF!","v":{"$error":"#REF!"}},1217]
[{"$f":"'Pob x Genero'!#REF!","v":{"$error":"#REF!"}},{"$f":"'Pob x Genero'!#REF!","v":{"$error":"#REF!"}},{"$f":"'Pob x Genero'!#REF!","v":{"$error":"#REF!"}},{"$f":"'Pob x Genero'!#REF!","v":{"$error":"#REF!"}},{"$f":"'Pob x Genero'!#REF!","v":{"$error":"#REF!"}},"Hombre","00-04",{"$f":"'Pob x Genero'!#REF!","v":{"$error":"#REF!"}},1218]
[{"$f":"'Pob x Genero'!#REF!","v":{"$error":"#REF!"}},{"$f":"'Pob x Genero'!#REF!","v":{"$error":"#REF!"}},{"$f":"'Pob x Genero'!#REF!","v":{"$error":"#REF!"}},{"$f":"'Pob x Genero'!#REF!","v":{"$error":"#REF!"}},{"$f":"'Pob x Genero'!#REF!","v":{"$error":"#REF!"}},{"$f":"F1219","v":"Hombre"},{"$f":"G1219","v":"00-04"},{"$f":"'Pob x Genero'!#REF!","v":{"$error":"#REF!"}},1219]
[{"$f":"'Pob x Genero'!#REF!","v":{"$error":"#REF!"}},{"$f":"'Pob x Genero'!#REF!","v":{"$error":"#REF!"}},{"$f":"'Pob x Genero'!#REF!","v":{"$error":"#REF!"}},{"$f":"'Pob x Genero'!#REF!","v":{"$error":"#REF!"}},{"$f":"'Pob x Genero'!#REF!","v":{"$error":"#REF!"}},"Hombre","00-04",{"$f":"'Pob x Genero'!#REF!","v":{"$error":"#REF!"}},1220]
[{"$f":"'Pob x Genero'!#REF!","v":{"$error":"#REF!"}},{"$f":"'Pob x Genero'!#REF!","v":{"$error":"#REF!"}},{"$f":"'Pob x Genero'!#REF!","v":{"$error":"#REF!"}},{"$f":"'Pob x Genero'!#REF!","v":{"$error":"#REF!"}},{"$f":"'Pob x Genero'!#REF!","v":{"$error":"#REF!"}},"Hombre","00-04",{"$f":"'Pob x Genero'!#REF!","v":{"$error":"#REF!"}},1221]
[{"$f":"'Pob x Genero'!#REF!","v":{"$error":"#REF!"}},{"$f":"'Pob x Genero'!#REF!","v":{"$error":"#REF!"}},{"$f":"'Pob x Genero'!#REF!","v":{"$error":"#REF!"}},{"$f":"'Pob x Genero'!#REF!","v":{"$error":"#REF!"}},{"$f":"'Pob x Genero'!#REF!","v":{"$error":"#REF!"}},"Hombre","00-04",{"$f":"'Pob x Genero'!#REF!","v":{"$error":"#REF!"}},1222]
[{"$f":"'Pob x Genero'!#REF!","v":{"$error":"#REF!"}},{"$f":"'Pob x Genero'!#REF!","v":{"$error":"#REF!"}},{"$f":"'Pob x Genero'!#REF!","v":{"$error":"#REF!"}},{"$f":"'Pob x Genero'!#REF!","v":{"$error":"#REF!"}},{"$f":"'Pob x Genero'!#REF!","v":{"$error":"#REF!"}},"Hombre","00-04",{"$f":"'Pob x Genero'!#REF!","v":{"$error":"#REF!"}},1223]
[{"$f":"'Pob x Genero'!#REF!","v":{"$error":"#REF!"}},{"$f":"'Pob x Genero'!#REF!","v":{"$error":"#REF!"}},{"$f":"'Pob x Genero'!#REF!","v":{"$error":"#REF!"}},{"$f":"'Pob x Genero'!#REF!","v":{"$error":"#REF!"}},{"$f":"'Pob x Genero'!#REF!","v":{"$error":"#REF!"}},"Hombre","00-04",{"$f":"'Pob x Genero'!#REF!","v":{"$error":"#REF!"}},1224]
[{"$f":"'Pob x Genero'!#REF!","v":{"$error":"#REF!"}},{"$f":"'Pob x Genero'!#REF!","v":{"$error":"#REF!"}},{"$f":"'Pob x Genero'!#REF!","v":{"$error":"#REF!"}},{"$f":"'Pob x Genero'!#REF!","v":{"$error":"#REF!"}},{"$f":"'Pob x Genero'!#REF!","v":{"$error":"#REF!"}},"Hombre","00-04",{"$f":"'Pob x Genero'!#REF!","v":{"$error":"#REF!"}},1225]
[{"$f":"'Pob x Genero'!#REF!","v":{"$error":"#REF!"}},{"$f":"'Pob x Genero'!#REF!","v":{"$error":"#REF!"}},{"$f":"'Pob x Genero'!#REF!","v":{"$error":"#REF!"}},{"$f":"'Pob x Genero'!#REF!","v":{"$error":"#REF!"}},{"$f":"'Pob x Genero'!#REF!","v":{"$error":"#REF!"}},"Hombre","00-04",{"$f":"'Pob x Genero'!#REF!","v":{"$error":"#REF!"}},1226]
[{"$f":"'Pob x Genero'!#REF!","v":{"$error":"#REF!"}},{"$f":"'Pob x Genero'!#REF!","v":{"$error":"#REF!"}},{"$f":"'Pob x Genero'!#REF!","v":{"$error":"#REF!"}},{"$f":"'Pob x Genero'!#REF!","v":{"$error":"#REF!"}},{"$f":"'Pob x Genero'!#REF!","v":{"$error":"#REF!"}},"Hombre","00-04",{"$f":"'Pob x Genero'!#REF!","v":{"$error":"#REF!"}},1227]
[{"$f":"'Pob x Genero'!#REF!","v":{"$error":"#REF!"}},{"$f":"'Pob x Genero'!#REF!","v":{"$error":"#REF!"}},{"$f":"'Pob x Genero'!#REF!","v":{"$error":"#REF!"}},{"$f":"'Pob x Genero'!#REF!","v":{"$error":"#REF!"}},{"$f":"'Pob x Genero'!#REF!","v":{"$error":"#REF!"}},"Hombre","00-04",{"$f":"'Pob x Genero'!#REF!","v":{"$error":"#REF!"}},1228]
[{"$f":"'Pob x Genero'!#REF!","v":{"$error":"#REF!"}},{"$f":"'Pob x Genero'!#REF!","v":{"$error":"#REF!"}},{"$f":"'Pob x Genero'!#REF!","v":{"$error":"#REF!"}},{"$f":"'Pob x Genero'!#REF!","v":{"$error":"#REF!"}},{"$f":"'Pob x Genero'!#REF!","v":{"$error":"#REF!"}},"Hombre","00-04",{"$f":"'Pob x Genero'!#REF!","v":{"$error":"#REF!"}},1229]
[{"$f":"'Pob x Genero'!#REF!","v":{"$error":"#REF!"}},{"$f":"'Pob x Genero'!#REF!","v":{"$error":"#REF!"}},{"$f":"'Pob x Genero'!#REF!","v":{"$error":"#REF!"}},{"$f":"'Pob x Genero'!#REF!","v":{"$error":"#REF!"}},{"$f":"'Pob x Genero'!#REF!","v":{"$error":"#REF!"}},"Hombre","00-04",{"$f":"'Pob x Genero'!#REF!","v":{"$error":"#REF!"}},1230]
[{"$f":"'Pob x Genero'!#REF!","v":{"$error":"#REF!"}},{"$f":"'Pob x Genero'!#REF!","v":{"$error":"#REF!"}},{"$f":"'Pob x Genero'!#REF!","v":{"$error":"#REF!"}},{"$f":"'Pob x Genero'!#REF!","v":{"$error":"#REF!"}},{"$f":"'Pob x Genero'!#REF!","v":{"$error":"#REF!"}},"Hombre","00-04",{"$f":"'Pob x Genero'!#REF!","v":{"$error":"#REF!"}},1231]
[{"$f":"'Pob x Genero'!#REF!","v":{"$error":"#REF!"}},{"$f":"'Pob x Genero'!#REF!","v":{"$error":"#REF!"}},{"$f":"'Pob x Genero'!#REF!","v":{"$error":"#REF!"}},{"$f":"'Pob x Genero'!#REF!","v":{"$error":"#REF!"}},{"$f":"'Pob x Genero'!#REF!","v":{"$error":"#REF!"}},"Hombre","00-04",{"$f":"'Pob x Genero'!#REF!","v":{"$error":"#REF!"}},1232]
[{"$f":"'Pob x Genero'!#REF!","v":{"$error":"#REF!"}},{"$f":"'Pob x Genero'!#REF!","v":{"$error":"#REF!"}},{"$f":"'Pob x Genero'!#REF!","v":{"$error":"#REF!"}},{"$f":"'Pob x Genero'!#REF!","v":{"$error":"#REF!"}},{"$f":"'Pob x Genero'!#REF!","v":{"$error":"#REF!"}},"Hombre","00-04",{"$f":"'Pob x Genero'!#REF!","v":{"$error":"#REF!"}},1233]
[{"$f":"'Pob x Genero'!#REF!","v":{"$error":"#REF!"}},{"$f":"'Pob x Genero'!#REF!","v":{"$error":"#REF!"}},{"$f":"'Pob x Genero'!#REF!","v":{"$error":"#REF!"}},{"$f":"'Pob x Genero'!#REF!","v":{"$error":"#REF!"}},{"$f":"'Pob x Genero'!#REF!","v":{"$error":"#REF!"}},"Hombre","00-04",{"$f":"'Pob x Genero'!#REF!","v":{"$error":"#REF!"}},1234]
[{"$f":"'Pob x Genero'!#REF!","v":{"$error":"#REF!"}},{"$f":"'Pob x Genero'!#REF!","v":{"$error":"#REF!"}},{"$f":"'Pob x Genero'!#REF!","v":{"$error":"#REF!"}},{"$f":"'Pob x Genero'!#REF!","v":{"$error":"#REF!"}},{"$f":"'Pob x Genero'!#REF!","v":{"$error":"#REF!"}},"Hombre","00-04",{"$f":"'Pob x Genero'!#REF!","v":{"$error":"#REF!"}},1235]
[{"$f":"'Pob x Genero'!#REF!","v":{"$error":"#REF!"}},{"$f":"'Pob x Genero'!#REF!","v":{"$error":"#REF!"}},{"$f":"'Pob x Genero'!#REF!","v":{"$error":"#REF!"}},{"$f":"'Pob x Genero'!#REF!","v":{"$error":"#REF!"}},{"$f":"'Pob x Genero'!#REF!","v":{"$error":"#REF!"}},"Hombre","00-04",{"$f":"'Pob x Genero'!#REF!","v":{"$error":"#REF!"}},1236]
[{"$f":"'Pob x Genero'!#REF!","v":{"$error":"#REF!"}},{"$f":"'Pob x Genero'!#REF!","v":{"$error":"#REF!"}},{"$f":"'Pob x Genero'!#REF!","v":{"$error":"#REF!"}},{"$f":"'Pob x Genero'!#REF!","v":{"$error":"#REF!"}},{"$f":"'Pob x Genero'!#REF!","v":{"$error":"#REF!"}},"Hombre","00-04",{"$f":"'Pob x Genero'!#REF!","v":{"$error":"#REF!"}},1237]
[{"$f":"'Pob x Genero'!#REF!","v":{"$error":"#REF!"}},{"$f":"'Pob x Genero'!#REF!","v":{"$error":"#REF!"}},{"$f":"'Pob x Genero'!#REF!","v":{"$error":"#REF!"}},{"$f":"'Pob x Genero'!#REF!","v":{"$error":"#REF!"}},{"$f":"'Pob x Genero'!#REF!","v":{"$error":"#REF!"}},"Hombre","00-04",{"$f":"'Pob x Genero'!#REF!","v":{"$error":"#REF!"}},1238]
[{"$f":"'Pob x Genero'!#REF!","v":{"$error":"#REF!"}},{"$f":"'Pob x Genero'!#REF!","v":{"$error":"#REF!"}},{"$f":"'Pob x Genero'!#REF!","v":{"$error":"#REF!"}},{"$f":"'Pob x Genero'!#REF!","v":{"$error":"#REF!"}},{"$f":"'Pob x Genero'!#REF!","v":{"$error":"#REF!"}},"Hombre","00-04",{"$f":"'Pob x Genero'!#REF!","v":{"$error":"#REF!"}},1239]
[{"$f":"'Pob x Genero'!#REF!","v":{"$error":"#REF!"}},{"$f":"'Pob x Genero'!#REF!","v":{"$error":"#REF!"}},{"$f":"'Pob x Genero'!#REF!","v":{"$error":"#REF!"}},{"$f":"'Pob x Genero'!#REF!","v":{"$error":"#REF!"}},{"$f":"'Pob x Genero'!#REF!","v":{"$error":"#REF!"}},"Hombre","00-04",{"$f":"'Pob x Genero'!#REF!","v":{"$error":"#REF!"}},1240]
[{"$f":"'Pob x Genero'!#REF!","v":{"$error":"#REF!"}},{"$f":"'Pob x Genero'!#REF!","v":{"$error":"#REF!"}},{"$f":"'Pob x Genero'!#REF!","v":{"$error":"#REF!"}},{"$f":"'Pob x Genero'!#REF!","v":{"$error":"#REF!"}},{"$f":"'Pob x Genero'!#REF!","v":{"$error":"#REF!"}},"Hombre","00-04",{"$f":"'Pob x Genero'!#REF!","v":{"$error":"#REF!"}},1241]
[{"$f":"'Pob x Genero'!#REF!","v":{"$error":"#REF!"}},{"$f":"'Pob x Genero'!#REF!","v":{"$error":"#REF!"}},{"$f":"'Pob x Genero'!#REF!","v":{"$error":"#REF!"}},{"$f":"'Pob x Genero'!#REF!","v":{"$error":"#REF!"}},{"$f":"'Pob x Genero'!#REF!","v":{"$error":"#REF!"}},"Hombre","00-04",{"$f":"'Pob x Genero'!#REF!","v":{"$error":"#REF!"}},1242]
[{"$f":"'Pob x Genero'!#REF!","v":{"$error":"#REF!"}},{"$f":"'Pob x Genero'!#REF!","v":{"$error":"#REF!"}},{"$f":"'Pob x Genero'!#REF!","v":{"$error":"#REF!"}},{"$f":"'Pob x Genero'!#REF!","v":{"$error":"#REF!"}},{"$f":"'Pob x Genero'!#REF!","v":{"$error":"#REF!"}},"Hombre","00-04",{"$f":"'Pob x Genero'!#REF!","v":{"$error":"#REF!"}},1243]
[{"$f":"'Pob x Genero'!#REF!","v":{"$error":"#REF!"}},{"$f":"'Pob x Genero'!#REF!","v":{"$error":"#REF!"}},{"$f":"'Pob x Genero'!#REF!","v":{"$error":"#REF!"}},{"$f":"'Pob x Genero'!#REF!","v":{"$error":"#REF!"}},{"$f":"'Pob x Genero'!#REF!","v":{"$error":"#REF!"}},"Hombre","00-04",{"$f":"'Pob x Genero'!#REF!","v":{"$error":"#REF!"}},1244]
[{"$f":"'Pob x Genero'!#REF!","v":{"$error":"#REF!"}},{"$f":"'Pob x Genero'!#REF!","v":{"$error":"#REF!"}},{"$f":"'Pob x Genero'!#REF!","v":{"$error":"#REF!"}},{"$f":"'Pob x Genero'!#REF!","v":{"$error":"#REF!"}},{"$f":"'Pob x Genero'!#REF!","v":{"$error":"#REF!"}},"Hombre","00-04",{"$f":"'Pob x Genero'!#REF!","v":{"$error":"#REF!"}},1245]
[{"$f":"'Pob x Genero'!#REF!","v":{"$error":"#REF!"}},{"$f":"'Pob x Genero'!#REF!","v":{"$error":"#REF!"}},{"$f":"'Pob x Genero'!#REF!","v":{"$error":"#REF!"}},{"$f":"'Pob x Genero'!#REF!","v":{"$error":"#REF!"}},{"$f":"'Pob x Genero'!#REF!","v":{"$error":"#REF!"}},"Hombre","00-04",{"$f":"'Pob x Genero'!#REF!","v":{"$error":"#REF!"}},1246]
[{"$f":"'Pob x Genero'!#REF!","v":{"$error":"#REF!"}},{"$f":"'Pob x Genero'!#REF!","v":{"$error":"#REF!"}},{"$f":"'Pob x Genero'!#REF!","v":{"$error":"#REF!"}},{"$f":"'Pob x Genero'!#REF!","v":{"$error":"#REF!"}},{"$f":"'Pob x Genero'!#REF!","v":{"$error":"#REF!"}},"Hombre","00-04",{"$f":"'Pob x Genero'!#REF!","v":{"$error":"#REF!"}},1247]
[{"$f":"'Pob x Genero'!#REF!","v":{"$error":"#REF!"}},{"$f":"'Pob x Genero'!#REF!","v":{"$error":"#REF!"}},{"$f":"'Pob x Genero'!#REF!","v":{"$error":"#REF!"}},{"$f":"'Pob x Genero'!#REF!","v":{"$error":"#REF!"}},{"$f":"'Pob x Genero'!#REF!","v":{"$error":"#REF!"}},"Hombre","00-04",{"$f":"'Pob x Genero'!#REF!","v":{"$error":"#REF!"}},1248]
[{"$f":"'Pob x Genero'!#REF!","v":{"$error":"#REF!"}},{"$f":"'Pob x Genero'!#REF!","v":{"$error":"#REF!"}},{"$f":"'Pob x Genero'!#REF!","v":{"$error":"#REF!"}},{"$f":"'Pob x Genero'!#REF!","v":{"$error":"#REF!"}},{"$f":"'Pob x Genero'!#REF!","v":{"$error":"#REF!"}},"Hombre","00-04",{"$f":"'Pob x Genero'!#REF!","v":{"$error":"#REF!"}},1249]
[{"$f":"'Pob x Genero'!#REF!","v":{"$error":"#REF!"}},{"$f":"'Pob x Genero'!#REF!","v":{"$error":"#REF!"}},{"$f":"'Pob x Genero'!#REF!","v":{"$error":"#REF!"}},{"$f":"'Pob x Genero'!#REF!","v":{"$error":"#REF!"}},{"$f":"'Pob x Genero'!#REF!","v":{"$error":"#REF!"}},"Hombre","00-04",{"$f":"'Pob x Genero'!#REF!","v":{"$error":"#REF!"}},1250]
[{"$f":"'Pob x Genero'!#REF!","v":{"$error":"#REF!"}},{"$f":"'Pob x Genero'!#REF!","v":{"$error":"#REF!"}},{"$f":"'Pob x Genero'!#REF!","v":{"$error":"#REF!"}},{"$f":"'Pob x Genero'!#REF!","v":{"$error":"#REF!"}},{"$f":"'Pob x Genero'!#REF!","v":{"$error":"#REF!"}},"Hombre","00-04",{"$f":"'Pob x Genero'!#REF!","v":{"$error":"#REF!"}},1251]
[{"$f":"'Pob x Genero'!#REF!","v":{"$error":"#REF!"}},{"$f":"'Pob x Genero'!#REF!","v":{"$error":"#REF!"}},{"$f":"'Pob x Genero'!#REF!","v":{"$error":"#REF!"}},{"$f":"'Pob x Genero'!#REF!","v":{"$error":"#REF!"}},{"$f":"'Pob x Genero'!#REF!","v":{"$error":"#REF!"}},"Hombre","00-04",{"$f":"'Pob x Genero'!#REF!","v":{"$error":"#REF!"}},1252]
[{"$f":"'Pob x Genero'!#REF!","v":{"$error":"#REF!"}},{"$f":"'Pob x Genero'!#REF!","v":{"$error":"#REF!"}},{"$f":"'Pob x Genero'!#REF!","v":{"$error":"#REF!"}},{"$f":"'Pob x Genero'!#REF!","v":{"$error":"#REF!"}},{"$f":"'Pob x Genero'!#REF!","v":{"$error":"#REF!"}},"Hombre","00-04",{"$f":"'Pob x Genero'!#REF!","v":{"$error":"#REF!"}},1253]
[{"$f":"'Pob x Genero'!#REF!","v":{"$error":"#REF!"}},{"$f":"'Pob x Genero'!#REF!","v":{"$error":"#REF!"}},{"$f":"'Pob x Genero'!#REF!","v":{"$error":"#REF!"}},{"$f":"'Pob x Genero'!#REF!","v":{"$error":"#REF!"}},{"$f":"'Pob x Genero'!#REF!","v":{"$error":"#REF!"}},"Hombre","00-04",{"$f":"'Pob x Genero'!#REF!","v":{"$error":"#REF!"}},1254]
[{"$f":"'Pob x Genero'!#REF!","v":{"$error":"#REF!"}},{"$f":"'Pob x Genero'!#REF!","v":{"$error":"#REF!"}},{"$f":"'Pob x Genero'!#REF!","v":{"$error":"#REF!"}},{"$f":"'Pob x Genero'!#REF!","v":{"$error":"#REF!"}},{"$f":"'Pob x Genero'!#REF!","v":{"$error":"#REF!"}},"Hombre","00-04",{"$f":"'Pob x Genero'!#REF!","v":{"$error":"#REF!"}},1255]
[{"$f":"'Pob x Genero'!#REF!","v":{"$error":"#REF!"}},{"$f":"'Pob x Genero'!#REF!","v":{"$error":"#REF!"}},{"$f":"'Pob x Genero'!#REF!","v":{"$error":"#REF!"}},{"$f":"'Pob x Genero'!#REF!","v":{"$error":"#REF!"}},{"$f":"'Pob x Genero'!#REF!","v":{"$error":"#REF!"}},"Hombre","00-04",{"$f":"'Pob x Genero'!#REF!","v":{"$error":"#REF!"}},1256]
[{"$f":"'Pob x Genero'!#REF!","v":{"$error":"#REF!"}},{"$f":"'Pob x Genero'!#REF!","v":{"$error":"#REF!"}},{"$f":"'Pob x Genero'!#REF!","v":{"$error":"#REF!"}},{"$f":"'Pob x Genero'!#REF!","v":{"$error":"#REF!"}},{"$f":"'Pob x Genero'!#REF!","v":{"$error":"#REF!"}},"Hombre","00-04",{"$f":"'Pob x Genero'!#REF!","v":{"$error":"#REF!"}},1257]
[{"$f":"'Pob x Genero'!#REF!","v":{"$error":"#REF!"}},{"$f":"'Pob x Genero'!#REF!","v":{"$error":"#REF!"}},{"$f":"'Pob x Genero'!#REF!","v":{"$error":"#REF!"}},{"$f":"'Pob x Genero'!#REF!","v":{"$error":"#REF!"}},{"$f":"'Pob x Genero'!#REF!","v":{"$error":"#REF!"}},"Hombre","00-04",{"$f":"'Pob x Genero'!#REF!","v":{"$error":"#REF!"}},1258]
[{"$f":"'Pob x Genero'!#REF!","v":{"$error":"#REF!"}},{"$f":"'Pob x Genero'!#REF!","v":{"$error":"#REF!"}},{"$f":"'Pob x Genero'!#REF!","v":{"$error":"#REF!"}},{"$f":"'Pob x Genero'!#REF!","v":{"$error":"#REF!"}},{"$f":"'Pob x Genero'!#REF!","v":{"$error":"#REF!"}},"Hombre","00-04",{"$f":"'Pob x Genero'!#REF!","v":{"$error":"#REF!"}},1259]
[{"$f":"'Pob x Genero'!#REF!","v":{"$error":"#REF!"}},{"$f":"'Pob x Genero'!#REF!","v":{"$error":"#REF!"}},{"$f":"'Pob x Genero'!#REF!","v":{"$error":"#REF!"}},{"$f":"'Pob x Genero'!#REF!","v":{"$error":"#REF!"}},{"$f":"'Pob x Genero'!#REF!","v":{"$error":"#REF!"}},"Hombre","00-04",{"$f":"'Pob x Genero'!#REF!","v":{"$error":"#REF!"}},1260]
[{"$f":"'Pob x Genero'!#REF!","v":{"$error":"#REF!"}},{"$f":"'Pob x Genero'!#REF!","v":{"$error":"#REF!"}},{"$f":"'Pob x Genero'!#REF!","v":{"$error":"#REF!"}},{"$f":"'Pob x Genero'!#REF!","v":{"$error":"#REF!"}},{"$f":"'Pob x Genero'!#REF!","v":{"$error":"#REF!"}},"Hombre","00-04",{"$f":"'Pob x Genero'!#REF!","v":{"$error":"#REF!"}},1261]
[{"$f":"'Pob x Genero'!#REF!","v":{"$error":"#REF!"}},{"$f":"'Pob x Genero'!#REF!","v":{"$error":"#REF!"}},{"$f":"'Pob x Genero'!#REF!","v":{"$error":"#REF!"}},{"$f":"'Pob x Genero'!#REF!","v":{"$error":"#REF!"}},{"$f":"'Pob x Genero'!#REF!","v":{"$error":"#REF!"}},"Hombre","00-04",{"$f":"'Pob x Genero'!#REF!","v":{"$error":"#REF!"}},1262]
[{"$f":"'Pob x Genero'!#REF!","v":{"$error":"#REF!"}},{"$f":"'Pob x Genero'!#REF!","v":{"$error":"#REF!"}},{"$f":"'Pob x Genero'!#REF!","v":{"$error":"#REF!"}},{"$f":"'Pob x Genero'!#REF!","v":{"$error":"#REF!"}},{"$f":"'Pob x Genero'!#REF!","v":{"$error":"#REF!"}},"Hombre","00-04",{"$f":"'Pob x Genero'!#REF!","v":{"$error":"#REF!"}},1263]
[{"$f":"'Pob x Genero'!#REF!","v":{"$error":"#REF!"}},{"$f":"'Pob x Genero'!#REF!","v":{"$error":"#REF!"}},{"$f":"'Pob x Genero'!#REF!","v":{"$error":"#REF!"}},{"$f":"'Pob x Genero'!#REF!","v":{"$error":"#REF!"}},{"$f":"'Pob x Genero'!#REF!","v":{"$error":"#REF!"}},"Hombre","00-04",{"$f":"'Pob x Genero'!#REF!","v":{"$error":"#REF!"}},1264]
[{"$f":"'Pob x Genero'!#REF!","v":{"$error":"#REF!"}},{"$f":"'Pob x Genero'!#REF!","v":{"$error":"#REF!"}},{"$f":"'Pob x Genero'!#REF!","v":{"$error":"#REF!"}},{"$f":"'Pob x Genero'!#REF!","v":{"$error":"#REF!"}},{"$f":"'Pob x Genero'!#REF!","v":{"$error":"#REF!"}},"Hombre","00-04",{"$f":"'Pob x Genero'!#REF!","v":{"$error":"#REF!"}},1265]
[{"$f":"'Pob x Genero'!#REF!","v":{"$error":"#REF!"}},{"$f":"'Pob x Genero'!#REF!","v":{"$error":"#REF!"}},{"$f":"'Pob x Genero'!#REF!","v":{"$error":"#REF!"}},{"$f":"'Pob x Genero'!#REF!","v":{"$error":"#REF!"}},{"$f":"'Pob x Genero'!#REF!","v":{"$error":"#REF!"}},"Hombre","00-04",{"$f":"'Pob x Genero'!#REF!","v":{"$error":"#REF!"}},1266]
[{"$f":"'Pob x Genero'!#REF!","v":{"$error":"#REF!"}},{"$f":"'Pob x Genero'!#REF!","v":{"$error":"#REF!"}},{"$f":"'Pob x Genero'!#REF!","v":{"$error":"#REF!"}},{"$f":"'Pob x Genero'!#REF!","v":{"$error":"#REF!"}},{"$f":"'Pob x Genero'!#REF!","v":{"$error":"#REF!"}},"Hombre","00-04",{"$f":"'Pob x Genero'!#REF!","v":{"$error":"#REF!"}},1267]
[{"$f":"'Pob x Genero'!#REF!","v":{"$error":"#REF!"}},{"$f":"'Pob x Genero'!#REF!","v":{"$error":"#REF!"}},{"$f":"'Pob x Genero'!#REF!","v":{"$error":"#REF!"}},{"$f":"'Pob x Genero'!#REF!","v":{"$error":"#REF!"}},{"$f":"'Pob x Genero'!#REF!","v":{"$error":"#REF!"}},"Hombre","00-04",{"$f":"'Pob x Genero'!#REF!","v":{"$error":"#REF!"}},1268]
[{"$f":"'Pob x Genero'!#REF!","v":{"$error":"#REF!"}},{"$f":"'Pob x Genero'!#REF!","v":{"$error":"#REF!"}},{"$f":"'Pob x Genero'!#REF!","v":{"$error":"#REF!"}},{"$f":"'Pob x Genero'!#REF!","v":{"$error":"#REF!"}},{"$f":"'Pob x Genero'!#REF!","v":{"$error":"#REF!"}},"Hombre","00-04",{"$f":"'Pob x Genero'!#REF!","v":{"$error":"#REF!"}},1269]
[{"$f":"'Pob x Genero'!#REF!","v":{"$error":"#REF!"}},{"$f":"'Pob x Genero'!#REF!","v":{"$error":"#REF!"}},{"$f":"'Pob x Genero'!#REF!","v":{"$error":"#REF!"}},{"$f":"'Pob x Genero'!#REF!","v":{"$error":"#REF!"}},{"$f":"'Pob x Genero'!#REF!","v":{"$error":"#REF!"}},"Hombre","00-04",{"$f":"'Pob x Genero'!#REF!","v":{"$error":"#REF!"}},1270]
[{"$f":"'Pob x Genero'!#REF!","v":{"$error":"#REF!"}},{"$f":"'Pob x Genero'!#REF!","v":{"$error":"#REF!"}},{"$f":"'Pob x Genero'!#REF!","v":{"$error":"#REF!"}},{"$f":"'Pob x Genero'!#REF!","v":{"$error":"#REF!"}},{"$f":"'Pob x Genero'!#REF!","v":{"$error":"#REF!"}},"Hombre","00-04",{"$f":"'Pob x Genero'!#REF!","v":{"$error":"#REF!"}},1271]
[{"$f":"'Pob x Genero'!#REF!","v":{"$error":"#REF!"}},{"$f":"'Pob x Genero'!#REF!","v":{"$error":"#REF!"}},{"$f":"'Pob x Genero'!#REF!","v":{"$error":"#REF!"}},{"$f":"'Pob x Genero'!#REF!","v":{"$error":"#REF!"}},{"$f":"'Pob x Genero'!#REF!","v":{"$error":"#REF!"}},"Hombre","00-04",{"$f":"'Pob x Genero'!#REF!","v":{"$error":"#REF!"}},1272]
[{"$f":"'Pob x Genero'!#REF!","v":{"$error":"#REF!"}},{"$f":"'Pob x Genero'!#REF!","v":{"$error":"#REF!"}},{"$f":"'Pob x Genero'!#REF!","v":{"$error":"#REF!"}},{"$f":"'Pob x Genero'!#REF!","v":{"$error":"#REF!"}},{"$f":"'Pob x Genero'!#REF!","v":{"$error":"#REF!"}},"Hombre","00-04",{"$f":"'Pob x Genero'!#REF!","v":{"$error":"#REF!"}},1273]
[{"$f":"'Pob x Genero'!#REF!","v":{"$error":"#REF!"}},{"$f":"'Pob x Genero'!#REF!","v":{"$error":"#REF!"}},{"$f":"'Pob x Genero'!#REF!","v":{"$error":"#REF!"}},{"$f":"'Pob x Genero'!#REF!","v":{"$error":"#REF!"}},{"$f":"'Pob x Genero'!#REF!","v":{"$error":"#REF!"}},"Hombre","00-04",{"$f":"'Pob x Genero'!#REF!","v":{"$error":"#REF!"}},1274]
[{"$f":"'Pob x Genero'!#REF!","v":{"$error":"#REF!"}},{"$f":"'Pob x Genero'!#REF!","v":{"$error":"#REF!"}},{"$f":"'Pob x Genero'!#REF!","v":{"$error":"#REF!"}},{"$f":"'Pob x Genero'!#REF!","v":{"$error":"#REF!"}},{"$f":"'Pob x Genero'!#REF!","v":{"$error":"#REF!"}},"Hombre","00-04",{"$f":"'Pob x Genero'!#REF!","v":{"$error":"#REF!"}},1275]
[{"$f":"'Pob x Genero'!#REF!","v":{"$error":"#REF!"}},{"$f":"'Pob x Genero'!#REF!","v":{"$error":"#REF!"}},{"$f":"'Pob x Genero'!#REF!","v":{"$error":"#REF!"}},{"$f":"'Pob x Genero'!#REF!","v":{"$error":"#REF!"}},{"$f":"'Pob x Genero'!#REF!","v":{"$error":"#REF!"}},"Hombre","00-04",{"$f":"'Pob x Genero'!#REF!","v":{"$error":"#REF!"}},1276]
[{"$f":"'Pob x Genero'!#REF!","v":{"$error":"#REF!"}},{"$f":"'Pob x Genero'!#REF!","v":{"$error":"#REF!"}},{"$f":"'Pob x Genero'!#REF!","v":{"$error":"#REF!"}},{"$f":"'Pob x Genero'!#REF!","v":{"$error":"#REF!"}},{"$f":"'Pob x Genero'!#REF!","v":{"$error":"#REF!"}},"Hombre","00-04",{"$f":"'Pob x Genero'!#REF!","v":{"$error":"#REF!"}},1277]
[{"$f":"'Pob x Genero'!#REF!","v":{"$error":"#REF!"}},{"$f":"'Pob x Genero'!#REF!","v":{"$error":"#REF!"}},{"$f":"'Pob x Genero'!#REF!","v":{"$error":"#REF!"}},{"$f":"'Pob x Genero'!#REF!","v":{"$error":"#REF!"}},{"$f":"'Pob x Genero'!#REF!","v":{"$error":"#REF!"}},"Hombre","00-04",{"$f":"'Pob x Genero'!#REF!","v":{"$error":"#REF!"}},1278]
[{"$f":"'Pob x Genero'!#REF!","v":{"$error":"#REF!"}},{"$f":"'Pob x Genero'!#REF!","v":{"$error":"#REF!"}},{"$f":"'Pob x Genero'!#REF!","v":{"$error":"#REF!"}},{"$f":"'Pob x Genero'!#REF!","v":{"$error":"#REF!"}},{"$f":"'Pob x Genero'!#REF!","v":{"$error":"#REF!"}},"Hombre","00-04",{"$f":"'Pob x Genero'!#REF!","v":{"$error":"#REF!"}},1279]
[{"$f":"'Pob x Genero'!#REF!","v":{"$error":"#REF!"}},{"$f":"'Pob x Genero'!#REF!","v":{"$error":"#REF!"}},{"$f":"'Pob x Genero'!#REF!","v":{"$error":"#REF!"}},{"$f":"'Pob x Genero'!#REF!","v":{"$error":"#REF!"}},{"$f":"'Pob x Genero'!#REF!","v":{"$error":"#REF!"}},"Hombre","00-04",{"$f":"'Pob x Genero'!#REF!","v":{"$error":"#REF!"}},1280]
[{"$f":"'Pob x Genero'!#REF!","v":{"$error":"#REF!"}},{"$f":"'Pob x Genero'!#REF!","v":{"$error":"#REF!"}},{"$f":"'Pob x Genero'!#REF!","v":{"$error":"#REF!"}},{"$f":"'Pob x Genero'!#REF!","v":{"$error":"#REF!"}},{"$f":"'Pob x Genero'!#REF!","v":{"$error":"#REF!"}},"Hombre","00-04",{"$f":"'Pob x Genero'!#REF!","v":{"$error":"#REF!"}},1281]
[{"$f":"'Pob x Genero'!#REF!","v":{"$error":"#REF!"}},{"$f":"'Pob x Genero'!#REF!","v":{"$error":"#REF!"}},{"$f":"'Pob x Genero'!#REF!","v":{"$error":"#REF!"}},{"$f":"'Pob x Genero'!#REF!","v":{"$error":"#REF!"}},{"$f":"'Pob x Genero'!#REF!","v":{"$error":"#REF!"}},"Hombre","00-04",{"$f":"'Pob x Genero'!#REF!","v":{"$error":"#REF!"}},1282]
[{"$f":"'Pob x Genero'!#REF!","v":{"$error":"#REF!"}},{"$f":"'Pob x Genero'!#REF!","v":{"$error":"#REF!"}},{"$f":"'Pob x Genero'!#REF!","v":{"$error":"#REF!"}},{"$f":"'Pob x Genero'!#REF!","v":{"$error":"#REF!"}},{"$f":"'Pob x Genero'!#REF!","v":{"$error":"#REF!"}},{"$f":"F1283","v":"Hombre"},{"$f":"G1283","v":"00-04"},{"$f":"'Pob x Genero'!#REF!","v":{"$error":"#REF!"}},1283]
[{"$f":"'Pob x Genero'!#REF!","v":{"$error":"#REF!"}},{"$f":"'Pob x Genero'!#REF!","v":{"$error":"#REF!"}},{"$f":"'Pob x Genero'!#REF!","v":{"$error":"#REF!"}},{"$f":"'Pob x Genero'!#REF!","v":{"$error":"#REF!"}},{"$f":"'Pob x Genero'!#REF!","v":{"$error":"#REF!"}},"Hombre","00-04",{"$f":"'Pob x Genero'!#REF!","v":{"$error":"#REF!"}},1284]
[{"$f":"'Pob x Genero'!#REF!","v":{"$error":"#REF!"}},{"$f":"'Pob x Genero'!#REF!","v":{"$error":"#REF!"}},{"$f":"'Pob x Genero'!#REF!","v":{"$error":"#REF!"}},{"$f":"'Pob x Genero'!#REF!","v":{"$error":"#REF!"}},{"$f":"'Pob x Genero'!#REF!","v":{"$error":"#REF!"}},"Hombre","00-04",{"$f":"'Pob x Genero'!#REF!","v":{"$error":"#REF!"}},1285]
[{"$f":"'Pob x Genero'!#REF!","v":{"$error":"#REF!"}},{"$f":"'Pob x Genero'!#REF!","v":{"$error":"#REF!"}},{"$f":"'Pob x Genero'!#REF!","v":{"$error":"#REF!"}},{"$f":"'Pob x Genero'!#REF!","v":{"$error":"#REF!"}},{"$f":"'Pob x Genero'!#REF!","v":{"$error":"#REF!"}},"Hombre","00-04",{"$f":"'Pob x Genero'!#REF!","v":{"$error":"#REF!"}},1286]
[{"$f":"'Pob x Genero'!#REF!","v":{"$error":"#REF!"}},{"$f":"'Pob x Genero'!#REF!","v":{"$error":"#REF!"}},{"$f":"'Pob x Genero'!#REF!","v":{"$error":"#REF!"}},{"$f":"'Pob x Genero'!#REF!","v":{"$error":"#REF!"}},{"$f":"'Pob x Genero'!#REF!","v":{"$error":"#REF!"}},"Hombre","00-04",{"$f":"'Pob x Genero'!#REF!","v":{"$error":"#REF!"}},1287]
[{"$f":"'Pob x Genero'!#REF!","v":{"$error":"#REF!"}},{"$f":"'Pob x Genero'!#REF!","v":{"$error":"#REF!"}},{"$f":"'Pob x Genero'!#REF!","v":{"$error":"#REF!"}},{"$f":"'Pob x Genero'!#REF!","v":{"$error":"#REF!"}},{"$f":"'Pob x Genero'!#REF!","v":{"$error":"#REF!"}},"Hombre","00-04",{"$f":"'Pob x Genero'!#REF!","v":{"$error":"#REF!"}},1288]
[{"$f":"'Pob x Genero'!#REF!","v":{"$error":"#REF!"}},{"$f":"'Pob x Genero'!#REF!","v":{"$error":"#REF!"}},{"$f":"'Pob x Genero'!#REF!","v":{"$error":"#REF!"}},{"$f":"'Pob x Genero'!#REF!","v":{"$error":"#REF!"}},{"$f":"'Pob x Genero'!#REF!","v":{"$error":"#REF!"}},"Hombre","00-04",{"$f":"'Pob x Genero'!#REF!","v":{"$error":"#REF!"}},1289]
[{"$f":"'Pob x Genero'!#REF!","v":{"$error":"#REF!"}},{"$f":"'Pob x Genero'!#REF!","v":{"$error":"#REF!"}},{"$f":"'Pob x Genero'!#REF!","v":{"$error":"#REF!"}},{"$f":"'Pob x Genero'!#REF!","v":{"$error":"#REF!"}},{"$f":"'Pob x Genero'!#REF!","v":{"$error":"#REF!"}},"Hombre","00-04",{"$f":"'Pob x Genero'!#REF!","v":{"$error":"#REF!"}},1290]
[{"$f":"'Pob x Genero'!#REF!","v":{"$error":"#REF!"}},{"$f":"'Pob x Genero'!#REF!","v":{"$error":"#REF!"}},{"$f":"'Pob x Genero'!#REF!","v":{"$error":"#REF!"}},{"$f":"'Pob x Genero'!#REF!","v":{"$error":"#REF!"}},{"$f":"'Pob x Genero'!#REF!","v":{"$error":"#REF!"}},"Hombre","00-04",{"$f":"'Pob x Genero'!#REF!","v":{"$error":"#REF!"}},1291]
[{"$f":"'Pob x Genero'!#REF!","v":{"$error":"#REF!"}},{"$f":"'Pob x Genero'!#REF!","v":{"$error":"#REF!"}},{"$f":"'Pob x Genero'!#REF!","v":{"$error":"#REF!"}},{"$f":"'Pob x Genero'!#REF!","v":{"$error":"#REF!"}},{"$f":"'Pob x Genero'!#REF!","v":{"$error":"#REF!"}},"Hombre","00-04",{"$f":"'Pob x Genero'!#REF!","v":{"$error":"#REF!"}},1292]
[{"$f":"'Pob x Genero'!#REF!","v":{"$error":"#REF!"}},{"$f":"'Pob x Genero'!#REF!","v":{"$error":"#REF!"}},{"$f":"'Pob x Genero'!#REF!","v":{"$error":"#REF!"}},{"$f":"'Pob x Genero'!#REF!","v":{"$error":"#REF!"}},{"$f":"'Pob x Genero'!#REF!","v":{"$error":"#REF!"}},"Hombre","00-04",{"$f":"'Pob x Genero'!#REF!","v":{"$error":"#REF!"}},1293]
[{"$f":"'Pob x Genero'!#REF!","v":{"$error":"#REF!"}},{"$f":"'Pob x Genero'!#REF!","v":{"$error":"#REF!"}},{"$f":"'Pob x Genero'!#REF!","v":{"$error":"#REF!"}},{"$f":"'Pob x Genero'!#REF!","v":{"$error":"#REF!"}},{"$f":"'Pob x Genero'!#REF!","v":{"$error":"#REF!"}},"Hombre","00-04",{"$f":"'Pob x Genero'!#REF!","v":{"$error":"#REF!"}},1294]
[{"$f":"'Pob x Genero'!#REF!","v":{"$error":"#REF!"}},{"$f":"'Pob x Genero'!#REF!","v":{"$error":"#REF!"}},{"$f":"'Pob x Genero'!#REF!","v":{"$error":"#REF!"}},{"$f":"'Pob x Genero'!#REF!","v":{"$error":"#REF!"}},{"$f":"'Pob x Genero'!#REF!","v":{"$error":"#REF!"}},"Hombre","00-04",{"$f":"'Pob x Genero'!#REF!","v":{"$error":"#REF!"}},1295]
[{"$f":"'Pob x Genero'!#REF!","v":{"$error":"#REF!"}},{"$f":"'Pob x Genero'!#REF!","v":{"$error":"#REF!"}},{"$f":"'Pob x Genero'!#REF!","v":{"$error":"#REF!"}},{"$f":"'Pob x Genero'!#REF!","v":{"$error":"#REF!"}},{"$f":"'Pob x Genero'!#REF!","v":{"$error":"#REF!"}},"Hombre","00-04",{"$f":"'Pob x Genero'!#REF!","v":{"$error":"#REF!"}},1296]
[{"$f":"'Pob x Genero'!#REF!","v":{"$error":"#REF!"}},{"$f":"'Pob x Genero'!#REF!","v":{"$error":"#REF!"}},{"$f":"'Pob x Genero'!#REF!","v":{"$error":"#REF!"}},{"$f":"'Pob x Genero'!#REF!","v":{"$error":"#REF!"}},{"$f":"'Pob x Genero'!#REF!","v":{"$error":"#REF!"}},"Hombre","00-04",{"$f":"'Pob x Genero'!#REF!","v":{"$error":"#REF!"}},1297]
[{"$f":"'Pob x Genero'!#REF!","v":{"$error":"#REF!"}},{"$f":"'Pob x Genero'!#REF!","v":{"$error":"#REF!"}},{"$f":"'Pob x Genero'!#REF!","v":{"$error":"#REF!"}},{"$f":"'Pob x Genero'!#REF!","v":{"$error":"#REF!"}},{"$f":"'Pob x Genero'!#REF!","v":{"$error":"#REF!"}},"Hombre","00-04",{"$f":"'Pob x Genero'!#REF!","v":{"$error":"#REF!"}},1298]
[{"$f":"'Pob x Genero'!#REF!","v":{"$error":"#REF!"}},{"$f":"'Pob x Genero'!#REF!","v":{"$error":"#REF!"}},{"$f":"'Pob x Genero'!#REF!","v":{"$error":"#REF!"}},{"$f":"'Pob x Genero'!#REF!","v":{"$error":"#REF!"}},{"$f":"'Pob x Genero'!#REF!","v":{"$error":"#REF!"}},"Hombre","00-04",{"$f":"'Pob x Genero'!#REF!","v":{"$error":"#REF!"}},1299]
[{"$f":"'Pob x Genero'!#REF!","v":{"$error":"#REF!"}},{"$f":"'Pob x Genero'!#REF!","v":{"$error":"#REF!"}},{"$f":"'Pob x Genero'!#REF!","v":{"$error":"#REF!"}},{"$f":"'Pob x Genero'!#REF!","v":{"$error":"#REF!"}},{"$f":"'Pob x Genero'!#REF!","v":{"$error":"#REF!"}},"Hombre","00-04",{"$f":"'Pob x Genero'!#REF!","v":{"$error":"#REF!"}},1300]
[{"$f":"'Pob x Genero'!#REF!","v":{"$error":"#REF!"}},{"$f":"'Pob x Genero'!#REF!","v":{"$error":"#REF!"}},{"$f":"'Pob x Genero'!#REF!","v":{"$error":"#REF!"}},{"$f":"'Pob x Genero'!#REF!","v":{"$error":"#REF!"}},{"$f":"'Pob x Genero'!#REF!","v":{"$error":"#REF!"}},"Hombre","00-04",{"$f":"'Pob x Genero'!#REF!","v":{"$error":"#REF!"}},1301]
[{"$f":"'Pob x Genero'!#REF!","v":{"$error":"#REF!"}},{"$f":"'Pob x Genero'!#REF!","v":{"$error":"#REF!"}},{"$f":"'Pob x Genero'!#REF!","v":{"$error":"#REF!"}},{"$f":"'Pob x Genero'!#REF!","v":{"$error":"#REF!"}},{"$f":"'Pob x Genero'!#REF!","v":{"$error":"#REF!"}},"Hombre","00-04",{"$f":"'Pob x Genero'!#REF!","v":{"$error":"#REF!"}},1302]
[{"$f":"'Pob x Genero'!#REF!","v":{"$error":"#REF!"}},{"$f":"'Pob x Genero'!#REF!","v":{"$error":"#REF!"}},{"$f":"'Pob x Genero'!#REF!","v":{"$error":"#REF!"}},{"$f":"'Pob x Genero'!#REF!","v":{"$error":"#REF!"}},{"$f":"'Pob x Genero'!#REF!","v":{"$error":"#REF!"}},"Hombre","00-04",{"$f":"'Pob x Genero'!#REF!","v":{"$error":"#REF!"}},1303]
[{"$f":"'Pob x Genero'!#REF!","v":{"$error":"#REF!"}},{"$f":"'Pob x Genero'!#REF!","v":{"$error":"#REF!"}},{"$f":"'Pob x Genero'!#REF!","v":{"$error":"#REF!"}},{"$f":"'Pob x Genero'!#REF!","v":{"$error":"#REF!"}},{"$f":"'Pob x Genero'!#REF!","v":{"$error":"#REF!"}},"Hombre","00-04",{"$f":"'Pob x Genero'!#REF!","v":{"$error":"#REF!"}},1304]
[{"$f":"'Pob x Genero'!#REF!","v":{"$error":"#REF!"}},{"$f":"'Pob x Genero'!#REF!","v":{"$error":"#REF!"}},{"$f":"'Pob x Genero'!#REF!","v":{"$error":"#REF!"}},{"$f":"'Pob x Genero'!#REF!","v":{"$error":"#REF!"}},{"$f":"'Pob x Genero'!#REF!","v":{"$error":"#REF!"}},"Hombre","00-04",{"$f":"'Pob x Genero'!#REF!","v":{"$error":"#REF!"}},1305]
[{"$f":"'Pob x Genero'!#REF!","v":{"$error":"#REF!"}},{"$f":"'Pob x Genero'!#REF!","v":{"$error":"#REF!"}},{"$f":"'Pob x Genero'!#REF!","v":{"$error":"#REF!"}},{"$f":"'Pob x Genero'!#REF!","v":{"$error":"#REF!"}},{"$f":"'Pob x Genero'!#REF!","v":{"$error":"#REF!"}},"Hombre","00-04",{"$f":"'Pob x Genero'!#REF!","v":{"$error":"#REF!"}},1306]
[{"$f":"'Pob x Genero'!#REF!","v":{"$error":"#REF!"}},{"$f":"'Pob x Genero'!#REF!","v":{"$error":"#REF!"}},{"$f":"'Pob x Genero'!#REF!","v":{"$error":"#REF!"}},{"$f":"'Pob x Genero'!#REF!","v":{"$error":"#REF!"}},{"$f":"'Pob x Genero'!#REF!","v":{"$error":"#REF!"}},"Hombre","00-04",{"$f":"'Pob x Genero'!#REF!","v":{"$error":"#REF!"}},1307]
[{"$f":"'Pob x Genero'!#REF!","v":{"$error":"#REF!"}},{"$f":"'Pob x Genero'!#REF!","v":{"$error":"#REF!"}},{"$f":"'Pob x Genero'!#REF!","v":{"$error":"#REF!"}},{"$f":"'Pob x Genero'!#REF!","v":{"$error":"#REF!"}},{"$f":"'Pob x Genero'!#REF!","v":{"$error":"#REF!"}},"Hombre","00-04",{"$f":"'Pob x Genero'!#REF!","v":{"$error":"#REF!"}},1308]
[{"$f":"'Pob x Genero'!#REF!","v":{"$error":"#REF!"}},{"$f":"'Pob x Genero'!#REF!","v":{"$error":"#REF!"}},{"$f":"'Pob x Genero'!#REF!","v":{"$error":"#REF!"}},{"$f":"'Pob x Genero'!#REF!","v":{"$error":"#REF!"}},{"$f":"'Pob x Genero'!#REF!","v":{"$error":"#REF!"}},"Hombre","00-04",{"$f":"'Pob x Genero'!#REF!","v":{"$error":"#REF!"}},1309]
[{"$f":"'Pob x Genero'!#REF!","v":{"$error":"#REF!"}},{"$f":"'Pob x Genero'!#REF!","v":{"$error":"#REF!"}},{"$f":"'Pob x Genero'!#REF!","v":{"$error":"#REF!"}},{"$f":"'Pob x Genero'!#REF!","v":{"$error":"#REF!"}},{"$f":"'Pob x Genero'!#REF!","v":{"$error":"#REF!"}},"Hombre","00-04",{"$f":"'Pob x Genero'!#REF!","v":{"$error":"#REF!"}},1310]
[{"$f":"'Pob x Genero'!#REF!","v":{"$error":"#REF!"}},{"$f":"'Pob x Genero'!#REF!","v":{"$error":"#REF!"}},{"$f":"'Pob x Genero'!#REF!","v":{"$error":"#REF!"}},{"$f":"'Pob x Genero'!#REF!","v":{"$error":"#REF!"}},{"$f":"'Pob x Genero'!#REF!","v":{"$error":"#REF!"}},"Hombre","00-04",{"$f":"'Pob x Genero'!#REF!","v":{"$error":"#REF!"}},1311]
[{"$f":"'Pob x Genero'!#REF!","v":{"$error":"#REF!"}},{"$f":"'Pob x Genero'!#REF!","v":{"$error":"#REF!"}},{"$f":"'Pob x Genero'!#REF!","v":{"$error":"#REF!"}},{"$f":"'Pob x Genero'!#REF!","v":{"$error":"#REF!"}},{"$f":"'Pob x Genero'!#REF!","v":{"$error":"#REF!"}},"Hombre","00-04",{"$f":"'Pob x Genero'!#REF!","v":{"$error":"#REF!"}},1312]
[{"$f":"'Pob x Genero'!#REF!","v":{"$error":"#REF!"}},{"$f":"'Pob x Genero'!#REF!","v":{"$error":"#REF!"}},{"$f":"'Pob x Genero'!#REF!","v":{"$error":"#REF!"}},{"$f":"'Pob x Genero'!#REF!","v":{"$error":"#REF!"}},{"$f":"'Pob x Genero'!#REF!","v":{"$error":"#REF!"}},"Hombre","00-04",{"$f":"'Pob x Genero'!#REF!","v":{"$error":"#REF!"}},1313]
[{"$f":"'Pob x Genero'!#REF!","v":{"$error":"#REF!"}},{"$f":"'Pob x Genero'!#REF!","v":{"$error":"#REF!"}},{"$f":"'Pob x Genero'!#REF!","v":{"$error":"#REF!"}},{"$f":"'Pob x Genero'!#REF!","v":{"$error":"#REF!"}},{"$f":"'Pob x Genero'!#REF!","v":{"$error":"#REF!"}},"Hombre","00-04",{"$f":"'Pob x Genero'!#REF!","v":{"$error":"#REF!"}},1314]
[{"$f":"'Pob x Genero'!#REF!","v":{"$error":"#REF!"}},{"$f":"'Pob x Genero'!#REF!","v":{"$error":"#REF!"}},{"$f":"'Pob x Genero'!#REF!","v":{"$error":"#REF!"}},{"$f":"'Pob x Genero'!#REF!","v":{"$error":"#REF!"}},{"$f":"'Pob x Genero'!#REF!","v":{"$error":"#REF!"}},"Hombre","00-04",{"$f":"'Pob x Genero'!#REF!","v":{"$error":"#REF!"}},1315]
[{"$f":"'Pob x Genero'!#REF!","v":{"$error":"#REF!"}},{"$f":"'Pob x Genero'!#REF!","v":{"$error":"#REF!"}},{"$f":"'Pob x Genero'!#REF!","v":{"$error":"#REF!"}},{"$f":"'Pob x Genero'!#REF!","v":{"$error":"#REF!"}},{"$f":"'Pob x Genero'!#REF!","v":{"$error":"#REF!"}},"Hombre","00-04",{"$f":"'Pob x Genero'!#REF!","v":{"$error":"#REF!"}},1316]
[{"$f":"'Pob x Genero'!#REF!","v":{"$error":"#REF!"}},{"$f":"'Pob x Genero'!#REF!","v":{"$error":"#REF!"}},{"$f":"'Pob x Genero'!#REF!","v":{"$error":"#REF!"}},{"$f":"'Pob x Genero'!#REF!","v":{"$error":"#REF!"}},{"$f":"'Pob x Genero'!#REF!","v":{"$error":"#REF!"}},"Hombre","00-04",{"$f":"'Pob x Genero'!#REF!","v":{"$error":"#REF!"}},1317]
[{"$f":"'Pob x Genero'!#REF!","v":{"$error":"#REF!"}},{"$f":"'Pob x Genero'!#REF!","v":{"$error":"#REF!"}},{"$f":"'Pob x Genero'!#REF!","v":{"$error":"#REF!"}},{"$f":"'Pob x Genero'!#REF!","v":{"$error":"#REF!"}},{"$f":"'Pob x Genero'!#REF!","v":{"$error":"#REF!"}},"Hombre","00-04",{"$f":"'Pob x Genero'!#REF!","v":{"$error":"#REF!"}},1318]
[{"$f":"'Pob x Genero'!#REF!","v":{"$error":"#REF!"}},{"$f":"'Pob x Genero'!#REF!","v":{"$error":"#REF!"}},{"$f":"'Pob x Genero'!#REF!","v":{"$error":"#REF!"}},{"$f":"'Pob x Genero'!#REF!","v":{"$error":"#REF!"}},{"$f":"'Pob x Genero'!#REF!","v":{"$error":"#REF!"}},"Hombre","00-04",{"$f":"'Pob x Genero'!#REF!","v":{"$error":"#REF!"}},1319]
[{"$f":"'Pob x Genero'!#REF!","v":{"$error":"#REF!"}},{"$f":"'Pob x Genero'!#REF!","v":{"$error":"#REF!"}},{"$f":"'Pob x Genero'!#REF!","v":{"$error":"#REF!"}},{"$f":"'Pob x Genero'!#REF!","v":{"$error":"#REF!"}},{"$f":"'Pob x Genero'!#REF!","v":{"$error":"#REF!"}},"Hombre","00-04",{"$f":"'Pob x Genero'!#REF!","v":{"$error":"#REF!"}},1320]
[{"$f":"'Pob x Genero'!#REF!","v":{"$error":"#REF!"}},{"$f":"'Pob x Genero'!#REF!","v":{"$error":"#REF!"}},{"$f":"'Pob x Genero'!#REF!","v":{"$error":"#REF!"}},{"$f":"'Pob x Genero'!#REF!","v":{"$error":"#REF!"}},{"$f":"'Pob x Genero'!#REF!","v":{"$error":"#REF!"}},"Hombre","00-04",{"$f":"'Pob x Genero'!#REF!","v":{"$error":"#REF!"}},1321]
[{"$f":"'Pob x Genero'!#REF!","v":{"$error":"#REF!"}},{"$f":"'Pob x Genero'!#REF!","v":{"$error":"#REF!"}},{"$f":"'Pob x Genero'!#REF!","v":{"$error":"#REF!"}},{"$f":"'Pob x Genero'!#REF!","v":{"$error":"#REF!"}},{"$f":"'Pob x Genero'!#REF!","v":{"$error":"#REF!"}},"Hombre","00-04",{"$f":"'Pob x Genero'!#REF!","v":{"$error":"#REF!"}},1322]
[{"$f":"'Pob x Genero'!#REF!","v":{"$error":"#REF!"}},{"$f":"'Pob x Genero'!#REF!","v":{"$error":"#REF!"}},{"$f":"'Pob x Genero'!#REF!","v":{"$error":"#REF!"}},{"$f":"'Pob x Genero'!#REF!","v":{"$error":"#REF!"}},{"$f":"'Pob x Genero'!#REF!","v":{"$error":"#REF!"}},"Hombre","00-04",{"$f":"'Pob x Genero'!#REF!","v":{"$error":"#REF!"}},1323]
[{"$f":"'Pob x Genero'!#REF!","v":{"$error":"#REF!"}},{"$f":"'Pob x Genero'!#REF!","v":{"$error":"#REF!"}},{"$f":"'Pob x Genero'!#REF!","v":{"$error":"#REF!"}},{"$f":"'Pob x Genero'!#REF!","v":{"$error":"#REF!"}},{"$f":"'Pob x Genero'!#REF!","v":{"$error":"#REF!"}},"Hombre","00-04",{"$f":"'Pob x Genero'!#REF!","v":{"$error":"#REF!"}},1324]
[{"$f":"'Pob x Genero'!#REF!","v":{"$error":"#REF!"}},{"$f":"'Pob x Genero'!#REF!","v":{"$error":"#REF!"}},{"$f":"'Pob x Genero'!#REF!","v":{"$error":"#REF!"}},{"$f":"'Pob x Genero'!#REF!","v":{"$error":"#REF!"}},{"$f":"'Pob x Genero'!#REF!","v":{"$error":"#REF!"}},"Hombre","00-04",{"$f":"'Pob x Genero'!#REF!","v":{"$error":"#REF!"}},1325]
[{"$f":"'Pob x Genero'!#REF!","v":{"$error":"#REF!"}},{"$f":"'Pob x Genero'!#REF!","v":{"$error":"#REF!"}},{"$f":"'Pob x Genero'!#REF!","v":{"$error":"#REF!"}},{"$f":"'Pob x Genero'!#REF!","v":{"$error":"#REF!"}},{"$f":"'Pob x Genero'!#REF!","v":{"$error":"#REF!"}},"Hombre","00-04",{"$f":"'Pob x Genero'!#REF!","v":{"$error":"#REF!"}},1326]
[{"$f":"'Pob x Genero'!#REF!","v":{"$error":"#REF!"}},{"$f":"'Pob x Genero'!#REF!","v":{"$error":"#REF!"}},{"$f":"'Pob x Genero'!#REF!","v":{"$error":"#REF!"}},{"$f":"'Pob x Genero'!#REF!","v":{"$error":"#REF!"}},{"$f":"'Pob x Genero'!#REF!","v":{"$error":"#REF!"}},"Hombre","00-04",{"$f":"'Pob x Genero'!#REF!","v":{"$error":"#REF!"}},1327]
[{"$f":"'Pob x Genero'!#REF!","v":{"$error":"#REF!"}},{"$f":"'Pob x Genero'!#REF!","v":{"$error":"#REF!"}},{"$f":"'Pob x Genero'!#REF!","v":{"$error":"#REF!"}},{"$f":"'Pob x Genero'!#REF!","v":{"$error":"#REF!"}},{"$f":"'Pob x Genero'!#REF!","v":{"$error":"#REF!"}},"Hombre","00-04",{"$f":"'Pob x Genero'!#REF!","v":{"$error":"#REF!"}},1328]
[{"$f":"'Pob x Genero'!#REF!","v":{"$error":"#REF!"}},{"$f":"'Pob x Genero'!#REF!","v":{"$error":"#REF!"}},{"$f":"'Pob x Genero'!#REF!","v":{"$error":"#REF!"}},{"$f":"'Pob x Genero'!#REF!","v":{"$error":"#REF!"}},{"$f":"'Pob x Genero'!#REF!","v":{"$error":"#REF!"}},"Hombre","00-04",{"$f":"'Pob x Genero'!#REF!","v":{"$error":"#REF!"}},1329]
[{"$f":"'Pob x Genero'!#REF!","v":{"$error":"#REF!"}},{"$f":"'Pob x Genero'!#REF!","v":{"$error":"#REF!"}},{"$f":"'Pob x Genero'!#REF!","v":{"$error":"#REF!"}},{"$f":"'Pob x Genero'!#REF!","v":{"$error":"#REF!"}},{"$f":"'Pob x Genero'!#REF!","v":{"$error":"#REF!"}},"Hombre","00-04",{"$f":"'Pob x Genero'!#REF!","v":{"$error":"#REF!"}},1330]
[{"$f":"'Pob x Genero'!#REF!","v":{"$error":"#REF!"}},{"$f":"'Pob x Genero'!#REF!","v":{"$error":"#REF!"}},{"$f":"'Pob x Genero'!#REF!","v":{"$error":"#REF!"}},{"$f":"'Pob x Genero'!#REF!","v":{"$error":"#REF!"}},{"$f":"'Pob x Genero'!#REF!","v":{"$error":"#REF!"}},"Hombre","00-04",{"$f":"'Pob x Genero'!#REF!","v":{"$error":"#REF!"}},1331]
[{"$f":"'Pob x Genero'!#REF!","v":{"$error":"#REF!"}},{"$f":"'Pob x Genero'!#REF!","v":{"$error":"#REF!"}},{"$f":"'Pob x Genero'!#REF!","v":{"$error":"#REF!"}},{"$f":"'Pob x Genero'!#REF!","v":{"$error":"#REF!"}},{"$f":"'Pob x Genero'!#REF!","v":{"$error":"#REF!"}},"Hombre","00-04",{"$f":"'Pob x Genero'!#REF!","v":{"$error":"#REF!"}},1332]
[{"$f":"'Pob x Genero'!#REF!","v":{"$error":"#REF!"}},{"$f":"'Pob x Genero'!#REF!","v":{"$error":"#REF!"}},{"$f":"'Pob x Genero'!#REF!","v":{"$error":"#REF!"}},{"$f":"'Pob x Genero'!#REF!","v":{"$error":"#REF!"}},{"$f":"'Pob x Genero'!#REF!","v":{"$error":"#REF!"}},"Hombre","00-04",{"$f":"'Pob x Genero'!#REF!","v":{"$error":"#REF!"}},1333]
[{"$f":"'Pob x Genero'!#REF!","v":{"$error":"#REF!"}},{"$f":"'Pob x Genero'!#REF!","v":{"$error":"#REF!"}},{"$f":"'Pob x Genero'!#REF!","v":{"$error":"#REF!"}},{"$f":"'Pob x Genero'!#REF!","v":{"$error":"#REF!"}},{"$f":"'Pob x Genero'!#REF!","v":{"$error":"#REF!"}},"Hombre","00-04",{"$f":"'Pob x Genero'!#REF!","v":{"$error":"#REF!"}},1334]
[{"$f":"'Pob x Genero'!#REF!","v":{"$error":"#REF!"}},{"$f":"'Pob x Genero'!#REF!","v":{"$error":"#REF!"}},{"$f":"'Pob x Genero'!#REF!","v":{"$error":"#REF!"}},{"$f":"'Pob x Genero'!#REF!","v":{"$error":"#REF!"}},{"$f":"'Pob x Genero'!#REF!","v":{"$error":"#REF!"}},"Hombre","00-04",{"$f":"'Pob x Genero'!#REF!","v":{"$error":"#REF!"}},1335]
[{"$f":"'Pob x Genero'!#REF!","v":{"$error":"#REF!"}},{"$f":"'Pob x Genero'!#REF!","v":{"$error":"#REF!"}},{"$f":"'Pob x Genero'!#REF!","v":{"$error":"#REF!"}},{"$f":"'Pob x Genero'!#REF!","v":{"$error":"#REF!"}},{"$f":"'Pob x Genero'!#REF!","v":{"$error":"#REF!"}},"Hombre","00-04",{"$f":"'Pob x Genero'!#REF!","v":{"$error":"#REF!"}},1336]
[{"$f":"'Pob x Genero'!#REF!","v":{"$error":"#REF!"}},{"$f":"'Pob x Genero'!#REF!","v":{"$error":"#REF!"}},{"$f":"'Pob x Genero'!#REF!","v":{"$error":"#REF!"}},{"$f":"'Pob x Genero'!#REF!","v":{"$error":"#REF!"}},{"$f":"'Pob x Genero'!#REF!","v":{"$error":"#REF!"}},"Hombre","00-04",{"$f":"'Pob x Genero'!#REF!","v":{"$error":"#REF!"}},1337]
[{"$f":"'Pob x Genero'!#REF!","v":{"$error":"#REF!"}},{"$f":"'Pob x Genero'!#REF!","v":{"$error":"#REF!"}},{"$f":"'Pob x Genero'!#REF!","v":{"$error":"#REF!"}},{"$f":"'Pob x Genero'!#REF!","v":{"$error":"#REF!"}},{"$f":"'Pob x Genero'!#REF!","v":{"$error":"#REF!"}},"Hombre","00-04",{"$f":"'Pob x Genero'!#REF!","v":{"$error":"#REF!"}},1338]
[{"$f":"'Pob x Genero'!#REF!","v":{"$error":"#REF!"}},{"$f":"'Pob x Genero'!#REF!","v":{"$error":"#REF!"}},{"$f":"'Pob x Genero'!#REF!","v":{"$error":"#REF!"}},{"$f":"'Pob x Genero'!#REF!","v":{"$error":"#REF!"}},{"$f":"'Pob x Genero'!#REF!","v":{"$error":"#REF!"}},"Hombre","00-04",{"$f":"'Pob x Genero'!#REF!","v":{"$error":"#REF!"}},1339]
[{"$f":"'Pob x Genero'!#REF!","v":{"$error":"#REF!"}},{"$f":"'Pob x Genero'!#REF!","v":{"$error":"#REF!"}},{"$f":"'Pob x Genero'!#REF!","v":{"$error":"#REF!"}},{"$f":"'Pob x Genero'!#REF!","v":{"$error":"#REF!"}},{"$f":"'Pob x Genero'!#REF!","v":{"$error":"#REF!"}},"Hombre","00-04",{"$f":"'Pob x Genero'!#REF!","v":{"$error":"#REF!"}},1340]
[{"$f":"'Pob x Genero'!#REF!","v":{"$error":"#REF!"}},{"$f":"'Pob x Genero'!#REF!","v":{"$error":"#REF!"}},{"$f":"'Pob x Genero'!#REF!","v":{"$error":"#REF!"}},{"$f":"'Pob x Genero'!#REF!","v":{"$error":"#REF!"}},{"$f":"'Pob x Genero'!#REF!","v":{"$error":"#REF!"}},"Hombre","00-04",{"$f":"'Pob x Genero'!#REF!","v":{"$error":"#REF!"}},1341]
[{"$f":"'Pob x Genero'!#REF!","v":{"$error":"#REF!"}},{"$f":"'Pob x Genero'!#REF!","v":{"$error":"#REF!"}},{"$f":"'Pob x Genero'!#REF!","v":{"$error":"#REF!"}},{"$f":"'Pob x Genero'!#REF!","v":{"$error":"#REF!"}},{"$f":"'Pob x Genero'!#REF!","v":{"$error":"#REF!"}},"Hombre","00-04",{"$f":"'Pob x Genero'!#REF!","v":{"$error":"#REF!"}},1342]
[{"$f":"'Pob x Genero'!#REF!","v":{"$error":"#REF!"}},{"$f":"'Pob x Genero'!#REF!","v":{"$error":"#REF!"}},{"$f":"'Pob x Genero'!#REF!","v":{"$error":"#REF!"}},{"$f":"'Pob x Genero'!#REF!","v":{"$error":"#REF!"}},{"$f":"'Pob x Genero'!#REF!","v":{"$error":"#REF!"}},"Hombre","00-04",{"$f":"'Pob x Genero'!#REF!","v":{"$error":"#REF!"}},1343]
[{"$f":"'Pob x Genero'!#REF!","v":{"$error":"#REF!"}},{"$f":"'Pob x Genero'!#REF!","v":{"$error":"#REF!"}},{"$f":"'Pob x Genero'!#REF!","v":{"$error":"#REF!"}},{"$f":"'Pob x Genero'!#REF!","v":{"$error":"#REF!"}},{"$f":"'Pob x Genero'!#REF!","v":{"$error":"#REF!"}},"Hombre","00-04",{"$f":"'Pob x Genero'!#REF!","v":{"$error":"#REF!"}},1344]
[{"$f":"'Pob x Genero'!#REF!","v":{"$error":"#REF!"}},{"$f":"'Pob x Genero'!#REF!","v":{"$error":"#REF!"}},{"$f":"'Pob x Genero'!#REF!","v":{"$error":"#REF!"}},{"$f":"'Pob x Genero'!#REF!","v":{"$error":"#REF!"}},{"$f":"'Pob x Genero'!#REF!","v":{"$error":"#REF!"}},"Hombre","00-04",{"$f":"'Pob x Genero'!#REF!","v":{"$error":"#REF!"}},1345]
[{"$f":"'Pob x Genero'!#REF!","v":{"$error":"#REF!"}},{"$f":"'Pob x Genero'!#REF!","v":{"$error":"#REF!"}},{"$f":"'Pob x Genero'!#REF!","v":{"$error":"#REF!"}},{"$f":"'Pob x Genero'!#REF!","v":{"$error":"#REF!"}},{"$f":"'Pob x Genero'!#REF!","v":{"$error":"#REF!"}},"Hombre","00-04",{"$f":"'Pob x Genero'!#REF!","v":{"$error":"#REF!"}},1346]
[{"$f":"'Pob x Genero'!#REF!","v":{"$error":"#REF!"}},{"$f":"'Pob x Genero'!#REF!","v":{"$error":"#REF!"}},{"$f":"'Pob x Genero'!#REF!","v":{"$error":"#REF!"}},{"$f":"'Pob x Genero'!#REF!","v":{"$error":"#REF!"}},{"$f":"'Pob x Genero'!#REF!","v":{"$error":"#REF!"}},{"$f":"F1347","v":"Hombre"},{"$f":"G1347","v":"00-04"},{"$f":"'Pob x Genero'!#REF!","v":{"$error":"#REF!"}},1347]
[{"$f":"'Pob x Genero'!#REF!","v":{"$error":"#REF!"}},{"$f":"'Pob x Genero'!#REF!","v":{"$error":"#REF!"}},{"$f":"'Pob x Genero'!#REF!","v":{"$error":"#REF!"}},{"$f":"'Pob x Genero'!#REF!","v":{"$error":"#REF!"}},{"$f":"'Pob x Genero'!#REF!","v":{"$error":"#REF!"}},"Hombre","00-04",{"$f":"'Pob x Genero'!#REF!","v":{"$error":"#REF!"}},1348]
[{"$f":"'Pob x Genero'!#REF!","v":{"$error":"#REF!"}},{"$f":"'Pob x Genero'!#REF!","v":{"$error":"#REF!"}},{"$f":"'Pob x Genero'!#REF!","v":{"$error":"#REF!"}},{"$f":"'Pob x Genero'!#REF!","v":{"$error":"#REF!"}},{"$f":"'Pob x Genero'!#REF!","v":{"$error":"#REF!"}},"Hombre","00-04",{"$f":"'Pob x Genero'!#REF!","v":{"$error":"#REF!"}},1349]
[{"$f":"'Pob x Genero'!#REF!","v":{"$error":"#REF!"}},{"$f":"'Pob x Genero'!#REF!","v":{"$error":"#REF!"}},{"$f":"'Pob x Genero'!#REF!","v":{"$error":"#REF!"}},{"$f":"'Pob x Genero'!#REF!","v":{"$error":"#REF!"}},{"$f":"'Pob x Genero'!#REF!","v":{"$error":"#REF!"}},"Hombre","00-04",{"$f":"'Pob x Genero'!#REF!","v":{"$error":"#REF!"}},1350]
[{"$f":"'Pob x Genero'!#REF!","v":{"$error":"#REF!"}},{"$f":"'Pob x Genero'!#REF!","v":{"$error":"#REF!"}},{"$f":"'Pob x Genero'!#REF!","v":{"$error":"#REF!"}},{"$f":"'Pob x Genero'!#REF!","v":{"$error":"#REF!"}},{"$f":"'Pob x Genero'!#REF!","v":{"$error":"#REF!"}},"Hombre","00-04",{"$f":"'Pob x Genero'!#REF!","v":{"$error":"#REF!"}},1351]
[{"$f":"'Pob x Genero'!#REF!","v":{"$error":"#REF!"}},{"$f":"'Pob x Genero'!#REF!","v":{"$error":"#REF!"}},{"$f":"'Pob x Genero'!#REF!","v":{"$error":"#REF!"}},{"$f":"'Pob x Genero'!#REF!","v":{"$error":"#REF!"}},{"$f":"'Pob x Genero'!#REF!","v":{"$error":"#REF!"}},"Hombre","00-04",{"$f":"'Pob x Genero'!#REF!","v":{"$error":"#REF!"}},1352]
[{"$f":"'Pob x Genero'!#REF!","v":{"$error":"#REF!"}},{"$f":"'Pob x Genero'!#REF!","v":{"$error":"#REF!"}},{"$f":"'Pob x Genero'!#REF!","v":{"$error":"#REF!"}},{"$f":"'Pob x Genero'!#REF!","v":{"$error":"#REF!"}},{"$f":"'Pob x Genero'!#REF!","v":{"$error":"#REF!"}},"Hombre","00-04",{"$f":"'Pob x Genero'!#REF!","v":{"$error":"#REF!"}},1353]
[{"$f":"'Pob x Genero'!#REF!","v":{"$error":"#REF!"}},{"$f":"'Pob x Genero'!#REF!","v":{"$error":"#REF!"}},{"$f":"'Pob x Genero'!#REF!","v":{"$error":"#REF!"}},{"$f":"'Pob x Genero'!#REF!","v":{"$error":"#REF!"}},{"$f":"'Pob x Genero'!#REF!","v":{"$error":"#REF!"}},"Hombre","00-04",{"$f":"'Pob x Genero'!#REF!","v":{"$error":"#REF!"}},1354]
[{"$f":"'Pob x Genero'!#REF!","v":{"$error":"#REF!"}},{"$f":"'Pob x Genero'!#REF!","v":{"$error":"#REF!"}},{"$f":"'Pob x Genero'!#REF!","v":{"$error":"#REF!"}},{"$f":"'Pob x Genero'!#REF!","v":{"$error":"#REF!"}},{"$f":"'Pob x Genero'!#REF!","v":{"$error":"#REF!"}},"Hombre","00-04",{"$f":"'Pob x Genero'!#REF!","v":{"$error":"#REF!"}},1355]
[{"$f":"'Pob x Genero'!#REF!","v":{"$error":"#REF!"}},{"$f":"'Pob x Genero'!#REF!","v":{"$error":"#REF!"}},{"$f":"'Pob x Genero'!#REF!","v":{"$error":"#REF!"}},{"$f":"'Pob x Genero'!#REF!","v":{"$error":"#REF!"}},{"$f":"'Pob x Genero'!#REF!","v":{"$error":"#REF!"}},"Hombre","00-04",{"$f":"'Pob x Genero'!#REF!","v":{"$error":"#REF!"}},1356]
[{"$f":"'Pob x Genero'!#REF!","v":{"$error":"#REF!"}},{"$f":"'Pob x Genero'!#REF!","v":{"$error":"#REF!"}},{"$f":"'Pob x Genero'!#REF!","v":{"$error":"#REF!"}},{"$f":"'Pob x Genero'!#REF!","v":{"$error":"#REF!"}},{"$f":"'Pob x Genero'!#REF!","v":{"$error":"#REF!"}},"Hombre","00-04",{"$f":"'Pob x Genero'!#REF!","v":{"$error":"#REF!"}},1357]
[{"$f":"'Pob x Genero'!#REF!","v":{"$error":"#REF!"}},{"$f":"'Pob x Genero'!#REF!","v":{"$error":"#REF!"}},{"$f":"'Pob x Genero'!#REF!","v":{"$error":"#REF!"}},{"$f":"'Pob x Genero'!#REF!","v":{"$error":"#REF!"}},{"$f":"'Pob x Genero'!#REF!","v":{"$error":"#REF!"}},"Hombre","00-04",{"$f":"'Pob x Genero'!#REF!","v":{"$error":"#REF!"}},1358]
[{"$f":"'Pob x Genero'!#REF!","v":{"$error":"#REF!"}},{"$f":"'Pob x Genero'!#REF!","v":{"$error":"#REF!"}},{"$f":"'Pob x Genero'!#REF!","v":{"$error":"#REF!"}},{"$f":"'Pob x Genero'!#REF!","v":{"$error":"#REF!"}},{"$f":"'Pob x Genero'!#REF!","v":{"$error":"#REF!"}},"Hombre","00-04",{"$f":"'Pob x Genero'!#REF!","v":{"$error":"#REF!"}},1359]
[{"$f":"'Pob x Genero'!#REF!","v":{"$error":"#REF!"}},{"$f":"'Pob x Genero'!#REF!","v":{"$error":"#REF!"}},{"$f":"'Pob x Genero'!#REF!","v":{"$error":"#REF!"}},{"$f":"'Pob x Genero'!#REF!","v":{"$error":"#REF!"}},{"$f":"'Pob x Genero'!#REF!","v":{"$error":"#REF!"}},"Hombre","00-04",{"$f":"'Pob x Genero'!#REF!","v":{"$error":"#REF!"}},1360]
[{"$f":"'Pob x Genero'!#REF!","v":{"$error":"#REF!"}},{"$f":"'Pob x Genero'!#REF!","v":{"$error":"#REF!"}},{"$f":"'Pob x Genero'!#REF!","v":{"$error":"#REF!"}},{"$f":"'Pob x Genero'!#REF!","v":{"$error":"#REF!"}},{"$f":"'Pob x Genero'!#REF!","v":{"$error":"#REF!"}},"Hombre","00-04",{"$f":"'Pob x Genero'!#REF!","v":{"$error":"#REF!"}},1361]
[{"$f":"'Pob x Genero'!#REF!","v":{"$error":"#REF!"}},{"$f":"'Pob x Genero'!#REF!","v":{"$error":"#REF!"}},{"$f":"'Pob x Genero'!#REF!","v":{"$error":"#REF!"}},{"$f":"'Pob x Genero'!#REF!","v":{"$error":"#REF!"}},{"$f":"'Pob x Genero'!#REF!","v":{"$error":"#REF!"}},"Hombre","00-04",{"$f":"'Pob x Genero'!#REF!","v":{"$error":"#REF!"}},1362]
[{"$f":"'Pob x Genero'!#REF!","v":{"$error":"#REF!"}},{"$f":"'Pob x Genero'!#REF!","v":{"$error":"#REF!"}},{"$f":"'Pob x Genero'!#REF!","v":{"$error":"#REF!"}},{"$f":"'Pob x Genero'!#REF!","v":{"$error":"#REF!"}},{"$f":"'Pob x Genero'!#REF!","v":{"$error":"#REF!"}},"Hombre","00-04",{"$f":"'Pob x Genero'!#REF!","v":{"$error":"#REF!"}},1363]
[{"$f":"'Pob x Genero'!#REF!","v":{"$error":"#REF!"}},{"$f":"'Pob x Genero'!#REF!","v":{"$error":"#REF!"}},{"$f":"'Pob x Genero'!#REF!","v":{"$error":"#REF!"}},{"$f":"'Pob x Genero'!#REF!","v":{"$error":"#REF!"}},{"$f":"'Pob x Genero'!#REF!","v":{"$error":"#REF!"}},"Hombre","00-04",{"$f":"'Pob x Genero'!#REF!","v":{"$error":"#REF!"}},1364]
[{"$f":"'Pob x Genero'!#REF!","v":{"$error":"#REF!"}},{"$f":"'Pob x Genero'!#REF!","v":{"$error":"#REF!"}},{"$f":"'Pob x Genero'!#REF!","v":{"$error":"#REF!"}},{"$f":"'Pob x Genero'!#REF!","v":{"$error":"#REF!"}},{"$f":"'Pob x Genero'!#REF!","v":{"$error":"#REF!"}},"Hombre","00-04",{"$f":"'Pob x Genero'!#REF!","v":{"$error":"#REF!"}},1365]
[{"$f":"'Pob x Genero'!#REF!","v":{"$error":"#REF!"}},{"$f":"'Pob x Genero'!#REF!","v":{"$error":"#REF!"}},{"$f":"'Pob x Genero'!#REF!","v":{"$error":"#REF!"}},{"$f":"'Pob x Genero'!#REF!","v":{"$error":"#REF!"}},{"$f":"'Pob x Genero'!#REF!","v":{"$error":"#REF!"}},"Hombre","00-04",{"$f":"'Pob x Genero'!#REF!","v":{"$error":"#REF!"}},1366]
[{"$f":"'Pob x Genero'!#REF!","v":{"$error":"#REF!"}},{"$f":"'Pob x Genero'!#REF!","v":{"$error":"#REF!"}},{"$f":"'Pob x Genero'!#REF!","v":{"$error":"#REF!"}},{"$f":"'Pob x Genero'!#REF!","v":{"$error":"#REF!"}},{"$f":"'Pob x Genero'!#REF!","v":{"$error":"#REF!"}},"Hombre","00-04",{"$f":"'Pob x Genero'!#REF!","v":{"$error":"#REF!"}},1367]
[{"$f":"'Pob x Genero'!#REF!","v":{"$error":"#REF!"}},{"$f":"'Pob x Genero'!#REF!","v":{"$error":"#REF!"}},{"$f":"'Pob x Genero'!#REF!","v":{"$error":"#REF!"}},{"$f":"'Pob x Genero'!#REF!","v":{"$error":"#REF!"}},{"$f":"'Pob x Genero'!#REF!","v":{"$error":"#REF!"}},"Hombre","00-04",{"$f":"'Pob x Genero'!#REF!","v":{"$error":"#REF!"}},1368]
[{"$f":"'Pob x Genero'!#REF!","v":{"$error":"#REF!"}},{"$f":"'Pob x Genero'!#REF!","v":{"$error":"#REF!"}},{"$f":"'Pob x Genero'!#REF!","v":{"$error":"#REF!"}},{"$f":"'Pob x Genero'!#REF!","v":{"$error":"#REF!"}},{"$f":"'Pob x Genero'!#REF!","v":{"$error":"#REF!"}},"Hombre","00-04",{"$f":"'Pob x Genero'!#REF!","v":{"$error":"#REF!"}},1369]
[{"$f":"'Pob x Genero'!#REF!","v":{"$error":"#REF!"}},{"$f":"'Pob x Genero'!#REF!","v":{"$error":"#REF!"}},{"$f":"'Pob x Genero'!#REF!","v":{"$error":"#REF!"}},{"$f":"'Pob x Genero'!#REF!","v":{"$error":"#REF!"}},{"$f":"'Pob x Genero'!#REF!","v":{"$error":"#REF!"}},"Hombre","00-04",{"$f":"'Pob x Genero'!#REF!","v":{"$error":"#REF!"}},1370]
[{"$f":"'Pob x Genero'!#REF!","v":{"$error":"#REF!"}},{"$f":"'Pob x Genero'!#REF!","v":{"$error":"#REF!"}},{"$f":"'Pob x Genero'!#REF!","v":{"$error":"#REF!"}},{"$f":"'Pob x Genero'!#REF!","v":{"$error":"#REF!"}},{"$f":"'Pob x Genero'!#REF!","v":{"$error":"#REF!"}},"Hombre","00-04",{"$f":"'Pob x Genero'!#REF!","v":{"$error":"#REF!"}},1371]
[{"$f":"'Pob x Genero'!#REF!","v":{"$error":"#REF!"}},{"$f":"'Pob x Genero'!#REF!","v":{"$error":"#REF!"}},{"$f":"'Pob x Genero'!#REF!","v":{"$error":"#REF!"}},{"$f":"'Pob x Genero'!#REF!","v":{"$error":"#REF!"}},{"$f":"'Pob x Genero'!#REF!","v":{"$error":"#REF!"}},"Hombre","00-04",{"$f":"'Pob x Genero'!#REF!","v":{"$error":"#REF!"}},1372]
[{"$f":"'Pob x Genero'!#REF!","v":{"$error":"#REF!"}},{"$f":"'Pob x Genero'!#REF!","v":{"$error":"#REF!"}},{"$f":"'Pob x Genero'!#REF!","v":{"$error":"#REF!"}},{"$f":"'Pob x Genero'!#REF!","v":{"$error":"#REF!"}},{"$f":"'Pob x Genero'!#REF!","v":{"$error":"#REF!"}},"Hombre","00-04",{"$f":"'Pob x Genero'!#REF!","v":{"$error":"#REF!"}},1373]
[{"$f":"'Pob x Genero'!#REF!","v":{"$error":"#REF!"}},{"$f":"'Pob x Genero'!#REF!","v":{"$error":"#REF!"}},{"$f":"'Pob x Genero'!#REF!","v":{"$error":"#REF!"}},{"$f":"'Pob x Genero'!#REF!","v":{"$error":"#REF!"}},{"$f":"'Pob x Genero'!#REF!","v":{"$error":"#REF!"}},"Hombre","00-04",{"$f":"'Pob x Genero'!#REF!","v":{"$error":"#REF!"}},1374]
[{"$f":"'Pob x Genero'!#REF!","v":{"$error":"#REF!"}},{"$f":"'Pob x Genero'!#REF!","v":{"$error":"#REF!"}},{"$f":"'Pob x Genero'!#REF!","v":{"$error":"#REF!"}},{"$f":"'Pob x Genero'!#REF!","v":{"$error":"#REF!"}},{"$f":"'Pob x Genero'!#REF!","v":{"$error":"#REF!"}},"Hombre","00-04",{"$f":"'Pob x Genero'!#REF!","v":{"$error":"#REF!"}},1375]
[{"$f":"'Pob x Genero'!#REF!","v":{"$error":"#REF!"}},{"$f":"'Pob x Genero'!#REF!","v":{"$error":"#REF!"}},{"$f":"'Pob x Genero'!#REF!","v":{"$error":"#REF!"}},{"$f":"'Pob x Genero'!#REF!","v":{"$error":"#REF!"}},{"$f":"'Pob x Genero'!#REF!","v":{"$error":"#REF!"}},"Hombre","00-04",{"$f":"'Pob x Genero'!#REF!","v":{"$error":"#REF!"}},1376]
[{"$f":"'Pob x Genero'!#REF!","v":{"$error":"#REF!"}},{"$f":"'Pob x Genero'!#REF!","v":{"$error":"#REF!"}},{"$f":"'Pob x Genero'!#REF!","v":{"$error":"#REF!"}},{"$f":"'Pob x Genero'!#REF!","v":{"$error":"#REF!"}},{"$f":"'Pob x Genero'!#REF!","v":{"$error":"#REF!"}},"Hombre","00-04",{"$f":"'Pob x Genero'!#REF!","v":{"$error":"#REF!"}},1377]
[{"$f":"'Pob x Genero'!#REF!","v":{"$error":"#REF!"}},{"$f":"'Pob x Genero'!#REF!","v":{"$error":"#REF!"}},{"$f":"'Pob x Genero'!#REF!","v":{"$error":"#REF!"}},{"$f":"'Pob x Genero'!#REF!","v":{"$error":"#REF!"}},{"$f":"'Pob x Genero'!#REF!","v":{"$error":"#REF!"}},"Hombre","00-04",{"$f":"'Pob x Genero'!#REF!","v":{"$error":"#REF!"}},1378]
[{"$f":"'Pob x Genero'!#REF!","v":{"$error":"#REF!"}},{"$f":"'Pob x Genero'!#REF!","v":{"$error":"#REF!"}},{"$f":"'Pob x Genero'!#REF!","v":{"$error":"#REF!"}},{"$f":"'Pob x Genero'!#REF!","v":{"$error":"#REF!"}},{"$f":"'Pob x Genero'!#REF!","v":{"$error":"#REF!"}},"Hombre","00-04",{"$f":"'Pob x Genero'!#REF!","v":{"$error":"#REF!"}},1379]
[{"$f":"'Pob x Genero'!#REF!","v":{"$error":"#REF!"}},{"$f":"'Pob x Genero'!#REF!","v":{"$error":"#REF!"}},{"$f":"'Pob x Genero'!#REF!","v":{"$error":"#REF!"}},{"$f":"'Pob x Genero'!#REF!","v":{"$error":"#REF!"}},{"$f":"'Pob x Genero'!#REF!","v":{"$error":"#REF!"}},"Hombre","00-04",{"$f":"'Pob x Genero'!#REF!","v":{"$error":"#REF!"}},1380]
[{"$f":"'Pob x Genero'!#REF!","v":{"$error":"#REF!"}},{"$f":"'Pob x Genero'!#REF!","v":{"$error":"#REF!"}},{"$f":"'Pob x Genero'!#REF!","v":{"$error":"#REF!"}},{"$f":"'Pob x Genero'!#REF!","v":{"$error":"#REF!"}},{"$f":"'Pob x Genero'!#REF!","v":{"$error":"#REF!"}},"Hombre","00-04",{"$f":"'Pob x Genero'!#REF!","v":{"$error":"#REF!"}},1381]
[{"$f":"'Pob x Genero'!#REF!","v":{"$error":"#REF!"}},{"$f":"'Pob x Genero'!#REF!","v":{"$error":"#REF!"}},{"$f":"'Pob x Genero'!#REF!","v":{"$error":"#REF!"}},{"$f":"'Pob x Genero'!#REF!","v":{"$error":"#REF!"}},{"$f":"'Pob x Genero'!#REF!","v":{"$error":"#REF!"}},"Hombre","00-04",{"$f":"'Pob x Genero'!#REF!","v":{"$error":"#REF!"}},1382]
[{"$f":"'Pob x Genero'!#REF!","v":{"$error":"#REF!"}},{"$f":"'Pob x Genero'!#REF!","v":{"$error":"#REF!"}},{"$f":"'Pob x Genero'!#REF!","v":{"$error":"#REF!"}},{"$f":"'Pob x Genero'!#REF!","v":{"$error":"#REF!"}},{"$f":"'Pob x Genero'!#REF!","v":{"$error":"#REF!"}},"Hombre","00-04",{"$f":"'Pob x Genero'!#REF!","v":{"$error":"#REF!"}},1383]
[{"$f":"'Pob x Genero'!#REF!","v":{"$error":"#REF!"}},{"$f":"'Pob x Genero'!#REF!","v":{"$error":"#REF!"}},{"$f":"'Pob x Genero'!#REF!","v":{"$error":"#REF!"}},{"$f":"'Pob x Genero'!#REF!","v":{"$error":"#REF!"}},{"$f":"'Pob x Genero'!#REF!","v":{"$error":"#REF!"}},"Hombre","00-04",{"$f":"'Pob x Genero'!#REF!","v":{"$error":"#REF!"}},1384]
[{"$f":"'Pob x Genero'!#REF!","v":{"$error":"#REF!"}},{"$f":"'Pob x Genero'!#REF!","v":{"$error":"#REF!"}},{"$f":"'Pob x Genero'!#REF!","v":{"$error":"#REF!"}},{"$f":"'Pob x Genero'!#REF!","v":{"$error":"#REF!"}},{"$f":"'Pob x Genero'!#REF!","v":{"$error":"#REF!"}},"Hombre","00-04",{"$f":"'Pob x Genero'!#REF!","v":{"$error":"#REF!"}},1385]
[{"$f":"'Pob x Genero'!#REF!","v":{"$error":"#REF!"}},{"$f":"'Pob x Genero'!#REF!","v":{"$error":"#REF!"}},{"$f":"'Pob x Genero'!#REF!","v":{"$error":"#REF!"}},{"$f":"'Pob x Genero'!#REF!","v":{"$error":"#REF!"}},{"$f":"'Pob x Genero'!#REF!","v":{"$error":"#REF!"}},"Hombre","00-04",{"$f":"'Pob x Genero'!#REF!","v":{"$error":"#REF!"}},1386]
[{"$f":"'Pob x Genero'!#REF!","v":{"$error":"#REF!"}},{"$f":"'Pob x Genero'!#REF!","v":{"$error":"#REF!"}},{"$f":"'Pob x Genero'!#REF!","v":{"$error":"#REF!"}},{"$f":"'Pob x Genero'!#REF!","v":{"$error":"#REF!"}},{"$f":"'Pob x Genero'!#REF!","v":{"$error":"#REF!"}},"Hombre","00-04",{"$f":"'Pob x Genero'!#REF!","v":{"$error":"#REF!"}},1387]
[{"$f":"'Pob x Genero'!#REF!","v":{"$error":"#REF!"}},{"$f":"'Pob x Genero'!#REF!","v":{"$error":"#REF!"}},{"$f":"'Pob x Genero'!#REF!","v":{"$error":"#REF!"}},{"$f":"'Pob x Genero'!#REF!","v":{"$error":"#REF!"}},{"$f":"'Pob x Genero'!#REF!","v":{"$error":"#REF!"}},"Hombre","00-04",{"$f":"'Pob x Genero'!#REF!","v":{"$error":"#REF!"}},1388]
[{"$f":"'Pob x Genero'!#REF!","v":{"$error":"#REF!"}},{"$f":"'Pob x Genero'!#REF!","v":{"$error":"#REF!"}},{"$f":"'Pob x Genero'!#REF!","v":{"$error":"#REF!"}},{"$f":"'Pob x Genero'!#REF!","v":{"$error":"#REF!"}},{"$f":"'Pob x Genero'!#REF!","v":{"$error":"#REF!"}},"Hombre","00-04",{"$f":"'Pob x Genero'!#REF!","v":{"$error":"#REF!"}},1389]
[{"$f":"'Pob x Genero'!#REF!","v":{"$error":"#REF!"}},{"$f":"'Pob x Genero'!#REF!","v":{"$error":"#REF!"}},{"$f":"'Pob x Genero'!#REF!","v":{"$error":"#REF!"}},{"$f":"'Pob x Genero'!#REF!","v":{"$error":"#REF!"}},{"$f":"'Pob x Genero'!#REF!","v":{"$error":"#REF!"}},"Hombre","00-04",{"$f":"'Pob x Genero'!#REF!","v":{"$error":"#REF!"}},1390]
[{"$f":"'Pob x Genero'!#REF!","v":{"$error":"#REF!"}},{"$f":"'Pob x Genero'!#REF!","v":{"$error":"#REF!"}},{"$f":"'Pob x Genero'!#REF!","v":{"$error":"#REF!"}},{"$f":"'Pob x Genero'!#REF!","v":{"$error":"#REF!"}},{"$f":"'Pob x Genero'!#REF!","v":{"$error":"#REF!"}},"Hombre","00-04",{"$f":"'Pob x Genero'!#REF!","v":{"$error":"#REF!"}},1391]
[{"$f":"'Pob x Genero'!#REF!","v":{"$error":"#REF!"}},{"$f":"'Pob x Genero'!#REF!","v":{"$error":"#REF!"}},{"$f":"'Pob x Genero'!#REF!","v":{"$error":"#REF!"}},{"$f":"'Pob x Genero'!#REF!","v":{"$error":"#REF!"}},{"$f":"'Pob x Genero'!#REF!","v":{"$error":"#REF!"}},"Hombre","00-04",{"$f":"'Pob x Genero'!#REF!","v":{"$error":"#REF!"}},1392]
[{"$f":"'Pob x Genero'!#REF!","v":{"$error":"#REF!"}},{"$f":"'Pob x Genero'!#REF!","v":{"$error":"#REF!"}},{"$f":"'Pob x Genero'!#REF!","v":{"$error":"#REF!"}},{"$f":"'Pob x Genero'!#REF!","v":{"$error":"#REF!"}},{"$f":"'Pob x Genero'!#REF!","v":{"$error":"#REF!"}},"Hombre","00-04",{"$f":"'Pob x Genero'!#REF!","v":{"$error":"#REF!"}},1393]
[{"$f":"'Pob x Genero'!#REF!","v":{"$error":"#REF!"}},{"$f":"'Pob x Genero'!#REF!","v":{"$error":"#REF!"}},{"$f":"'Pob x Genero'!#REF!","v":{"$error":"#REF!"}},{"$f":"'Pob x Genero'!#REF!","v":{"$error":"#REF!"}},{"$f":"'Pob x Genero'!#REF!","v":{"$error":"#REF!"}},"Hombre","00-04",{"$f":"'Pob x Genero'!#REF!","v":{"$error":"#REF!"}},1394]
[{"$f":"'Pob x Genero'!#REF!","v":{"$error":"#REF!"}},{"$f":"'Pob x Genero'!#REF!","v":{"$error":"#REF!"}},{"$f":"'Pob x Genero'!#REF!","v":{"$error":"#REF!"}},{"$f":"'Pob x Genero'!#REF!","v":{"$error":"#REF!"}},{"$f":"'Pob x Genero'!#REF!","v":{"$error":"#REF!"}},"Hombre","00-04",{"$f":"'Pob x Genero'!#REF!","v":{"$error":"#REF!"}},1395]
[{"$f":"'Pob x Genero'!#REF!","v":{"$error":"#REF!"}},{"$f":"'Pob x Genero'!#REF!","v":{"$error":"#REF!"}},{"$f":"'Pob x Genero'!#REF!","v":{"$error":"#REF!"}},{"$f":"'Pob x Genero'!#REF!","v":{"$error":"#REF!"}},{"$f":"'Pob x Genero'!#REF!","v":{"$error":"#REF!"}},"Hombre","00-04",{"$f":"'Pob x Genero'!#REF!","v":{"$error":"#REF!"}},1396]
[{"$f":"'Pob x Genero'!#REF!","v":{"$error":"#REF!"}},{"$f":"'Pob x Genero'!#REF!","v":{"$error":"#REF!"}},{"$f":"'Pob x Genero'!#REF!","v":{"$error":"#REF!"}},{"$f":"'Pob x Genero'!#REF!","v":{"$error":"#REF!"}},{"$f":"'Pob x Genero'!#REF!","v":{"$error":"#REF!"}},"Hombre","00-04",{"$f":"'Pob x Genero'!#REF!","v":{"$error":"#REF!"}},1397]
[{"$f":"'Pob x Genero'!#REF!","v":{"$error":"#REF!"}},{"$f":"'Pob x Genero'!#REF!","v":{"$error":"#REF!"}},{"$f":"'Pob x Genero'!#REF!","v":{"$error":"#REF!"}},{"$f":"'Pob x Genero'!#REF!","v":{"$error":"#REF!"}},{"$f":"'Pob x Genero'!#REF!","v":{"$error":"#REF!"}},"Hombre","00-04",{"$f":"'Pob x Genero'!#REF!","v":{"$error":"#REF!"}},1398]
[{"$f":"'Pob x Genero'!#REF!","v":{"$error":"#REF!"}},{"$f":"'Pob x Genero'!#REF!","v":{"$error":"#REF!"}},{"$f":"'Pob x Genero'!#REF!","v":{"$error":"#REF!"}},{"$f":"'Pob x Genero'!#REF!","v":{"$error":"#REF!"}},{"$f":"'Pob x Genero'!#REF!","v":{"$error":"#REF!"}},"Hombre","00-04",{"$f":"'Pob x Genero'!#REF!","v":{"$error":"#REF!"}},1399]
[{"$f":"'Pob x Genero'!#REF!","v":{"$error":"#REF!"}},{"$f":"'Pob x Genero'!#REF!","v":{"$error":"#REF!"}},{"$f":"'Pob x Genero'!#REF!","v":{"$error":"#REF!"}},{"$f":"'Pob x Genero'!#REF!","v":{"$error":"#REF!"}},{"$f":"'Pob x Genero'!#REF!","v":{"$error":"#REF!"}},"Hombre","00-04",{"$f":"'Pob x Genero'!#REF!","v":{"$error":"#REF!"}},1400]
[{"$f":"'Pob x Genero'!#REF!","v":{"$error":"#REF!"}},{"$f":"'Pob x Genero'!#REF!","v":{"$error":"#REF!"}},{"$f":"'Pob x Genero'!#REF!","v":{"$error":"#REF!"}},{"$f":"'Pob x Genero'!#REF!","v":{"$error":"#REF!"}},{"$f":"'Pob x Genero'!#REF!","v":{"$error":"#REF!"}},"Hombre","00-04",{"$f":"'Pob x Genero'!#REF!","v":{"$error":"#REF!"}},1401]
[{"$f":"'Pob x Genero'!#REF!","v":{"$error":"#REF!"}},{"$f":"'Pob x Genero'!#REF!","v":{"$error":"#REF!"}},{"$f":"'Pob x Genero'!#REF!","v":{"$error":"#REF!"}},{"$f":"'Pob x Genero'!#REF!","v":{"$error":"#REF!"}},{"$f":"'Pob x Genero'!#REF!","v":{"$error":"#REF!"}},"Hombre","00-04",{"$f":"'Pob x Genero'!#REF!","v":{"$error":"#REF!"}},1402]
[{"$f":"'Pob x Genero'!#REF!","v":{"$error":"#REF!"}},{"$f":"'Pob x Genero'!#REF!","v":{"$error":"#REF!"}},{"$f":"'Pob x Genero'!#REF!","v":{"$error":"#REF!"}},{"$f":"'Pob x Genero'!#REF!","v":{"$error":"#REF!"}},{"$f":"'Pob x Genero'!#REF!","v":{"$error":"#REF!"}},"Hombre","00-04",{"$f":"'Pob x Genero'!#REF!","v":{"$error":"#REF!"}},1403]
[{"$f":"'Pob x Genero'!#REF!","v":{"$error":"#REF!"}},{"$f":"'Pob x Genero'!#REF!","v":{"$error":"#REF!"}},{"$f":"'Pob x Genero'!#REF!","v":{"$error":"#REF!"}},{"$f":"'Pob x Genero'!#REF!","v":{"$error":"#REF!"}},{"$f":"'Pob x Genero'!#REF!","v":{"$error":"#REF!"}},"Hombre","00-04",{"$f":"'Pob x Genero'!#REF!","v":{"$error":"#REF!"}},1404]
[{"$f":"'Pob x Genero'!#REF!","v":{"$error":"#REF!"}},{"$f":"'Pob x Genero'!#REF!","v":{"$error":"#REF!"}},{"$f":"'Pob x Genero'!#REF!","v":{"$error":"#REF!"}},{"$f":"'Pob x Genero'!#REF!","v":{"$error":"#REF!"}},{"$f":"'Pob x Genero'!#REF!","v":{"$error":"#REF!"}},"Hombre","00-04",{"$f":"'Pob x Genero'!#REF!","v":{"$error":"#REF!"}},1405]
[{"$f":"'Pob x Genero'!#REF!","v":{"$error":"#REF!"}},{"$f":"'Pob x Genero'!#REF!","v":{"$error":"#REF!"}},{"$f":"'Pob x Genero'!#REF!","v":{"$error":"#REF!"}},{"$f":"'Pob x Genero'!#REF!","v":{"$error":"#REF!"}},{"$f":"'Pob x Genero'!#REF!","v":{"$error":"#REF!"}},"Hombre","00-04",{"$f":"'Pob x Genero'!#REF!","v":{"$error":"#REF!"}},1406]
[{"$f":"'Pob x Genero'!#REF!","v":{"$error":"#REF!"}},{"$f":"'Pob x Genero'!#REF!","v":{"$error":"#REF!"}},{"$f":"'Pob x Genero'!#REF!","v":{"$error":"#REF!"}},{"$f":"'Pob x Genero'!#REF!","v":{"$error":"#REF!"}},{"$f":"'Pob x Genero'!#REF!","v":{"$error":"#REF!"}},"Hombre","00-04",{"$f":"'Pob x Genero'!#REF!","v":{"$error":"#REF!"}},1407]
[{"$f":"'Pob x Genero'!#REF!","v":{"$error":"#REF!"}},{"$f":"'Pob x Genero'!#REF!","v":{"$error":"#REF!"}},{"$f":"'Pob x Genero'!#REF!","v":{"$error":"#REF!"}},{"$f":"'Pob x Genero'!#REF!","v":{"$error":"#REF!"}},{"$f":"'Pob x Genero'!#REF!","v":{"$error":"#REF!"}},"Hombre","00-04",{"$f":"'Pob x Genero'!#REF!","v":{"$error":"#REF!"}},1408]
[{"$f":"'Pob x Genero'!#REF!","v":{"$error":"#REF!"}},{"$f":"'Pob x Genero'!#REF!","v":{"$error":"#REF!"}},{"$f":"'Pob x Genero'!#REF!","v":{"$error":"#REF!"}},{"$f":"'Pob x Genero'!#REF!","v":{"$error":"#REF!"}},{"$f":"'Pob x Genero'!#REF!","v":{"$error":"#REF!"}},"Hombre","00-04",{"$f":"'Pob x Genero'!#REF!","v":{"$error":"#REF!"}},1409]
[{"$f":"'Pob x Genero'!#REF!","v":{"$error":"#REF!"}},{"$f":"'Pob x Genero'!#REF!","v":{"$error":"#REF!"}},{"$f":"'Pob x Genero'!#REF!","v":{"$error":"#REF!"}},{"$f":"'Pob x Genero'!#REF!","v":{"$error":"#REF!"}},{"$f":"'Pob x Genero'!#REF!","v":{"$error":"#REF!"}},"Hombre","00-04",{"$f":"'Pob x Genero'!#REF!","v":{"$error":"#REF!"}},1410]
[{"$f":"'Pob x Genero'!#REF!","v":{"$error":"#REF!"}},{"$f":"'Pob x Genero'!#REF!","v":{"$error":"#REF!"}},{"$f":"'Pob x Genero'!#REF!","v":{"$error":"#REF!"}},{"$f":"'Pob x Genero'!#REF!","v":{"$error":"#REF!"}},{"$f":"'Pob x Genero'!#REF!","v":{"$error":"#REF!"}},{"$f":"F1411","v":"Hombre"},{"$f":"G1411","v":"00-04"},{"$f":"'Pob x Genero'!#REF!","v":{"$error":"#REF!"}},1411]
[{"$f":"'Pob x Genero'!#REF!","v":{"$error":"#REF!"}},{"$f":"'Pob x Genero'!#REF!","v":{"$error":"#REF!"}},{"$f":"'Pob x Genero'!#REF!","v":{"$error":"#REF!"}},{"$f":"'Pob x Genero'!#REF!","v":{"$error":"#REF!"}},{"$f":"'Pob x Genero'!#REF!","v":{"$error":"#REF!"}},"Hombre","00-04",{"$f":"'Pob x Genero'!#REF!","v":{"$error":"#REF!"}},1412]
[{"$f":"'Pob x Genero'!#REF!","v":{"$error":"#REF!"}},{"$f":"'Pob x Genero'!#REF!","v":{"$error":"#REF!"}},{"$f":"'Pob x Genero'!#REF!","v":{"$error":"#REF!"}},{"$f":"'Pob x Genero'!#REF!","v":{"$error":"#REF!"}},{"$f":"'Pob x Genero'!#REF!","v":{"$error":"#REF!"}},"Hombre","00-04",{"$f":"'Pob x Genero'!#REF!","v":{"$error":"#REF!"}},1413]
[{"$f":"'Pob x Genero'!#REF!","v":{"$error":"#REF!"}},{"$f":"'Pob x Genero'!#REF!","v":{"$error":"#REF!"}},{"$f":"'Pob x Genero'!#REF!","v":{"$error":"#REF!"}},{"$f":"'Pob x Genero'!#REF!","v":{"$error":"#REF!"}},{"$f":"'Pob x Genero'!#REF!","v":{"$error":"#REF!"}},"Hombre","00-04",{"$f":"'Pob x Genero'!#REF!","v":{"$error":"#REF!"}},1414]
[{"$f":"'Pob x Genero'!#REF!","v":{"$error":"#REF!"}},{"$f":"'Pob x Genero'!#REF!","v":{"$error":"#REF!"}},{"$f":"'Pob x Genero'!#REF!","v":{"$error":"#REF!"}},{"$f":"'Pob x Genero'!#REF!","v":{"$error":"#REF!"}},{"$f":"'Pob x Genero'!#REF!","v":{"$error":"#REF!"}},"Hombre","00-04",{"$f":"'Pob x Genero'!#REF!","v":{"$error":"#REF!"}},1415]
[{"$f":"'Pob x Genero'!#REF!","v":{"$error":"#REF!"}},{"$f":"'Pob x Genero'!#REF!","v":{"$error":"#REF!"}},{"$f":"'Pob x Genero'!#REF!","v":{"$error":"#REF!"}},{"$f":"'Pob x Genero'!#REF!","v":{"$error":"#REF!"}},{"$f":"'Pob x Genero'!#REF!","v":{"$error":"#REF!"}},"Hombre","00-04",{"$f":"'Pob x Genero'!#REF!","v":{"$error":"#REF!"}},1416]
[{"$f":"'Pob x Genero'!#REF!","v":{"$error":"#REF!"}},{"$f":"'Pob x Genero'!#REF!","v":{"$error":"#REF!"}},{"$f":"'Pob x Genero'!#REF!","v":{"$error":"#REF!"}},{"$f":"'Pob x Genero'!#REF!","v":{"$error":"#REF!"}},{"$f":"'Pob x Genero'!#REF!","v":{"$error":"#REF!"}},"Hombre","00-04",{"$f":"'Pob x Genero'!#REF!","v":{"$error":"#REF!"}},1417]
[{"$f":"'Pob x Genero'!#REF!","v":{"$error":"#REF!"}},{"$f":"'Pob x Genero'!#REF!","v":{"$error":"#REF!"}},{"$f":"'Pob x Genero'!#REF!","v":{"$error":"#REF!"}},{"$f":"'Pob x Genero'!#REF!","v":{"$error":"#REF!"}},{"$f":"'Pob x Genero'!#REF!","v":{"$error":"#REF!"}},"Hombre","00-04",{"$f":"'Pob x Genero'!#REF!","v":{"$error":"#REF!"}},1418]
[{"$f":"'Pob x Genero'!#REF!","v":{"$error":"#REF!"}},{"$f":"'Pob x Genero'!#REF!","v":{"$error":"#REF!"}},{"$f":"'Pob x Genero'!#REF!","v":{"$error":"#REF!"}},{"$f":"'Pob x Genero'!#REF!","v":{"$error":"#REF!"}},{"$f":"'Pob x Genero'!#REF!","v":{"$error":"#REF!"}},"Hombre","00-04",{"$f":"'Pob x Genero'!#REF!","v":{"$error":"#REF!"}},1419]
[{"$f":"'Pob x Genero'!#REF!","v":{"$error":"#REF!"}},{"$f":"'Pob x Genero'!#REF!","v":{"$error":"#REF!"}},{"$f":"'Pob x Genero'!#REF!","v":{"$error":"#REF!"}},{"$f":"'Pob x Genero'!#REF!","v":{"$error":"#REF!"}},{"$f":"'Pob x Genero'!#REF!","v":{"$error":"#REF!"}},"Hombre","00-04",{"$f":"'Pob x Genero'!#REF!","v":{"$error":"#REF!"}},1420]
[{"$f":"'Pob x Genero'!#REF!","v":{"$error":"#REF!"}},{"$f":"'Pob x Genero'!#REF!","v":{"$error":"#REF!"}},{"$f":"'Pob x Genero'!#REF!","v":{"$error":"#REF!"}},{"$f":"'Pob x Genero'!#REF!","v":{"$error":"#REF!"}},{"$f":"'Pob x Genero'!#REF!","v":{"$error":"#REF!"}},"Hombre","00-04",{"$f":"'Pob x Genero'!#REF!","v":{"$error":"#REF!"}},1421]
[{"$f":"'Pob x Genero'!#REF!","v":{"$error":"#REF!"}},{"$f":"'Pob x Genero'!#REF!","v":{"$error":"#REF!"}},{"$f":"'Pob x Genero'!#REF!","v":{"$error":"#REF!"}},{"$f":"'Pob x Genero'!#REF!","v":{"$error":"#REF!"}},{"$f":"'Pob x Genero'!#REF!","v":{"$error":"#REF!"}},"Hombre","00-04",{"$f":"'Pob x Genero'!#REF!","v":{"$error":"#REF!"}},1422]
[{"$f":"'Pob x Genero'!#REF!","v":{"$error":"#REF!"}},{"$f":"'Pob x Genero'!#REF!","v":{"$error":"#REF!"}},{"$f":"'Pob x Genero'!#REF!","v":{"$error":"#REF!"}},{"$f":"'Pob x Genero'!#REF!","v":{"$error":"#REF!"}},{"$f":"'Pob x Genero'!#REF!","v":{"$error":"#REF!"}},"Hombre","00-04",{"$f":"'Pob x Genero'!#REF!","v":{"$error":"#REF!"}},1423]
[{"$f":"'Pob x Genero'!#REF!","v":{"$error":"#REF!"}},{"$f":"'Pob x Genero'!#REF!","v":{"$error":"#REF!"}},{"$f":"'Pob x Genero'!#REF!","v":{"$error":"#REF!"}},{"$f":"'Pob x Genero'!#REF!","v":{"$error":"#REF!"}},{"$f":"'Pob x Genero'!#REF!","v":{"$error":"#REF!"}},"Hombre","00-04",{"$f":"'Pob x Genero'!#REF!","v":{"$error":"#REF!"}},1424]
[{"$f":"'Pob x Genero'!#REF!","v":{"$error":"#REF!"}},{"$f":"'Pob x Genero'!#REF!","v":{"$error":"#REF!"}},{"$f":"'Pob x Genero'!#REF!","v":{"$error":"#REF!"}},{"$f":"'Pob x Genero'!#REF!","v":{"$error":"#REF!"}},{"$f":"'Pob x Genero'!#REF!","v":{"$error":"#REF!"}},"Hombre","00-04",{"$f":"'Pob x Genero'!#REF!","v":{"$error":"#REF!"}},1425]
[{"$f":"'Pob x Genero'!#REF!","v":{"$error":"#REF!"}},{"$f":"'Pob x Genero'!#REF!","v":{"$error":"#REF!"}},{"$f":"'Pob x Genero'!#REF!","v":{"$error":"#REF!"}},{"$f":"'Pob x Genero'!#REF!","v":{"$error":"#REF!"}},{"$f":"'Pob x Genero'!#REF!","v":{"$error":"#REF!"}},"Hombre","00-04",{"$f":"'Pob x Genero'!#REF!","v":{"$error":"#REF!"}},1426]
[{"$f":"'Pob x Genero'!#REF!","v":{"$error":"#REF!"}},{"$f":"'Pob x Genero'!#REF!","v":{"$error":"#REF!"}},{"$f":"'Pob x Genero'!#REF!","v":{"$error":"#REF!"}},{"$f":"'Pob x Genero'!#REF!","v":{"$error":"#REF!"}},{"$f":"'Pob x Genero'!#REF!","v":{"$error":"#REF!"}},"Hombre","00-04",{"$f":"'Pob x Genero'!#REF!","v":{"$error":"#REF!"}},1427]
[{"$f":"'Pob x Genero'!#REF!","v":{"$error":"#REF!"}},{"$f":"'Pob x Genero'!#REF!","v":{"$error":"#REF!"}},{"$f":"'Pob x Genero'!#REF!","v":{"$error":"#REF!"}},{"$f":"'Pob x Genero'!#REF!","v":{"$error":"#REF!"}},{"$f":"'Pob x Genero'!#REF!","v":{"$error":"#REF!"}},"Hombre","00-04",{"$f":"'Pob x Genero'!#REF!","v":{"$error":"#REF!"}},1428]
[{"$f":"'Pob x Genero'!#REF!","v":{"$error":"#REF!"}},{"$f":"'Pob x Genero'!#REF!","v":{"$error":"#REF!"}},{"$f":"'Pob x Genero'!#REF!","v":{"$error":"#REF!"}},{"$f":"'Pob x Genero'!#REF!","v":{"$error":"#REF!"}},{"$f":"'Pob x Genero'!#REF!","v":{"$error":"#REF!"}},"Hombre","00-04",{"$f":"'Pob x Genero'!#REF!","v":{"$error":"#REF!"}},1429]
[{"$f":"'Pob x Genero'!#REF!","v":{"$error":"#REF!"}},{"$f":"'Pob x Genero'!#REF!","v":{"$error":"#REF!"}},{"$f":"'Pob x Genero'!#REF!","v":{"$error":"#REF!"}},{"$f":"'Pob x Genero'!#REF!","v":{"$error":"#REF!"}},{"$f":"'Pob x Genero'!#REF!","v":{"$error":"#REF!"}},"Hombre","00-04",{"$f":"'Pob x Genero'!#REF!","v":{"$error":"#REF!"}},1430]
[{"$f":"'Pob x Genero'!#REF!","v":{"$error":"#REF!"}},{"$f":"'Pob x Genero'!#REF!","v":{"$error":"#REF!"}},{"$f":"'Pob x Genero'!#REF!","v":{"$error":"#REF!"}},{"$f":"'Pob x Genero'!#REF!","v":{"$error":"#REF!"}},{"$f":"'Pob x Genero'!#REF!","v":{"$error":"#REF!"}},"Hombre","00-04",{"$f":"'Pob x Genero'!#REF!","v":{"$error":"#REF!"}},1431]
[{"$f":"'Pob x Genero'!#REF!","v":{"$error":"#REF!"}},{"$f":"'Pob x Genero'!#REF!","v":{"$error":"#REF!"}},{"$f":"'Pob x Genero'!#REF!","v":{"$error":"#REF!"}},{"$f":"'Pob x Genero'!#REF!","v":{"$error":"#REF!"}},{"$f":"'Pob x Genero'!#REF!","v":{"$error":"#REF!"}},"Hombre","00-04",{"$f":"'Pob x Genero'!#REF!","v":{"$error":"#REF!"}},1432]
[{"$f":"'Pob x Genero'!#REF!","v":{"$error":"#REF!"}},{"$f":"'Pob x Genero'!#REF!","v":{"$error":"#REF!"}},{"$f":"'Pob x Genero'!#REF!","v":{"$error":"#REF!"}},{"$f":"'Pob x Genero'!#REF!","v":{"$error":"#REF!"}},{"$f":"'Pob x Genero'!#REF!","v":{"$error":"#REF!"}},"Hombre","00-04",{"$f":"'Pob x Genero'!#REF!","v":{"$error":"#REF!"}},1433]
[{"$f":"'Pob x Genero'!#REF!","v":{"$error":"#REF!"}},{"$f":"'Pob x Genero'!#REF!","v":{"$error":"#REF!"}},{"$f":"'Pob x Genero'!#REF!","v":{"$error":"#REF!"}},{"$f":"'Pob x Genero'!#REF!","v":{"$error":"#REF!"}},{"$f":"'Pob x Genero'!#REF!","v":{"$error":"#REF!"}},"Hombre","00-04",{"$f":"'Pob x Genero'!#REF!","v":{"$error":"#REF!"}},1434]
[{"$f":"'Pob x Genero'!#REF!","v":{"$error":"#REF!"}},{"$f":"'Pob x Genero'!#REF!","v":{"$error":"#REF!"}},{"$f":"'Pob x Genero'!#REF!","v":{"$error":"#REF!"}},{"$f":"'Pob x Genero'!#REF!","v":{"$error":"#REF!"}},{"$f":"'Pob x Genero'!#REF!","v":{"$error":"#REF!"}},"Hombre","00-04",{"$f":"'Pob x Genero'!#REF!","v":{"$error":"#REF!"}},1435]
[{"$f":"'Pob x Genero'!#REF!","v":{"$error":"#REF!"}},{"$f":"'Pob x Genero'!#REF!","v":{"$error":"#REF!"}},{"$f":"'Pob x Genero'!#REF!","v":{"$error":"#REF!"}},{"$f":"'Pob x Genero'!#REF!","v":{"$error":"#REF!"}},{"$f":"'Pob x Genero'!#REF!","v":{"$error":"#REF!"}},"Hombre","00-04",{"$f":"'Pob x Genero'!#REF!","v":{"$error":"#REF!"}},1436]
[{"$f":"'Pob x Genero'!#REF!","v":{"$error":"#REF!"}},{"$f":"'Pob x Genero'!#REF!","v":{"$error":"#REF!"}},{"$f":"'Pob x Genero'!#REF!","v":{"$error":"#REF!"}},{"$f":"'Pob x Genero'!#REF!","v":{"$error":"#REF!"}},{"$f":"'Pob x Genero'!#REF!","v":{"$error":"#REF!"}},"Hombre","00-04",{"$f":"'Pob x Genero'!#REF!","v":{"$error":"#REF!"}},1437]
[{"$f":"'Pob x Genero'!#REF!","v":{"$error":"#REF!"}},{"$f":"'Pob x Genero'!#REF!","v":{"$error":"#REF!"}},{"$f":"'Pob x Genero'!#REF!","v":{"$error":"#REF!"}},{"$f":"'Pob x Genero'!#REF!","v":{"$error":"#REF!"}},{"$f":"'Pob x Genero'!#REF!","v":{"$error":"#REF!"}},"Hombre","00-04",{"$f":"'Pob x Genero'!#REF!","v":{"$error":"#REF!"}},1438]
[{"$f":"'Pob x Genero'!#REF!","v":{"$error":"#REF!"}},{"$f":"'Pob x Genero'!#REF!","v":{"$error":"#REF!"}},{"$f":"'Pob x Genero'!#REF!","v":{"$error":"#REF!"}},{"$f":"'Pob x Genero'!#REF!","v":{"$error":"#REF!"}},{"$f":"'Pob x Genero'!#REF!","v":{"$error":"#REF!"}},"Hombre","00-04",{"$f":"'Pob x Genero'!#REF!","v":{"$error":"#REF!"}},1439]
[{"$f":"'Pob x Genero'!#REF!","v":{"$error":"#REF!"}},{"$f":"'Pob x Genero'!#REF!","v":{"$error":"#REF!"}},{"$f":"'Pob x Genero'!#REF!","v":{"$error":"#REF!"}},{"$f":"'Pob x Genero'!#REF!","v":{"$error":"#REF!"}},{"$f":"'Pob x Genero'!#REF!","v":{"$error":"#REF!"}},"Hombre","00-04",{"$f":"'Pob x Genero'!#REF!","v":{"$error":"#REF!"}},1440]
[{"$f":"'Pob x Genero'!#REF!","v":{"$error":"#REF!"}},{"$f":"'Pob x Genero'!#REF!","v":{"$error":"#REF!"}},{"$f":"'Pob x Genero'!#REF!","v":{"$error":"#REF!"}},{"$f":"'Pob x Genero'!#REF!","v":{"$error":"#REF!"}},{"$f":"'Pob x Genero'!#REF!","v":{"$error":"#REF!"}},"Hombre","00-04",{"$f":"'Pob x Genero'!#REF!","v":{"$error":"#REF!"}},1441]
[{"$f":"'Pob x Genero'!#REF!","v":{"$error":"#REF!"}},{"$f":"'Pob x Genero'!#REF!","v":{"$error":"#REF!"}},{"$f":"'Pob x Genero'!#REF!","v":{"$error":"#REF!"}},{"$f":"'Pob x Genero'!#REF!","v":{"$error":"#REF!"}},{"$f":"'Pob x Genero'!#REF!","v":{"$error":"#REF!"}},"Hombre","00-04",{"$f":"'Pob x Genero'!#REF!","v":{"$error":"#REF!"}},1442]
[{"$f":"'Pob x Genero'!#REF!","v":{"$error":"#REF!"}},{"$f":"'Pob x Genero'!#REF!","v":{"$error":"#REF!"}},{"$f":"'Pob x Genero'!#REF!","v":{"$error":"#REF!"}},{"$f":"'Pob x Genero'!#REF!","v":{"$error":"#REF!"}},{"$f":"'Pob x Genero'!#REF!","v":{"$error":"#REF!"}},"Hombre","00-04",{"$f":"'Pob x Genero'!#REF!","v":{"$error":"#REF!"}},1443]
[{"$f":"'Pob x Genero'!#REF!","v":{"$error":"#REF!"}},{"$f":"'Pob x Genero'!#REF!","v":{"$error":"#REF!"}},{"$f":"'Pob x Genero'!#REF!","v":{"$error":"#REF!"}},{"$f":"'Pob x Genero'!#REF!","v":{"$error":"#REF!"}},{"$f":"'Pob x Genero'!#REF!","v":{"$error":"#REF!"}},"Hombre","00-04",{"$f":"'Pob x Genero'!#REF!","v":{"$error":"#REF!"}},1444]
[{"$f":"'Pob x Genero'!#REF!","v":{"$error":"#REF!"}},{"$f":"'Pob x Genero'!#REF!","v":{"$error":"#REF!"}},{"$f":"'Pob x Genero'!#REF!","v":{"$error":"#REF!"}},{"$f":"'Pob x Genero'!#REF!","v":{"$error":"#REF!"}},{"$f":"'Pob x Genero'!#REF!","v":{"$error":"#REF!"}},"Hombre","00-04",{"$f":"'Pob x Genero'!#REF!","v":{"$error":"#REF!"}},1445]
[{"$f":"'Pob x Genero'!#REF!","v":{"$error":"#REF!"}},{"$f":"'Pob x Genero'!#REF!","v":{"$error":"#REF!"}},{"$f":"'Pob x Genero'!#REF!","v":{"$error":"#REF!"}},{"$f":"'Pob x Genero'!#REF!","v":{"$error":"#REF!"}},{"$f":"'Pob x Genero'!#REF!","v":{"$error":"#REF!"}},"Hombre","00-04",{"$f":"'Pob x Genero'!#REF!","v":{"$error":"#REF!"}},1446]
[{"$f":"'Pob x Genero'!#REF!","v":{"$error":"#REF!"}},{"$f":"'Pob x Genero'!#REF!","v":{"$error":"#REF!"}},{"$f":"'Pob x Genero'!#REF!","v":{"$error":"#REF!"}},{"$f":"'Pob x Genero'!#REF!","v":{"$error":"#REF!"}},{"$f":"'Pob x Genero'!#REF!","v":{"$error":"#REF!"}},"Hombre","00-04",{"$f":"'Pob x Genero'!#REF!","v":{"$error":"#REF!"}},1447]
[{"$f":"'Pob x Genero'!#REF!","v":{"$error":"#REF!"}},{"$f":"'Pob x Genero'!#REF!","v":{"$error":"#REF!"}},{"$f":"'Pob x Genero'!#REF!","v":{"$error":"#REF!"}},{"$f":"'Pob x Genero'!#REF!","v":{"$error":"#REF!"}},{"$f":"'Pob x Genero'!#REF!","v":{"$error":"#REF!"}},"Hombre","00-04",{"$f":"'Pob x Genero'!#REF!","v":{"$error":"#REF!"}},1448]
[{"$f":"'Pob x Genero'!#REF!","v":{"$error":"#REF!"}},{"$f":"'Pob x Genero'!#REF!","v":{"$error":"#REF!"}},{"$f":"'Pob x Genero'!#REF!","v":{"$error":"#REF!"}},{"$f":"'Pob x Genero'!#REF!","v":{"$error":"#REF!"}},{"$f":"'Pob x Genero'!#REF!","v":{"$error":"#REF!"}},"Hombre","00-04",{"$f":"'Pob x Genero'!#REF!","v":{"$error":"#REF!"}},1449]
[{"$f":"'Pob x Genero'!#REF!","v":{"$error":"#REF!"}},{"$f":"'Pob x Genero'!#REF!","v":{"$error":"#REF!"}},{"$f":"'Pob x Genero'!#REF!","v":{"$error":"#REF!"}},{"$f":"'Pob x Genero'!#REF!","v":{"$error":"#REF!"}},{"$f":"'Pob x Genero'!#REF!","v":{"$error":"#REF!"}},"Hombre","00-04",{"$f":"'Pob x Genero'!#REF!","v":{"$error":"#REF!"}},1450]
[{"$f":"'Pob x Genero'!#REF!","v":{"$error":"#REF!"}},{"$f":"'Pob x Genero'!#REF!","v":{"$error":"#REF!"}},{"$f":"'Pob x Genero'!#REF!","v":{"$error":"#REF!"}},{"$f":"'Pob x Genero'!#REF!","v":{"$error":"#REF!"}},{"$f":"'Pob x Genero'!#REF!","v":{"$error":"#REF!"}},"Hombre","00-04",{"$f":"'Pob x Genero'!#REF!","v":{"$error":"#REF!"}},1451]
[{"$f":"'Pob x Genero'!#REF!","v":{"$error":"#REF!"}},{"$f":"'Pob x Genero'!#REF!","v":{"$error":"#REF!"}},{"$f":"'Pob x Genero'!#REF!","v":{"$error":"#REF!"}},{"$f":"'Pob x Genero'!#REF!","v":{"$error":"#REF!"}},{"$f":"'Pob x Genero'!#REF!","v":{"$error":"#REF!"}},"Hombre","00-04",{"$f":"'Pob x Genero'!#REF!","v":{"$error":"#REF!"}},1452]
[{"$f":"'Pob x Genero'!#REF!","v":{"$error":"#REF!"}},{"$f":"'Pob x Genero'!#REF!","v":{"$error":"#REF!"}},{"$f":"'Pob x Genero'!#REF!","v":{"$error":"#REF!"}},{"$f":"'Pob x Genero'!#REF!","v":{"$error":"#REF!"}},{"$f":"'Pob x Genero'!#REF!","v":{"$error":"#REF!"}},"Hombre","00-04",{"$f":"'Pob x Genero'!#REF!","v":{"$error":"#REF!"}},1453]
[{"$f":"'Pob x Genero'!#REF!","v":{"$error":"#REF!"}},{"$f":"'Pob x Genero'!#REF!","v":{"$error":"#REF!"}},{"$f":"'Pob x Genero'!#REF!","v":{"$error":"#REF!"}},{"$f":"'Pob x Genero'!#REF!","v":{"$error":"#REF!"}},{"$f":"'Pob x Genero'!#REF!","v":{"$error":"#REF!"}},"Hombre","00-04",{"$f":"'Pob x Genero'!#REF!","v":{"$error":"#REF!"}},1454]
[{"$f":"'Pob x Genero'!#REF!","v":{"$error":"#REF!"}},{"$f":"'Pob x Genero'!#REF!","v":{"$error":"#REF!"}},{"$f":"'Pob x Genero'!#REF!","v":{"$error":"#REF!"}},{"$f":"'Pob x Genero'!#REF!","v":{"$error":"#REF!"}},{"$f":"'Pob x Genero'!#REF!","v":{"$error":"#REF!"}},"Hombre","00-04",{"$f":"'Pob x Genero'!#REF!","v":{"$error":"#REF!"}},1455]
[{"$f":"'Pob x Genero'!#REF!","v":{"$error":"#REF!"}},{"$f":"'Pob x Genero'!#REF!","v":{"$error":"#REF!"}},{"$f":"'Pob x Genero'!#REF!","v":{"$error":"#REF!"}},{"$f":"'Pob x Genero'!#REF!","v":{"$error":"#REF!"}},{"$f":"'Pob x Genero'!#REF!","v":{"$error":"#REF!"}},"Hombre","00-04",{"$f":"'Pob x Genero'!#REF!","v":{"$error":"#REF!"}},1456]
[{"$f":"'Pob x Genero'!#REF!","v":{"$error":"#REF!"}},{"$f":"'Pob x Genero'!#REF!","v":{"$error":"#REF!"}},{"$f":"'Pob x Genero'!#REF!","v":{"$error":"#REF!"}},{"$f":"'Pob x Genero'!#REF!","v":{"$error":"#REF!"}},{"$f":"'Pob x Genero'!#REF!","v":{"$error":"#REF!"}},"Hombre","00-04",{"$f":"'Pob x Genero'!#REF!","v":{"$error":"#REF!"}},1457]
[{"$f":"'Pob x Genero'!#REF!","v":{"$error":"#REF!"}},{"$f":"'Pob x Genero'!#REF!","v":{"$error":"#REF!"}},{"$f":"'Pob x Genero'!#REF!","v":{"$error":"#REF!"}},{"$f":"'Pob x Genero'!#REF!","v":{"$error":"#REF!"}},{"$f":"'Pob x Genero'!#REF!","v":{"$error":"#REF!"}},"Hombre","00-04",{"$f":"'Pob x Genero'!#REF!","v":{"$error":"#REF!"}},1458]
[{"$f":"'Pob x Genero'!#REF!","v":{"$error":"#REF!"}},{"$f":"'Pob x Genero'!#REF!","v":{"$error":"#REF!"}},{"$f":"'Pob x Genero'!#REF!","v":{"$error":"#REF!"}},{"$f":"'Pob x Genero'!#REF!","v":{"$error":"#REF!"}},{"$f":"'Pob x Genero'!#REF!","v":{"$error":"#REF!"}},"Hombre","00-04",{"$f":"'Pob x Genero'!#REF!","v":{"$error":"#REF!"}},1459]
[{"$f":"'Pob x Genero'!#REF!","v":{"$error":"#REF!"}},{"$f":"'Pob x Genero'!#REF!","v":{"$error":"#REF!"}},{"$f":"'Pob x Genero'!#REF!","v":{"$error":"#REF!"}},{"$f":"'Pob x Genero'!#REF!","v":{"$error":"#REF!"}},{"$f":"'Pob x Genero'!#REF!","v":{"$error":"#REF!"}},"Hombre","00-04",{"$f":"'Pob x Genero'!#REF!","v":{"$error":"#REF!"}},1460]
[{"$f":"'Pob x Genero'!#REF!","v":{"$error":"#REF!"}},{"$f":"'Pob x Genero'!#REF!","v":{"$error":"#REF!"}},{"$f":"'Pob x Genero'!#REF!","v":{"$error":"#REF!"}},{"$f":"'Pob x Genero'!#REF!","v":{"$error":"#REF!"}},{"$f":"'Pob x Genero'!#REF!","v":{"$error":"#REF!"}},"Hombre","00-04",{"$f":"'Pob x Genero'!#REF!","v":{"$error":"#REF!"}},1461]
[{"$f":"'Pob x Genero'!#REF!","v":{"$error":"#REF!"}},{"$f":"'Pob x Genero'!#REF!","v":{"$error":"#REF!"}},{"$f":"'Pob x Genero'!#REF!","v":{"$error":"#REF!"}},{"$f":"'Pob x Genero'!#REF!","v":{"$error":"#REF!"}},{"$f":"'Pob x Genero'!#REF!","v":{"$error":"#REF!"}},"Hombre","00-04",{"$f":"'Pob x Genero'!#REF!","v":{"$error":"#REF!"}},1462]
[{"$f":"'Pob x Genero'!#REF!","v":{"$error":"#REF!"}},{"$f":"'Pob x Genero'!#REF!","v":{"$error":"#REF!"}},{"$f":"'Pob x Genero'!#REF!","v":{"$error":"#REF!"}},{"$f":"'Pob x Genero'!#REF!","v":{"$error":"#REF!"}},{"$f":"'Pob x Genero'!#REF!","v":{"$error":"#REF!"}},"Hombre","00-04",{"$f":"'Pob x Genero'!#REF!","v":{"$error":"#REF!"}},1463]
[{"$f":"'Pob x Genero'!#REF!","v":{"$error":"#REF!"}},{"$f":"'Pob x Genero'!#REF!","v":{"$error":"#REF!"}},{"$f":"'Pob x Genero'!#REF!","v":{"$error":"#REF!"}},{"$f":"'Pob x Genero'!#REF!","v":{"$error":"#REF!"}},{"$f":"'Pob x Genero'!#REF!","v":{"$error":"#REF!"}},"Hombre","00-04",{"$f":"'Pob x Genero'!#REF!","v":{"$error":"#REF!"}},1464]
[{"$f":"'Pob x Genero'!#REF!","v":{"$error":"#REF!"}},{"$f":"'Pob x Genero'!#REF!","v":{"$error":"#REF!"}},{"$f":"'Pob x Genero'!#REF!","v":{"$error":"#REF!"}},{"$f":"'Pob x Genero'!#REF!","v":{"$error":"#REF!"}},{"$f":"'Pob x Genero'!#REF!","v":{"$error":"#REF!"}},"Hombre","00-04",{"$f":"'Pob x Genero'!#REF!","v":{"$error":"#REF!"}},1465]
[{"$f":"'Pob x Genero'!#REF!","v":{"$error":"#REF!"}},{"$f":"'Pob x Genero'!#REF!","v":{"$error":"#REF!"}},{"$f":"'Pob x Genero'!#REF!","v":{"$error":"#REF!"}},{"$f":"'Pob x Genero'!#REF!","v":{"$error":"#REF!"}},{"$f":"'Pob x Genero'!#REF!","v":{"$error":"#REF!"}},"Hombre","00-04",{"$f":"'Pob x Genero'!#REF!","v":{"$error":"#REF!"}},1466]
[{"$f":"'Pob x Genero'!#REF!","v":{"$error":"#REF!"}},{"$f":"'Pob x Genero'!#REF!","v":{"$error":"#REF!"}},{"$f":"'Pob x Genero'!#REF!","v":{"$error":"#REF!"}},{"$f":"'Pob x Genero'!#REF!","v":{"$error":"#REF!"}},{"$f":"'Pob x Genero'!#REF!","v":{"$error":"#REF!"}},"Hombre","00-04",{"$f":"'Pob x Genero'!#REF!","v":{"$error":"#REF!"}},1467]
[{"$f":"'Pob x Genero'!#REF!","v":{"$error":"#REF!"}},{"$f":"'Pob x Genero'!#REF!","v":{"$error":"#REF!"}},{"$f":"'Pob x Genero'!#REF!","v":{"$error":"#REF!"}},{"$f":"'Pob x Genero'!#REF!","v":{"$error":"#REF!"}},{"$f":"'Pob x Genero'!#REF!","v":{"$error":"#REF!"}},"Hombre","00-04",{"$f":"'Pob x Genero'!#REF!","v":{"$error":"#REF!"}},1468]
[{"$f":"'Pob x Genero'!#REF!","v":{"$error":"#REF!"}},{"$f":"'Pob x Genero'!#REF!","v":{"$error":"#REF!"}},{"$f":"'Pob x Genero'!#REF!","v":{"$error":"#REF!"}},{"$f":"'Pob x Genero'!#REF!","v":{"$error":"#REF!"}},{"$f":"'Pob x Genero'!#REF!","v":{"$error":"#REF!"}},"Hombre","00-04",{"$f":"'Pob x Genero'!#REF!","v":{"$error":"#REF!"}},1469]
[{"$f":"'Pob x Genero'!#REF!","v":{"$error":"#REF!"}},{"$f":"'Pob x Genero'!#REF!","v":{"$error":"#REF!"}},{"$f":"'Pob x Genero'!#REF!","v":{"$error":"#REF!"}},{"$f":"'Pob x Genero'!#REF!","v":{"$error":"#REF!"}},{"$f":"'Pob x Genero'!#REF!","v":{"$error":"#REF!"}},"Hombre","00-04",{"$f":"'Pob x Genero'!#REF!","v":{"$error":"#REF!"}},1470]
[{"$f":"'Pob x Genero'!#REF!","v":{"$error":"#REF!"}},{"$f":"'Pob x Genero'!#REF!","v":{"$error":"#REF!"}},{"$f":"'Pob x Genero'!#REF!","v":{"$error":"#REF!"}},{"$f":"'Pob x Genero'!#REF!","v":{"$error":"#REF!"}},{"$f":"'Pob x Genero'!#REF!","v":{"$error":"#REF!"}},"Hombre","00-04",{"$f":"'Pob x Genero'!#REF!","v":{"$error":"#REF!"}},1471]
[{"$f":"'Pob x Genero'!#REF!","v":{"$error":"#REF!"}},{"$f":"'Pob x Genero'!#REF!","v":{"$error":"#REF!"}},{"$f":"'Pob x Genero'!#REF!","v":{"$error":"#REF!"}},{"$f":"'Pob x Genero'!#REF!","v":{"$error":"#REF!"}},{"$f":"'Pob x Genero'!#REF!","v":{"$error":"#REF!"}},"Hombre","00-04",{"$f":"'Pob x Genero'!#REF!","v":{"$error":"#REF!"}},1472]
[{"$f":"'Pob x Genero'!#REF!","v":{"$error":"#REF!"}},{"$f":"'Pob x Genero'!#REF!","v":{"$error":"#REF!"}},{"$f":"'Pob x Genero'!#REF!","v":{"$error":"#REF!"}},{"$f":"'Pob x Genero'!#REF!","v":{"$error":"#REF!"}},{"$f":"'Pob x Genero'!#REF!","v":{"$error":"#REF!"}},"Hombre","00-04",{"$f":"'Pob x Genero'!#REF!","v":{"$error":"#REF!"}},1473]
[{"$f":"'Pob x Genero'!#REF!","v":{"$error":"#REF!"}},{"$f":"'Pob x Genero'!#REF!","v":{"$error":"#REF!"}},{"$f":"'Pob x Genero'!#REF!","v":{"$error":"#REF!"}},{"$f":"'Pob x Genero'!#REF!","v":{"$error":"#REF!"}},{"$f":"'Pob x Genero'!#REF!","v":{"$error":"#REF!"}},"Hombre","00-04",{"$f":"'Pob x Genero'!#REF!","v":{"$error":"#REF!"}},1474]
[{"$f":"'Pob x Genero'!#REF!","v":{"$error":"#REF!"}},{"$f":"'Pob x Genero'!#REF!","v":{"$error":"#REF!"}},{"$f":"'Pob x Genero'!#REF!","v":{"$error":"#REF!"}},{"$f":"'Pob x Genero'!#REF!","v":{"$error":"#REF!"}},{"$f":"'Pob x Genero'!#REF!","v":{"$error":"#REF!"}},{"$f":"F1475","v":"Hombre"},{"$f":"G1475","v":"00-04"},{"$f":"'Pob x Genero'!#REF!","v":{"$error":"#REF!"}},1475]
[{"$f":"'Pob x Genero'!#REF!","v":{"$error":"#REF!"}},{"$f":"'Pob x Genero'!#REF!","v":{"$error":"#REF!"}},{"$f":"'Pob x Genero'!#REF!","v":{"$error":"#REF!"}},{"$f":"'Pob x Genero'!#REF!","v":{"$error":"#REF!"}},{"$f":"'Pob x Genero'!#REF!","v":{"$error":"#REF!"}},"Hombre","00-04",{"$f":"'Pob x Genero'!#REF!","v":{"$error":"#REF!"}},1476]
[{"$f":"'Pob x Genero'!#REF!","v":{"$error":"#REF!"}},{"$f":"'Pob x Genero'!#REF!","v":{"$error":"#REF!"}},{"$f":"'Pob x Genero'!#REF!","v":{"$error":"#REF!"}},{"$f":"'Pob x Genero'!#REF!","v":{"$error":"#REF!"}},{"$f":"'Pob x Genero'!#REF!","v":{"$error":"#REF!"}},"Hombre","00-04",{"$f":"'Pob x Genero'!#REF!","v":{"$error":"#REF!"}},1477]
[{"$f":"'Pob x Genero'!#REF!","v":{"$error":"#REF!"}},{"$f":"'Pob x Genero'!#REF!","v":{"$error":"#REF!"}},{"$f":"'Pob x Genero'!#REF!","v":{"$error":"#REF!"}},{"$f":"'Pob x Genero'!#REF!","v":{"$error":"#REF!"}},{"$f":"'Pob x Genero'!#REF!","v":{"$error":"#REF!"}},"Hombre","00-04",{"$f":"'Pob x Genero'!#REF!","v":{"$error":"#REF!"}},1478]
[{"$f":"'Pob x Genero'!#REF!","v":{"$error":"#REF!"}},{"$f":"'Pob x Genero'!#REF!","v":{"$error":"#REF!"}},{"$f":"'Pob x Genero'!#REF!","v":{"$error":"#REF!"}},{"$f":"'Pob x Genero'!#REF!","v":{"$error":"#REF!"}},{"$f":"'Pob x Genero'!#REF!","v":{"$error":"#REF!"}},"Hombre","00-04",{"$f":"'Pob x Genero'!#REF!","v":{"$error":"#REF!"}},1479]
[{"$f":"'Pob x Genero'!#REF!","v":{"$error":"#REF!"}},{"$f":"'Pob x Genero'!#REF!","v":{"$error":"#REF!"}},{"$f":"'Pob x Genero'!#REF!","v":{"$error":"#REF!"}},{"$f":"'Pob x Genero'!#REF!","v":{"$error":"#REF!"}},{"$f":"'Pob x Genero'!#REF!","v":{"$error":"#REF!"}},"Hombre","00-04",{"$f":"'Pob x Genero'!#REF!","v":{"$error":"#REF!"}},1480]
[{"$f":"'Pob x Genero'!#REF!","v":{"$error":"#REF!"}},{"$f":"'Pob x Genero'!#REF!","v":{"$error":"#REF!"}},{"$f":"'Pob x Genero'!#REF!","v":{"$error":"#REF!"}},{"$f":"'Pob x Genero'!#REF!","v":{"$error":"#REF!"}},{"$f":"'Pob x Genero'!#REF!","v":{"$error":"#REF!"}},"Hombre","00-04",{"$f":"'Pob x Genero'!#REF!","v":{"$error":"#REF!"}},1481]
[{"$f":"'Pob x Genero'!#REF!","v":{"$error":"#REF!"}},{"$f":"'Pob x Genero'!#REF!","v":{"$error":"#REF!"}},{"$f":"'Pob x Genero'!#REF!","v":{"$error":"#REF!"}},{"$f":"'Pob x Genero'!#REF!","v":{"$error":"#REF!"}},{"$f":"'Pob x Genero'!#REF!","v":{"$error":"#REF!"}},"Hombre","00-04",{"$f":"'Pob x Genero'!#REF!","v":{"$error":"#REF!"}},1482]
[{"$f":"'Pob x Genero'!#REF!","v":{"$error":"#REF!"}},{"$f":"'Pob x Genero'!#REF!","v":{"$error":"#REF!"}},{"$f":"'Pob x Genero'!#REF!","v":{"$error":"#REF!"}},{"$f":"'Pob x Genero'!#REF!","v":{"$error":"#REF!"}},{"$f":"'Pob x Genero'!#REF!","v":{"$error":"#REF!"}},"Hombre","00-04",{"$f":"'Pob x Genero'!#REF!","v":{"$error":"#REF!"}},1483]
[{"$f":"'Pob x Genero'!#REF!","v":{"$error":"#REF!"}},{"$f":"'Pob x Genero'!#REF!","v":{"$error":"#REF!"}},{"$f":"'Pob x Genero'!#REF!","v":{"$error":"#REF!"}},{"$f":"'Pob x Genero'!#REF!","v":{"$error":"#REF!"}},{"$f":"'Pob x Genero'!#REF!","v":{"$error":"#REF!"}},"Hombre","00-04",{"$f":"'Pob x Genero'!#REF!","v":{"$error":"#REF!"}},1484]
[{"$f":"'Pob x Genero'!#REF!","v":{"$error":"#REF!"}},{"$f":"'Pob x Genero'!#REF!","v":{"$error":"#REF!"}},{"$f":"'Pob x Genero'!#REF!","v":{"$error":"#REF!"}},{"$f":"'Pob x Genero'!#REF!","v":{"$error":"#REF!"}},{"$f":"'Pob x Genero'!#REF!","v":{"$error":"#REF!"}},"Hombre","00-04",{"$f":"'Pob x Genero'!#REF!","v":{"$error":"#REF!"}},1485]
[{"$f":"'Pob x Genero'!#REF!","v":{"$error":"#REF!"}},{"$f":"'Pob x Genero'!#REF!","v":{"$error":"#REF!"}},{"$f":"'Pob x Genero'!#REF!","v":{"$error":"#REF!"}},{"$f":"'Pob x Genero'!#REF!","v":{"$error":"#REF!"}},{"$f":"'Pob x Genero'!#REF!","v":{"$error":"#REF!"}},"Hombre","00-04",{"$f":"'Pob x Genero'!#REF!","v":{"$error":"#REF!"}},1486]
[{"$f":"'Pob x Genero'!#REF!","v":{"$error":"#REF!"}},{"$f":"'Pob x Genero'!#REF!","v":{"$error":"#REF!"}},{"$f":"'Pob x Genero'!#REF!","v":{"$error":"#REF!"}},{"$f":"'Pob x Genero'!#REF!","v":{"$error":"#REF!"}},{"$f":"'Pob x Genero'!#REF!","v":{"$error":"#REF!"}},"Hombre","00-04",{"$f":"'Pob x Genero'!#REF!","v":{"$error":"#REF!"}},1487]
[{"$f":"'Pob x Genero'!#REF!","v":{"$error":"#REF!"}},{"$f":"'Pob x Genero'!#REF!","v":{"$error":"#REF!"}},{"$f":"'Pob x Genero'!#REF!","v":{"$error":"#REF!"}},{"$f":"'Pob x Genero'!#REF!","v":{"$error":"#REF!"}},{"$f":"'Pob x Genero'!#REF!","v":{"$error":"#REF!"}},"Hombre","00-04",{"$f":"'Pob x Genero'!#REF!","v":{"$error":"#REF!"}},1488]
[{"$f":"'Pob x Genero'!#REF!","v":{"$error":"#REF!"}},{"$f":"'Pob x Genero'!#REF!","v":{"$error":"#REF!"}},{"$f":"'Pob x Genero'!#REF!","v":{"$error":"#REF!"}},{"$f":"'Pob x Genero'!#REF!","v":{"$error":"#REF!"}},{"$f":"'Pob x Genero'!#REF!","v":{"$error":"#REF!"}},"Hombre","00-04",{"$f":"'Pob x Genero'!#REF!","v":{"$error":"#REF!"}},1489]
[{"$f":"'Pob x Genero'!#REF!","v":{"$error":"#REF!"}},{"$f":"'Pob x Genero'!#REF!","v":{"$error":"#REF!"}},{"$f":"'Pob x Genero'!#REF!","v":{"$error":"#REF!"}},{"$f":"'Pob x Genero'!#REF!","v":{"$error":"#REF!"}},{"$f":"'Pob x Genero'!#REF!","v":{"$error":"#REF!"}},"Hombre","00-04",{"$f":"'Pob x Genero'!#REF!","v":{"$error":"#REF!"}},1490]
[{"$f":"'Pob x Genero'!#REF!","v":{"$error":"#REF!"}},{"$f":"'Pob x Genero'!#REF!","v":{"$error":"#REF!"}},{"$f":"'Pob x Genero'!#REF!","v":{"$error":"#REF!"}},{"$f":"'Pob x Genero'!#REF!","v":{"$error":"#REF!"}},{"$f":"'Pob x Genero'!#REF!","v":{"$error":"#REF!"}},"Hombre","00-04",{"$f":"'Pob x Genero'!#REF!","v":{"$error":"#REF!"}},1491]
[{"$f":"'Pob x Genero'!#REF!","v":{"$error":"#REF!"}},{"$f":"'Pob x Genero'!#REF!","v":{"$error":"#REF!"}},{"$f":"'Pob x Genero'!#REF!","v":{"$error":"#REF!"}},{"$f":"'Pob x Genero'!#REF!","v":{"$error":"#REF!"}},{"$f":"'Pob x Genero'!#REF!","v":{"$error":"#REF!"}},"Hombre","00-04",{"$f":"'Pob x Genero'!#REF!","v":{"$error":"#REF!"}},1492]
[{"$f":"'Pob x Genero'!#REF!","v":{"$error":"#REF!"}},{"$f":"'Pob x Genero'!#REF!","v":{"$error":"#REF!"}},{"$f":"'Pob x Genero'!#REF!","v":{"$error":"#REF!"}},{"$f":"'Pob x Genero'!#REF!","v":{"$error":"#REF!"}},{"$f":"'Pob x Genero'!#REF!","v":{"$error":"#REF!"}},"Hombre","00-04",{"$f":"'Pob x Genero'!#REF!","v":{"$error":"#REF!"}},1493]
[{"$f":"'Pob x Genero'!#REF!","v":{"$error":"#REF!"}},{"$f":"'Pob x Genero'!#REF!","v":{"$error":"#REF!"}},{"$f":"'Pob x Genero'!#REF!","v":{"$error":"#REF!"}},{"$f":"'Pob x Genero'!#REF!","v":{"$error":"#REF!"}},{"$f":"'Pob x Genero'!#REF!","v":{"$error":"#REF!"}},"Hombre","00-04",{"$f":"'Pob x Genero'!#REF!","v":{"$error":"#REF!"}},1494]
[{"$f":"'Pob x Genero'!#REF!","v":{"$error":"#REF!"}},{"$f":"'Pob x Genero'!#REF!","v":{"$error":"#REF!"}},{"$f":"'Pob x Genero'!#REF!","v":{"$error":"#REF!"}},{"$f":"'Pob x Genero'!#REF!","v":{"$error":"#REF!"}},{"$f":"'Pob x Genero'!#REF!","v":{"$error":"#REF!"}},"Hombre","00-04",{"$f":"'Pob x Genero'!#REF!","v":{"$error":"#REF!"}},1495]
[{"$f":"'Pob x Genero'!#REF!","v":{"$error":"#REF!"}},{"$f":"'Pob x Genero'!#REF!","v":{"$error":"#REF!"}},{"$f":"'Pob x Genero'!#REF!","v":{"$error":"#REF!"}},{"$f":"'Pob x Genero'!#REF!","v":{"$error":"#REF!"}},{"$f":"'Pob x Genero'!#REF!","v":{"$error":"#REF!"}},"Hombre","00-04",{"$f":"'Pob x Genero'!#REF!","v":{"$error":"#REF!"}},1496]
[{"$f":"'Pob x Genero'!#REF!","v":{"$error":"#REF!"}},{"$f":"'Pob x Genero'!#REF!","v":{"$error":"#REF!"}},{"$f":"'Pob x Genero'!#REF!","v":{"$error":"#REF!"}},{"$f":"'Pob x Genero'!#REF!","v":{"$error":"#REF!"}},{"$f":"'Pob x Genero'!#REF!","v":{"$error":"#REF!"}},"Hombre","00-04",{"$f":"'Pob x Genero'!#REF!","v":{"$error":"#REF!"}},1497]
[{"$f":"'Pob x Genero'!#REF!","v":{"$error":"#REF!"}},{"$f":"'Pob x Genero'!#REF!","v":{"$error":"#REF!"}},{"$f":"'Pob x Genero'!#REF!","v":{"$error":"#REF!"}},{"$f":"'Pob x Genero'!#REF!","v":{"$error":"#REF!"}},{"$f":"'Pob x Genero'!#REF!","v":{"$error":"#REF!"}},"Hombre","00-04",{"$f":"'Pob x Genero'!#REF!","v":{"$error":"#REF!"}},1498]
[{"$f":"'Pob x Genero'!#REF!","v":{"$error":"#REF!"}},{"$f":"'Pob x Genero'!#REF!","v":{"$error":"#REF!"}},{"$f":"'Pob x Genero'!#REF!","v":{"$error":"#REF!"}},{"$f":"'Pob x Genero'!#REF!","v":{"$error":"#REF!"}},{"$f":"'Pob x Genero'!#REF!","v":{"$error":"#REF!"}},"Hombre","00-04",{"$f":"'Pob x Genero'!#REF!","v":{"$error":"#REF!"}},1499]
[{"$f":"'Pob x Genero'!#REF!","v":{"$error":"#REF!"}},{"$f":"'Pob x Genero'!#REF!","v":{"$error":"#REF!"}},{"$f":"'Pob x Genero'!#REF!","v":{"$error":"#REF!"}},{"$f":"'Pob x Genero'!#REF!","v":{"$error":"#REF!"}},{"$f":"'Pob x Genero'!#REF!","v":{"$error":"#REF!"}},"Hombre","00-04",{"$f":"'Pob x Genero'!#REF!","v":{"$error":"#REF!"}},1500]
[{"$f":"'Pob x Genero'!#REF!","v":{"$error":"#REF!"}},{"$f":"'Pob x Genero'!#REF!","v":{"$error":"#REF!"}},{"$f":"'Pob x Genero'!#REF!","v":{"$error":"#REF!"}},{"$f":"'Pob x Genero'!#REF!","v":{"$error":"#REF!"}},{"$f":"'Pob x Genero'!#REF!","v":{"$error":"#REF!"}},"Hombre","00-04",{"$f":"'Pob x Genero'!#REF!","v":{"$error":"#REF!"}},1501]
[{"$f":"'Pob x Genero'!#REF!","v":{"$error":"#REF!"}},{"$f":"'Pob x Genero'!#REF!","v":{"$error":"#REF!"}},{"$f":"'Pob x Genero'!#REF!","v":{"$error":"#REF!"}},{"$f":"'Pob x Genero'!#REF!","v":{"$error":"#REF!"}},{"$f":"'Pob x Genero'!#REF!","v":{"$error":"#REF!"}},"Hombre","00-04",{"$f":"'Pob x Genero'!#REF!","v":{"$error":"#REF!"}},1502]
[{"$f":"'Pob x Genero'!#REF!","v":{"$error":"#REF!"}},{"$f":"'Pob x Genero'!#REF!","v":{"$error":"#REF!"}},{"$f":"'Pob x Genero'!#REF!","v":{"$error":"#REF!"}},{"$f":"'Pob x Genero'!#REF!","v":{"$error":"#REF!"}},{"$f":"'Pob x Genero'!#REF!","v":{"$error":"#REF!"}},"Hombre","00-04",{"$f":"'Pob x Genero'!#REF!","v":{"$error":"#REF!"}},1503]
[{"$f":"'Pob x Genero'!#REF!","v":{"$error":"#REF!"}},{"$f":"'Pob x Genero'!#REF!","v":{"$error":"#REF!"}},{"$f":"'Pob x Genero'!#REF!","v":{"$error":"#REF!"}},{"$f":"'Pob x Genero'!#REF!","v":{"$error":"#REF!"}},{"$f":"'Pob x Genero'!#REF!","v":{"$error":"#REF!"}},"Hombre","00-04",{"$f":"'Pob x Genero'!#REF!","v":{"$error":"#REF!"}},1504]
[{"$f":"'Pob x Genero'!#REF!","v":{"$error":"#REF!"}},{"$f":"'Pob x Genero'!#REF!","v":{"$error":"#REF!"}},{"$f":"'Pob x Genero'!#REF!","v":{"$error":"#REF!"}},{"$f":"'Pob x Genero'!#REF!","v":{"$error":"#REF!"}},{"$f":"'Pob x Genero'!#REF!","v":{"$error":"#REF!"}},"Hombre","00-04",{"$f":"'Pob x Genero'!#REF!","v":{"$error":"#REF!"}},1505]
[{"$f":"'Pob x Genero'!#REF!","v":{"$error":"#REF!"}},{"$f":"'Pob x Genero'!#REF!","v":{"$error":"#REF!"}},{"$f":"'Pob x Genero'!#REF!","v":{"$error":"#REF!"}},{"$f":"'Pob x Genero'!#REF!","v":{"$error":"#REF!"}},{"$f":"'Pob x Genero'!#REF!","v":{"$error":"#REF!"}},"Hombre","00-04",{"$f":"'Pob x Genero'!#REF!","v":{"$error":"#REF!"}},1506]
[{"$f":"'Pob x Genero'!#REF!","v":{"$error":"#REF!"}},{"$f":"'Pob x Genero'!#REF!","v":{"$error":"#REF!"}},{"$f":"'Pob x Genero'!#REF!","v":{"$error":"#REF!"}},{"$f":"'Pob x Genero'!#REF!","v":{"$error":"#REF!"}},{"$f":"'Pob x Genero'!#REF!","v":{"$error":"#REF!"}},"Hombre","00-04",{"$f":"'Pob x Genero'!#REF!","v":{"$error":"#REF!"}},1507]
[{"$f":"'Pob x Genero'!#REF!","v":{"$error":"#REF!"}},{"$f":"'Pob x Genero'!#REF!","v":{"$error":"#REF!"}},{"$f":"'Pob x Genero'!#REF!","v":{"$error":"#REF!"}},{"$f":"'Pob x Genero'!#REF!","v":{"$error":"#REF!"}},{"$f":"'Pob x Genero'!#REF!","v":{"$error":"#REF!"}},"Hombre","00-04",{"$f":"'Pob x Genero'!#REF!","v":{"$error":"#REF!"}},1508]
[{"$f":"'Pob x Genero'!#REF!","v":{"$error":"#REF!"}},{"$f":"'Pob x Genero'!#REF!","v":{"$error":"#REF!"}},{"$f":"'Pob x Genero'!#REF!","v":{"$error":"#REF!"}},{"$f":"'Pob x Genero'!#REF!","v":{"$error":"#REF!"}},{"$f":"'Pob x Genero'!#REF!","v":{"$error":"#REF!"}},"Hombre","00-04",{"$f":"'Pob x Genero'!#REF!","v":{"$error":"#REF!"}},1509]
[{"$f":"'Pob x Genero'!#REF!","v":{"$error":"#REF!"}},{"$f":"'Pob x Genero'!#REF!","v":{"$error":"#REF!"}},{"$f":"'Pob x Genero'!#REF!","v":{"$error":"#REF!"}},{"$f":"'Pob x Genero'!#REF!","v":{"$error":"#REF!"}},{"$f":"'Pob x Genero'!#REF!","v":{"$error":"#REF!"}},"Hombre","00-04",{"$f":"'Pob x Genero'!#REF!","v":{"$error":"#REF!"}},1510]
[{"$f":"'Pob x Genero'!#REF!","v":{"$error":"#REF!"}},{"$f":"'Pob x Genero'!#REF!","v":{"$error":"#REF!"}},{"$f":"'Pob x Genero'!#REF!","v":{"$error":"#REF!"}},{"$f":"'Pob x Genero'!#REF!","v":{"$error":"#REF!"}},{"$f":"'Pob x Genero'!#REF!","v":{"$error":"#REF!"}},"Hombre","00-04",{"$f":"'Pob x Genero'!#REF!","v":{"$error":"#REF!"}},1511]
[{"$f":"'Pob x Genero'!#REF!","v":{"$error":"#REF!"}},{"$f":"'Pob x Genero'!#REF!","v":{"$error":"#REF!"}},{"$f":"'Pob x Genero'!#REF!","v":{"$error":"#REF!"}},{"$f":"'Pob x Genero'!#REF!","v":{"$error":"#REF!"}},{"$f":"'Pob x Genero'!#REF!","v":{"$error":"#REF!"}},"Hombre","00-04",{"$f":"'Pob x Genero'!#REF!","v":{"$error":"#REF!"}},1512]
[{"$f":"'Pob x Genero'!#REF!","v":{"$error":"#REF!"}},{"$f":"'Pob x Genero'!#REF!","v":{"$error":"#REF!"}},{"$f":"'Pob x Genero'!#REF!","v":{"$error":"#REF!"}},{"$f":"'Pob x Genero'!#REF!","v":{"$error":"#REF!"}},{"$f":"'Pob x Genero'!#REF!","v":{"$error":"#REF!"}},"Hombre","00-04",{"$f":"'Pob x Genero'!#REF!","v":{"$error":"#REF!"}},1513]
[{"$f":"'Pob x Genero'!#REF!","v":{"$error":"#REF!"}},{"$f":"'Pob x Genero'!#REF!","v":{"$error":"#REF!"}},{"$f":"'Pob x Genero'!#REF!","v":{"$error":"#REF!"}},{"$f":"'Pob x Genero'!#REF!","v":{"$error":"#REF!"}},{"$f":"'Pob x Genero'!#REF!","v":{"$error":"#REF!"}},"Hombre","00-04",{"$f":"'Pob x Genero'!#REF!","v":{"$error":"#REF!"}},1514]
[{"$f":"'Pob x Genero'!#REF!","v":{"$error":"#REF!"}},{"$f":"'Pob x Genero'!#REF!","v":{"$error":"#REF!"}},{"$f":"'Pob x Genero'!#REF!","v":{"$error":"#REF!"}},{"$f":"'Pob x Genero'!#REF!","v":{"$error":"#REF!"}},{"$f":"'Pob x Genero'!#REF!","v":{"$error":"#REF!"}},"Hombre","00-04",{"$f":"'Pob x Genero'!#REF!","v":{"$error":"#REF!"}},1515]
[{"$f":"'Pob x Genero'!#REF!","v":{"$error":"#REF!"}},{"$f":"'Pob x Genero'!#REF!","v":{"$error":"#REF!"}},{"$f":"'Pob x Genero'!#REF!","v":{"$error":"#REF!"}},{"$f":"'Pob x Genero'!#REF!","v":{"$error":"#REF!"}},{"$f":"'Pob x Genero'!#REF!","v":{"$error":"#REF!"}},"Hombre","00-04",{"$f":"'Pob x Genero'!#REF!","v":{"$error":"#REF!"}},1516]
[{"$f":"'Pob x Genero'!#REF!","v":{"$error":"#REF!"}},{"$f":"'Pob x Genero'!#REF!","v":{"$error":"#REF!"}},{"$f":"'Pob x Genero'!#REF!","v":{"$error":"#REF!"}},{"$f":"'Pob x Genero'!#REF!","v":{"$error":"#REF!"}},{"$f":"'Pob x Genero'!#REF!","v":{"$error":"#REF!"}},"Hombre","00-04",{"$f":"'Pob x Genero'!#REF!","v":{"$error":"#REF!"}},1517]
[{"$f":"'Pob x Genero'!#REF!","v":{"$error":"#REF!"}},{"$f":"'Pob x Genero'!#REF!","v":{"$error":"#REF!"}},{"$f":"'Pob x Genero'!#REF!","v":{"$error":"#REF!"}},{"$f":"'Pob x Genero'!#REF!","v":{"$error":"#REF!"}},{"$f":"'Pob x Genero'!#REF!","v":{"$error":"#REF!"}},"Hombre","00-04",{"$f":"'Pob x Genero'!#REF!","v":{"$error":"#REF!"}},1518]
[{"$f":"'Pob x Genero'!#REF!","v":{"$error":"#REF!"}},{"$f":"'Pob x Genero'!#REF!","v":{"$error":"#REF!"}},{"$f":"'Pob x Genero'!#REF!","v":{"$error":"#REF!"}},{"$f":"'Pob x Genero'!#REF!","v":{"$error":"#REF!"}},{"$f":"'Pob x Genero'!#REF!","v":{"$error":"#REF!"}},"Hombre","00-04",{"$f":"'Pob x Genero'!#REF!","v":{"$error":"#REF!"}},1519]
[{"$f":"'Pob x Genero'!#REF!","v":{"$error":"#REF!"}},{"$f":"'Pob x Genero'!#REF!","v":{"$error":"#REF!"}},{"$f":"'Pob x Genero'!#REF!","v":{"$error":"#REF!"}},{"$f":"'Pob x Genero'!#REF!","v":{"$error":"#REF!"}},{"$f":"'Pob x Genero'!#REF!","v":{"$error":"#REF!"}},"Hombre","00-04",{"$f":"'Pob x Genero'!#REF!","v":{"$error":"#REF!"}},1520]
[{"$f":"'Pob x Genero'!#REF!","v":{"$error":"#REF!"}},{"$f":"'Pob x Genero'!#REF!","v":{"$error":"#REF!"}},{"$f":"'Pob x Genero'!#REF!","v":{"$error":"#REF!"}},{"$f":"'Pob x Genero'!#REF!","v":{"$error":"#REF!"}},{"$f":"'Pob x Genero'!#REF!","v":{"$error":"#REF!"}},"Hombre","00-04",{"$f":"'Pob x Genero'!#REF!","v":{"$error":"#REF!"}},1521]
[{"$f":"'Pob x Genero'!#REF!","v":{"$error":"#REF!"}},{"$f":"'Pob x Genero'!#REF!","v":{"$error":"#REF!"}},{"$f":"'Pob x Genero'!#REF!","v":{"$error":"#REF!"}},{"$f":"'Pob x Genero'!#REF!","v":{"$error":"#REF!"}},{"$f":"'Pob x Genero'!#REF!","v":{"$error":"#REF!"}},"Hombre","00-04",{"$f":"'Pob x Genero'!#REF!","v":{"$error":"#REF!"}},1522]
[{"$f":"'Pob x Genero'!#REF!","v":{"$error":"#REF!"}},{"$f":"'Pob x Genero'!#REF!","v":{"$error":"#REF!"}},{"$f":"'Pob x Genero'!#REF!","v":{"$error":"#REF!"}},{"$f":"'Pob x Genero'!#REF!","v":{"$error":"#REF!"}},{"$f":"'Pob x Genero'!#REF!","v":{"$error":"#REF!"}},"Hombre","00-04",{"$f":"'Pob x Genero'!#REF!","v":{"$error":"#REF!"}},1523]
[{"$f":"'Pob x Genero'!#REF!","v":{"$error":"#REF!"}},{"$f":"'Pob x Genero'!#REF!","v":{"$error":"#REF!"}},{"$f":"'Pob x Genero'!#REF!","v":{"$error":"#REF!"}},{"$f":"'Pob x Genero'!#REF!","v":{"$error":"#REF!"}},{"$f":"'Pob x Genero'!#REF!","v":{"$error":"#REF!"}},"Hombre","00-04",{"$f":"'Pob x Genero'!#REF!","v":{"$error":"#REF!"}},1524]
[{"$f":"'Pob x Genero'!#REF!","v":{"$error":"#REF!"}},{"$f":"'Pob x Genero'!#REF!","v":{"$error":"#REF!"}},{"$f":"'Pob x Genero'!#REF!","v":{"$error":"#REF!"}},{"$f":"'Pob x Genero'!#REF!","v":{"$error":"#REF!"}},{"$f":"'Pob x Genero'!#REF!","v":{"$error":"#REF!"}},"Hombre","00-04",{"$f":"'Pob x Genero'!#REF!","v":{"$error":"#REF!"}},1525]
[{"$f":"'Pob x Genero'!#REF!","v":{"$error":"#REF!"}},{"$f":"'Pob x Genero'!#REF!","v":{"$error":"#REF!"}},{"$f":"'Pob x Genero'!#REF!","v":{"$error":"#REF!"}},{"$f":"'Pob x Genero'!#REF!","v":{"$error":"#REF!"}},{"$f":"'Pob x Genero'!#REF!","v":{"$error":"#REF!"}},"Hombre","00-04",{"$f":"'Pob x Genero'!#REF!","v":{"$error":"#REF!"}},1526]
[{"$f":"'Pob x Genero'!#REF!","v":{"$error":"#REF!"}},{"$f":"'Pob x Genero'!#REF!","v":{"$error":"#REF!"}},{"$f":"'Pob x Genero'!#REF!","v":{"$error":"#REF!"}},{"$f":"'Pob x Genero'!#REF!","v":{"$error":"#REF!"}},{"$f":"'Pob x Genero'!#REF!","v":{"$error":"#REF!"}},"Hombre","00-04",{"$f":"'Pob x Genero'!#REF!","v":{"$error":"#REF!"}},1527]
[{"$f":"'Pob x Genero'!#REF!","v":{"$error":"#REF!"}},{"$f":"'Pob x Genero'!#REF!","v":{"$error":"#REF!"}},{"$f":"'Pob x Genero'!#REF!","v":{"$error":"#REF!"}},{"$f":"'Pob x Genero'!#REF!","v":{"$error":"#REF!"}},{"$f":"'Pob x Genero'!#REF!","v":{"$error":"#REF!"}},"Hombre","00-04",{"$f":"'Pob x Genero'!#REF!","v":{"$error":"#REF!"}},1528]
[{"$f":"'Pob x Genero'!#REF!","v":{"$error":"#REF!"}},{"$f":"'Pob x Genero'!#REF!","v":{"$error":"#REF!"}},{"$f":"'Pob x Genero'!#REF!","v":{"$error":"#REF!"}},{"$f":"'Pob x Genero'!#REF!","v":{"$error":"#REF!"}},{"$f":"'Pob x Genero'!#REF!","v":{"$error":"#REF!"}},"Hombre","00-04",{"$f":"'Pob x Genero'!#REF!","v":{"$error":"#REF!"}},1529]
[{"$f":"'Pob x Genero'!#REF!","v":{"$error":"#REF!"}},{"$f":"'Pob x Genero'!#REF!","v":{"$error":"#REF!"}},{"$f":"'Pob x Genero'!#REF!","v":{"$error":"#REF!"}},{"$f":"'Pob x Genero'!#REF!","v":{"$error":"#REF!"}},{"$f":"'Pob x Genero'!#REF!","v":{"$error":"#REF!"}},"Hombre","00-04",{"$f":"'Pob x Genero'!#REF!","v":{"$error":"#REF!"}},1530]
[{"$f":"'Pob x Genero'!#REF!","v":{"$error":"#REF!"}},{"$f":"'Pob x Genero'!#REF!","v":{"$error":"#REF!"}},{"$f":"'Pob x Genero'!#REF!","v":{"$error":"#REF!"}},{"$f":"'Pob x Genero'!#REF!","v":{"$error":"#REF!"}},{"$f":"'Pob x Genero'!#REF!","v":{"$error":"#REF!"}},"Hombre","00-04",{"$f":"'Pob x Genero'!#REF!","v":{"$error":"#REF!"}},1531]
[{"$f":"'Pob x Genero'!#REF!","v":{"$error":"#REF!"}},{"$f":"'Pob x Genero'!#REF!","v":{"$error":"#REF!"}},{"$f":"'Pob x Genero'!#REF!","v":{"$error":"#REF!"}},{"$f":"'Pob x Genero'!#REF!","v":{"$error":"#REF!"}},{"$f":"'Pob x Genero'!#REF!","v":{"$error":"#REF!"}},"Hombre","00-04",{"$f":"'Pob x Genero'!#REF!","v":{"$error":"#REF!"}},1532]
[{"$f":"'Pob x Genero'!#REF!","v":{"$error":"#REF!"}},{"$f":"'Pob x Genero'!#REF!","v":{"$error":"#REF!"}},{"$f":"'Pob x Genero'!#REF!","v":{"$error":"#REF!"}},{"$f":"'Pob x Genero'!#REF!","v":{"$error":"#REF!"}},{"$f":"'Pob x Genero'!#REF!","v":{"$error":"#REF!"}},"Hombre","00-04",{"$f":"'Pob x Genero'!#REF!","v":{"$error":"#REF!"}},1533]
[{"$f":"'Pob x Genero'!#REF!","v":{"$error":"#REF!"}},{"$f":"'Pob x Genero'!#REF!","v":{"$error":"#REF!"}},{"$f":"'Pob x Genero'!#REF!","v":{"$error":"#REF!"}},{"$f":"'Pob x Genero'!#REF!","v":{"$error":"#REF!"}},{"$f":"'Pob x Genero'!#REF!","v":{"$error":"#REF!"}},"Hombre","00-04",{"$f":"'Pob x Genero'!#REF!","v":{"$error":"#REF!"}},1534]
[{"$f":"'Pob x Genero'!#REF!","v":{"$error":"#REF!"}},{"$f":"'Pob x Genero'!#REF!","v":{"$error":"#REF!"}},{"$f":"'Pob x Genero'!#REF!","v":{"$error":"#REF!"}},{"$f":"'Pob x Genero'!#REF!","v":{"$error":"#REF!"}},{"$f":"'Pob x Genero'!#REF!","v":{"$error":"#REF!"}},"Hombre","00-04",{"$f":"'Pob x Genero'!#REF!","v":{"$error":"#REF!"}},1535]
[{"$f":"'Pob x Genero'!#REF!","v":{"$error":"#REF!"}},{"$f":"'Pob x Genero'!#REF!","v":{"$error":"#REF!"}},{"$f":"'Pob x Genero'!#REF!","v":{"$error":"#REF!"}},{"$f":"'Pob x Genero'!#REF!","v":{"$error":"#REF!"}},{"$f":"'Pob x Genero'!#REF!","v":{"$error":"#REF!"}},"Hombre","00-04",{"$f":"'Pob x Genero'!#REF!","v":{"$error":"#REF!"}},1536]
[{"$f":"'Pob x Genero'!#REF!","v":{"$error":"#REF!"}},{"$f":"'Pob x Genero'!#REF!","v":{"$error":"#REF!"}},{"$f":"'Pob x Genero'!#REF!","v":{"$error":"#REF!"}},{"$f":"'Pob x Genero'!#REF!","v":{"$error":"#REF!"}},{"$f":"'Pob x Genero'!#REF!","v":{"$error":"#REF!"}},"Hombre","00-04",{"$f":"'Pob x Genero'!#REF!","v":{"$error":"#REF!"}},1537]
[{"$f":"'Pob x Genero'!#REF!","v":{"$error":"#REF!"}},{"$f":"'Pob x Genero'!#REF!","v":{"$error":"#REF!"}},{"$f":"'Pob x Genero'!#REF!","v":{"$error":"#REF!"}},{"$f":"'Pob x Genero'!#REF!","v":{"$error":"#REF!"}},{"$f":"'Pob x Genero'!#REF!","v":{"$error":"#REF!"}},"Hombre","00-04",{"$f":"'Pob x Genero'!#REF!","v":{"$error":"#REF!"}},1538]
[{"$f":"'Pob x Genero'!#REF!","v":{"$error":"#REF!"}},{"$f":"'Pob x Genero'!#REF!","v":{"$error":"#REF!"}},{"$f":"'Pob x Genero'!#REF!","v":{"$error":"#REF!"}},{"$f":"'Pob x Genero'!#REF!","v":{"$error":"#REF!"}},{"$f":"'Pob x Genero'!#REF!","v":{"$error":"#REF!"}},{"$f":"F1539","v":"Hombre"},{"$f":"G1539","v":"00-04"},{"$f":"'Pob x Genero'!#REF!","v":{"$error":"#REF!"}},1539]
[{"$f":"'Pob x Genero'!#REF!","v":{"$error":"#REF!"}},{"$f":"'Pob x Genero'!#REF!","v":{"$error":"#REF!"}},{"$f":"'Pob x Genero'!#REF!","v":{"$error":"#REF!"}},{"$f":"'Pob x Genero'!#REF!","v":{"$error":"#REF!"}},{"$f":"'Pob x Genero'!#REF!","v":{"$error":"#REF!"}},"Hombre","00-04",{"$f":"'Pob x Genero'!#REF!","v":{"$error":"#REF!"}},1540]
[{"$f":"'Pob x Genero'!#REF!","v":{"$error":"#REF!"}},{"$f":"'Pob x Genero'!#REF!","v":{"$error":"#REF!"}},{"$f":"'Pob x Genero'!#REF!","v":{"$error":"#REF!"}},{"$f":"'Pob x Genero'!#REF!","v":{"$error":"#REF!"}},{"$f":"'Pob x Genero'!#REF!","v":{"$error":"#REF!"}},"Hombre","00-04",{"$f":"'Pob x Genero'!#REF!","v":{"$error":"#REF!"}},1541]
[{"$f":"'Pob x Genero'!#REF!","v":{"$error":"#REF!"}},{"$f":"'Pob x Genero'!#REF!","v":{"$error":"#REF!"}},{"$f":"'Pob x Genero'!#REF!","v":{"$error":"#REF!"}},{"$f":"'Pob x Genero'!#REF!","v":{"$error":"#REF!"}},{"$f":"'Pob x Genero'!#REF!","v":{"$error":"#REF!"}},"Hombre","00-04",{"$f":"'Pob x Genero'!#REF!","v":{"$error":"#REF!"}},1542]
[{"$f":"'Pob x Genero'!#REF!","v":{"$error":"#REF!"}},{"$f":"'Pob x Genero'!#REF!","v":{"$error":"#REF!"}},{"$f":"'Pob x Genero'!#REF!","v":{"$error":"#REF!"}},{"$f":"'Pob x Genero'!#REF!","v":{"$error":"#REF!"}},{"$f":"'Pob x Genero'!#REF!","v":{"$error":"#REF!"}},"Hombre","00-04",{"$f":"'Pob x Genero'!#REF!","v":{"$error":"#REF!"}},1543]
[{"$f":"'Pob x Genero'!#REF!","v":{"$error":"#REF!"}},{"$f":"'Pob x Genero'!#REF!","v":{"$error":"#REF!"}},{"$f":"'Pob x Genero'!#REF!","v":{"$error":"#REF!"}},{"$f":"'Pob x Genero'!#REF!","v":{"$error":"#REF!"}},{"$f":"'Pob x Genero'!#REF!","v":{"$error":"#REF!"}},"Hombre","00-04",{"$f":"'Pob x Genero'!#REF!","v":{"$error":"#REF!"}},1544]
[{"$f":"'Pob x Genero'!#REF!","v":{"$error":"#REF!"}},{"$f":"'Pob x Genero'!#REF!","v":{"$error":"#REF!"}},{"$f":"'Pob x Genero'!#REF!","v":{"$error":"#REF!"}},{"$f":"'Pob x Genero'!#REF!","v":{"$error":"#REF!"}},{"$f":"'Pob x Genero'!#REF!","v":{"$error":"#REF!"}},"Hombre","00-04",{"$f":"'Pob x Genero'!#REF!","v":{"$error":"#REF!"}},1545]
[{"$f":"'Pob x Genero'!#REF!","v":{"$error":"#REF!"}},{"$f":"'Pob x Genero'!#REF!","v":{"$error":"#REF!"}},{"$f":"'Pob x Genero'!#REF!","v":{"$error":"#REF!"}},{"$f":"'Pob x Genero'!#REF!","v":{"$error":"#REF!"}},{"$f":"'Pob x Genero'!#REF!","v":{"$error":"#REF!"}},"Hombre","00-04",{"$f":"'Pob x Genero'!#REF!","v":{"$error":"#REF!"}},1546]
[{"$f":"'Pob x Genero'!#REF!","v":{"$error":"#REF!"}},{"$f":"'Pob x Genero'!#REF!","v":{"$error":"#REF!"}},{"$f":"'Pob x Genero'!#REF!","v":{"$error":"#REF!"}},{"$f":"'Pob x Genero'!#REF!","v":{"$error":"#REF!"}},{"$f":"'Pob x Genero'!#REF!","v":{"$error":"#REF!"}},"Hombre","00-04",{"$f":"'Pob x Genero'!#REF!","v":{"$error":"#REF!"}},1547]
[{"$f":"'Pob x Genero'!#REF!","v":{"$error":"#REF!"}},{"$f":"'Pob x Genero'!#REF!","v":{"$error":"#REF!"}},{"$f":"'Pob x Genero'!#REF!","v":{"$error":"#REF!"}},{"$f":"'Pob x Genero'!#REF!","v":{"$error":"#REF!"}},{"$f":"'Pob x Genero'!#REF!","v":{"$error":"#REF!"}},"Hombre","00-04",{"$f":"'Pob x Genero'!#REF!","v":{"$error":"#REF!"}},1548]
[{"$f":"'Pob x Genero'!#REF!","v":{"$error":"#REF!"}},{"$f":"'Pob x Genero'!#REF!","v":{"$error":"#REF!"}},{"$f":"'Pob x Genero'!#REF!","v":{"$error":"#REF!"}},{"$f":"'Pob x Genero'!#REF!","v":{"$error":"#REF!"}},{"$f":"'Pob x Genero'!#REF!","v":{"$error":"#REF!"}},"Hombre","00-04",{"$f":"'Pob x Genero'!#REF!","v":{"$error":"#REF!"}},1549]
[{"$f":"'Pob x Genero'!#REF!","v":{"$error":"#REF!"}},{"$f":"'Pob x Genero'!#REF!","v":{"$error":"#REF!"}},{"$f":"'Pob x Genero'!#REF!","v":{"$error":"#REF!"}},{"$f":"'Pob x Genero'!#REF!","v":{"$error":"#REF!"}},{"$f":"'Pob x Genero'!#REF!","v":{"$error":"#REF!"}},"Hombre","00-04",{"$f":"'Pob x Genero'!#REF!","v":{"$error":"#REF!"}},1550]
[{"$f":"'Pob x Genero'!#REF!","v":{"$error":"#REF!"}},{"$f":"'Pob x Genero'!#REF!","v":{"$error":"#REF!"}},{"$f":"'Pob x Genero'!#REF!","v":{"$error":"#REF!"}},{"$f":"'Pob x Genero'!#REF!","v":{"$error":"#REF!"}},{"$f":"'Pob x Genero'!#REF!","v":{"$error":"#REF!"}},"Hombre","00-04",{"$f":"'Pob x Genero'!#REF!","v":{"$error":"#REF!"}},1551]
[{"$f":"'Pob x Genero'!#REF!","v":{"$error":"#REF!"}},{"$f":"'Pob x Genero'!#REF!","v":{"$error":"#REF!"}},{"$f":"'Pob x Genero'!#REF!","v":{"$error":"#REF!"}},{"$f":"'Pob x Genero'!#REF!","v":{"$error":"#REF!"}},{"$f":"'Pob x Genero'!#REF!","v":{"$error":"#REF!"}},"Hombre","00-04",{"$f":"'Pob x Genero'!#REF!","v":{"$error":"#REF!"}},1552]
[{"$f":"'Pob x Genero'!#REF!","v":{"$error":"#REF!"}},{"$f":"'Pob x Genero'!#REF!","v":{"$error":"#REF!"}},{"$f":"'Pob x Genero'!#REF!","v":{"$error":"#REF!"}},{"$f":"'Pob x Genero'!#REF!","v":{"$error":"#REF!"}},{"$f":"'Pob x Genero'!#REF!","v":{"$error":"#REF!"}},"Hombre","00-04",{"$f":"'Pob x Genero'!#REF!","v":{"$error":"#REF!"}},1553]
[{"$f":"'Pob x Genero'!#REF!","v":{"$error":"#REF!"}},{"$f":"'Pob x Genero'!#REF!","v":{"$error":"#REF!"}},{"$f":"'Pob x Genero'!#REF!","v":{"$error":"#REF!"}},{"$f":"'Pob x Genero'!#REF!","v":{"$error":"#REF!"}},{"$f":"'Pob x Genero'!#REF!","v":{"$error":"#REF!"}},"Hombre","00-04",{"$f":"'Pob x Genero'!#REF!","v":{"$error":"#REF!"}},1554]
[{"$f":"'Pob x Genero'!#REF!","v":{"$error":"#REF!"}},{"$f":"'Pob x Genero'!#REF!","v":{"$error":"#REF!"}},{"$f":"'Pob x Genero'!#REF!","v":{"$error":"#REF!"}},{"$f":"'Pob x Genero'!#REF!","v":{"$error":"#REF!"}},{"$f":"'Pob x Genero'!#REF!","v":{"$error":"#REF!"}},"Hombre","00-04",{"$f":"'Pob x Genero'!#REF!","v":{"$error":"#REF!"}},1555]
[{"$f":"'Pob x Genero'!#REF!","v":{"$error":"#REF!"}},{"$f":"'Pob x Genero'!#REF!","v":{"$error":"#REF!"}},{"$f":"'Pob x Genero'!#REF!","v":{"$error":"#REF!"}},{"$f":"'Pob x Genero'!#REF!","v":{"$error":"#REF!"}},{"$f":"'Pob x Genero'!#REF!","v":{"$error":"#REF!"}},"Hombre","00-04",{"$f":"'Pob x Genero'!#REF!","v":{"$error":"#REF!"}},1556]
[{"$f":"'Pob x Genero'!#REF!","v":{"$error":"#REF!"}},{"$f":"'Pob x Genero'!#REF!","v":{"$error":"#REF!"}},{"$f":"'Pob x Genero'!#REF!","v":{"$error":"#REF!"}},{"$f":"'Pob x Genero'!#REF!","v":{"$error":"#REF!"}},{"$f":"'Pob x Genero'!#REF!","v":{"$error":"#REF!"}},"Hombre","00-04",{"$f":"'Pob x Genero'!#REF!","v":{"$error":"#REF!"}},1557]
[{"$f":"'Pob x Genero'!#REF!","v":{"$error":"#REF!"}},{"$f":"'Pob x Genero'!#REF!","v":{"$error":"#REF!"}},{"$f":"'Pob x Genero'!#REF!","v":{"$error":"#REF!"}},{"$f":"'Pob x Genero'!#REF!","v":{"$error":"#REF!"}},{"$f":"'Pob x Genero'!#REF!","v":{"$error":"#REF!"}},"Hombre","00-04",{"$f":"'Pob x Genero'!#REF!","v":{"$error":"#REF!"}},1558]
[{"$f":"'Pob x Genero'!#REF!","v":{"$error":"#REF!"}},{"$f":"'Pob x Genero'!#REF!","v":{"$error":"#REF!"}},{"$f":"'Pob x Genero'!#REF!","v":{"$error":"#REF!"}},{"$f":"'Pob x Genero'!#REF!","v":{"$error":"#REF!"}},{"$f":"'Pob x Genero'!#REF!","v":{"$error":"#REF!"}},"Hombre","00-04",{"$f":"'Pob x Genero'!#REF!","v":{"$error":"#REF!"}},1559]
[{"$f":"'Pob x Genero'!#REF!","v":{"$error":"#REF!"}},{"$f":"'Pob x Genero'!#REF!","v":{"$error":"#REF!"}},{"$f":"'Pob x Genero'!#REF!","v":{"$error":"#REF!"}},{"$f":"'Pob x Genero'!#REF!","v":{"$error":"#REF!"}},{"$f":"'Pob x Genero'!#REF!","v":{"$error":"#REF!"}},"Hombre","00-04",{"$f":"'Pob x Genero'!#REF!","v":{"$error":"#REF!"}},1560]
[{"$f":"'Pob x Genero'!#REF!","v":{"$error":"#REF!"}},{"$f":"'Pob x Genero'!#REF!","v":{"$error":"#REF!"}},{"$f":"'Pob x Genero'!#REF!","v":{"$error":"#REF!"}},{"$f":"'Pob x Genero'!#REF!","v":{"$error":"#REF!"}},{"$f":"'Pob x Genero'!#REF!","v":{"$error":"#REF!"}},"Hombre","00-04",{"$f":"'Pob x Genero'!#REF!","v":{"$error":"#REF!"}},1561]
[{"$f":"'Pob x Genero'!#REF!","v":{"$error":"#REF!"}},{"$f":"'Pob x Genero'!#REF!","v":{"$error":"#REF!"}},{"$f":"'Pob x Genero'!#REF!","v":{"$error":"#REF!"}},{"$f":"'Pob x Genero'!#REF!","v":{"$error":"#REF!"}},{"$f":"'Pob x Genero'!#REF!","v":{"$error":"#REF!"}},"Hombre","00-04",{"$f":"'Pob x Genero'!#REF!","v":{"$error":"#REF!"}},1562]
[{"$f":"'Pob x Genero'!#REF!","v":{"$error":"#REF!"}},{"$f":"'Pob x Genero'!#REF!","v":{"$error":"#REF!"}},{"$f":"'Pob x Genero'!#REF!","v":{"$error":"#REF!"}},{"$f":"'Pob x Genero'!#REF!","v":{"$error":"#REF!"}},{"$f":"'Pob x Genero'!#REF!","v":{"$error":"#REF!"}},"Hombre","00-04",{"$f":"'Pob x Genero'!#REF!","v":{"$error":"#REF!"}},1563]
[{"$f":"'Pob x Genero'!#REF!","v":{"$error":"#REF!"}},{"$f":"'Pob x Genero'!#REF!","v":{"$error":"#REF!"}},{"$f":"'Pob x Genero'!#REF!","v":{"$error":"#REF!"}},{"$f":"'Pob x Genero'!#REF!","v":{"$error":"#REF!"}},{"$f":"'Pob x Genero'!#REF!","v":{"$error":"#REF!"}},"Hombre","00-04",{"$f":"'Pob x Genero'!#REF!","v":{"$error":"#REF!"}},1564]
[{"$f":"'Pob x Genero'!#REF!","v":{"$error":"#REF!"}},{"$f":"'Pob x Genero'!#REF!","v":{"$error":"#REF!"}},{"$f":"'Pob x Genero'!#REF!","v":{"$error":"#REF!"}},{"$f":"'Pob x Genero'!#REF!","v":{"$error":"#REF!"}},{"$f":"'Pob x Genero'!#REF!","v":{"$error":"#REF!"}},"Hombre","00-04",{"$f":"'Pob x Genero'!#REF!","v":{"$error":"#REF!"}},1565]
[{"$f":"'Pob x Genero'!#REF!","v":{"$error":"#REF!"}},{"$f":"'Pob x Genero'!#REF!","v":{"$error":"#REF!"}},{"$f":"'Pob x Genero'!#REF!","v":{"$error":"#REF!"}},{"$f":"'Pob x Genero'!#REF!","v":{"$error":"#REF!"}},{"$f":"'Pob x Genero'!#REF!","v":{"$error":"#REF!"}},"Hombre","00-04",{"$f":"'Pob x Genero'!#REF!","v":{"$error":"#REF!"}},1566]
[{"$f":"'Pob x Genero'!#REF!","v":{"$error":"#REF!"}},{"$f":"'Pob x Genero'!#REF!","v":{"$error":"#REF!"}},{"$f":"'Pob x Genero'!#REF!","v":{"$error":"#REF!"}},{"$f":"'Pob x Genero'!#REF!","v":{"$error":"#REF!"}},{"$f":"'Pob x Genero'!#REF!","v":{"$error":"#REF!"}},"Hombre","00-04",{"$f":"'Pob x Genero'!#REF!","v":{"$error":"#REF!"}},1567]
[{"$f":"'Pob x Genero'!#REF!","v":{"$error":"#REF!"}},{"$f":"'Pob x Genero'!#REF!","v":{"$error":"#REF!"}},{"$f":"'Pob x Genero'!#REF!","v":{"$error":"#REF!"}},{"$f":"'Pob x Genero'!#REF!","v":{"$error":"#REF!"}},{"$f":"'Pob x Genero'!#REF!","v":{"$error":"#REF!"}},"Hombre","00-04",{"$f":"'Pob x Genero'!#REF!","v":{"$error":"#REF!"}},1568]
[{"$f":"'Pob x Genero'!#REF!","v":{"$error":"#REF!"}},{"$f":"'Pob x Genero'!#REF!","v":{"$error":"#REF!"}},{"$f":"'Pob x Genero'!#REF!","v":{"$error":"#REF!"}},{"$f":"'Pob x Genero'!#REF!","v":{"$error":"#REF!"}},{"$f":"'Pob x Genero'!#REF!","v":{"$error":"#REF!"}},"Hombre","00-04",{"$f":"'Pob x Genero'!#REF!","v":{"$error":"#REF!"}},1569]
[{"$f":"'Pob x Genero'!#REF!","v":{"$error":"#REF!"}},{"$f":"'Pob x Genero'!#REF!","v":{"$error":"#REF!"}},{"$f":"'Pob x Genero'!#REF!","v":{"$error":"#REF!"}},{"$f":"'Pob x Genero'!#REF!","v":{"$error":"#REF!"}},{"$f":"'Pob x Genero'!#REF!","v":{"$error":"#REF!"}},"Hombre","00-04",{"$f":"'Pob x Genero'!#REF!","v":{"$error":"#REF!"}},1570]
[{"$f":"'Pob x Genero'!#REF!","v":{"$error":"#REF!"}},{"$f":"'Pob x Genero'!#REF!","v":{"$error":"#REF!"}},{"$f":"'Pob x Genero'!#REF!","v":{"$error":"#REF!"}},{"$f":"'Pob x Genero'!#REF!","v":{"$error":"#REF!"}},{"$f":"'Pob x Genero'!#REF!","v":{"$error":"#REF!"}},"Hombre","00-04",{"$f":"'Pob x Genero'!#REF!","v":{"$error":"#REF!"}},1571]
[{"$f":"'Pob x Genero'!#REF!","v":{"$error":"#REF!"}},{"$f":"'Pob x Genero'!#REF!","v":{"$error":"#REF!"}},{"$f":"'Pob x Genero'!#REF!","v":{"$error":"#REF!"}},{"$f":"'Pob x Genero'!#REF!","v":{"$error":"#REF!"}},{"$f":"'Pob x Genero'!#REF!","v":{"$error":"#REF!"}},"Hombre","00-04",{"$f":"'Pob x Genero'!#REF!","v":{"$error":"#REF!"}},1572]
[{"$f":"'Pob x Genero'!#REF!","v":{"$error":"#REF!"}},{"$f":"'Pob x Genero'!#REF!","v":{"$error":"#REF!"}},{"$f":"'Pob x Genero'!#REF!","v":{"$error":"#REF!"}},{"$f":"'Pob x Genero'!#REF!","v":{"$error":"#REF!"}},{"$f":"'Pob x Genero'!#REF!","v":{"$error":"#REF!"}},"Hombre","00-04",{"$f":"'Pob x Genero'!#REF!","v":{"$error":"#REF!"}},1573]
[{"$f":"'Pob x Genero'!#REF!","v":{"$error":"#REF!"}},{"$f":"'Pob x Genero'!#REF!","v":{"$error":"#REF!"}},{"$f":"'Pob x Genero'!#REF!","v":{"$error":"#REF!"}},{"$f":"'Pob x Genero'!#REF!","v":{"$error":"#REF!"}},{"$f":"'Pob x Genero'!#REF!","v":{"$error":"#REF!"}},"Hombre","00-04",{"$f":"'Pob x Genero'!#REF!","v":{"$error":"#REF!"}},1574]
[{"$f":"'Pob x Genero'!#REF!","v":{"$error":"#REF!"}},{"$f":"'Pob x Genero'!#REF!","v":{"$error":"#REF!"}},{"$f":"'Pob x Genero'!#REF!","v":{"$error":"#REF!"}},{"$f":"'Pob x Genero'!#REF!","v":{"$error":"#REF!"}},{"$f":"'Pob x Genero'!#REF!","v":{"$error":"#REF!"}},"Hombre","00-04",{"$f":"'Pob x Genero'!#REF!","v":{"$error":"#REF!"}},1575]
[{"$f":"'Pob x Genero'!#REF!","v":{"$error":"#REF!"}},{"$f":"'Pob x Genero'!#REF!","v":{"$error":"#REF!"}},{"$f":"'Pob x Genero'!#REF!","v":{"$error":"#REF!"}},{"$f":"'Pob x Genero'!#REF!","v":{"$error":"#REF!"}},{"$f":"'Pob x Genero'!#REF!","v":{"$error":"#REF!"}},"Hombre","00-04",{"$f":"'Pob x Genero'!#REF!","v":{"$error":"#REF!"}},1576]
[{"$f":"'Pob x Genero'!#REF!","v":{"$error":"#REF!"}},{"$f":"'Pob x Genero'!#REF!","v":{"$error":"#REF!"}},{"$f":"'Pob x Genero'!#REF!","v":{"$error":"#REF!"}},{"$f":"'Pob x Genero'!#REF!","v":{"$error":"#REF!"}},{"$f":"'Pob x Genero'!#REF!","v":{"$error":"#REF!"}},"Hombre","00-04",{"$f":"'Pob x Genero'!#REF!","v":{"$error":"#REF!"}},1577]
[{"$f":"'Pob x Genero'!#REF!","v":{"$error":"#REF!"}},{"$f":"'Pob x Genero'!#REF!","v":{"$error":"#REF!"}},{"$f":"'Pob x Genero'!#REF!","v":{"$error":"#REF!"}},{"$f":"'Pob x Genero'!#REF!","v":{"$error":"#REF!"}},{"$f":"'Pob x Genero'!#REF!","v":{"$error":"#REF!"}},"Hombre","00-04",{"$f":"'Pob x Genero'!#REF!","v":{"$error":"#REF!"}},1578]
[{"$f":"'Pob x Genero'!#REF!","v":{"$error":"#REF!"}},{"$f":"'Pob x Genero'!#REF!","v":{"$error":"#REF!"}},{"$f":"'Pob x Genero'!#REF!","v":{"$error":"#REF!"}},{"$f":"'Pob x Genero'!#REF!","v":{"$error":"#REF!"}},{"$f":"'Pob x Genero'!#REF!","v":{"$error":"#REF!"}},"Hombre","00-04",{"$f":"'Pob x Genero'!#REF!","v":{"$error":"#REF!"}},1579]
[{"$f":"'Pob x Genero'!#REF!","v":{"$error":"#REF!"}},{"$f":"'Pob x Genero'!#REF!","v":{"$error":"#REF!"}},{"$f":"'Pob x Genero'!#REF!","v":{"$error":"#REF!"}},{"$f":"'Pob x Genero'!#REF!","v":{"$error":"#REF!"}},{"$f":"'Pob x Genero'!#REF!","v":{"$error":"#REF!"}},"Hombre","00-04",{"$f":"'Pob x Genero'!#REF!","v":{"$error":"#REF!"}},1580]
[{"$f":"'Pob x Genero'!#REF!","v":{"$error":"#REF!"}},{"$f":"'Pob x Genero'!#REF!","v":{"$error":"#REF!"}},{"$f":"'Pob x Genero'!#REF!","v":{"$error":"#REF!"}},{"$f":"'Pob x Genero'!#REF!","v":{"$error":"#REF!"}},{"$f":"'Pob x Genero'!#REF!","v":{"$error":"#REF!"}},"Hombre","00-04",{"$f":"'Pob x Genero'!#REF!","v":{"$error":"#REF!"}},1581]
[{"$f":"'Pob x Genero'!#REF!","v":{"$error":"#REF!"}},{"$f":"'Pob x Genero'!#REF!","v":{"$error":"#REF!"}},{"$f":"'Pob x Genero'!#REF!","v":{"$error":"#REF!"}},{"$f":"'Pob x Genero'!#REF!","v":{"$error":"#REF!"}},{"$f":"'Pob x Genero'!#REF!","v":{"$error":"#REF!"}},"Hombre","00-04",{"$f":"'Pob x Genero'!#REF!","v":{"$error":"#REF!"}},1582]
[{"$f":"'Pob x Genero'!#REF!","v":{"$error":"#REF!"}},{"$f":"'Pob x Genero'!#REF!","v":{"$error":"#REF!"}},{"$f":"'Pob x Genero'!#REF!","v":{"$error":"#REF!"}},{"$f":"'Pob x Genero'!#REF!","v":{"$error":"#REF!"}},{"$f":"'Pob x Genero'!#REF!","v":{"$error":"#REF!"}},"Hombre","00-04",{"$f":"'Pob x Genero'!#REF!","v":{"$error":"#REF!"}},1583]
[{"$f":"'Pob x Genero'!#REF!","v":{"$error":"#REF!"}},{"$f":"'Pob x Genero'!#REF!","v":{"$error":"#REF!"}},{"$f":"'Pob x Genero'!#REF!","v":{"$error":"#REF!"}},{"$f":"'Pob x Genero'!#REF!","v":{"$error":"#REF!"}},{"$f":"'Pob x Genero'!#REF!","v":{"$error":"#REF!"}},"Hombre","00-04",{"$f":"'Pob x Genero'!#REF!","v":{"$error":"#REF!"}},1584]
[{"$f":"'Pob x Genero'!#REF!","v":{"$error":"#REF!"}},{"$f":"'Pob x Genero'!#REF!","v":{"$error":"#REF!"}},{"$f":"'Pob x Genero'!#REF!","v":{"$error":"#REF!"}},{"$f":"'Pob x Genero'!#REF!","v":{"$error":"#REF!"}},{"$f":"'Pob x Genero'!#REF!","v":{"$error":"#REF!"}},"Hombre","00-04",{"$f":"'Pob x Genero'!#REF!","v":{"$error":"#REF!"}},1585]
[{"$f":"'Pob x Genero'!#REF!","v":{"$error":"#REF!"}},{"$f":"'Pob x Genero'!#REF!","v":{"$error":"#REF!"}},{"$f":"'Pob x Genero'!#REF!","v":{"$error":"#REF!"}},{"$f":"'Pob x Genero'!#REF!","v":{"$error":"#REF!"}},{"$f":"'Pob x Genero'!#REF!","v":{"$error":"#REF!"}},"Hombre","00-04",{"$f":"'Pob x Genero'!#REF!","v":{"$error":"#REF!"}},1586]
[{"$f":"'Pob x Genero'!#REF!","v":{"$error":"#REF!"}},{"$f":"'Pob x Genero'!#REF!","v":{"$error":"#REF!"}},{"$f":"'Pob x Genero'!#REF!","v":{"$error":"#REF!"}},{"$f":"'Pob x Genero'!#REF!","v":{"$error":"#REF!"}},{"$f":"'Pob x Genero'!#REF!","v":{"$error":"#REF!"}},"Hombre","00-04",{"$f":"'Pob x Genero'!#REF!","v":{"$error":"#REF!"}},1587]
[{"$f":"'Pob x Genero'!#REF!","v":{"$error":"#REF!"}},{"$f":"'Pob x Genero'!#REF!","v":{"$error":"#REF!"}},{"$f":"'Pob x Genero'!#REF!","v":{"$error":"#REF!"}},{"$f":"'Pob x Genero'!#REF!","v":{"$error":"#REF!"}},{"$f":"'Pob x Genero'!#REF!","v":{"$error":"#REF!"}},"Hombre","00-04",{"$f":"'Pob x Genero'!#REF!","v":{"$error":"#REF!"}},1588]
[{"$f":"'Pob x Genero'!#REF!","v":{"$error":"#REF!"}},{"$f":"'Pob x Genero'!#REF!","v":{"$error":"#REF!"}},{"$f":"'Pob x Genero'!#REF!","v":{"$error":"#REF!"}},{"$f":"'Pob x Genero'!#REF!","v":{"$error":"#REF!"}},{"$f":"'Pob x Genero'!#REF!","v":{"$error":"#REF!"}},"Hombre","00-04",{"$f":"'Pob x Genero'!#REF!","v":{"$error":"#REF!"}},1589]
[{"$f":"'Pob x Genero'!#REF!","v":{"$error":"#REF!"}},{"$f":"'Pob x Genero'!#REF!","v":{"$error":"#REF!"}},{"$f":"'Pob x Genero'!#REF!","v":{"$error":"#REF!"}},{"$f":"'Pob x Genero'!#REF!","v":{"$error":"#REF!"}},{"$f":"'Pob x Genero'!#REF!","v":{"$error":"#REF!"}},"Hombre","00-04",{"$f":"'Pob x Genero'!#REF!","v":{"$error":"#REF!"}},1590]
[{"$f":"'Pob x Genero'!#REF!","v":{"$error":"#REF!"}},{"$f":"'Pob x Genero'!#REF!","v":{"$error":"#REF!"}},{"$f":"'Pob x Genero'!#REF!","v":{"$error":"#REF!"}},{"$f":"'Pob x Genero'!#REF!","v":{"$error":"#REF!"}},{"$f":"'Pob x Genero'!#REF!","v":{"$error":"#REF!"}},"Hombre","00-04",{"$f":"'Pob x Genero'!#REF!","v":{"$error":"#REF!"}},1591]
[{"$f":"'Pob x Genero'!#REF!","v":{"$error":"#REF!"}},{"$f":"'Pob x Genero'!#REF!","v":{"$error":"#REF!"}},{"$f":"'Pob x Genero'!#REF!","v":{"$error":"#REF!"}},{"$f":"'Pob x Genero'!#REF!","v":{"$error":"#REF!"}},{"$f":"'Pob x Genero'!#REF!","v":{"$error":"#REF!"}},"Hombre","00-04",{"$f":"'Pob x Genero'!#REF!","v":{"$error":"#REF!"}},1592]
[{"$f":"'Pob x Genero'!#REF!","v":{"$error":"#REF!"}},{"$f":"'Pob x Genero'!#REF!","v":{"$error":"#REF!"}},{"$f":"'Pob x Genero'!#REF!","v":{"$error":"#REF!"}},{"$f":"'Pob x Genero'!#REF!","v":{"$error":"#REF!"}},{"$f":"'Pob x Genero'!#REF!","v":{"$error":"#REF!"}},"Hombre","00-04",{"$f":"'Pob x Genero'!#REF!","v":{"$error":"#REF!"}},1593]
[{"$f":"'Pob x Genero'!#REF!","v":{"$error":"#REF!"}},{"$f":"'Pob x Genero'!#REF!","v":{"$error":"#REF!"}},{"$f":"'Pob x Genero'!#REF!","v":{"$error":"#REF!"}},{"$f":"'Pob x Genero'!#REF!","v":{"$error":"#REF!"}},{"$f":"'Pob x Genero'!#REF!","v":{"$error":"#REF!"}},"Hombre","00-04",{"$f":"'Pob x Genero'!#REF!","v":{"$error":"#REF!"}},1594]
[{"$f":"'Pob x Genero'!#REF!","v":{"$error":"#REF!"}},{"$f":"'Pob x Genero'!#REF!","v":{"$error":"#REF!"}},{"$f":"'Pob x Genero'!#REF!","v":{"$error":"#REF!"}},{"$f":"'Pob x Genero'!#REF!","v":{"$error":"#REF!"}},{"$f":"'Pob x Genero'!#REF!","v":{"$error":"#REF!"}},"Hombre","00-04",{"$f":"'Pob x Genero'!#REF!","v":{"$error":"#REF!"}},1595]
[{"$f":"'Pob x Genero'!#REF!","v":{"$error":"#REF!"}},{"$f":"'Pob x Genero'!#REF!","v":{"$error":"#REF!"}},{"$f":"'Pob x Genero'!#REF!","v":{"$error":"#REF!"}},{"$f":"'Pob x Genero'!#REF!","v":{"$error":"#REF!"}},{"$f":"'Pob x Genero'!#REF!","v":{"$error":"#REF!"}},"Hombre","00-04",{"$f":"'Pob x Genero'!#REF!","v":{"$error":"#REF!"}},1596]
[{"$f":"'Pob x Genero'!#REF!","v":{"$error":"#REF!"}},{"$f":"'Pob x Genero'!#REF!","v":{"$error":"#REF!"}},{"$f":"'Pob x Genero'!#REF!","v":{"$error":"#REF!"}},{"$f":"'Pob x Genero'!#REF!","v":{"$error":"#REF!"}},{"$f":"'Pob x Genero'!#REF!","v":{"$error":"#REF!"}},"Hombre","00-04",{"$f":"'Pob x Genero'!#REF!","v":{"$error":"#REF!"}},1597]
[{"$f":"'Pob x Genero'!#REF!","v":{"$error":"#REF!"}},{"$f":"'Pob x Genero'!#REF!","v":{"$error":"#REF!"}},{"$f":"'Pob x Genero'!#REF!","v":{"$error":"#REF!"}},{"$f":"'Pob x Genero'!#REF!","v":{"$error":"#REF!"}},{"$f":"'Pob x Genero'!#REF!","v":{"$error":"#REF!"}},"Hombre","00-04",{"$f":"'Pob x Genero'!#REF!","v":{"$error":"#REF!"}},1598]
[{"$f":"'Pob x Genero'!#REF!","v":{"$error":"#REF!"}},{"$f":"'Pob x Genero'!#REF!","v":{"$error":"#REF!"}},{"$f":"'Pob x Genero'!#REF!","v":{"$error":"#REF!"}},{"$f":"'Pob x Genero'!#REF!","v":{"$error":"#REF!"}},{"$f":"'Pob x Genero'!#REF!","v":{"$error":"#REF!"}},"Hombre","00-04",{"$f":"'Pob x Genero'!#REF!","v":{"$error":"#REF!"}},1599]
[{"$f":"'Pob x Genero'!#REF!","v":{"$error":"#REF!"}},{"$f":"'Pob x Genero'!#REF!","v":{"$error":"#REF!"}},{"$f":"'Pob x Genero'!#REF!","v":{"$error":"#REF!"}},{"$f":"'Pob x Genero'!#REF!","v":{"$error":"#REF!"}},{"$f":"'Pob x Genero'!#REF!","v":{"$error":"#REF!"}},"Hombre","00-04",{"$f":"'Pob x Genero'!#REF!","v":{"$error":"#REF!"}},1600]
[{"$f":"'Pob x Genero'!#REF!","v":{"$error":"#REF!"}},{"$f":"'Pob x Genero'!#REF!","v":{"$error":"#REF!"}},{"$f":"'Pob x Genero'!#REF!","v":{"$error":"#REF!"}},{"$f":"'Pob x Genero'!#REF!","v":{"$error":"#REF!"}},{"$f":"'Pob x Genero'!#REF!","v":{"$error":"#REF!"}},"Hombre","00-04",{"$f":"'Pob x Genero'!#REF!","v":{"$error":"#REF!"}},1601]
[{"$f":"'Pob x Genero'!#REF!","v":{"$error":"#REF!"}},{"$f":"'Pob x Genero'!#REF!","v":{"$error":"#REF!"}},{"$f":"'Pob x Genero'!#REF!","v":{"$error":"#REF!"}},{"$f":"'Pob x Genero'!#REF!","v":{"$error":"#REF!"}},{"$f":"'Pob x Genero'!#REF!","v":{"$error":"#REF!"}},"Hombre","00-04",{"$f":"'Pob x Genero'!#REF!","v":{"$error":"#REF!"}},1602]
[{"$f":"'Pob x Genero'!#REF!","v":{"$error":"#REF!"}},{"$f":"'Pob x Genero'!#REF!","v":{"$error":"#REF!"}},{"$f":"'Pob x Genero'!#REF!","v":{"$error":"#REF!"}},{"$f":"'Pob x Genero'!#REF!","v":{"$error":"#REF!"}},{"$f":"'Pob x Genero'!#REF!","v":{"$error":"#REF!"}},{"$f":"F1603","v":"Hombre"},{"$f":"G1603","v":"00-04"},{"$f":"'Pob x Genero'!#REF!","v":{"$error":"#REF!"}},1603]
[{"$f":"'Pob x Genero'!#REF!","v":{"$error":"#REF!"}},{"$f":"'Pob x Genero'!#REF!","v":{"$error":"#REF!"}},{"$f":"'Pob x Genero'!#REF!","v":{"$error":"#REF!"}},{"$f":"'Pob x Genero'!#REF!","v":{"$error":"#REF!"}},{"$f":"'Pob x Genero'!#REF!","v":{"$error":"#REF!"}},"Hombre","00-04",{"$f":"'Pob x Genero'!#REF!","v":{"$error":"#REF!"}},1604]
[{"$f":"'Pob x Genero'!#REF!","v":{"$error":"#REF!"}},{"$f":"'Pob x Genero'!#REF!","v":{"$error":"#REF!"}},{"$f":"'Pob x Genero'!#REF!","v":{"$error":"#REF!"}},{"$f":"'Pob x Genero'!#REF!","v":{"$error":"#REF!"}},{"$f":"'Pob x Genero'!#REF!","v":{"$error":"#REF!"}},"Hombre","00-04",{"$f":"'Pob x Genero'!#REF!","v":{"$error":"#REF!"}},1605]
[{"$f":"'Pob x Genero'!#REF!","v":{"$error":"#REF!"}},{"$f":"'Pob x Genero'!#REF!","v":{"$error":"#REF!"}},{"$f":"'Pob x Genero'!#REF!","v":{"$error":"#REF!"}},{"$f":"'Pob x Genero'!#REF!","v":{"$error":"#REF!"}},{"$f":"'Pob x Genero'!#REF!","v":{"$error":"#REF!"}},"Hombre","00-04",{"$f":"'Pob x Genero'!#REF!","v":{"$error":"#REF!"}},1606]
[{"$f":"'Pob x Genero'!#REF!","v":{"$error":"#REF!"}},{"$f":"'Pob x Genero'!#REF!","v":{"$error":"#REF!"}},{"$f":"'Pob x Genero'!#REF!","v":{"$error":"#REF!"}},{"$f":"'Pob x Genero'!#REF!","v":{"$error":"#REF!"}},{"$f":"'Pob x Genero'!#REF!","v":{"$error":"#REF!"}},"Hombre","00-04",{"$f":"'Pob x Genero'!#REF!","v":{"$error":"#REF!"}},1607]
[{"$f":"'Pob x Genero'!#REF!","v":{"$error":"#REF!"}},{"$f":"'Pob x Genero'!#REF!","v":{"$error":"#REF!"}},{"$f":"'Pob x Genero'!#REF!","v":{"$error":"#REF!"}},{"$f":"'Pob x Genero'!#REF!","v":{"$error":"#REF!"}},{"$f":"'Pob x Genero'!#REF!","v":{"$error":"#REF!"}},"Hombre","00-04",{"$f":"'Pob x Genero'!#REF!","v":{"$error":"#REF!"}},1608]
[{"$f":"'Pob x Genero'!#REF!","v":{"$error":"#REF!"}},{"$f":"'Pob x Genero'!#REF!","v":{"$error":"#REF!"}},{"$f":"'Pob x Genero'!#REF!","v":{"$error":"#REF!"}},{"$f":"'Pob x Genero'!#REF!","v":{"$error":"#REF!"}},{"$f":"'Pob x Genero'!#REF!","v":{"$error":"#REF!"}},"Hombre","00-04",{"$f":"'Pob x Genero'!#REF!","v":{"$error":"#REF!"}},1609]
[{"$f":"'Pob x Genero'!#REF!","v":{"$error":"#REF!"}},{"$f":"'Pob x Genero'!#REF!","v":{"$error":"#REF!"}},{"$f":"'Pob x Genero'!#REF!","v":{"$error":"#REF!"}},{"$f":"'Pob x Genero'!#REF!","v":{"$error":"#REF!"}},{"$f":"'Pob x Genero'!#REF!","v":{"$error":"#REF!"}},"Hombre","00-04",{"$f":"'Pob x Genero'!#REF!","v":{"$error":"#REF!"}},1610]
[{"$f":"'Pob x Genero'!#REF!","v":{"$error":"#REF!"}},{"$f":"'Pob x Genero'!#REF!","v":{"$error":"#REF!"}},{"$f":"'Pob x Genero'!#REF!","v":{"$error":"#REF!"}},{"$f":"'Pob x Genero'!#REF!","v":{"$error":"#REF!"}},{"$f":"'Pob x Genero'!#REF!","v":{"$error":"#REF!"}},"Hombre","00-04",{"$f":"'Pob x Genero'!#REF!","v":{"$error":"#REF!"}},1611]
[{"$f":"'Pob x Genero'!#REF!","v":{"$error":"#REF!"}},{"$f":"'Pob x Genero'!#REF!","v":{"$error":"#REF!"}},{"$f":"'Pob x Genero'!#REF!","v":{"$error":"#REF!"}},{"$f":"'Pob x Genero'!#REF!","v":{"$error":"#REF!"}},{"$f":"'Pob x Genero'!#REF!","v":{"$error":"#REF!"}},"Hombre","00-04",{"$f":"'Pob x Genero'!#REF!","v":{"$error":"#REF!"}},1612]
[{"$f":"'Pob x Genero'!#REF!","v":{"$error":"#REF!"}},{"$f":"'Pob x Genero'!#REF!","v":{"$error":"#REF!"}},{"$f":"'Pob x Genero'!#REF!","v":{"$error":"#REF!"}},{"$f":"'Pob x Genero'!#REF!","v":{"$error":"#REF!"}},{"$f":"'Pob x Genero'!#REF!","v":{"$error":"#REF!"}},"Hombre","00-04",{"$f":"'Pob x Genero'!#REF!","v":{"$error":"#REF!"}},1613]
[{"$f":"'Pob x Genero'!#REF!","v":{"$error":"#REF!"}},{"$f":"'Pob x Genero'!#REF!","v":{"$error":"#REF!"}},{"$f":"'Pob x Genero'!#REF!","v":{"$error":"#REF!"}},{"$f":"'Pob x Genero'!#REF!","v":{"$error":"#REF!"}},{"$f":"'Pob x Genero'!#REF!","v":{"$error":"#REF!"}},"Hombre","00-04",{"$f":"'Pob x Genero'!#REF!","v":{"$error":"#REF!"}},1614]
[{"$f":"'Pob x Genero'!#REF!","v":{"$error":"#REF!"}},{"$f":"'Pob x Genero'!#REF!","v":{"$error":"#REF!"}},{"$f":"'Pob x Genero'!#REF!","v":{"$error":"#REF!"}},{"$f":"'Pob x Genero'!#REF!","v":{"$error":"#REF!"}},{"$f":"'Pob x Genero'!#REF!","v":{"$error":"#REF!"}},"Hombre","00-04",{"$f":"'Pob x Genero'!#REF!","v":{"$error":"#REF!"}},1615]
[{"$f":"'Pob x Genero'!#REF!","v":{"$error":"#REF!"}},{"$f":"'Pob x Genero'!#REF!","v":{"$error":"#REF!"}},{"$f":"'Pob x Genero'!#REF!","v":{"$error":"#REF!"}},{"$f":"'Pob x Genero'!#REF!","v":{"$error":"#REF!"}},{"$f":"'Pob x Genero'!#REF!","v":{"$error":"#REF!"}},"Hombre","00-04",{"$f":"'Pob x Genero'!#REF!","v":{"$error":"#REF!"}},1616]
[{"$f":"'Pob x Genero'!#REF!","v":{"$error":"#REF!"}},{"$f":"'Pob x Genero'!#REF!","v":{"$error":"#REF!"}},{"$f":"'Pob x Genero'!#REF!","v":{"$error":"#REF!"}},{"$f":"'Pob x Genero'!#REF!","v":{"$error":"#REF!"}},{"$f":"'Pob x Genero'!#REF!","v":{"$error":"#REF!"}},"Hombre","00-04",{"$f":"'Pob x Genero'!#REF!","v":{"$error":"#REF!"}},1617]
[{"$f":"'Pob x Genero'!#REF!","v":{"$error":"#REF!"}},{"$f":"'Pob x Genero'!#REF!","v":{"$error":"#REF!"}},{"$f":"'Pob x Genero'!#REF!","v":{"$error":"#REF!"}},{"$f":"'Pob x Genero'!#REF!","v":{"$error":"#REF!"}},{"$f":"'Pob x Genero'!#REF!","v":{"$error":"#REF!"}},"Hombre","00-04",{"$f":"'Pob x Genero'!#REF!","v":{"$error":"#REF!"}},1618]
[{"$f":"'Pob x Genero'!#REF!","v":{"$error":"#REF!"}},{"$f":"'Pob x Genero'!#REF!","v":{"$error":"#REF!"}},{"$f":"'Pob x Genero'!#REF!","v":{"$error":"#REF!"}},{"$f":"'Pob x Genero'!#REF!","v":{"$error":"#REF!"}},{"$f":"'Pob x Genero'!#REF!","v":{"$error":"#REF!"}},"Hombre","00-04",{"$f":"'Pob x Genero'!#REF!","v":{"$error":"#REF!"}},1619]
[{"$f":"'Pob x Genero'!#REF!","v":{"$error":"#REF!"}},{"$f":"'Pob x Genero'!#REF!","v":{"$error":"#REF!"}},{"$f":"'Pob x Genero'!#REF!","v":{"$error":"#REF!"}},{"$f":"'Pob x Genero'!#REF!","v":{"$error":"#REF!"}},{"$f":"'Pob x Genero'!#REF!","v":{"$error":"#REF!"}},"Hombre","00-04",{"$f":"'Pob x Genero'!#REF!","v":{"$error":"#REF!"}},1620]
[{"$f":"'Pob x Genero'!#REF!","v":{"$error":"#REF!"}},{"$f":"'Pob x Genero'!#REF!","v":{"$error":"#REF!"}},{"$f":"'Pob x Genero'!#REF!","v":{"$error":"#REF!"}},{"$f":"'Pob x Genero'!#REF!","v":{"$error":"#REF!"}},{"$f":"'Pob x Genero'!#REF!","v":{"$error":"#REF!"}},"Hombre","00-04",{"$f":"'Pob x Genero'!#REF!","v":{"$error":"#REF!"}},1621]
[{"$f":"'Pob x Genero'!#REF!","v":{"$error":"#REF!"}},{"$f":"'Pob x Genero'!#REF!","v":{"$error":"#REF!"}},{"$f":"'Pob x Genero'!#REF!","v":{"$error":"#REF!"}},{"$f":"'Pob x Genero'!#REF!","v":{"$error":"#REF!"}},{"$f":"'Pob x Genero'!#REF!","v":{"$error":"#REF!"}},"Hombre","00-04",{"$f":"'Pob x Genero'!#REF!","v":{"$error":"#REF!"}},1622]
[{"$f":"'Pob x Genero'!#REF!","v":{"$error":"#REF!"}},{"$f":"'Pob x Genero'!#REF!","v":{"$error":"#REF!"}},{"$f":"'Pob x Genero'!#REF!","v":{"$error":"#REF!"}},{"$f":"'Pob x Genero'!#REF!","v":{"$error":"#REF!"}},{"$f":"'Pob x Genero'!#REF!","v":{"$error":"#REF!"}},"Hombre","00-04",{"$f":"'Pob x Genero'!#REF!","v":{"$error":"#REF!"}},1623]
[{"$f":"'Pob x Genero'!#REF!","v":{"$error":"#REF!"}},{"$f":"'Pob x Genero'!#REF!","v":{"$error":"#REF!"}},{"$f":"'Pob x Genero'!#REF!","v":{"$error":"#REF!"}},{"$f":"'Pob x Genero'!#REF!","v":{"$error":"#REF!"}},{"$f":"'Pob x Genero'!#REF!","v":{"$error":"#REF!"}},"Hombre","00-04",{"$f":"'Pob x Genero'!#REF!","v":{"$error":"#REF!"}},1624]
[{"$f":"'Pob x Genero'!#REF!","v":{"$error":"#REF!"}},{"$f":"'Pob x Genero'!#REF!","v":{"$error":"#REF!"}},{"$f":"'Pob x Genero'!#REF!","v":{"$error":"#REF!"}},{"$f":"'Pob x Genero'!#REF!","v":{"$error":"#REF!"}},{"$f":"'Pob x Genero'!#REF!","v":{"$error":"#REF!"}},"Hombre","00-04",{"$f":"'Pob x Genero'!#REF!","v":{"$error":"#REF!"}},1625]
[{"$f":"'Pob x Genero'!#REF!","v":{"$error":"#REF!"}},{"$f":"'Pob x Genero'!#REF!","v":{"$error":"#REF!"}},{"$f":"'Pob x Genero'!#REF!","v":{"$error":"#REF!"}},{"$f":"'Pob x Genero'!#REF!","v":{"$error":"#REF!"}},{"$f":"'Pob x Genero'!#REF!","v":{"$error":"#REF!"}},"Hombre","00-04",{"$f":"'Pob x Genero'!#REF!","v":{"$error":"#REF!"}},1626]
[{"$f":"'Pob x Genero'!#REF!","v":{"$error":"#REF!"}},{"$f":"'Pob x Genero'!#REF!","v":{"$error":"#REF!"}},{"$f":"'Pob x Genero'!#REF!","v":{"$error":"#REF!"}},{"$f":"'Pob x Genero'!#REF!","v":{"$error":"#REF!"}},{"$f":"'Pob x Genero'!#REF!","v":{"$error":"#REF!"}},"Hombre","00-04",{"$f":"'Pob x Genero'!#REF!","v":{"$error":"#REF!"}},1627]
[{"$f":"'Pob x Genero'!#REF!","v":{"$error":"#REF!"}},{"$f":"'Pob x Genero'!#REF!","v":{"$error":"#REF!"}},{"$f":"'Pob x Genero'!#REF!","v":{"$error":"#REF!"}},{"$f":"'Pob x Genero'!#REF!","v":{"$error":"#REF!"}},{"$f":"'Pob x Genero'!#REF!","v":{"$error":"#REF!"}},"Hombre","00-04",{"$f":"'Pob x Genero'!#REF!","v":{"$error":"#REF!"}},1628]
[{"$f":"'Pob x Genero'!#REF!","v":{"$error":"#REF!"}},{"$f":"'Pob x Genero'!#REF!","v":{"$error":"#REF!"}},{"$f":"'Pob x Genero'!#REF!","v":{"$error":"#REF!"}},{"$f":"'Pob x Genero'!#REF!","v":{"$error":"#REF!"}},{"$f":"'Pob x Genero'!#REF!","v":{"$error":"#REF!"}},"Hombre","00-04",{"$f":"'Pob x Genero'!#REF!","v":{"$error":"#REF!"}},1629]
[{"$f":"'Pob x Genero'!#REF!","v":{"$error":"#REF!"}},{"$f":"'Pob x Genero'!#REF!","v":{"$error":"#REF!"}},{"$f":"'Pob x Genero'!#REF!","v":{"$error":"#REF!"}},{"$f":"'Pob x Genero'!#REF!","v":{"$error":"#REF!"}},{"$f":"'Pob x Genero'!#REF!","v":{"$error":"#REF!"}},"Hombre","00-04",{"$f":"'Pob x Genero'!#REF!","v":{"$error":"#REF!"}},1630]
[{"$f":"'Pob x Genero'!#REF!","v":{"$error":"#REF!"}},{"$f":"'Pob x Genero'!#REF!","v":{"$error":"#REF!"}},{"$f":"'Pob x Genero'!#REF!","v":{"$error":"#REF!"}},{"$f":"'Pob x Genero'!#REF!","v":{"$error":"#REF!"}},{"$f":"'Pob x Genero'!#REF!","v":{"$error":"#REF!"}},"Hombre","00-04",{"$f":"'Pob x Genero'!#REF!","v":{"$error":"#REF!"}},1631]
[{"$f":"'Pob x Genero'!#REF!","v":{"$error":"#REF!"}},{"$f":"'Pob x Genero'!#REF!","v":{"$error":"#REF!"}},{"$f":"'Pob x Genero'!#REF!","v":{"$error":"#REF!"}},{"$f":"'Pob x Genero'!#REF!","v":{"$error":"#REF!"}},{"$f":"'Pob x Genero'!#REF!","v":{"$error":"#REF!"}},"Hombre","00-04",{"$f":"'Pob x Genero'!#REF!","v":{"$error":"#REF!"}},1632]
[{"$f":"'Pob x Genero'!#REF!","v":{"$error":"#REF!"}},{"$f":"'Pob x Genero'!#REF!","v":{"$error":"#REF!"}},{"$f":"'Pob x Genero'!#REF!","v":{"$error":"#REF!"}},{"$f":"'Pob x Genero'!#REF!","v":{"$error":"#REF!"}},{"$f":"'Pob x Genero'!#REF!","v":{"$error":"#REF!"}},"Hombre","00-04",{"$f":"'Pob x Genero'!#REF!","v":{"$error":"#REF!"}},1633]
[{"$f":"'Pob x Genero'!#REF!","v":{"$error":"#REF!"}},{"$f":"'Pob x Genero'!#REF!","v":{"$error":"#REF!"}},{"$f":"'Pob x Genero'!#REF!","v":{"$error":"#REF!"}},{"$f":"'Pob x Genero'!#REF!","v":{"$error":"#REF!"}},{"$f":"'Pob x Genero'!#REF!","v":{"$error":"#REF!"}},"Hombre","00-04",{"$f":"'Pob x Genero'!#REF!","v":{"$error":"#REF!"}},1634]
[{"$f":"'Pob x Genero'!#REF!","v":{"$error":"#REF!"}},{"$f":"'Pob x Genero'!#REF!","v":{"$error":"#REF!"}},{"$f":"'Pob x Genero'!#REF!","v":{"$error":"#REF!"}},{"$f":"'Pob x Genero'!#REF!","v":{"$error":"#REF!"}},{"$f":"'Pob x Genero'!#REF!","v":{"$error":"#REF!"}},"Hombre","00-04",{"$f":"'Pob x Genero'!#REF!","v":{"$error":"#REF!"}},1635]
[{"$f":"'Pob x Genero'!#REF!","v":{"$error":"#REF!"}},{"$f":"'Pob x Genero'!#REF!","v":{"$error":"#REF!"}},{"$f":"'Pob x Genero'!#REF!","v":{"$error":"#REF!"}},{"$f":"'Pob x Genero'!#REF!","v":{"$error":"#REF!"}},{"$f":"'Pob x Genero'!#REF!","v":{"$error":"#REF!"}},"Hombre","00-04",{"$f":"'Pob x Genero'!#REF!","v":{"$error":"#REF!"}},1636]
[{"$f":"'Pob x Genero'!#REF!","v":{"$error":"#REF!"}},{"$f":"'Pob x Genero'!#REF!","v":{"$error":"#REF!"}},{"$f":"'Pob x Genero'!#REF!","v":{"$error":"#REF!"}},{"$f":"'Pob x Genero'!#REF!","v":{"$error":"#REF!"}},{"$f":"'Pob x Genero'!#REF!","v":{"$error":"#REF!"}},"Hombre","00-04",{"$f":"'Pob x Genero'!#REF!","v":{"$error":"#REF!"}},1637]
[{"$f":"'Pob x Genero'!#REF!","v":{"$error":"#REF!"}},{"$f":"'Pob x Genero'!#REF!","v":{"$error":"#REF!"}},{"$f":"'Pob x Genero'!#REF!","v":{"$error":"#REF!"}},{"$f":"'Pob x Genero'!#REF!","v":{"$error":"#REF!"}},{"$f":"'Pob x Genero'!#REF!","v":{"$error":"#REF!"}},"Hombre","00-04",{"$f":"'Pob x Genero'!#REF!","v":{"$error":"#REF!"}},1638]
[{"$f":"'Pob x Genero'!#REF!","v":{"$error":"#REF!"}},{"$f":"'Pob x Genero'!#REF!","v":{"$error":"#REF!"}},{"$f":"'Pob x Genero'!#REF!","v":{"$error":"#REF!"}},{"$f":"'Pob x Genero'!#REF!","v":{"$error":"#REF!"}},{"$f":"'Pob x Genero'!#REF!","v":{"$error":"#REF!"}},"Hombre","00-04",{"$f":"'Pob x Genero'!#REF!","v":{"$error":"#REF!"}},1639]
[{"$f":"'Pob x Genero'!#REF!","v":{"$error":"#REF!"}},{"$f":"'Pob x Genero'!#REF!","v":{"$error":"#REF!"}},{"$f":"'Pob x Genero'!#REF!","v":{"$error":"#REF!"}},{"$f":"'Pob x Genero'!#REF!","v":{"$error":"#REF!"}},{"$f":"'Pob x Genero'!#REF!","v":{"$error":"#REF!"}},"Hombre","00-04",{"$f":"'Pob x Genero'!#REF!","v":{"$error":"#REF!"}},1640]
[{"$f":"'Pob x Genero'!#REF!","v":{"$error":"#REF!"}},{"$f":"'Pob x Genero'!#REF!","v":{"$error":"#REF!"}},{"$f":"'Pob x Genero'!#REF!","v":{"$error":"#REF!"}},{"$f":"'Pob x Genero'!#REF!","v":{"$error":"#REF!"}},{"$f":"'Pob x Genero'!#REF!","v":{"$error":"#REF!"}},"Hombre","00-04",{"$f":"'Pob x Genero'!#REF!","v":{"$error":"#REF!"}},1641]
[{"$f":"'Pob x Genero'!#REF!","v":{"$error":"#REF!"}},{"$f":"'Pob x Genero'!#REF!","v":{"$error":"#REF!"}},{"$f":"'Pob x Genero'!#REF!","v":{"$error":"#REF!"}},{"$f":"'Pob x Genero'!#REF!","v":{"$error":"#REF!"}},{"$f":"'Pob x Genero'!#REF!","v":{"$error":"#REF!"}},"Hombre","00-04",{"$f":"'Pob x Genero'!#REF!","v":{"$error":"#REF!"}},1642]
[{"$f":"'Pob x Genero'!#REF!","v":{"$error":"#REF!"}},{"$f":"'Pob x Genero'!#REF!","v":{"$error":"#REF!"}},{"$f":"'Pob x Genero'!#REF!","v":{"$error":"#REF!"}},{"$f":"'Pob x Genero'!#REF!","v":{"$error":"#REF!"}},{"$f":"'Pob x Genero'!#REF!","v":{"$error":"#REF!"}},"Hombre","00-04",{"$f":"'Pob x Genero'!#REF!","v":{"$error":"#REF!"}},1643]
[{"$f":"'Pob x Genero'!#REF!","v":{"$error":"#REF!"}},{"$f":"'Pob x Genero'!#REF!","v":{"$error":"#REF!"}},{"$f":"'Pob x Genero'!#REF!","v":{"$error":"#REF!"}},{"$f":"'Pob x Genero'!#REF!","v":{"$error":"#REF!"}},{"$f":"'Pob x Genero'!#REF!","v":{"$error":"#REF!"}},"Hombre","00-04",{"$f":"'Pob x Genero'!#REF!","v":{"$error":"#REF!"}},1644]
[{"$f":"'Pob x Genero'!#REF!","v":{"$error":"#REF!"}},{"$f":"'Pob x Genero'!#REF!","v":{"$error":"#REF!"}},{"$f":"'Pob x Genero'!#REF!","v":{"$error":"#REF!"}},{"$f":"'Pob x Genero'!#REF!","v":{"$error":"#REF!"}},{"$f":"'Pob x Genero'!#REF!","v":{"$error":"#REF!"}},"Hombre","00-04",{"$f":"'Pob x Genero'!#REF!","v":{"$error":"#REF!"}},1645]
[{"$f":"'Pob x Genero'!#REF!","v":{"$error":"#REF!"}},{"$f":"'Pob x Genero'!#REF!","v":{"$error":"#REF!"}},{"$f":"'Pob x Genero'!#REF!","v":{"$error":"#REF!"}},{"$f":"'Pob x Genero'!#REF!","v":{"$error":"#REF!"}},{"$f":"'Pob x Genero'!#REF!","v":{"$error":"#REF!"}},"Hombre","00-04",{"$f":"'Pob x Genero'!#REF!","v":{"$error":"#REF!"}},1646]
[{"$f":"'Pob x Genero'!#REF!","v":{"$error":"#REF!"}},{"$f":"'Pob x Genero'!#REF!","v":{"$error":"#REF!"}},{"$f":"'Pob x Genero'!#REF!","v":{"$error":"#REF!"}},{"$f":"'Pob x Genero'!#REF!","v":{"$error":"#REF!"}},{"$f":"'Pob x Genero'!#REF!","v":{"$error":"#REF!"}},"Hombre","00-04",{"$f":"'Pob x Genero'!#REF!","v":{"$error":"#REF!"}},1647]
[{"$f":"'Pob x Genero'!#REF!","v":{"$error":"#REF!"}},{"$f":"'Pob x Genero'!#REF!","v":{"$error":"#REF!"}},{"$f":"'Pob x Genero'!#REF!","v":{"$error":"#REF!"}},{"$f":"'Pob x Genero'!#REF!","v":{"$error":"#REF!"}},{"$f":"'Pob x Genero'!#REF!","v":{"$error":"#REF!"}},"Hombre","00-04",{"$f":"'Pob x Genero'!#REF!","v":{"$error":"#REF!"}},1648]
[{"$f":"'Pob x Genero'!#REF!","v":{"$error":"#REF!"}},{"$f":"'Pob x Genero'!#REF!","v":{"$error":"#REF!"}},{"$f":"'Pob x Genero'!#REF!","v":{"$error":"#REF!"}},{"$f":"'Pob x Genero'!#REF!","v":{"$error":"#REF!"}},{"$f":"'Pob x Genero'!#REF!","v":{"$error":"#REF!"}},"Hombre","00-04",{"$f":"'Pob x Genero'!#REF!","v":{"$error":"#REF!"}},1649]
[{"$f":"'Pob x Genero'!#REF!","v":{"$error":"#REF!"}},{"$f":"'Pob x Genero'!#REF!","v":{"$error":"#REF!"}},{"$f":"'Pob x Genero'!#REF!","v":{"$error":"#REF!"}},{"$f":"'Pob x Genero'!#REF!","v":{"$error":"#REF!"}},{"$f":"'Pob x Genero'!#REF!","v":{"$error":"#REF!"}},"Hombre","00-04",{"$f":"'Pob x Genero'!#REF!","v":{"$error":"#REF!"}},1650]
[{"$f":"'Pob x Genero'!#REF!","v":{"$error":"#REF!"}},{"$f":"'Pob x Genero'!#REF!","v":{"$error":"#REF!"}},{"$f":"'Pob x Genero'!#REF!","v":{"$error":"#REF!"}},{"$f":"'Pob x Genero'!#REF!","v":{"$error":"#REF!"}},{"$f":"'Pob x Genero'!#REF!","v":{"$error":"#REF!"}},"Hombre","00-04",{"$f":"'Pob x Genero'!#REF!","v":{"$error":"#REF!"}},1651]
[{"$f":"'Pob x Genero'!#REF!","v":{"$error":"#REF!"}},{"$f":"'Pob x Genero'!#REF!","v":{"$error":"#REF!"}},{"$f":"'Pob x Genero'!#REF!","v":{"$error":"#REF!"}},{"$f":"'Pob x Genero'!#REF!","v":{"$error":"#REF!"}},{"$f":"'Pob x Genero'!#REF!","v":{"$error":"#REF!"}},"Hombre","00-04",{"$f":"'Pob x Genero'!#REF!","v":{"$error":"#REF!"}},1652]
[{"$f":"'Pob x Genero'!#REF!","v":{"$error":"#REF!"}},{"$f":"'Pob x Genero'!#REF!","v":{"$error":"#REF!"}},{"$f":"'Pob x Genero'!#REF!","v":{"$error":"#REF!"}},{"$f":"'Pob x Genero'!#REF!","v":{"$error":"#REF!"}},{"$f":"'Pob x Genero'!#REF!","v":{"$error":"#REF!"}},"Hombre","00-04",{"$f":"'Pob x Genero'!#REF!","v":{"$error":"#REF!"}},1653]
[{"$f":"'Pob x Genero'!#REF!","v":{"$error":"#REF!"}},{"$f":"'Pob x Genero'!#REF!","v":{"$error":"#REF!"}},{"$f":"'Pob x Genero'!#REF!","v":{"$error":"#REF!"}},{"$f":"'Pob x Genero'!#REF!","v":{"$error":"#REF!"}},{"$f":"'Pob x Genero'!#REF!","v":{"$error":"#REF!"}},"Hombre","00-04",{"$f":"'Pob x Genero'!#REF!","v":{"$error":"#REF!"}},1654]
[{"$f":"'Pob x Genero'!#REF!","v":{"$error":"#REF!"}},{"$f":"'Pob x Genero'!#REF!","v":{"$error":"#REF!"}},{"$f":"'Pob x Genero'!#REF!","v":{"$error":"#REF!"}},{"$f":"'Pob x Genero'!#REF!","v":{"$error":"#REF!"}},{"$f":"'Pob x Genero'!#REF!","v":{"$error":"#REF!"}},"Hombre","00-04",{"$f":"'Pob x Genero'!#REF!","v":{"$error":"#REF!"}},1655]
[{"$f":"'Pob x Genero'!#REF!","v":{"$error":"#REF!"}},{"$f":"'Pob x Genero'!#REF!","v":{"$error":"#REF!"}},{"$f":"'Pob x Genero'!#REF!","v":{"$error":"#REF!"}},{"$f":"'Pob x Genero'!#REF!","v":{"$error":"#REF!"}},{"$f":"'Pob x Genero'!#REF!","v":{"$error":"#REF!"}},"Hombre","00-04",{"$f":"'Pob x Genero'!#REF!","v":{"$error":"#REF!"}},1656]
[{"$f":"'Pob x Genero'!#REF!","v":{"$error":"#REF!"}},{"$f":"'Pob x Genero'!#REF!","v":{"$error":"#REF!"}},{"$f":"'Pob x Genero'!#REF!","v":{"$error":"#REF!"}},{"$f":"'Pob x Genero'!#REF!","v":{"$error":"#REF!"}},{"$f":"'Pob x Genero'!#REF!","v":{"$error":"#REF!"}},"Hombre","00-04",{"$f":"'Pob x Genero'!#REF!","v":{"$error":"#REF!"}},1657]
[{"$f":"'Pob x Genero'!#REF!","v":{"$error":"#REF!"}},{"$f":"'Pob x Genero'!#REF!","v":{"$error":"#REF!"}},{"$f":"'Pob x Genero'!#REF!","v":{"$error":"#REF!"}},{"$f":"'Pob x Genero'!#REF!","v":{"$error":"#REF!"}},{"$f":"'Pob x Genero'!#REF!","v":{"$error":"#REF!"}},"Hombre","00-04",{"$f":"'Pob x Genero'!#REF!","v":{"$error":"#REF!"}},1658]
[{"$f":"'Pob x Genero'!#REF!","v":{"$error":"#REF!"}},{"$f":"'Pob x Genero'!#REF!","v":{"$error":"#REF!"}},{"$f":"'Pob x Genero'!#REF!","v":{"$error":"#REF!"}},{"$f":"'Pob x Genero'!#REF!","v":{"$error":"#REF!"}},{"$f":"'Pob x Genero'!#REF!","v":{"$error":"#REF!"}},"Hombre","00-04",{"$f":"'Pob x Genero'!#REF!","v":{"$error":"#REF!"}},1659]
[{"$f":"'Pob x Genero'!#REF!","v":{"$error":"#REF!"}},{"$f":"'Pob x Genero'!#REF!","v":{"$error":"#REF!"}},{"$f":"'Pob x Genero'!#REF!","v":{"$error":"#REF!"}},{"$f":"'Pob x Genero'!#REF!","v":{"$error":"#REF!"}},{"$f":"'Pob x Genero'!#REF!","v":{"$error":"#REF!"}},"Hombre","00-04",{"$f":"'Pob x Genero'!#REF!","v":{"$error":"#REF!"}},1660]
[{"$f":"'Pob x Genero'!#REF!","v":{"$error":"#REF!"}},{"$f":"'Pob x Genero'!#REF!","v":{"$error":"#REF!"}},{"$f":"'Pob x Genero'!#REF!","v":{"$error":"#REF!"}},{"$f":"'Pob x Genero'!#REF!","v":{"$error":"#REF!"}},{"$f":"'Pob x Genero'!#REF!","v":{"$error":"#REF!"}},"Hombre","00-04",{"$f":"'Pob x Genero'!#REF!","v":{"$error":"#REF!"}},1661]
[{"$f":"'Pob x Genero'!#REF!","v":{"$error":"#REF!"}},{"$f":"'Pob x Genero'!#REF!","v":{"$error":"#REF!"}},{"$f":"'Pob x Genero'!#REF!","v":{"$error":"#REF!"}},{"$f":"'Pob x Genero'!#REF!","v":{"$error":"#REF!"}},{"$f":"'Pob x Genero'!#REF!","v":{"$error":"#REF!"}},"Hombre","00-04",{"$f":"'Pob x Genero'!#REF!","v":{"$error":"#REF!"}},1662]
[{"$f":"'Pob x Genero'!#REF!","v":{"$error":"#REF!"}},{"$f":"'Pob x Genero'!#REF!","v":{"$error":"#REF!"}},{"$f":"'Pob x Genero'!#REF!","v":{"$error":"#REF!"}},{"$f":"'Pob x Genero'!#REF!","v":{"$error":"#REF!"}},{"$f":"'Pob x Genero'!#REF!","v":{"$error":"#REF!"}},"Hombre","00-04",{"$f":"'Pob x Genero'!#REF!","v":{"$error":"#REF!"}},1663]
[{"$f":"'Pob x Genero'!#REF!","v":{"$error":"#REF!"}},{"$f":"'Pob x Genero'!#REF!","v":{"$error":"#REF!"}},{"$f":"'Pob x Genero'!#REF!","v":{"$error":"#REF!"}},{"$f":"'Pob x Genero'!#REF!","v":{"$error":"#REF!"}},{"$f":"'Pob x Genero'!#REF!","v":{"$error":"#REF!"}},"Hombre","00-04",{"$f":"'Pob x Genero'!#REF!","v":{"$error":"#REF!"}},1664]
[{"$f":"'Pob x Genero'!#REF!","v":{"$error":"#REF!"}},{"$f":"'Pob x Genero'!#REF!","v":{"$error":"#REF!"}},{"$f":"'Pob x Genero'!#REF!","v":{"$error":"#REF!"}},{"$f":"'Pob x Genero'!#REF!","v":{"$error":"#REF!"}},{"$f":"'Pob x Genero'!#REF!","v":{"$error":"#REF!"}},"Hombre","00-04",{"$f":"'Pob x Genero'!#REF!","v":{"$error":"#REF!"}},1665]
[{"$f":"'Pob x Genero'!#REF!","v":{"$error":"#REF!"}},{"$f":"'Pob x Genero'!#REF!","v":{"$error":"#REF!"}},{"$f":"'Pob x Genero'!#REF!","v":{"$error":"#REF!"}},{"$f":"'Pob x Genero'!#REF!","v":{"$error":"#REF!"}},{"$f":"'Pob x Genero'!#REF!","v":{"$error":"#REF!"}},"Hombre","00-04",{"$f":"'Pob x Genero'!#REF!","v":{"$error":"#REF!"}},1666]
[{"$f":"'Pob x Genero'!#REF!","v":{"$error":"#REF!"}},{"$f":"'Pob x Genero'!#REF!","v":{"$error":"#REF!"}},{"$f":"'Pob x Genero'!#REF!","v":{"$error":"#REF!"}},{"$f":"'Pob x Genero'!#REF!","v":{"$error":"#REF!"}},{"$f":"'Pob x Genero'!#REF!","v":{"$error":"#REF!"}},{"$f":"F1667","v":"Hombre"},{"$f":"G1667","v":"00-04"},{"$f":"'Pob x Genero'!#REF!","v":{"$error":"#REF!"}},1667]
[{"$f":"'Pob x Genero'!#REF!","v":{"$error":"#REF!"}},{"$f":"'Pob x Genero'!#REF!","v":{"$error":"#REF!"}},{"$f":"'Pob x Genero'!#REF!","v":{"$error":"#REF!"}},{"$f":"'Pob x Genero'!#REF!","v":{"$error":"#REF!"}},{"$f":"'Pob x Genero'!#REF!","v":{"$error":"#REF!"}},"Hombre","00-04",{"$f":"'Pob x Genero'!#REF!","v":{"$error":"#REF!"}},1668]
[{"$f":"'Pob x Genero'!#REF!","v":{"$error":"#REF!"}},{"$f":"'Pob x Genero'!#REF!","v":{"$error":"#REF!"}},{"$f":"'Pob x Genero'!#REF!","v":{"$error":"#REF!"}},{"$f":"'Pob x Genero'!#REF!","v":{"$error":"#REF!"}},{"$f":"'Pob x Genero'!#REF!","v":{"$error":"#REF!"}},"Hombre","00-04",{"$f":"'Pob x Genero'!#REF!","v":{"$error":"#REF!"}},1669]
[{"$f":"'Pob x Genero'!#REF!","v":{"$error":"#REF!"}},{"$f":"'Pob x Genero'!#REF!","v":{"$error":"#REF!"}},{"$f":"'Pob x Genero'!#REF!","v":{"$error":"#REF!"}},{"$f":"'Pob x Genero'!#REF!","v":{"$error":"#REF!"}},{"$f":"'Pob x Genero'!#REF!","v":{"$error":"#REF!"}},"Hombre","00-04",{"$f":"'Pob x Genero'!#REF!","v":{"$error":"#REF!"}},1670]
[{"$f":"'Pob x Genero'!#REF!","v":{"$error":"#REF!"}},{"$f":"'Pob x Genero'!#REF!","v":{"$error":"#REF!"}},{"$f":"'Pob x Genero'!#REF!","v":{"$error":"#REF!"}},{"$f":"'Pob x Genero'!#REF!","v":{"$error":"#REF!"}},{"$f":"'Pob x Genero'!#REF!","v":{"$error":"#REF!"}},"Hombre","00-04",{"$f":"'Pob x Genero'!#REF!","v":{"$error":"#REF!"}},1671]
[{"$f":"'Pob x Genero'!#REF!","v":{"$error":"#REF!"}},{"$f":"'Pob x Genero'!#REF!","v":{"$error":"#REF!"}},{"$f":"'Pob x Genero'!#REF!","v":{"$error":"#REF!"}},{"$f":"'Pob x Genero'!#REF!","v":{"$error":"#REF!"}},{"$f":"'Pob x Genero'!#REF!","v":{"$error":"#REF!"}},"Hombre","00-04",{"$f":"'Pob x Genero'!#REF!","v":{"$error":"#REF!"}},1672]
[{"$f":"'Pob x Genero'!#REF!","v":{"$error":"#REF!"}},{"$f":"'Pob x Genero'!#REF!","v":{"$error":"#REF!"}},{"$f":"'Pob x Genero'!#REF!","v":{"$error":"#REF!"}},{"$f":"'Pob x Genero'!#REF!","v":{"$error":"#REF!"}},{"$f":"'Pob x Genero'!#REF!","v":{"$error":"#REF!"}},"Hombre","00-04",{"$f":"'Pob x Genero'!#REF!","v":{"$error":"#REF!"}},1673]
[{"$f":"'Pob x Genero'!#REF!","v":{"$error":"#REF!"}},{"$f":"'Pob x Genero'!#REF!","v":{"$error":"#REF!"}},{"$f":"'Pob x Genero'!#REF!","v":{"$error":"#REF!"}},{"$f":"'Pob x Genero'!#REF!","v":{"$error":"#REF!"}},{"$f":"'Pob x Genero'!#REF!","v":{"$error":"#REF!"}},"Hombre","00-04",{"$f":"'Pob x Genero'!#REF!","v":{"$error":"#REF!"}},1674]
[{"$f":"'Pob x Genero'!#REF!","v":{"$error":"#REF!"}},{"$f":"'Pob x Genero'!#REF!","v":{"$error":"#REF!"}},{"$f":"'Pob x Genero'!#REF!","v":{"$error":"#REF!"}},{"$f":"'Pob x Genero'!#REF!","v":{"$error":"#REF!"}},{"$f":"'Pob x Genero'!#REF!","v":{"$error":"#REF!"}},"Hombre","00-04",{"$f":"'Pob x Genero'!#REF!","v":{"$error":"#REF!"}},1675]
[{"$f":"'Pob x Genero'!#REF!","v":{"$error":"#REF!"}},{"$f":"'Pob x Genero'!#REF!","v":{"$error":"#REF!"}},{"$f":"'Pob x Genero'!#REF!","v":{"$error":"#REF!"}},{"$f":"'Pob x Genero'!#REF!","v":{"$error":"#REF!"}},{"$f":"'Pob x Genero'!#REF!","v":{"$error":"#REF!"}},"Hombre","00-04",{"$f":"'Pob x Genero'!#REF!","v":{"$error":"#REF!"}},1676]
[{"$f":"'Pob x Genero'!#REF!","v":{"$error":"#REF!"}},{"$f":"'Pob x Genero'!#REF!","v":{"$error":"#REF!"}},{"$f":"'Pob x Genero'!#REF!","v":{"$error":"#REF!"}},{"$f":"'Pob x Genero'!#REF!","v":{"$error":"#REF!"}},{"$f":"'Pob x Genero'!#REF!","v":{"$error":"#REF!"}},"Hombre","00-04",{"$f":"'Pob x Genero'!#REF!","v":{"$error":"#REF!"}},1677]
[{"$f":"'Pob x Genero'!#REF!","v":{"$error":"#REF!"}},{"$f":"'Pob x Genero'!#REF!","v":{"$error":"#REF!"}},{"$f":"'Pob x Genero'!#REF!","v":{"$error":"#REF!"}},{"$f":"'Pob x Genero'!#REF!","v":{"$error":"#REF!"}},{"$f":"'Pob x Genero'!#REF!","v":{"$error":"#REF!"}},"Hombre","00-04",{"$f":"'Pob x Genero'!#REF!","v":{"$error":"#REF!"}},1678]
[{"$f":"'Pob x Genero'!#REF!","v":{"$error":"#REF!"}},{"$f":"'Pob x Genero'!#REF!","v":{"$error":"#REF!"}},{"$f":"'Pob x Genero'!#REF!","v":{"$error":"#REF!"}},{"$f":"'Pob x Genero'!#REF!","v":{"$error":"#REF!"}},{"$f":"'Pob x Genero'!#REF!","v":{"$error":"#REF!"}},"Hombre","00-04",{"$f":"'Pob x Genero'!#REF!","v":{"$error":"#REF!"}},1679]
[{"$f":"'Pob x Genero'!#REF!","v":{"$error":"#REF!"}},{"$f":"'Pob x Genero'!#REF!","v":{"$error":"#REF!"}},{"$f":"'Pob x Genero'!#REF!","v":{"$error":"#REF!"}},{"$f":"'Pob x Genero'!#REF!","v":{"$error":"#REF!"}},{"$f":"'Pob x Genero'!#REF!","v":{"$error":"#REF!"}},"Hombre","00-04",{"$f":"'Pob x Genero'!#REF!","v":{"$error":"#REF!"}},1680]
[{"$f":"'Pob x Genero'!#REF!","v":{"$error":"#REF!"}},{"$f":"'Pob x Genero'!#REF!","v":{"$error":"#REF!"}},{"$f":"'Pob x Genero'!#REF!","v":{"$error":"#REF!"}},{"$f":"'Pob x Genero'!#REF!","v":{"$error":"#REF!"}},{"$f":"'Pob x Genero'!#REF!","v":{"$error":"#REF!"}},"Hombre","00-04",{"$f":"'Pob x Genero'!#REF!","v":{"$error":"#REF!"}},1681]
[{"$f":"'Pob x Genero'!#REF!","v":{"$error":"#REF!"}},{"$f":"'Pob x Genero'!#REF!","v":{"$error":"#REF!"}},{"$f":"'Pob x Genero'!#REF!","v":{"$error":"#REF!"}},{"$f":"'Pob x Genero'!#REF!","v":{"$error":"#REF!"}},{"$f":"'Pob x Genero'!#REF!","v":{"$error":"#REF!"}},"Hombre","00-04",{"$f":"'Pob x Genero'!#REF!","v":{"$error":"#REF!"}},1682]
[{"$f":"'Pob x Genero'!#REF!","v":{"$error":"#REF!"}},{"$f":"'Pob x Genero'!#REF!","v":{"$error":"#REF!"}},{"$f":"'Pob x Genero'!#REF!","v":{"$error":"#REF!"}},{"$f":"'Pob x Genero'!#REF!","v":{"$error":"#REF!"}},{"$f":"'Pob x Genero'!#REF!","v":{"$error":"#REF!"}},"Hombre","00-04",{"$f":"'Pob x Genero'!#REF!","v":{"$error":"#REF!"}},1683]
[{"$f":"'Pob x Genero'!#REF!","v":{"$error":"#REF!"}},{"$f":"'Pob x Genero'!#REF!","v":{"$error":"#REF!"}},{"$f":"'Pob x Genero'!#REF!","v":{"$error":"#REF!"}},{"$f":"'Pob x Genero'!#REF!","v":{"$error":"#REF!"}},{"$f":"'Pob x Genero'!#REF!","v":{"$error":"#REF!"}},"Hombre","00-04",{"$f":"'Pob x Genero'!#REF!","v":{"$error":"#REF!"}},1684]
[{"$f":"'Pob x Genero'!#REF!","v":{"$error":"#REF!"}},{"$f":"'Pob x Genero'!#REF!","v":{"$error":"#REF!"}},{"$f":"'Pob x Genero'!#REF!","v":{"$error":"#REF!"}},{"$f":"'Pob x Genero'!#REF!","v":{"$error":"#REF!"}},{"$f":"'Pob x Genero'!#REF!","v":{"$error":"#REF!"}},"Hombre","00-04",{"$f":"'Pob x Genero'!#REF!","v":{"$error":"#REF!"}},1685]
[{"$f":"'Pob x Genero'!#REF!","v":{"$error":"#REF!"}},{"$f":"'Pob x Genero'!#REF!","v":{"$error":"#REF!"}},{"$f":"'Pob x Genero'!#REF!","v":{"$error":"#REF!"}},{"$f":"'Pob x Genero'!#REF!","v":{"$error":"#REF!"}},{"$f":"'Pob x Genero'!#REF!","v":{"$error":"#REF!"}},"Hombre","00-04",{"$f":"'Pob x Genero'!#REF!","v":{"$error":"#REF!"}},1686]
[{"$f":"'Pob x Genero'!#REF!","v":{"$error":"#REF!"}},{"$f":"'Pob x Genero'!#REF!","v":{"$error":"#REF!"}},{"$f":"'Pob x Genero'!#REF!","v":{"$error":"#REF!"}},{"$f":"'Pob x Genero'!#REF!","v":{"$error":"#REF!"}},{"$f":"'Pob x Genero'!#REF!","v":{"$error":"#REF!"}},"Hombre","00-04",{"$f":"'Pob x Genero'!#REF!","v":{"$error":"#REF!"}},1687]
[{"$f":"'Pob x Genero'!#REF!","v":{"$error":"#REF!"}},{"$f":"'Pob x Genero'!#REF!","v":{"$error":"#REF!"}},{"$f":"'Pob x Genero'!#REF!","v":{"$error":"#REF!"}},{"$f":"'Pob x Genero'!#REF!","v":{"$error":"#REF!"}},{"$f":"'Pob x Genero'!#REF!","v":{"$error":"#REF!"}},"Hombre","00-04",{"$f":"'Pob x Genero'!#REF!","v":{"$error":"#REF!"}},1688]
[{"$f":"'Pob x Genero'!#REF!","v":{"$error":"#REF!"}},{"$f":"'Pob x Genero'!#REF!","v":{"$error":"#REF!"}},{"$f":"'Pob x Genero'!#REF!","v":{"$error":"#REF!"}},{"$f":"'Pob x Genero'!#REF!","v":{"$error":"#REF!"}},{"$f":"'Pob x Genero'!#REF!","v":{"$error":"#REF!"}},"Hombre","00-04",{"$f":"'Pob x Genero'!#REF!","v":{"$error":"#REF!"}},1689]
[{"$f":"'Pob x Genero'!#REF!","v":{"$error":"#REF!"}},{"$f":"'Pob x Genero'!#REF!","v":{"$error":"#REF!"}},{"$f":"'Pob x Genero'!#REF!","v":{"$error":"#REF!"}},{"$f":"'Pob x Genero'!#REF!","v":{"$error":"#REF!"}},{"$f":"'Pob x Genero'!#REF!","v":{"$error":"#REF!"}},"Hombre","00-04",{"$f":"'Pob x Genero'!#REF!","v":{"$error":"#REF!"}},1690]
[{"$f":"'Pob x Genero'!#REF!","v":{"$error":"#REF!"}},{"$f":"'Pob x Genero'!#REF!","v":{"$error":"#REF!"}},{"$f":"'Pob x Genero'!#REF!","v":{"$error":"#REF!"}},{"$f":"'Pob x Genero'!#REF!","v":{"$error":"#REF!"}},{"$f":"'Pob x Genero'!#REF!","v":{"$error":"#REF!"}},"Hombre","00-04",{"$f":"'Pob x Genero'!#REF!","v":{"$error":"#REF!"}},1691]
[{"$f":"'Pob x Genero'!#REF!","v":{"$error":"#REF!"}},{"$f":"'Pob x Genero'!#REF!","v":{"$error":"#REF!"}},{"$f":"'Pob x Genero'!#REF!","v":{"$error":"#REF!"}},{"$f":"'Pob x Genero'!#REF!","v":{"$error":"#REF!"}},{"$f":"'Pob x Genero'!#REF!","v":{"$error":"#REF!"}},"Hombre","00-04",{"$f":"'Pob x Genero'!#REF!","v":{"$error":"#REF!"}},1692]
[{"$f":"'Pob x Genero'!#REF!","v":{"$error":"#REF!"}},{"$f":"'Pob x Genero'!#REF!","v":{"$error":"#REF!"}},{"$f":"'Pob x Genero'!#REF!","v":{"$error":"#REF!"}},{"$f":"'Pob x Genero'!#REF!","v":{"$error":"#REF!"}},{"$f":"'Pob x Genero'!#REF!","v":{"$error":"#REF!"}},"Hombre","00-04",{"$f":"'Pob x Genero'!#REF!","v":{"$error":"#REF!"}},1693]
[{"$f":"'Pob x Genero'!#REF!","v":{"$error":"#REF!"}},{"$f":"'Pob x Genero'!#REF!","v":{"$error":"#REF!"}},{"$f":"'Pob x Genero'!#REF!","v":{"$error":"#REF!"}},{"$f":"'Pob x Genero'!#REF!","v":{"$error":"#REF!"}},{"$f":"'Pob x Genero'!#REF!","v":{"$error":"#REF!"}},"Hombre","00-04",{"$f":"'Pob x Genero'!#REF!","v":{"$error":"#REF!"}},1694]
[{"$f":"'Pob x Genero'!#REF!","v":{"$error":"#REF!"}},{"$f":"'Pob x Genero'!#REF!","v":{"$error":"#REF!"}},{"$f":"'Pob x Genero'!#REF!","v":{"$error":"#REF!"}},{"$f":"'Pob x Genero'!#REF!","v":{"$error":"#REF!"}},{"$f":"'Pob x Genero'!#REF!","v":{"$error":"#REF!"}},"Hombre","00-04",{"$f":"'Pob x Genero'!#REF!","v":{"$error":"#REF!"}},1695]
[{"$f":"'Pob x Genero'!#REF!","v":{"$error":"#REF!"}},{"$f":"'Pob x Genero'!#REF!","v":{"$error":"#REF!"}},{"$f":"'Pob x Genero'!#REF!","v":{"$error":"#REF!"}},{"$f":"'Pob x Genero'!#REF!","v":{"$error":"#REF!"}},{"$f":"'Pob x Genero'!#REF!","v":{"$error":"#REF!"}},"Hombre","00-04",{"$f":"'Pob x Genero'!#REF!","v":{"$error":"#REF!"}},1696]
[{"$f":"'Pob x Genero'!#REF!","v":{"$error":"#REF!"}},{"$f":"'Pob x Genero'!#REF!","v":{"$error":"#REF!"}},{"$f":"'Pob x Genero'!#REF!","v":{"$error":"#REF!"}},{"$f":"'Pob x Genero'!#REF!","v":{"$error":"#REF!"}},{"$f":"'Pob x Genero'!#REF!","v":{"$error":"#REF!"}},"Hombre","00-04",{"$f":"'Pob x Genero'!#REF!","v":{"$error":"#REF!"}},1697]
[{"$f":"'Pob x Genero'!#REF!","v":{"$error":"#REF!"}},{"$f":"'Pob x Genero'!#REF!","v":{"$error":"#REF!"}},{"$f":"'Pob x Genero'!#REF!","v":{"$error":"#REF!"}},{"$f":"'Pob x Genero'!#REF!","v":{"$error":"#REF!"}},{"$f":"'Pob x Genero'!#REF!","v":{"$error":"#REF!"}},"Hombre","00-04",{"$f":"'Pob x Genero'!#REF!","v":{"$error":"#REF!"}},1698]
[{"$f":"'Pob x Genero'!#REF!","v":{"$error":"#REF!"}},{"$f":"'Pob x Genero'!#REF!","v":{"$error":"#REF!"}},{"$f":"'Pob x Genero'!#REF!","v":{"$error":"#REF!"}},{"$f":"'Pob x Genero'!#REF!","v":{"$error":"#REF!"}},{"$f":"'Pob x Genero'!#REF!","v":{"$error":"#REF!"}},"Hombre","00-04",{"$f":"'Pob x Genero'!#REF!","v":{"$error":"#REF!"}},1699]
[{"$f":"'Pob x Genero'!#REF!","v":{"$error":"#REF!"}},{"$f":"'Pob x Genero'!#REF!","v":{"$error":"#REF!"}},{"$f":"'Pob x Genero'!#REF!","v":{"$error":"#REF!"}},{"$f":"'Pob x Genero'!#REF!","v":{"$error":"#REF!"}},{"$f":"'Pob x Genero'!#REF!","v":{"$error":"#REF!"}},"Hombre","00-04",{"$f":"'Pob x Genero'!#REF!","v":{"$error":"#REF!"}},1700]
[{"$f":"'Pob x Genero'!#REF!","v":{"$error":"#REF!"}},{"$f":"'Pob x Genero'!#REF!","v":{"$error":"#REF!"}},{"$f":"'Pob x Genero'!#REF!","v":{"$error":"#REF!"}},{"$f":"'Pob x Genero'!#REF!","v":{"$error":"#REF!"}},{"$f":"'Pob x Genero'!#REF!","v":{"$error":"#REF!"}},"Hombre","00-04",{"$f":"'Pob x Genero'!#REF!","v":{"$error":"#REF!"}},1701]
[{"$f":"'Pob x Genero'!#REF!","v":{"$error":"#REF!"}},{"$f":"'Pob x Genero'!#REF!","v":{"$error":"#REF!"}},{"$f":"'Pob x Genero'!#REF!","v":{"$error":"#REF!"}},{"$f":"'Pob x Genero'!#REF!","v":{"$error":"#REF!"}},{"$f":"'Pob x Genero'!#REF!","v":{"$error":"#REF!"}},"Hombre","00-04",{"$f":"'Pob x Genero'!#REF!","v":{"$error":"#REF!"}},1702]
[{"$f":"'Pob x Genero'!#REF!","v":{"$error":"#REF!"}},{"$f":"'Pob x Genero'!#REF!","v":{"$error":"#REF!"}},{"$f":"'Pob x Genero'!#REF!","v":{"$error":"#REF!"}},{"$f":"'Pob x Genero'!#REF!","v":{"$error":"#REF!"}},{"$f":"'Pob x Genero'!#REF!","v":{"$error":"#REF!"}},"Hombre","00-04",{"$f":"'Pob x Genero'!#REF!","v":{"$error":"#REF!"}},1703]
[{"$f":"'Pob x Genero'!#REF!","v":{"$error":"#REF!"}},{"$f":"'Pob x Genero'!#REF!","v":{"$error":"#REF!"}},{"$f":"'Pob x Genero'!#REF!","v":{"$error":"#REF!"}},{"$f":"'Pob x Genero'!#REF!","v":{"$error":"#REF!"}},{"$f":"'Pob x Genero'!#REF!","v":{"$error":"#REF!"}},"Hombre","00-04",{"$f":"'Pob x Genero'!#REF!","v":{"$error":"#REF!"}},1704]
[{"$f":"'Pob x Genero'!#REF!","v":{"$error":"#REF!"}},{"$f":"'Pob x Genero'!#REF!","v":{"$error":"#REF!"}},{"$f":"'Pob x Genero'!#REF!","v":{"$error":"#REF!"}},{"$f":"'Pob x Genero'!#REF!","v":{"$error":"#REF!"}},{"$f":"'Pob x Genero'!#REF!","v":{"$error":"#REF!"}},"Hombre","00-04",{"$f":"'Pob x Genero'!#REF!","v":{"$error":"#REF!"}},1705]
[{"$f":"'Pob x Genero'!#REF!","v":{"$error":"#REF!"}},{"$f":"'Pob x Genero'!#REF!","v":{"$error":"#REF!"}},{"$f":"'Pob x Genero'!#REF!","v":{"$error":"#REF!"}},{"$f":"'Pob x Genero'!#REF!","v":{"$error":"#REF!"}},{"$f":"'Pob x Genero'!#REF!","v":{"$error":"#REF!"}},"Hombre","00-04",{"$f":"'Pob x Genero'!#REF!","v":{"$error":"#REF!"}},1706]
[{"$f":"'Pob x Genero'!#REF!","v":{"$error":"#REF!"}},{"$f":"'Pob x Genero'!#REF!","v":{"$error":"#REF!"}},{"$f":"'Pob x Genero'!#REF!","v":{"$error":"#REF!"}},{"$f":"'Pob x Genero'!#REF!","v":{"$error":"#REF!"}},{"$f":"'Pob x Genero'!#REF!","v":{"$error":"#REF!"}},"Hombre","00-04",{"$f":"'Pob x Genero'!#REF!","v":{"$error":"#REF!"}},1707]
[{"$f":"'Pob x Genero'!#REF!","v":{"$error":"#REF!"}},{"$f":"'Pob x Genero'!#REF!","v":{"$error":"#REF!"}},{"$f":"'Pob x Genero'!#REF!","v":{"$error":"#REF!"}},{"$f":"'Pob x Genero'!#REF!","v":{"$error":"#REF!"}},{"$f":"'Pob x Genero'!#REF!","v":{"$error":"#REF!"}},"Hombre","00-04",{"$f":"'Pob x Genero'!#REF!","v":{"$error":"#REF!"}},1708]
[{"$f":"'Pob x Genero'!#REF!","v":{"$error":"#REF!"}},{"$f":"'Pob x Genero'!#REF!","v":{"$error":"#REF!"}},{"$f":"'Pob x Genero'!#REF!","v":{"$error":"#REF!"}},{"$f":"'Pob x Genero'!#REF!","v":{"$error":"#REF!"}},{"$f":"'Pob x Genero'!#REF!","v":{"$error":"#REF!"}},"Hombre","00-04",{"$f":"'Pob x Genero'!#REF!","v":{"$error":"#REF!"}},1709]
[{"$f":"'Pob x Genero'!#REF!","v":{"$error":"#REF!"}},{"$f":"'Pob x Genero'!#REF!","v":{"$error":"#REF!"}},{"$f":"'Pob x Genero'!#REF!","v":{"$error":"#REF!"}},{"$f":"'Pob x Genero'!#REF!","v":{"$error":"#REF!"}},{"$f":"'Pob x Genero'!#REF!","v":{"$error":"#REF!"}},"Hombre","00-04",{"$f":"'Pob x Genero'!#REF!","v":{"$error":"#REF!"}},1710]
[{"$f":"'Pob x Genero'!#REF!","v":{"$error":"#REF!"}},{"$f":"'Pob x Genero'!#REF!","v":{"$error":"#REF!"}},{"$f":"'Pob x Genero'!#REF!","v":{"$error":"#REF!"}},{"$f":"'Pob x Genero'!#REF!","v":{"$error":"#REF!"}},{"$f":"'Pob x Genero'!#REF!","v":{"$error":"#REF!"}},"Hombre","00-04",{"$f":"'Pob x Genero'!#REF!","v":{"$error":"#REF!"}},1711]
[{"$f":"'Pob x Genero'!#REF!","v":{"$error":"#REF!"}},{"$f":"'Pob x Genero'!#REF!","v":{"$error":"#REF!"}},{"$f":"'Pob x Genero'!#REF!","v":{"$error":"#REF!"}},{"$f":"'Pob x Genero'!#REF!","v":{"$error":"#REF!"}},{"$f":"'Pob x Genero'!#REF!","v":{"$error":"#REF!"}},"Hombre","00-04",{"$f":"'Pob x Genero'!#REF!","v":{"$error":"#REF!"}},1712]
[{"$f":"'Pob x Genero'!#REF!","v":{"$error":"#REF!"}},{"$f":"'Pob x Genero'!#REF!","v":{"$error":"#REF!"}},{"$f":"'Pob x Genero'!#REF!","v":{"$error":"#REF!"}},{"$f":"'Pob x Genero'!#REF!","v":{"$error":"#REF!"}},{"$f":"'Pob x Genero'!#REF!","v":{"$error":"#REF!"}},"Hombre","00-04",{"$f":"'Pob x Genero'!#REF!","v":{"$error":"#REF!"}},1713]
[{"$f":"'Pob x Genero'!#REF!","v":{"$error":"#REF!"}},{"$f":"'Pob x Genero'!#REF!","v":{"$error":"#REF!"}},{"$f":"'Pob x Genero'!#REF!","v":{"$error":"#REF!"}},{"$f":"'Pob x Genero'!#REF!","v":{"$error":"#REF!"}},{"$f":"'Pob x Genero'!#REF!","v":{"$error":"#REF!"}},"Hombre","00-04",{"$f":"'Pob x Genero'!#REF!","v":{"$error":"#REF!"}},1714]
[{"$f":"'Pob x Genero'!#REF!","v":{"$error":"#REF!"}},{"$f":"'Pob x Genero'!#REF!","v":{"$error":"#REF!"}},{"$f":"'Pob x Genero'!#REF!","v":{"$error":"#REF!"}},{"$f":"'Pob x Genero'!#REF!","v":{"$error":"#REF!"}},{"$f":"'Pob x Genero'!#REF!","v":{"$error":"#REF!"}},"Hombre","00-04",{"$f":"'Pob x Genero'!#REF!","v":{"$error":"#REF!"}},1715]
[{"$f":"'Pob x Genero'!#REF!","v":{"$error":"#REF!"}},{"$f":"'Pob x Genero'!#REF!","v":{"$error":"#REF!"}},{"$f":"'Pob x Genero'!#REF!","v":{"$error":"#REF!"}},{"$f":"'Pob x Genero'!#REF!","v":{"$error":"#REF!"}},{"$f":"'Pob x Genero'!#REF!","v":{"$error":"#REF!"}},"Hombre","00-04",{"$f":"'Pob x Genero'!#REF!","v":{"$error":"#REF!"}},1716]
[{"$f":"'Pob x Genero'!#REF!","v":{"$error":"#REF!"}},{"$f":"'Pob x Genero'!#REF!","v":{"$error":"#REF!"}},{"$f":"'Pob x Genero'!#REF!","v":{"$error":"#REF!"}},{"$f":"'Pob x Genero'!#REF!","v":{"$error":"#REF!"}},{"$f":"'Pob x Genero'!#REF!","v":{"$error":"#REF!"}},"Hombre","00-04",{"$f":"'Pob x Genero'!#REF!","v":{"$error":"#REF!"}},1717]
[{"$f":"'Pob x Genero'!#REF!","v":{"$error":"#REF!"}},{"$f":"'Pob x Genero'!#REF!","v":{"$error":"#REF!"}},{"$f":"'Pob x Genero'!#REF!","v":{"$error":"#REF!"}},{"$f":"'Pob x Genero'!#REF!","v":{"$error":"#REF!"}},{"$f":"'Pob x Genero'!#REF!","v":{"$error":"#REF!"}},"Hombre","00-04",{"$f":"'Pob x Genero'!#REF!","v":{"$error":"#REF!"}},1718]
[{"$f":"'Pob x Genero'!#REF!","v":{"$error":"#REF!"}},{"$f":"'Pob x Genero'!#REF!","v":{"$error":"#REF!"}},{"$f":"'Pob x Genero'!#REF!","v":{"$error":"#REF!"}},{"$f":"'Pob x Genero'!#REF!","v":{"$error":"#REF!"}},{"$f":"'Pob x Genero'!#REF!","v":{"$error":"#REF!"}},"Hombre","00-04",{"$f":"'Pob x Genero'!#REF!","v":{"$error":"#REF!"}},1719]
[{"$f":"'Pob x Genero'!#REF!","v":{"$error":"#REF!"}},{"$f":"'Pob x Genero'!#REF!","v":{"$error":"#REF!"}},{"$f":"'Pob x Genero'!#REF!","v":{"$error":"#REF!"}},{"$f":"'Pob x Genero'!#REF!","v":{"$error":"#REF!"}},{"$f":"'Pob x Genero'!#REF!","v":{"$error":"#REF!"}},"Hombre","00-04",{"$f":"'Pob x Genero'!#REF!","v":{"$error":"#REF!"}},1720]
[{"$f":"'Pob x Genero'!#REF!","v":{"$error":"#REF!"}},{"$f":"'Pob x Genero'!#REF!","v":{"$error":"#REF!"}},{"$f":"'Pob x Genero'!#REF!","v":{"$error":"#REF!"}},{"$f":"'Pob x Genero'!#REF!","v":{"$error":"#REF!"}},{"$f":"'Pob x Genero'!#REF!","v":{"$error":"#REF!"}},"Hombre","00-04",{"$f":"'Pob x Genero'!#REF!","v":{"$error":"#REF!"}},1721]
[{"$f":"'Pob x Genero'!#REF!","v":{"$error":"#REF!"}},{"$f":"'Pob x Genero'!#REF!","v":{"$error":"#REF!"}},{"$f":"'Pob x Genero'!#REF!","v":{"$error":"#REF!"}},{"$f":"'Pob x Genero'!#REF!","v":{"$error":"#REF!"}},{"$f":"'Pob x Genero'!#REF!","v":{"$error":"#REF!"}},"Hombre","00-04",{"$f":"'Pob x Genero'!#REF!","v":{"$error":"#REF!"}},1722]
[{"$f":"'Pob x Genero'!#REF!","v":{"$error":"#REF!"}},{"$f":"'Pob x Genero'!#REF!","v":{"$error":"#REF!"}},{"$f":"'Pob x Genero'!#REF!","v":{"$error":"#REF!"}},{"$f":"'Pob x Genero'!#REF!","v":{"$error":"#REF!"}},{"$f":"'Pob x Genero'!#REF!","v":{"$error":"#REF!"}},"Hombre","00-04",{"$f":"'Pob x Genero'!#REF!","v":{"$error":"#REF!"}},1723]
[{"$f":"'Pob x Genero'!#REF!","v":{"$error":"#REF!"}},{"$f":"'Pob x Genero'!#REF!","v":{"$error":"#REF!"}},{"$f":"'Pob x Genero'!#REF!","v":{"$error":"#REF!"}},{"$f":"'Pob x Genero'!#REF!","v":{"$error":"#REF!"}},{"$f":"'Pob x Genero'!#REF!","v":{"$error":"#REF!"}},"Hombre","00-04",{"$f":"'Pob x Genero'!#REF!","v":{"$error":"#REF!"}},1724]
[{"$f":"'Pob x Genero'!#REF!","v":{"$error":"#REF!"}},{"$f":"'Pob x Genero'!#REF!","v":{"$error":"#REF!"}},{"$f":"'Pob x Genero'!#REF!","v":{"$error":"#REF!"}},{"$f":"'Pob x Genero'!#REF!","v":{"$error":"#REF!"}},{"$f":"'Pob x Genero'!#REF!","v":{"$error":"#REF!"}},"Hombre","00-04",{"$f":"'Pob x Genero'!#REF!","v":{"$error":"#REF!"}},1725]
[{"$f":"'Pob x Genero'!#REF!","v":{"$error":"#REF!"}},{"$f":"'Pob x Genero'!#REF!","v":{"$error":"#REF!"}},{"$f":"'Pob x Genero'!#REF!","v":{"$error":"#REF!"}},{"$f":"'Pob x Genero'!#REF!","v":{"$error":"#REF!"}},{"$f":"'Pob x Genero'!#REF!","v":{"$error":"#REF!"}},"Hombre","00-04",{"$f":"'Pob x Genero'!#REF!","v":{"$error":"#REF!"}},1726]
[{"$f":"'Pob x Genero'!#REF!","v":{"$error":"#REF!"}},{"$f":"'Pob x Genero'!#REF!","v":{"$error":"#REF!"}},{"$f":"'Pob x Genero'!#REF!","v":{"$error":"#REF!"}},{"$f":"'Pob x Genero'!#REF!","v":{"$error":"#REF!"}},{"$f":"'Pob x Genero'!#REF!","v":{"$error":"#REF!"}},"Hombre","00-04",{"$f":"'Pob x Genero'!#REF!","v":{"$error":"#REF!"}},1727]
[{"$f":"'Pob x Genero'!#REF!","v":{"$error":"#REF!"}},{"$f":"'Pob x Genero'!#REF!","v":{"$error":"#REF!"}},{"$f":"'Pob x Genero'!#REF!","v":{"$error":"#REF!"}},{"$f":"'Pob x Genero'!#REF!","v":{"$error":"#REF!"}},{"$f":"'Pob x Genero'!#REF!","v":{"$error":"#REF!"}},"Hombre","00-04",{"$f":"'Pob x Genero'!#REF!","v":{"$error":"#REF!"}},1728]
[{"$f":"'Pob x Genero'!#REF!","v":{"$error":"#REF!"}},{"$f":"'Pob x Genero'!#REF!","v":{"$error":"#REF!"}},{"$f":"'Pob x Genero'!#REF!","v":{"$error":"#REF!"}},{"$f":"'Pob x Genero'!#REF!","v":{"$error":"#REF!"}},{"$f":"'Pob x Genero'!#REF!","v":{"$error":"#REF!"}},"Hombre","00-04",{"$f":"'Pob x Genero'!#REF!","v":{"$error":"#REF!"}},1729]
[{"$f":"'Pob x Genero'!#REF!","v":{"$error":"#REF!"}},{"$f":"'Pob x Genero'!#REF!","v":{"$error":"#REF!"}},{"$f":"'Pob x Genero'!#REF!","v":{"$error":"#REF!"}},{"$f":"'Pob x Genero'!#REF!","v":{"$error":"#REF!"}},{"$f":"'Pob x Genero'!#REF!","v":{"$error":"#REF!"}},"Hombre","00-04",{"$f":"'Pob x Genero'!#REF!","v":{"$error":"#REF!"}},1730]
[{"$f":"'Pob x Genero'!#REF!","v":{"$error":"#REF!"}},{"$f":"'Pob x Genero'!#REF!","v":{"$error":"#REF!"}},{"$f":"'Pob x Genero'!#REF!","v":{"$error":"#REF!"}},{"$f":"'Pob x Genero'!#REF!","v":{"$error":"#REF!"}},{"$f":"'Pob x Genero'!#REF!","v":{"$error":"#REF!"}},{"$f":"F1731","v":"Hombre"},{"$f":"G1731","v":"00-04"},{"$f":"'Pob x Genero'!#REF!","v":{"$error":"#REF!"}},1731]
[{"$f":"'Pob x Genero'!#REF!","v":{"$error":"#REF!"}},{"$f":"'Pob x Genero'!#REF!","v":{"$error":"#REF!"}},{"$f":"'Pob x Genero'!#REF!","v":{"$error":"#REF!"}},{"$f":"'Pob x Genero'!#REF!","v":{"$error":"#REF!"}},{"$f":"'Pob x Genero'!#REF!","v":{"$error":"#REF!"}},"Hombre","00-04",{"$f":"'Pob x Genero'!#REF!","v":{"$error":"#REF!"}},1732]
[{"$f":"'Pob x Genero'!#REF!","v":{"$error":"#REF!"}},{"$f":"'Pob x Genero'!#REF!","v":{"$error":"#REF!"}},{"$f":"'Pob x Genero'!#REF!","v":{"$error":"#REF!"}},{"$f":"'Pob x Genero'!#REF!","v":{"$error":"#REF!"}},{"$f":"'Pob x Genero'!#REF!","v":{"$error":"#REF!"}},"Hombre","00-04",{"$f":"'Pob x Genero'!#REF!","v":{"$error":"#REF!"}},1733]
[{"$f":"'Pob x Genero'!#REF!","v":{"$error":"#REF!"}},{"$f":"'Pob x Genero'!#REF!","v":{"$error":"#REF!"}},{"$f":"'Pob x Genero'!#REF!","v":{"$error":"#REF!"}},{"$f":"'Pob x Genero'!#REF!","v":{"$error":"#REF!"}},{"$f":"'Pob x Genero'!#REF!","v":{"$error":"#REF!"}},"Hombre","00-04",{"$f":"'Pob x Genero'!#REF!","v":{"$error":"#REF!"}},1734]
[{"$f":"'Pob x Genero'!#REF!","v":{"$error":"#REF!"}},{"$f":"'Pob x Genero'!#REF!","v":{"$error":"#REF!"}},{"$f":"'Pob x Genero'!#REF!","v":{"$error":"#REF!"}},{"$f":"'Pob x Genero'!#REF!","v":{"$error":"#REF!"}},{"$f":"'Pob x Genero'!#REF!","v":{"$error":"#REF!"}},"Hombre","00-04",{"$f":"'Pob x Genero'!#REF!","v":{"$error":"#REF!"}},1735]
[{"$f":"'Pob x Genero'!#REF!","v":{"$error":"#REF!"}},{"$f":"'Pob x Genero'!#REF!","v":{"$error":"#REF!"}},{"$f":"'Pob x Genero'!#REF!","v":{"$error":"#REF!"}},{"$f":"'Pob x Genero'!#REF!","v":{"$error":"#REF!"}},{"$f":"'Pob x Genero'!#REF!","v":{"$error":"#REF!"}},"Hombre","00-04",{"$f":"'Pob x Genero'!#REF!","v":{"$error":"#REF!"}},1736]
[{"$f":"'Pob x Genero'!#REF!","v":{"$error":"#REF!"}},{"$f":"'Pob x Genero'!#REF!","v":{"$error":"#REF!"}},{"$f":"'Pob x Genero'!#REF!","v":{"$error":"#REF!"}},{"$f":"'Pob x Genero'!#REF!","v":{"$error":"#REF!"}},{"$f":"'Pob x Genero'!#REF!","v":{"$error":"#REF!"}},"Hombre","00-04",{"$f":"'Pob x Genero'!#REF!","v":{"$error":"#REF!"}},1737]
[{"$f":"'Pob x Genero'!#REF!","v":{"$error":"#REF!"}},{"$f":"'Pob x Genero'!#REF!","v":{"$error":"#REF!"}},{"$f":"'Pob x Genero'!#REF!","v":{"$error":"#REF!"}},{"$f":"'Pob x Genero'!#REF!","v":{"$error":"#REF!"}},{"$f":"'Pob x Genero'!#REF!","v":{"$error":"#REF!"}},"Hombre","00-04",{"$f":"'Pob x Genero'!#REF!","v":{"$error":"#REF!"}},1738]
[{"$f":"'Pob x Genero'!#REF!","v":{"$error":"#REF!"}},{"$f":"'Pob x Genero'!#REF!","v":{"$error":"#REF!"}},{"$f":"'Pob x Genero'!#REF!","v":{"$error":"#REF!"}},{"$f":"'Pob x Genero'!#REF!","v":{"$error":"#REF!"}},{"$f":"'Pob x Genero'!#REF!","v":{"$error":"#REF!"}},"Hombre","00-04",{"$f":"'Pob x Genero'!#REF!","v":{"$error":"#REF!"}},1739]
[{"$f":"'Pob x Genero'!#REF!","v":{"$error":"#REF!"}},{"$f":"'Pob x Genero'!#REF!","v":{"$error":"#REF!"}},{"$f":"'Pob x Genero'!#REF!","v":{"$error":"#REF!"}},{"$f":"'Pob x Genero'!#REF!","v":{"$error":"#REF!"}},{"$f":"'Pob x Genero'!#REF!","v":{"$error":"#REF!"}},"Hombre","00-04",{"$f":"'Pob x Genero'!#REF!","v":{"$error":"#REF!"}},1740]
[{"$f":"'Pob x Genero'!#REF!","v":{"$error":"#REF!"}},{"$f":"'Pob x Genero'!#REF!","v":{"$error":"#REF!"}},{"$f":"'Pob x Genero'!#REF!","v":{"$error":"#REF!"}},{"$f":"'Pob x Genero'!#REF!","v":{"$error":"#REF!"}},{"$f":"'Pob x Genero'!#REF!","v":{"$error":"#REF!"}},"Hombre","00-04",{"$f":"'Pob x Genero'!#REF!","v":{"$error":"#REF!"}},1741]
[{"$f":"'Pob x Genero'!#REF!","v":{"$error":"#REF!"}},{"$f":"'Pob x Genero'!#REF!","v":{"$error":"#REF!"}},{"$f":"'Pob x Genero'!#REF!","v":{"$error":"#REF!"}},{"$f":"'Pob x Genero'!#REF!","v":{"$error":"#REF!"}},{"$f":"'Pob x Genero'!#REF!","v":{"$error":"#REF!"}},"Hombre","00-04",{"$f":"'Pob x Genero'!#REF!","v":{"$error":"#REF!"}},1742]
[{"$f":"'Pob x Genero'!#REF!","v":{"$error":"#REF!"}},{"$f":"'Pob x Genero'!#REF!","v":{"$error":"#REF!"}},{"$f":"'Pob x Genero'!#REF!","v":{"$error":"#REF!"}},{"$f":"'Pob x Genero'!#REF!","v":{"$error":"#REF!"}},{"$f":"'Pob x Genero'!#REF!","v":{"$error":"#REF!"}},"Hombre","00-04",{"$f":"'Pob x Genero'!#REF!","v":{"$error":"#REF!"}},1743]
[{"$f":"'Pob x Genero'!#REF!","v":{"$error":"#REF!"}},{"$f":"'Pob x Genero'!#REF!","v":{"$error":"#REF!"}},{"$f":"'Pob x Genero'!#REF!","v":{"$error":"#REF!"}},{"$f":"'Pob x Genero'!#REF!","v":{"$error":"#REF!"}},{"$f":"'Pob x Genero'!#REF!","v":{"$error":"#REF!"}},"Hombre","00-04",{"$f":"'Pob x Genero'!#REF!","v":{"$error":"#REF!"}},1744]
[{"$f":"'Pob x Genero'!#REF!","v":{"$error":"#REF!"}},{"$f":"'Pob x Genero'!#REF!","v":{"$error":"#REF!"}},{"$f":"'Pob x Genero'!#REF!","v":{"$error":"#REF!"}},{"$f":"'Pob x Genero'!#REF!","v":{"$error":"#REF!"}},{"$f":"'Pob x Genero'!#REF!","v":{"$error":"#REF!"}},"Hombre","00-04",{"$f":"'Pob x Genero'!#REF!","v":{"$error":"#REF!"}},1745]
[{"$f":"'Pob x Genero'!#REF!","v":{"$error":"#REF!"}},{"$f":"'Pob x Genero'!#REF!","v":{"$error":"#REF!"}},{"$f":"'Pob x Genero'!#REF!","v":{"$error":"#REF!"}},{"$f":"'Pob x Genero'!#REF!","v":{"$error":"#REF!"}},{"$f":"'Pob x Genero'!#REF!","v":{"$error":"#REF!"}},"Hombre","00-04",{"$f":"'Pob x Genero'!#REF!","v":{"$error":"#REF!"}},1746]
[{"$f":"'Pob x Genero'!#REF!","v":{"$error":"#REF!"}},{"$f":"'Pob x Genero'!#REF!","v":{"$error":"#REF!"}},{"$f":"'Pob x Genero'!#REF!","v":{"$error":"#REF!"}},{"$f":"'Pob x Genero'!#REF!","v":{"$error":"#REF!"}},{"$f":"'Pob x Genero'!#REF!","v":{"$error":"#REF!"}},"Hombre","00-04",{"$f":"'Pob x Genero'!#REF!","v":{"$error":"#REF!"}},1747]
[{"$f":"'Pob x Genero'!#REF!","v":{"$error":"#REF!"}},{"$f":"'Pob x Genero'!#REF!","v":{"$error":"#REF!"}},{"$f":"'Pob x Genero'!#REF!","v":{"$error":"#REF!"}},{"$f":"'Pob x Genero'!#REF!","v":{"$error":"#REF!"}},{"$f":"'Pob x Genero'!#REF!","v":{"$error":"#REF!"}},"Hombre","00-04",{"$f":"'Pob x Genero'!#REF!","v":{"$error":"#REF!"}},1748]
[{"$f":"'Pob x Genero'!#REF!","v":{"$error":"#REF!"}},{"$f":"'Pob x Genero'!#REF!","v":{"$error":"#REF!"}},{"$f":"'Pob x Genero'!#REF!","v":{"$error":"#REF!"}},{"$f":"'Pob x Genero'!#REF!","v":{"$error":"#REF!"}},{"$f":"'Pob x Genero'!#REF!","v":{"$error":"#REF!"}},"Hombre","00-04",{"$f":"'Pob x Genero'!#REF!","v":{"$error":"#REF!"}},1749]
[{"$f":"'Pob x Genero'!#REF!","v":{"$error":"#REF!"}},{"$f":"'Pob x Genero'!#REF!","v":{"$error":"#REF!"}},{"$f":"'Pob x Genero'!#REF!","v":{"$error":"#REF!"}},{"$f":"'Pob x Genero'!#REF!","v":{"$error":"#REF!"}},{"$f":"'Pob x Genero'!#REF!","v":{"$error":"#REF!"}},"Hombre","00-04",{"$f":"'Pob x Genero'!#REF!","v":{"$error":"#REF!"}},1750]
[{"$f":"'Pob x Genero'!#REF!","v":{"$error":"#REF!"}},{"$f":"'Pob x Genero'!#REF!","v":{"$error":"#REF!"}},{"$f":"'Pob x Genero'!#REF!","v":{"$error":"#REF!"}},{"$f":"'Pob x Genero'!#REF!","v":{"$error":"#REF!"}},{"$f":"'Pob x Genero'!#REF!","v":{"$error":"#REF!"}},"Hombre","00-04",{"$f":"'Pob x Genero'!#REF!","v":{"$error":"#REF!"}},1751]
[{"$f":"'Pob x Genero'!#REF!","v":{"$error":"#REF!"}},{"$f":"'Pob x Genero'!#REF!","v":{"$error":"#REF!"}},{"$f":"'Pob x Genero'!#REF!","v":{"$error":"#REF!"}},{"$f":"'Pob x Genero'!#REF!","v":{"$error":"#REF!"}},{"$f":"'Pob x Genero'!#REF!","v":{"$error":"#REF!"}},"Hombre","00-04",{"$f":"'Pob x Genero'!#REF!","v":{"$error":"#REF!"}},1752]
[{"$f":"'Pob x Genero'!#REF!","v":{"$error":"#REF!"}},{"$f":"'Pob x Genero'!#REF!","v":{"$error":"#REF!"}},{"$f":"'Pob x Genero'!#REF!","v":{"$error":"#REF!"}},{"$f":"'Pob x Genero'!#REF!","v":{"$error":"#REF!"}},{"$f":"'Pob x Genero'!#REF!","v":{"$error":"#REF!"}},"Hombre","00-04",{"$f":"'Pob x Genero'!#REF!","v":{"$error":"#REF!"}},1753]
[{"$f":"'Pob x Genero'!#REF!","v":{"$error":"#REF!"}},{"$f":"'Pob x Genero'!#REF!","v":{"$error":"#REF!"}},{"$f":"'Pob x Genero'!#REF!","v":{"$error":"#REF!"}},{"$f":"'Pob x Genero'!#REF!","v":{"$error":"#REF!"}},{"$f":"'Pob x Genero'!#REF!","v":{"$error":"#REF!"}},"Hombre","00-04",{"$f":"'Pob x Genero'!#REF!","v":{"$error":"#REF!"}},1754]
[{"$f":"'Pob x Genero'!#REF!","v":{"$error":"#REF!"}},{"$f":"'Pob x Genero'!#REF!","v":{"$error":"#REF!"}},{"$f":"'Pob x Genero'!#REF!","v":{"$error":"#REF!"}},{"$f":"'Pob x Genero'!#REF!","v":{"$error":"#REF!"}},{"$f":"'Pob x Genero'!#REF!","v":{"$error":"#REF!"}},"Hombre","00-04",{"$f":"'Pob x Genero'!#REF!","v":{"$error":"#REF!"}},1755]
[{"$f":"'Pob x Genero'!#REF!","v":{"$error":"#REF!"}},{"$f":"'Pob x Genero'!#REF!","v":{"$error":"#REF!"}},{"$f":"'Pob x Genero'!#REF!","v":{"$error":"#REF!"}},{"$f":"'Pob x Genero'!#REF!","v":{"$error":"#REF!"}},{"$f":"'Pob x Genero'!#REF!","v":{"$error":"#REF!"}},"Hombre","00-04",{"$f":"'Pob x Genero'!#REF!","v":{"$error":"#REF!"}},1756]
[{"$f":"'Pob x Genero'!#REF!","v":{"$error":"#REF!"}},{"$f":"'Pob x Genero'!#REF!","v":{"$error":"#REF!"}},{"$f":"'Pob x Genero'!#REF!","v":{"$error":"#REF!"}},{"$f":"'Pob x Genero'!#REF!","v":{"$error":"#REF!"}},{"$f":"'Pob x Genero'!#REF!","v":{"$error":"#REF!"}},"Hombre","00-04",{"$f":"'Pob x Genero'!#REF!","v":{"$error":"#REF!"}},1757]
[{"$f":"'Pob x Genero'!#REF!","v":{"$error":"#REF!"}},{"$f":"'Pob x Genero'!#REF!","v":{"$error":"#REF!"}},{"$f":"'Pob x Genero'!#REF!","v":{"$error":"#REF!"}},{"$f":"'Pob x Genero'!#REF!","v":{"$error":"#REF!"}},{"$f":"'Pob x Genero'!#REF!","v":{"$error":"#REF!"}},"Hombre","00-04",{"$f":"'Pob x Genero'!#REF!","v":{"$error":"#REF!"}},1758]
[{"$f":"'Pob x Genero'!#REF!","v":{"$error":"#REF!"}},{"$f":"'Pob x Genero'!#REF!","v":{"$error":"#REF!"}},{"$f":"'Pob x Genero'!#REF!","v":{"$error":"#REF!"}},{"$f":"'Pob x Genero'!#REF!","v":{"$error":"#REF!"}},{"$f":"'Pob x Genero'!#REF!","v":{"$error":"#REF!"}},"Hombre","00-04",{"$f":"'Pob x Genero'!#REF!","v":{"$error":"#REF!"}},1759]
[{"$f":"'Pob x Genero'!#REF!","v":{"$error":"#REF!"}},{"$f":"'Pob x Genero'!#REF!","v":{"$error":"#REF!"}},{"$f":"'Pob x Genero'!#REF!","v":{"$error":"#REF!"}},{"$f":"'Pob x Genero'!#REF!","v":{"$error":"#REF!"}},{"$f":"'Pob x Genero'!#REF!","v":{"$error":"#REF!"}},"Hombre","00-04",{"$f":"'Pob x Genero'!#REF!","v":{"$error":"#REF!"}},1760]
[{"$f":"'Pob x Genero'!#REF!","v":{"$error":"#REF!"}},{"$f":"'Pob x Genero'!#REF!","v":{"$error":"#REF!"}},{"$f":"'Pob x Genero'!#REF!","v":{"$error":"#REF!"}},{"$f":"'Pob x Genero'!#REF!","v":{"$error":"#REF!"}},{"$f":"'Pob x Genero'!#REF!","v":{"$error":"#REF!"}},"Hombre","00-04",{"$f":"'Pob x Genero'!#REF!","v":{"$error":"#REF!"}},1761]
[{"$f":"'Pob x Genero'!#REF!","v":{"$error":"#REF!"}},{"$f":"'Pob x Genero'!#REF!","v":{"$error":"#REF!"}},{"$f":"'Pob x Genero'!#REF!","v":{"$error":"#REF!"}},{"$f":"'Pob x Genero'!#REF!","v":{"$error":"#REF!"}},{"$f":"'Pob x Genero'!#REF!","v":{"$error":"#REF!"}},"Hombre","00-04",{"$f":"'Pob x Genero'!#REF!","v":{"$error":"#REF!"}},1762]
[{"$f":"'Pob x Genero'!#REF!","v":{"$error":"#REF!"}},{"$f":"'Pob x Genero'!#REF!","v":{"$error":"#REF!"}},{"$f":"'Pob x Genero'!#REF!","v":{"$error":"#REF!"}},{"$f":"'Pob x Genero'!#REF!","v":{"$error":"#REF!"}},{"$f":"'Pob x Genero'!#REF!","v":{"$error":"#REF!"}},"Hombre","00-04",{"$f":"'Pob x Genero'!#REF!","v":{"$error":"#REF!"}},1763]
[{"$f":"'Pob x Genero'!#REF!","v":{"$error":"#REF!"}},{"$f":"'Pob x Genero'!#REF!","v":{"$error":"#REF!"}},{"$f":"'Pob x Genero'!#REF!","v":{"$error":"#REF!"}},{"$f":"'Pob x Genero'!#REF!","v":{"$error":"#REF!"}},{"$f":"'Pob x Genero'!#REF!","v":{"$error":"#REF!"}},"Hombre","00-04",{"$f":"'Pob x Genero'!#REF!","v":{"$error":"#REF!"}},1764]
[{"$f":"'Pob x Genero'!#REF!","v":{"$error":"#REF!"}},{"$f":"'Pob x Genero'!#REF!","v":{"$error":"#REF!"}},{"$f":"'Pob x Genero'!#REF!","v":{"$error":"#REF!"}},{"$f":"'Pob x Genero'!#REF!","v":{"$error":"#REF!"}},{"$f":"'Pob x Genero'!#REF!","v":{"$error":"#REF!"}},"Hombre","00-04",{"$f":"'Pob x Genero'!#REF!","v":{"$error":"#REF!"}},1765]
[{"$f":"'Pob x Genero'!#REF!","v":{"$error":"#REF!"}},{"$f":"'Pob x Genero'!#REF!","v":{"$error":"#REF!"}},{"$f":"'Pob x Genero'!#REF!","v":{"$error":"#REF!"}},{"$f":"'Pob x Genero'!#REF!","v":{"$error":"#REF!"}},{"$f":"'Pob x Genero'!#REF!","v":{"$error":"#REF!"}},"Hombre","00-04",{"$f":"'Pob x Genero'!#REF!","v":{"$error":"#REF!"}},1766]
[{"$f":"'Pob x Genero'!#REF!","v":{"$error":"#REF!"}},{"$f":"'Pob x Genero'!#REF!","v":{"$error":"#REF!"}},{"$f":"'Pob x Genero'!#REF!","v":{"$error":"#REF!"}},{"$f":"'Pob x Genero'!#REF!","v":{"$error":"#REF!"}},{"$f":"'Pob x Genero'!#REF!","v":{"$error":"#REF!"}},"Hombre","00-04",{"$f":"'Pob x Genero'!#REF!","v":{"$error":"#REF!"}},1767]
[{"$f":"'Pob x Genero'!#REF!","v":{"$error":"#REF!"}},{"$f":"'Pob x Genero'!#REF!","v":{"$error":"#REF!"}},{"$f":"'Pob x Genero'!#REF!","v":{"$error":"#REF!"}},{"$f":"'Pob x Genero'!#REF!","v":{"$error":"#REF!"}},{"$f":"'Pob x Genero'!#REF!","v":{"$error":"#REF!"}},"Hombre","00-04",{"$f":"'Pob x Genero'!#REF!","v":{"$error":"#REF!"}},1768]
[{"$f":"'Pob x Genero'!#REF!","v":{"$error":"#REF!"}},{"$f":"'Pob x Genero'!#REF!","v":{"$error":"#REF!"}},{"$f":"'Pob x Genero'!#REF!","v":{"$error":"#REF!"}},{"$f":"'Pob x Genero'!#REF!","v":{"$error":"#REF!"}},{"$f":"'Pob x Genero'!#REF!","v":{"$error":"#REF!"}},"Hombre","00-04",{"$f":"'Pob x Genero'!#REF!","v":{"$error":"#REF!"}},1769]
[{"$f":"'Pob x Genero'!#REF!","v":{"$error":"#REF!"}},{"$f":"'Pob x Genero'!#REF!","v":{"$error":"#REF!"}},{"$f":"'Pob x Genero'!#REF!","v":{"$error":"#REF!"}},{"$f":"'Pob x Genero'!#REF!","v":{"$error":"#REF!"}},{"$f":"'Pob x Genero'!#REF!","v":{"$error":"#REF!"}},"Hombre","00-04",{"$f":"'Pob x Genero'!#REF!","v":{"$error":"#REF!"}},1770]
[{"$f":"'Pob x Genero'!#REF!","v":{"$error":"#REF!"}},{"$f":"'Pob x Genero'!#REF!","v":{"$error":"#REF!"}},{"$f":"'Pob x Genero'!#REF!","v":{"$error":"#REF!"}},{"$f":"'Pob x Genero'!#REF!","v":{"$error":"#REF!"}},{"$f":"'Pob x Genero'!#REF!","v":{"$error":"#REF!"}},"Hombre","00-04",{"$f":"'Pob x Genero'!#REF!","v":{"$error":"#REF!"}},1771]
[{"$f":"'Pob x Genero'!#REF!","v":{"$error":"#REF!"}},{"$f":"'Pob x Genero'!#REF!","v":{"$error":"#REF!"}},{"$f":"'Pob x Genero'!#REF!","v":{"$error":"#REF!"}},{"$f":"'Pob x Genero'!#REF!","v":{"$error":"#REF!"}},{"$f":"'Pob x Genero'!#REF!","v":{"$error":"#REF!"}},"Hombre","00-04",{"$f":"'Pob x Genero'!#REF!","v":{"$error":"#REF!"}},1772]
[{"$f":"'Pob x Genero'!#REF!","v":{"$error":"#REF!"}},{"$f":"'Pob x Genero'!#REF!","v":{"$error":"#REF!"}},{"$f":"'Pob x Genero'!#REF!","v":{"$error":"#REF!"}},{"$f":"'Pob x Genero'!#REF!","v":{"$error":"#REF!"}},{"$f":"'Pob x Genero'!#REF!","v":{"$error":"#REF!"}},"Hombre","00-04",{"$f":"'Pob x Genero'!#REF!","v":{"$error":"#REF!"}},1773]
[{"$f":"'Pob x Genero'!#REF!","v":{"$error":"#REF!"}},{"$f":"'Pob x Genero'!#REF!","v":{"$error":"#REF!"}},{"$f":"'Pob x Genero'!#REF!","v":{"$error":"#REF!"}},{"$f":"'Pob x Genero'!#REF!","v":{"$error":"#REF!"}},{"$f":"'Pob x Genero'!#REF!","v":{"$error":"#REF!"}},"Hombre","00-04",{"$f":"'Pob x Genero'!#REF!","v":{"$error":"#REF!"}},1774]
[{"$f":"'Pob x Genero'!#REF!","v":{"$error":"#REF!"}},{"$f":"'Pob x Genero'!#REF!","v":{"$error":"#REF!"}},{"$f":"'Pob x Genero'!#REF!","v":{"$error":"#REF!"}},{"$f":"'Pob x Genero'!#REF!","v":{"$error":"#REF!"}},{"$f":"'Pob x Genero'!#REF!","v":{"$error":"#REF!"}},"Hombre","00-04",{"$f":"'Pob x Genero'!#REF!","v":{"$error":"#REF!"}},1775]
[{"$f":"'Pob x Genero'!#REF!","v":{"$error":"#REF!"}},{"$f":"'Pob x Genero'!#REF!","v":{"$error":"#REF!"}},{"$f":"'Pob x Genero'!#REF!","v":{"$error":"#REF!"}},{"$f":"'Pob x Genero'!#REF!","v":{"$error":"#REF!"}},{"$f":"'Pob x Genero'!#REF!","v":{"$error":"#REF!"}},"Hombre","00-04",{"$f":"'Pob x Genero'!#REF!","v":{"$error":"#REF!"}},1776]
[{"$f":"'Pob x Genero'!#REF!","v":{"$error":"#REF!"}},{"$f":"'Pob x Genero'!#REF!","v":{"$error":"#REF!"}},{"$f":"'Pob x Genero'!#REF!","v":{"$error":"#REF!"}},{"$f":"'Pob x Genero'!#REF!","v":{"$error":"#REF!"}},{"$f":"'Pob x Genero'!#REF!","v":{"$error":"#REF!"}},"Hombre","00-04",{"$f":"'Pob x Genero'!#REF!","v":{"$error":"#REF!"}},1777]
[{"$f":"'Pob x Genero'!#REF!","v":{"$error":"#REF!"}},{"$f":"'Pob x Genero'!#REF!","v":{"$error":"#REF!"}},{"$f":"'Pob x Genero'!#REF!","v":{"$error":"#REF!"}},{"$f":"'Pob x Genero'!#REF!","v":{"$error":"#REF!"}},{"$f":"'Pob x Genero'!#REF!","v":{"$error":"#REF!"}},"Hombre","00-04",{"$f":"'Pob x Genero'!#REF!","v":{"$error":"#REF!"}},1778]
[{"$f":"'Pob x Genero'!#REF!","v":{"$error":"#REF!"}},{"$f":"'Pob x Genero'!#REF!","v":{"$error":"#REF!"}},{"$f":"'Pob x Genero'!#REF!","v":{"$error":"#REF!"}},{"$f":"'Pob x Genero'!#REF!","v":{"$error":"#REF!"}},{"$f":"'Pob x Genero'!#REF!","v":{"$error":"#REF!"}},"Hombre","00-04",{"$f":"'Pob x Genero'!#REF!","v":{"$error":"#REF!"}},1779]
[{"$f":"'Pob x Genero'!#REF!","v":{"$error":"#REF!"}},{"$f":"'Pob x Genero'!#REF!","v":{"$error":"#REF!"}},{"$f":"'Pob x Genero'!#REF!","v":{"$error":"#REF!"}},{"$f":"'Pob x Genero'!#REF!","v":{"$error":"#REF!"}},{"$f":"'Pob x Genero'!#REF!","v":{"$error":"#REF!"}},"Hombre","00-04",{"$f":"'Pob x Genero'!#REF!","v":{"$error":"#REF!"}},1780]
[{"$f":"'Pob x Genero'!#REF!","v":{"$error":"#REF!"}},{"$f":"'Pob x Genero'!#REF!","v":{"$error":"#REF!"}},{"$f":"'Pob x Genero'!#REF!","v":{"$error":"#REF!"}},{"$f":"'Pob x Genero'!#REF!","v":{"$error":"#REF!"}},{"$f":"'Pob x Genero'!#REF!","v":{"$error":"#REF!"}},"Hombre","00-04",{"$f":"'Pob x Genero'!#REF!","v":{"$error":"#REF!"}},1781]
[{"$f":"'Pob x Genero'!#REF!","v":{"$error":"#REF!"}},{"$f":"'Pob x Genero'!#REF!","v":{"$error":"#REF!"}},{"$f":"'Pob x Genero'!#REF!","v":{"$error":"#REF!"}},{"$f":"'Pob x Genero'!#REF!","v":{"$error":"#REF!"}},{"$f":"'Pob x Genero'!#REF!","v":{"$error":"#REF!"}},"Hombre","00-04",{"$f":"'Pob x Genero'!#REF!","v":{"$error":"#REF!"}},1782]
[{"$f":"'Pob x Genero'!#REF!","v":{"$error":"#REF!"}},{"$f":"'Pob x Genero'!#REF!","v":{"$error":"#REF!"}},{"$f":"'Pob x Genero'!#REF!","v":{"$error":"#REF!"}},{"$f":"'Pob x Genero'!#REF!","v":{"$error":"#REF!"}},{"$f":"'Pob x Genero'!#REF!","v":{"$error":"#REF!"}},"Hombre","00-04",{"$f":"'Pob x Genero'!#REF!","v":{"$error":"#REF!"}},1783]
[{"$f":"'Pob x Genero'!#REF!","v":{"$error":"#REF!"}},{"$f":"'Pob x Genero'!#REF!","v":{"$error":"#REF!"}},{"$f":"'Pob x Genero'!#REF!","v":{"$error":"#REF!"}},{"$f":"'Pob x Genero'!#REF!","v":{"$error":"#REF!"}},{"$f":"'Pob x Genero'!#REF!","v":{"$error":"#REF!"}},"Hombre","00-04",{"$f":"'Pob x Genero'!#REF!","v":{"$error":"#REF!"}},1784]
[{"$f":"'Pob x Genero'!#REF!","v":{"$error":"#REF!"}},{"$f":"'Pob x Genero'!#REF!","v":{"$error":"#REF!"}},{"$f":"'Pob x Genero'!#REF!","v":{"$error":"#REF!"}},{"$f":"'Pob x Genero'!#REF!","v":{"$error":"#REF!"}},{"$f":"'Pob x Genero'!#REF!","v":{"$error":"#REF!"}},"Hombre","00-04",{"$f":"'Pob x Genero'!#REF!","v":{"$error":"#REF!"}},1785]
[{"$f":"'Pob x Genero'!#REF!","v":{"$error":"#REF!"}},{"$f":"'Pob x Genero'!#REF!","v":{"$error":"#REF!"}},{"$f":"'Pob x Genero'!#REF!","v":{"$error":"#REF!"}},{"$f":"'Pob x Genero'!#REF!","v":{"$error":"#REF!"}},{"$f":"'Pob x Genero'!#REF!","v":{"$error":"#REF!"}},"Hombre","00-04",{"$f":"'Pob x Genero'!#REF!","v":{"$error":"#REF!"}},1786]
[{"$f":"'Pob x Genero'!#REF!","v":{"$error":"#REF!"}},{"$f":"'Pob x Genero'!#REF!","v":{"$error":"#REF!"}},{"$f":"'Pob x Genero'!#REF!","v":{"$error":"#REF!"}},{"$f":"'Pob x Genero'!#REF!","v":{"$error":"#REF!"}},{"$f":"'Pob x Genero'!#REF!","v":{"$error":"#REF!"}},"Hombre","00-04",{"$f":"'Pob x Genero'!#REF!","v":{"$error":"#REF!"}},1787]
[{"$f":"'Pob x Genero'!#REF!","v":{"$error":"#REF!"}},{"$f":"'Pob x Genero'!#REF!","v":{"$error":"#REF!"}},{"$f":"'Pob x Genero'!#REF!","v":{"$error":"#REF!"}},{"$f":"'Pob x Genero'!#REF!","v":{"$error":"#REF!"}},{"$f":"'Pob x Genero'!#REF!","v":{"$error":"#REF!"}},"Hombre","00-04",{"$f":"'Pob x Genero'!#REF!","v":{"$error":"#REF!"}},1788]
[{"$f":"'Pob x Genero'!#REF!","v":{"$error":"#REF!"}},{"$f":"'Pob x Genero'!#REF!","v":{"$error":"#REF!"}},{"$f":"'Pob x Genero'!#REF!","v":{"$error":"#REF!"}},{"$f":"'Pob x Genero'!#REF!","v":{"$error":"#REF!"}},{"$f":"'Pob x Genero'!#REF!","v":{"$error":"#REF!"}},"Hombre","00-04",{"$f":"'Pob x Genero'!#REF!","v":{"$error":"#REF!"}},1789]
[{"$f":"'Pob x Genero'!#REF!","v":{"$error":"#REF!"}},{"$f":"'Pob x Genero'!#REF!","v":{"$error":"#REF!"}},{"$f":"'Pob x Genero'!#REF!","v":{"$error":"#REF!"}},{"$f":"'Pob x Genero'!#REF!","v":{"$error":"#REF!"}},{"$f":"'Pob x Genero'!#REF!","v":{"$error":"#REF!"}},"Hombre","00-04",{"$f":"'Pob x Genero'!#REF!","v":{"$error":"#REF!"}},1790]
[{"$f":"'Pob x Genero'!#REF!","v":{"$error":"#REF!"}},{"$f":"'Pob x Genero'!#REF!","v":{"$error":"#REF!"}},{"$f":"'Pob x Genero'!#REF!","v":{"$error":"#REF!"}},{"$f":"'Pob x Genero'!#REF!","v":{"$error":"#REF!"}},{"$f":"'Pob x Genero'!#REF!","v":{"$error":"#REF!"}},"Hombre","00-04",{"$f":"'Pob x Genero'!#REF!","v":{"$error":"#REF!"}},1791]
[{"$f":"'Pob x Genero'!#REF!","v":{"$error":"#REF!"}},{"$f":"'Pob x Genero'!#REF!","v":{"$error":"#REF!"}},{"$f":"'Pob x Genero'!#REF!","v":{"$error":"#REF!"}},{"$f":"'Pob x Genero'!#REF!","v":{"$error":"#REF!"}},{"$f":"'Pob x Genero'!#REF!","v":{"$error":"#REF!"}},"Hombre","00-04",{"$f":"'Pob x Genero'!#REF!","v":{"$error":"#REF!"}},1792]
[{"$f":"'Pob x Genero'!#REF!","v":{"$error":"#REF!"}},{"$f":"'Pob x Genero'!#REF!","v":{"$error":"#REF!"}},{"$f":"'Pob x Genero'!#REF!","v":{"$error":"#REF!"}},{"$f":"'Pob x Genero'!#REF!","v":{"$error":"#REF!"}},{"$f":"'Pob x Genero'!#REF!","v":{"$error":"#REF!"}},"Hombre","00-04",{"$f":"'Pob x Genero'!#REF!","v":{"$error":"#REF!"}},1793]
[{"$f":"'Pob x Genero'!#REF!","v":{"$error":"#REF!"}},{"$f":"'Pob x Genero'!#REF!","v":{"$error":"#REF!"}},{"$f":"'Pob x Genero'!#REF!","v":{"$error":"#REF!"}},{"$f":"'Pob x Genero'!#REF!","v":{"$error":"#REF!"}},{"$f":"'Pob x Genero'!#REF!","v":{"$error":"#REF!"}},"Hombre","00-04",{"$f":"'Pob x Genero'!#REF!","v":{"$error":"#REF!"}},1794]
[{"$f":"'Pob x Genero'!#REF!","v":{"$error":"#REF!"}},{"$f":"'Pob x Genero'!#REF!","v":{"$error":"#REF!"}},{"$f":"'Pob x Genero'!#REF!","v":{"$error":"#REF!"}},{"$f":"'Pob x Genero'!#REF!","v":{"$error":"#REF!"}},{"$f":"'Pob x Genero'!#REF!","v":{"$error":"#REF!"}},{"$f":"F1795","v":"Hombre"},{"$f":"G1795","v":"00-04"},{"$f":"'Pob x Genero'!#REF!","v":{"$error":"#REF!"}},1795]
[{"$f":"'Pob x Genero'!#REF!","v":{"$error":"#REF!"}},{"$f":"'Pob x Genero'!#REF!","v":{"$error":"#REF!"}},{"$f":"'Pob x Genero'!#REF!","v":{"$error":"#REF!"}},{"$f":"'Pob x Genero'!#REF!","v":{"$error":"#REF!"}},{"$f":"'Pob x Genero'!#REF!","v":{"$error":"#REF!"}},"Hombre","00-04",{"$f":"'Pob x Genero'!#REF!","v":{"$error":"#REF!"}},1796]
[{"$f":"'Pob x Genero'!#REF!","v":{"$error":"#REF!"}},{"$f":"'Pob x Genero'!#REF!","v":{"$error":"#REF!"}},{"$f":"'Pob x Genero'!#REF!","v":{"$error":"#REF!"}},{"$f":"'Pob x Genero'!#REF!","v":{"$error":"#REF!"}},{"$f":"'Pob x Genero'!#REF!","v":{"$error":"#REF!"}},"Hombre","00-04",{"$f":"'Pob x Genero'!#REF!","v":{"$error":"#REF!"}},1797]
[{"$f":"'Pob x Genero'!#REF!","v":{"$error":"#REF!"}},{"$f":"'Pob x Genero'!#REF!","v":{"$error":"#REF!"}},{"$f":"'Pob x Genero'!#REF!","v":{"$error":"#REF!"}},{"$f":"'Pob x Genero'!#REF!","v":{"$error":"#REF!"}},{"$f":"'Pob x Genero'!#REF!","v":{"$error":"#REF!"}},"Hombre","00-04",{"$f":"'Pob x Genero'!#REF!","v":{"$error":"#REF!"}},1798]
[{"$f":"'Pob x Genero'!#REF!","v":{"$error":"#REF!"}},{"$f":"'Pob x Genero'!#REF!","v":{"$error":"#REF!"}},{"$f":"'Pob x Genero'!#REF!","v":{"$error":"#REF!"}},{"$f":"'Pob x Genero'!#REF!","v":{"$error":"#REF!"}},{"$f":"'Pob x Genero'!#REF!","v":{"$error":"#REF!"}},"Hombre","00-04",{"$f":"'Pob x Genero'!#REF!","v":{"$error":"#REF!"}},1799]
[{"$f":"'Pob x Genero'!#REF!","v":{"$error":"#REF!"}},{"$f":"'Pob x Genero'!#REF!","v":{"$error":"#REF!"}},{"$f":"'Pob x Genero'!#REF!","v":{"$error":"#REF!"}},{"$f":"'Pob x Genero'!#REF!","v":{"$error":"#REF!"}},{"$f":"'Pob x Genero'!#REF!","v":{"$error":"#REF!"}},"Hombre","00-04",{"$f":"'Pob x Genero'!#REF!","v":{"$error":"#REF!"}},1800]
[{"$f":"'Pob x Genero'!#REF!","v":{"$error":"#REF!"}},{"$f":"'Pob x Genero'!#REF!","v":{"$error":"#REF!"}},{"$f":"'Pob x Genero'!#REF!","v":{"$error":"#REF!"}},{"$f":"'Pob x Genero'!#REF!","v":{"$error":"#REF!"}},{"$f":"'Pob x Genero'!#REF!","v":{"$error":"#REF!"}},"Hombre","00-04",{"$f":"'Pob x Genero'!#REF!","v":{"$error":"#REF!"}},1801]
[{"$f":"'Pob x Genero'!#REF!","v":{"$error":"#REF!"}},{"$f":"'Pob x Genero'!#REF!","v":{"$error":"#REF!"}},{"$f":"'Pob x Genero'!#REF!","v":{"$error":"#REF!"}},{"$f":"'Pob x Genero'!#REF!","v":{"$error":"#REF!"}},{"$f":"'Pob x Genero'!#REF!","v":{"$error":"#REF!"}},"Hombre","00-04",{"$f":"'Pob x Genero'!#REF!","v":{"$error":"#REF!"}},1802]
[{"$f":"'Pob x Genero'!#REF!","v":{"$error":"#REF!"}},{"$f":"'Pob x Genero'!#REF!","v":{"$error":"#REF!"}},{"$f":"'Pob x Genero'!#REF!","v":{"$error":"#REF!"}},{"$f":"'Pob x Genero'!#REF!","v":{"$error":"#REF!"}},{"$f":"'Pob x Genero'!#REF!","v":{"$error":"#REF!"}},"Hombre","00-04",{"$f":"'Pob x Genero'!#REF!","v":{"$error":"#REF!"}},1803]
[{"$f":"'Pob x Genero'!#REF!","v":{"$error":"#REF!"}},{"$f":"'Pob x Genero'!#REF!","v":{"$error":"#REF!"}},{"$f":"'Pob x Genero'!#REF!","v":{"$error":"#REF!"}},{"$f":"'Pob x Genero'!#REF!","v":{"$error":"#REF!"}},{"$f":"'Pob x Genero'!#REF!","v":{"$error":"#REF!"}},"Hombre","00-04",{"$f":"'Pob x Genero'!#REF!","v":{"$error":"#REF!"}},1804]
[{"$f":"'Pob x Genero'!#REF!","v":{"$error":"#REF!"}},{"$f":"'Pob x Genero'!#REF!","v":{"$error":"#REF!"}},{"$f":"'Pob x Genero'!#REF!","v":{"$error":"#REF!"}},{"$f":"'Pob x Genero'!#REF!","v":{"$error":"#REF!"}},{"$f":"'Pob x Genero'!#REF!","v":{"$error":"#REF!"}},"Hombre","00-04",{"$f":"'Pob x Genero'!#REF!","v":{"$error":"#REF!"}},1805]
[{"$f":"'Pob x Genero'!#REF!","v":{"$error":"#REF!"}},{"$f":"'Pob x Genero'!#REF!","v":{"$error":"#REF!"}},{"$f":"'Pob x Genero'!#REF!","v":{"$error":"#REF!"}},{"$f":"'Pob x Genero'!#REF!","v":{"$error":"#REF!"}},{"$f":"'Pob x Genero'!#REF!","v":{"$error":"#REF!"}},"Hombre","00-04",{"$f":"'Pob x Genero'!#REF!","v":{"$error":"#REF!"}},1806]
[{"$f":"'Pob x Genero'!#REF!","v":{"$error":"#REF!"}},{"$f":"'Pob x Genero'!#REF!","v":{"$error":"#REF!"}},{"$f":"'Pob x Genero'!#REF!","v":{"$error":"#REF!"}},{"$f":"'Pob x Genero'!#REF!","v":{"$error":"#REF!"}},{"$f":"'Pob x Genero'!#REF!","v":{"$error":"#REF!"}},"Hombre","00-04",{"$f":"'Pob x Genero'!#REF!","v":{"$error":"#REF!"}},1807]
[{"$f":"'Pob x Genero'!#REF!","v":{"$error":"#REF!"}},{"$f":"'Pob x Genero'!#REF!","v":{"$error":"#REF!"}},{"$f":"'Pob x Genero'!#REF!","v":{"$error":"#REF!"}},{"$f":"'Pob x Genero'!#REF!","v":{"$error":"#REF!"}},{"$f":"'Pob x Genero'!#REF!","v":{"$error":"#REF!"}},"Hombre","00-04",{"$f":"'Pob x Genero'!#REF!","v":{"$error":"#REF!"}},1808]
[{"$f":"'Pob x Genero'!#REF!","v":{"$error":"#REF!"}},{"$f":"'Pob x Genero'!#REF!","v":{"$error":"#REF!"}},{"$f":"'Pob x Genero'!#REF!","v":{"$error":"#REF!"}},{"$f":"'Pob x Genero'!#REF!","v":{"$error":"#REF!"}},{"$f":"'Pob x Genero'!#REF!","v":{"$error":"#REF!"}},"Hombre","00-04",{"$f":"'Pob x Genero'!#REF!","v":{"$error":"#REF!"}},1809]
[{"$f":"'Pob x Genero'!#REF!","v":{"$error":"#REF!"}},{"$f":"'Pob x Genero'!#REF!","v":{"$error":"#REF!"}},{"$f":"'Pob x Genero'!#REF!","v":{"$error":"#REF!"}},{"$f":"'Pob x Genero'!#REF!","v":{"$error":"#REF!"}},{"$f":"'Pob x Genero'!#REF!","v":{"$error":"#REF!"}},"Hombre","00-04",{"$f":"'Pob x Genero'!#REF!","v":{"$error":"#REF!"}},1810]
[{"$f":"'Pob x Genero'!#REF!","v":{"$error":"#REF!"}},{"$f":"'Pob x Genero'!#REF!","v":{"$error":"#REF!"}},{"$f":"'Pob x Genero'!#REF!","v":{"$error":"#REF!"}},{"$f":"'Pob x Genero'!#REF!","v":{"$error":"#REF!"}},{"$f":"'Pob x Genero'!#REF!","v":{"$error":"#REF!"}},"Hombre","00-04",{"$f":"'Pob x Genero'!#REF!","v":{"$error":"#REF!"}},1811]
[{"$f":"'Pob x Genero'!#REF!","v":{"$error":"#REF!"}},{"$f":"'Pob x Genero'!#REF!","v":{"$error":"#REF!"}},{"$f":"'Pob x Genero'!#REF!","v":{"$error":"#REF!"}},{"$f":"'Pob x Genero'!#REF!","v":{"$error":"#REF!"}},{"$f":"'Pob x Genero'!#REF!","v":{"$error":"#REF!"}},"Hombre","00-04",{"$f":"'Pob x Genero'!#REF!","v":{"$error":"#REF!"}},1812]
[{"$f":"'Pob x Genero'!#REF!","v":{"$error":"#REF!"}},{"$f":"'Pob x Genero'!#REF!","v":{"$error":"#REF!"}},{"$f":"'Pob x Genero'!#REF!","v":{"$error":"#REF!"}},{"$f":"'Pob x Genero'!#REF!","v":{"$error":"#REF!"}},{"$f":"'Pob x Genero'!#REF!","v":{"$error":"#REF!"}},"Hombre","00-04",{"$f":"'Pob x Genero'!#REF!","v":{"$error":"#REF!"}},1813]
[{"$f":"'Pob x Genero'!#REF!","v":{"$error":"#REF!"}},{"$f":"'Pob x Genero'!#REF!","v":{"$error":"#REF!"}},{"$f":"'Pob x Genero'!#REF!","v":{"$error":"#REF!"}},{"$f":"'Pob x Genero'!#REF!","v":{"$error":"#REF!"}},{"$f":"'Pob x Genero'!#REF!","v":{"$error":"#REF!"}},"Hombre","00-04",{"$f":"'Pob x Genero'!#REF!","v":{"$error":"#REF!"}},1814]
[{"$f":"'Pob x Genero'!#REF!","v":{"$error":"#REF!"}},{"$f":"'Pob x Genero'!#REF!","v":{"$error":"#REF!"}},{"$f":"'Pob x Genero'!#REF!","v":{"$error":"#REF!"}},{"$f":"'Pob x Genero'!#REF!","v":{"$error":"#REF!"}},{"$f":"'Pob x Genero'!#REF!","v":{"$error":"#REF!"}},"Hombre","00-04",{"$f":"'Pob x Genero'!#REF!","v":{"$error":"#REF!"}},1815]
[{"$f":"'Pob x Genero'!#REF!","v":{"$error":"#REF!"}},{"$f":"'Pob x Genero'!#REF!","v":{"$error":"#REF!"}},{"$f":"'Pob x Genero'!#REF!","v":{"$error":"#REF!"}},{"$f":"'Pob x Genero'!#REF!","v":{"$error":"#REF!"}},{"$f":"'Pob x Genero'!#REF!","v":{"$error":"#REF!"}},"Hombre","00-04",{"$f":"'Pob x Genero'!#REF!","v":{"$error":"#REF!"}},1816]
[{"$f":"'Pob x Genero'!#REF!","v":{"$error":"#REF!"}},{"$f":"'Pob x Genero'!#REF!","v":{"$error":"#REF!"}},{"$f":"'Pob x Genero'!#REF!","v":{"$error":"#REF!"}},{"$f":"'Pob x Genero'!#REF!","v":{"$error":"#REF!"}},{"$f":"'Pob x Genero'!#REF!","v":{"$error":"#REF!"}},"Hombre","00-04",{"$f":"'Pob x Genero'!#REF!","v":{"$error":"#REF!"}},1817]
[{"$f":"'Pob x Genero'!#REF!","v":{"$error":"#REF!"}},{"$f":"'Pob x Genero'!#REF!","v":{"$error":"#REF!"}},{"$f":"'Pob x Genero'!#REF!","v":{"$error":"#REF!"}},{"$f":"'Pob x Genero'!#REF!","v":{"$error":"#REF!"}},{"$f":"'Pob x Genero'!#REF!","v":{"$error":"#REF!"}},"Hombre","00-04",{"$f":"'Pob x Genero'!#REF!","v":{"$error":"#REF!"}},1818]
[{"$f":"'Pob x Genero'!#REF!","v":{"$error":"#REF!"}},{"$f":"'Pob x Genero'!#REF!","v":{"$error":"#REF!"}},{"$f":"'Pob x Genero'!#REF!","v":{"$error":"#REF!"}},{"$f":"'Pob x Genero'!#REF!","v":{"$error":"#REF!"}},{"$f":"'Pob x Genero'!#REF!","v":{"$error":"#REF!"}},"Hombre","00-04",{"$f":"'Pob x Genero'!#REF!","v":{"$error":"#REF!"}},1819]
[{"$f":"'Pob x Genero'!#REF!","v":{"$error":"#REF!"}},{"$f":"'Pob x Genero'!#REF!","v":{"$error":"#REF!"}},{"$f":"'Pob x Genero'!#REF!","v":{"$error":"#REF!"}},{"$f":"'Pob x Genero'!#REF!","v":{"$error":"#REF!"}},{"$f":"'Pob x Genero'!#REF!","v":{"$error":"#REF!"}},"Hombre","00-04",{"$f":"'Pob x Genero'!#REF!","v":{"$error":"#REF!"}},1820]
[{"$f":"'Pob x Genero'!#REF!","v":{"$error":"#REF!"}},{"$f":"'Pob x Genero'!#REF!","v":{"$error":"#REF!"}},{"$f":"'Pob x Genero'!#REF!","v":{"$error":"#REF!"}},{"$f":"'Pob x Genero'!#REF!","v":{"$error":"#REF!"}},{"$f":"'Pob x Genero'!#REF!","v":{"$error":"#REF!"}},"Hombre","00-04",{"$f":"'Pob x Genero'!#REF!","v":{"$error":"#REF!"}},1821]
[{"$f":"'Pob x Genero'!#REF!","v":{"$error":"#REF!"}},{"$f":"'Pob x Genero'!#REF!","v":{"$error":"#REF!"}},{"$f":"'Pob x Genero'!#REF!","v":{"$error":"#REF!"}},{"$f":"'Pob x Genero'!#REF!","v":{"$error":"#REF!"}},{"$f":"'Pob x Genero'!#REF!","v":{"$error":"#REF!"}},"Hombre","00-04",{"$f":"'Pob x Genero'!#REF!","v":{"$error":"#REF!"}},1822]
[{"$f":"'Pob x Genero'!#REF!","v":{"$error":"#REF!"}},{"$f":"'Pob x Genero'!#REF!","v":{"$error":"#REF!"}},{"$f":"'Pob x Genero'!#REF!","v":{"$error":"#REF!"}},{"$f":"'Pob x Genero'!#REF!","v":{"$error":"#REF!"}},{"$f":"'Pob x Genero'!#REF!","v":{"$error":"#REF!"}},"Hombre","00-04",{"$f":"'Pob x Genero'!#REF!","v":{"$error":"#REF!"}},1823]
[{"$f":"'Pob x Genero'!#REF!","v":{"$error":"#REF!"}},{"$f":"'Pob x Genero'!#REF!","v":{"$error":"#REF!"}},{"$f":"'Pob x Genero'!#REF!","v":{"$error":"#REF!"}},{"$f":"'Pob x Genero'!#REF!","v":{"$error":"#REF!"}},{"$f":"'Pob x Genero'!#REF!","v":{"$error":"#REF!"}},"Hombre","00-04",{"$f":"'Pob x Genero'!#REF!","v":{"$error":"#REF!"}},1824]
[{"$f":"'Pob x Genero'!#REF!","v":{"$error":"#REF!"}},{"$f":"'Pob x Genero'!#REF!","v":{"$error":"#REF!"}},{"$f":"'Pob x Genero'!#REF!","v":{"$error":"#REF!"}},{"$f":"'Pob x Genero'!#REF!","v":{"$error":"#REF!"}},{"$f":"'Pob x Genero'!#REF!","v":{"$error":"#REF!"}},"Hombre","00-04",{"$f":"'Pob x Genero'!#REF!","v":{"$error":"#REF!"}},1825]
[{"$f":"'Pob x Genero'!#REF!","v":{"$error":"#REF!"}},{"$f":"'Pob x Genero'!#REF!","v":{"$error":"#REF!"}},{"$f":"'Pob x Genero'!#REF!","v":{"$error":"#REF!"}},{"$f":"'Pob x Genero'!#REF!","v":{"$error":"#REF!"}},{"$f":"'Pob x Genero'!#REF!","v":{"$error":"#REF!"}},"Hombre","00-04",{"$f":"'Pob x Genero'!#REF!","v":{"$error":"#REF!"}},1826]
[{"$f":"'Pob x Genero'!#REF!","v":{"$error":"#REF!"}},{"$f":"'Pob x Genero'!#REF!","v":{"$error":"#REF!"}},{"$f":"'Pob x Genero'!#REF!","v":{"$error":"#REF!"}},{"$f":"'Pob x Genero'!#REF!","v":{"$error":"#REF!"}},{"$f":"'Pob x Genero'!#REF!","v":{"$error":"#REF!"}},"Hombre","00-04",{"$f":"'Pob x Genero'!#REF!","v":{"$error":"#REF!"}},1827]
[{"$f":"'Pob x Genero'!#REF!","v":{"$error":"#REF!"}},{"$f":"'Pob x Genero'!#REF!","v":{"$error":"#REF!"}},{"$f":"'Pob x Genero'!#REF!","v":{"$error":"#REF!"}},{"$f":"'Pob x Genero'!#REF!","v":{"$error":"#REF!"}},{"$f":"'Pob x Genero'!#REF!","v":{"$error":"#REF!"}},"Hombre","00-04",{"$f":"'Pob x Genero'!#REF!","v":{"$error":"#REF!"}},1828]
[{"$f":"'Pob x Genero'!#REF!","v":{"$error":"#REF!"}},{"$f":"'Pob x Genero'!#REF!","v":{"$error":"#REF!"}},{"$f":"'Pob x Genero'!#REF!","v":{"$error":"#REF!"}},{"$f":"'Pob x Genero'!#REF!","v":{"$error":"#REF!"}},{"$f":"'Pob x Genero'!#REF!","v":{"$error":"#REF!"}},"Hombre","00-04",{"$f":"'Pob x Genero'!#REF!","v":{"$error":"#REF!"}},1829]
[{"$f":"'Pob x Genero'!#REF!","v":{"$error":"#REF!"}},{"$f":"'Pob x Genero'!#REF!","v":{"$error":"#REF!"}},{"$f":"'Pob x Genero'!#REF!","v":{"$error":"#REF!"}},{"$f":"'Pob x Genero'!#REF!","v":{"$error":"#REF!"}},{"$f":"'Pob x Genero'!#REF!","v":{"$error":"#REF!"}},"Hombre","00-04",{"$f":"'Pob x Genero'!#REF!","v":{"$error":"#REF!"}},1830]
[{"$f":"'Pob x Genero'!#REF!","v":{"$error":"#REF!"}},{"$f":"'Pob x Genero'!#REF!","v":{"$error":"#REF!"}},{"$f":"'Pob x Genero'!#REF!","v":{"$error":"#REF!"}},{"$f":"'Pob x Genero'!#REF!","v":{"$error":"#REF!"}},{"$f":"'Pob x Genero'!#REF!","v":{"$error":"#REF!"}},"Hombre","00-04",{"$f":"'Pob x Genero'!#REF!","v":{"$error":"#REF!"}},1831]
[{"$f":"'Pob x Genero'!#REF!","v":{"$error":"#REF!"}},{"$f":"'Pob x Genero'!#REF!","v":{"$error":"#REF!"}},{"$f":"'Pob x Genero'!#REF!","v":{"$error":"#REF!"}},{"$f":"'Pob x Genero'!#REF!","v":{"$error":"#REF!"}},{"$f":"'Pob x Genero'!#REF!","v":{"$error":"#REF!"}},"Hombre","00-04",{"$f":"'Pob x Genero'!#REF!","v":{"$error":"#REF!"}},1832]
[{"$f":"'Pob x Genero'!#REF!","v":{"$error":"#REF!"}},{"$f":"'Pob x Genero'!#REF!","v":{"$error":"#REF!"}},{"$f":"'Pob x Genero'!#REF!","v":{"$error":"#REF!"}},{"$f":"'Pob x Genero'!#REF!","v":{"$error":"#REF!"}},{"$f":"'Pob x Genero'!#REF!","v":{"$error":"#REF!"}},"Hombre","00-04",{"$f":"'Pob x Genero'!#REF!","v":{"$error":"#REF!"}},1833]
[{"$f":"'Pob x Genero'!#REF!","v":{"$error":"#REF!"}},{"$f":"'Pob x Genero'!#REF!","v":{"$error":"#REF!"}},{"$f":"'Pob x Genero'!#REF!","v":{"$error":"#REF!"}},{"$f":"'Pob x Genero'!#REF!","v":{"$error":"#REF!"}},{"$f":"'Pob x Genero'!#REF!","v":{"$error":"#REF!"}},"Hombre","00-04",{"$f":"'Pob x Genero'!#REF!","v":{"$error":"#REF!"}},1834]
[{"$f":"'Pob x Genero'!#REF!","v":{"$error":"#REF!"}},{"$f":"'Pob x Genero'!#REF!","v":{"$error":"#REF!"}},{"$f":"'Pob x Genero'!#REF!","v":{"$error":"#REF!"}},{"$f":"'Pob x Genero'!#REF!","v":{"$error":"#REF!"}},{"$f":"'Pob x Genero'!#REF!","v":{"$error":"#REF!"}},"Hombre","00-04",{"$f":"'Pob x Genero'!#REF!","v":{"$error":"#REF!"}},1835]
[{"$f":"'Pob x Genero'!#REF!","v":{"$error":"#REF!"}},{"$f":"'Pob x Genero'!#REF!","v":{"$error":"#REF!"}},{"$f":"'Pob x Genero'!#REF!","v":{"$error":"#REF!"}},{"$f":"'Pob x Genero'!#REF!","v":{"$error":"#REF!"}},{"$f":"'Pob x Genero'!#REF!","v":{"$error":"#REF!"}},"Hombre","00-04",{"$f":"'Pob x Genero'!#REF!","v":{"$error":"#REF!"}},1836]
[{"$f":"'Pob x Genero'!#REF!","v":{"$error":"#REF!"}},{"$f":"'Pob x Genero'!#REF!","v":{"$error":"#REF!"}},{"$f":"'Pob x Genero'!#REF!","v":{"$error":"#REF!"}},{"$f":"'Pob x Genero'!#REF!","v":{"$error":"#REF!"}},{"$f":"'Pob x Genero'!#REF!","v":{"$error":"#REF!"}},"Hombre","00-04",{"$f":"'Pob x Genero'!#REF!","v":{"$error":"#REF!"}},1837]
[{"$f":"'Pob x Genero'!#REF!","v":{"$error":"#REF!"}},{"$f":"'Pob x Genero'!#REF!","v":{"$error":"#REF!"}},{"$f":"'Pob x Genero'!#REF!","v":{"$error":"#REF!"}},{"$f":"'Pob x Genero'!#REF!","v":{"$error":"#REF!"}},{"$f":"'Pob x Genero'!#REF!","v":{"$error":"#REF!"}},"Hombre","00-04",{"$f":"'Pob x Genero'!#REF!","v":{"$error":"#REF!"}},1838]
[{"$f":"'Pob x Genero'!#REF!","v":{"$error":"#REF!"}},{"$f":"'Pob x Genero'!#REF!","v":{"$error":"#REF!"}},{"$f":"'Pob x Genero'!#REF!","v":{"$error":"#REF!"}},{"$f":"'Pob x Genero'!#REF!","v":{"$error":"#REF!"}},{"$f":"'Pob x Genero'!#REF!","v":{"$error":"#REF!"}},"Hombre","00-04",{"$f":"'Pob x Genero'!#REF!","v":{"$error":"#REF!"}},1839]
[{"$f":"'Pob x Genero'!#REF!","v":{"$error":"#REF!"}},{"$f":"'Pob x Genero'!#REF!","v":{"$error":"#REF!"}},{"$f":"'Pob x Genero'!#REF!","v":{"$error":"#REF!"}},{"$f":"'Pob x Genero'!#REF!","v":{"$error":"#REF!"}},{"$f":"'Pob x Genero'!#REF!","v":{"$error":"#REF!"}},"Hombre","00-04",{"$f":"'Pob x Genero'!#REF!","v":{"$error":"#REF!"}},1840]
[{"$f":"'Pob x Genero'!#REF!","v":{"$error":"#REF!"}},{"$f":"'Pob x Genero'!#REF!","v":{"$error":"#REF!"}},{"$f":"'Pob x Genero'!#REF!","v":{"$error":"#REF!"}},{"$f":"'Pob x Genero'!#REF!","v":{"$error":"#REF!"}},{"$f":"'Pob x Genero'!#REF!","v":{"$error":"#REF!"}},"Hombre","00-04",{"$f":"'Pob x Genero'!#REF!","v":{"$error":"#REF!"}},1841]
[{"$f":"'Pob x Genero'!#REF!","v":{"$error":"#REF!"}},{"$f":"'Pob x Genero'!#REF!","v":{"$error":"#REF!"}},{"$f":"'Pob x Genero'!#REF!","v":{"$error":"#REF!"}},{"$f":"'Pob x Genero'!#REF!","v":{"$error":"#REF!"}},{"$f":"'Pob x Genero'!#REF!","v":{"$error":"#REF!"}},"Hombre","00-04",{"$f":"'Pob x Genero'!#REF!","v":{"$error":"#REF!"}},1842]
[{"$f":"'Pob x Genero'!#REF!","v":{"$error":"#REF!"}},{"$f":"'Pob x Genero'!#REF!","v":{"$error":"#REF!"}},{"$f":"'Pob x Genero'!#REF!","v":{"$error":"#REF!"}},{"$f":"'Pob x Genero'!#REF!","v":{"$error":"#REF!"}},{"$f":"'Pob x Genero'!#REF!","v":{"$error":"#REF!"}},"Hombre","00-04",{"$f":"'Pob x Genero'!#REF!","v":{"$error":"#REF!"}},1843]
[{"$f":"'Pob x Genero'!#REF!","v":{"$error":"#REF!"}},{"$f":"'Pob x Genero'!#REF!","v":{"$error":"#REF!"}},{"$f":"'Pob x Genero'!#REF!","v":{"$error":"#REF!"}},{"$f":"'Pob x Genero'!#REF!","v":{"$error":"#REF!"}},{"$f":"'Pob x Genero'!#REF!","v":{"$error":"#REF!"}},"Hombre","00-04",{"$f":"'Pob x Genero'!#REF!","v":{"$error":"#REF!"}},1844]
[{"$f":"'Pob x Genero'!#REF!","v":{"$error":"#REF!"}},{"$f":"'Pob x Genero'!#REF!","v":{"$error":"#REF!"}},{"$f":"'Pob x Genero'!#REF!","v":{"$error":"#REF!"}},{"$f":"'Pob x Genero'!#REF!","v":{"$error":"#REF!"}},{"$f":"'Pob x Genero'!#REF!","v":{"$error":"#REF!"}},"Hombre","00-04",{"$f":"'Pob x Genero'!#REF!","v":{"$error":"#REF!"}},1845]
[{"$f":"'Pob x Genero'!#REF!","v":{"$error":"#REF!"}},{"$f":"'Pob x Genero'!#REF!","v":{"$error":"#REF!"}},{"$f":"'Pob x Genero'!#REF!","v":{"$error":"#REF!"}},{"$f":"'Pob x Genero'!#REF!","v":{"$error":"#REF!"}},{"$f":"'Pob x Genero'!#REF!","v":{"$error":"#REF!"}},"Hombre","00-04",{"$f":"'Pob x Genero'!#REF!","v":{"$error":"#REF!"}},1846]
[{"$f":"'Pob x Genero'!#REF!","v":{"$error":"#REF!"}},{"$f":"'Pob x Genero'!#REF!","v":{"$error":"#REF!"}},{"$f":"'Pob x Genero'!#REF!","v":{"$error":"#REF!"}},{"$f":"'Pob x Genero'!#REF!","v":{"$error":"#REF!"}},{"$f":"'Pob x Genero'!#REF!","v":{"$error":"#REF!"}},"Hombre","00-04",{"$f":"'Pob x Genero'!#REF!","v":{"$error":"#REF!"}},1847]
[{"$f":"'Pob x Genero'!#REF!","v":{"$error":"#REF!"}},{"$f":"'Pob x Genero'!#REF!","v":{"$error":"#REF!"}},{"$f":"'Pob x Genero'!#REF!","v":{"$error":"#REF!"}},{"$f":"'Pob x Genero'!#REF!","v":{"$error":"#REF!"}},{"$f":"'Pob x Genero'!#REF!","v":{"$error":"#REF!"}},"Hombre","00-04",{"$f":"'Pob x Genero'!#REF!","v":{"$error":"#REF!"}},1848]
[{"$f":"'Pob x Genero'!#REF!","v":{"$error":"#REF!"}},{"$f":"'Pob x Genero'!#REF!","v":{"$error":"#REF!"}},{"$f":"'Pob x Genero'!#REF!","v":{"$error":"#REF!"}},{"$f":"'Pob x Genero'!#REF!","v":{"$error":"#REF!"}},{"$f":"'Pob x Genero'!#REF!","v":{"$error":"#REF!"}},"Hombre","00-04",{"$f":"'Pob x Genero'!#REF!","v":{"$error":"#REF!"}},1849]
[{"$f":"'Pob x Genero'!#REF!","v":{"$error":"#REF!"}},{"$f":"'Pob x Genero'!#REF!","v":{"$error":"#REF!"}},{"$f":"'Pob x Genero'!#REF!","v":{"$error":"#REF!"}},{"$f":"'Pob x Genero'!#REF!","v":{"$error":"#REF!"}},{"$f":"'Pob x Genero'!#REF!","v":{"$error":"#REF!"}},"Hombre","00-04",{"$f":"'Pob x Genero'!#REF!","v":{"$error":"#REF!"}},1850]
[{"$f":"'Pob x Genero'!#REF!","v":{"$error":"#REF!"}},{"$f":"'Pob x Genero'!#REF!","v":{"$error":"#REF!"}},{"$f":"'Pob x Genero'!#REF!","v":{"$error":"#REF!"}},{"$f":"'Pob x Genero'!#REF!","v":{"$error":"#REF!"}},{"$f":"'Pob x Genero'!#REF!","v":{"$error":"#REF!"}},"Hombre","00-04",{"$f":"'Pob x Genero'!#REF!","v":{"$error":"#REF!"}},1851]
[{"$f":"'Pob x Genero'!#REF!","v":{"$error":"#REF!"}},{"$f":"'Pob x Genero'!#REF!","v":{"$error":"#REF!"}},{"$f":"'Pob x Genero'!#REF!","v":{"$error":"#REF!"}},{"$f":"'Pob x Genero'!#REF!","v":{"$error":"#REF!"}},{"$f":"'Pob x Genero'!#REF!","v":{"$error":"#REF!"}},"Hombre","00-04",{"$f":"'Pob x Genero'!#REF!","v":{"$error":"#REF!"}},1852]
[{"$f":"'Pob x Genero'!#REF!","v":{"$error":"#REF!"}},{"$f":"'Pob x Genero'!#REF!","v":{"$error":"#REF!"}},{"$f":"'Pob x Genero'!#REF!","v":{"$error":"#REF!"}},{"$f":"'Pob x Genero'!#REF!","v":{"$error":"#REF!"}},{"$f":"'Pob x Genero'!#REF!","v":{"$error":"#REF!"}},"Hombre","00-04",{"$f":"'Pob x Genero'!#REF!","v":{"$error":"#REF!"}},1853]
[{"$f":"'Pob x Genero'!#REF!","v":{"$error":"#REF!"}},{"$f":"'Pob x Genero'!#REF!","v":{"$error":"#REF!"}},{"$f":"'Pob x Genero'!#REF!","v":{"$error":"#REF!"}},{"$f":"'Pob x Genero'!#REF!","v":{"$error":"#REF!"}},{"$f":"'Pob x Genero'!#REF!","v":{"$error":"#REF!"}},"Hombre","00-04",{"$f":"'Pob x Genero'!#REF!","v":{"$error":"#REF!"}},1854]
[{"$f":"'Pob x Genero'!#REF!","v":{"$error":"#REF!"}},{"$f":"'Pob x Genero'!#REF!","v":{"$error":"#REF!"}},{"$f":"'Pob x Genero'!#REF!","v":{"$error":"#REF!"}},{"$f":"'Pob x Genero'!#REF!","v":{"$error":"#REF!"}},{"$f":"'Pob x Genero'!#REF!","v":{"$error":"#REF!"}},"Hombre","00-04",{"$f":"'Pob x Genero'!#REF!","v":{"$error":"#REF!"}},1855]
[{"$f":"'Pob x Genero'!#REF!","v":{"$error":"#REF!"}},{"$f":"'Pob x Genero'!#REF!","v":{"$error":"#REF!"}},{"$f":"'Pob x Genero'!#REF!","v":{"$error":"#REF!"}},{"$f":"'Pob x Genero'!#REF!","v":{"$error":"#REF!"}},{"$f":"'Pob x Genero'!#REF!","v":{"$error":"#REF!"}},"Hombre","00-04",{"$f":"'Pob x Genero'!#REF!","v":{"$error":"#REF!"}},1856]
[{"$f":"'Pob x Genero'!#REF!","v":{"$error":"#REF!"}},{"$f":"'Pob x Genero'!#REF!","v":{"$error":"#REF!"}},{"$f":"'Pob x Genero'!#REF!","v":{"$error":"#REF!"}},{"$f":"'Pob x Genero'!#REF!","v":{"$error":"#REF!"}},{"$f":"'Pob x Genero'!#REF!","v":{"$error":"#REF!"}},"Hombre","00-04",{"$f":"'Pob x Genero'!#REF!","v":{"$error":"#REF!"}},1857]
[{"$f":"'Pob x Genero'!#REF!","v":{"$error":"#REF!"}},{"$f":"'Pob x Genero'!#REF!","v":{"$error":"#REF!"}},{"$f":"'Pob x Genero'!#REF!","v":{"$error":"#REF!"}},{"$f":"'Pob x Genero'!#REF!","v":{"$error":"#REF!"}},{"$f":"'Pob x Genero'!#REF!","v":{"$error":"#REF!"}},"Hombre","00-04",{"$f":"'Pob x Genero'!#REF!","v":{"$error":"#REF!"}},1858]
[{"$f":"'Pob x Genero'!#REF!","v":{"$error":"#REF!"}},{"$f":"'Pob x Genero'!#REF!","v":{"$error":"#REF!"}},{"$f":"'Pob x Genero'!#REF!","v":{"$error":"#REF!"}},{"$f":"'Pob x Genero'!#REF!","v":{"$error":"#REF!"}},{"$f":"'Pob x Genero'!#REF!","v":{"$error":"#REF!"}},{"$f":"F1859","v":"Hombre"},{"$f":"G1859","v":"00-04"},{"$f":"'Pob x Genero'!#REF!","v":{"$error":"#REF!"}},1859]
[{"$f":"'Pob x Genero'!#REF!","v":{"$error":"#REF!"}},{"$f":"'Pob x Genero'!#REF!","v":{"$error":"#REF!"}},{"$f":"'Pob x Genero'!#REF!","v":{"$error":"#REF!"}},{"$f":"'Pob x Genero'!#REF!","v":{"$error":"#REF!"}},{"$f":"'Pob x Genero'!#REF!","v":{"$error":"#REF!"}},"Hombre","00-04",{"$f":"'Pob x Genero'!#REF!","v":{"$error":"#REF!"}},1860]
[{"$f":"'Pob x Genero'!#REF!","v":{"$error":"#REF!"}},{"$f":"'Pob x Genero'!#REF!","v":{"$error":"#REF!"}},{"$f":"'Pob x Genero'!#REF!","v":{"$error":"#REF!"}},{"$f":"'Pob x Genero'!#REF!","v":{"$error":"#REF!"}},{"$f":"'Pob x Genero'!#REF!","v":{"$error":"#REF!"}},"Hombre","00-04",{"$f":"'Pob x Genero'!#REF!","v":{"$error":"#REF!"}},1861]
[{"$f":"'Pob x Genero'!#REF!","v":{"$error":"#REF!"}},{"$f":"'Pob x Genero'!#REF!","v":{"$error":"#REF!"}},{"$f":"'Pob x Genero'!#REF!","v":{"$error":"#REF!"}},{"$f":"'Pob x Genero'!#REF!","v":{"$error":"#REF!"}},{"$f":"'Pob x Genero'!#REF!","v":{"$error":"#REF!"}},"Hombre","00-04",{"$f":"'Pob x Genero'!#REF!","v":{"$error":"#REF!"}},1862]
[{"$f":"'Pob x Genero'!#REF!","v":{"$error":"#REF!"}},{"$f":"'Pob x Genero'!#REF!","v":{"$error":"#REF!"}},{"$f":"'Pob x Genero'!#REF!","v":{"$error":"#REF!"}},{"$f":"'Pob x Genero'!#REF!","v":{"$error":"#REF!"}},{"$f":"'Pob x Genero'!#REF!","v":{"$error":"#REF!"}},"Hombre","00-04",{"$f":"'Pob x Genero'!#REF!","v":{"$error":"#REF!"}},1863]
[{"$f":"'Pob x Genero'!#REF!","v":{"$error":"#REF!"}},{"$f":"'Pob x Genero'!#REF!","v":{"$error":"#REF!"}},{"$f":"'Pob x Genero'!#REF!","v":{"$error":"#REF!"}},{"$f":"'Pob x Genero'!#REF!","v":{"$error":"#REF!"}},{"$f":"'Pob x Genero'!#REF!","v":{"$error":"#REF!"}},"Hombre","00-04",{"$f":"'Pob x Genero'!#REF!","v":{"$error":"#REF!"}},1864]
[{"$f":"'Pob x Genero'!#REF!","v":{"$error":"#REF!"}},{"$f":"'Pob x Genero'!#REF!","v":{"$error":"#REF!"}},{"$f":"'Pob x Genero'!#REF!","v":{"$error":"#REF!"}},{"$f":"'Pob x Genero'!#REF!","v":{"$error":"#REF!"}},{"$f":"'Pob x Genero'!#REF!","v":{"$error":"#REF!"}},"Hombre","00-04",{"$f":"'Pob x Genero'!#REF!","v":{"$error":"#REF!"}},1865]
[{"$f":"'Pob x Genero'!#REF!","v":{"$error":"#REF!"}},{"$f":"'Pob x Genero'!#REF!","v":{"$error":"#REF!"}},{"$f":"'Pob x Genero'!#REF!","v":{"$error":"#REF!"}},{"$f":"'Pob x Genero'!#REF!","v":{"$error":"#REF!"}},{"$f":"'Pob x Genero'!#REF!","v":{"$error":"#REF!"}},"Hombre","00-04",{"$f":"'Pob x Genero'!#REF!","v":{"$error":"#REF!"}},1866]
[{"$f":"'Pob x Genero'!#REF!","v":{"$error":"#REF!"}},{"$f":"'Pob x Genero'!#REF!","v":{"$error":"#REF!"}},{"$f":"'Pob x Genero'!#REF!","v":{"$error":"#REF!"}},{"$f":"'Pob x Genero'!#REF!","v":{"$error":"#REF!"}},{"$f":"'Pob x Genero'!#REF!","v":{"$error":"#REF!"}},"Hombre","00-04",{"$f":"'Pob x Genero'!#REF!","v":{"$error":"#REF!"}},1867]
[{"$f":"'Pob x Genero'!#REF!","v":{"$error":"#REF!"}},{"$f":"'Pob x Genero'!#REF!","v":{"$error":"#REF!"}},{"$f":"'Pob x Genero'!#REF!","v":{"$error":"#REF!"}},{"$f":"'Pob x Genero'!#REF!","v":{"$error":"#REF!"}},{"$f":"'Pob x Genero'!#REF!","v":{"$error":"#REF!"}},"Hombre","00-04",{"$f":"'Pob x Genero'!#REF!","v":{"$error":"#REF!"}},1868]
[{"$f":"'Pob x Genero'!#REF!","v":{"$error":"#REF!"}},{"$f":"'Pob x Genero'!#REF!","v":{"$error":"#REF!"}},{"$f":"'Pob x Genero'!#REF!","v":{"$error":"#REF!"}},{"$f":"'Pob x Genero'!#REF!","v":{"$error":"#REF!"}},{"$f":"'Pob x Genero'!#REF!","v":{"$error":"#REF!"}},"Hombre","00-04",{"$f":"'Pob x Genero'!#REF!","v":{"$error":"#REF!"}},1869]
[{"$f":"'Pob x Genero'!#REF!","v":{"$error":"#REF!"}},{"$f":"'Pob x Genero'!#REF!","v":{"$error":"#REF!"}},{"$f":"'Pob x Genero'!#REF!","v":{"$error":"#REF!"}},{"$f":"'Pob x Genero'!#REF!","v":{"$error":"#REF!"}},{"$f":"'Pob x Genero'!#REF!","v":{"$error":"#REF!"}},"Hombre","00-04",{"$f":"'Pob x Genero'!#REF!","v":{"$error":"#REF!"}},1870]
[{"$f":"'Pob x Genero'!#REF!","v":{"$error":"#REF!"}},{"$f":"'Pob x Genero'!#REF!","v":{"$error":"#REF!"}},{"$f":"'Pob x Genero'!#REF!","v":{"$error":"#REF!"}},{"$f":"'Pob x Genero'!#REF!","v":{"$error":"#REF!"}},{"$f":"'Pob x Genero'!#REF!","v":{"$error":"#REF!"}},"Hombre","00-04",{"$f":"'Pob x Genero'!#REF!","v":{"$error":"#REF!"}},1871]
[{"$f":"'Pob x Genero'!#REF!","v":{"$error":"#REF!"}},{"$f":"'Pob x Genero'!#REF!","v":{"$error":"#REF!"}},{"$f":"'Pob x Genero'!#REF!","v":{"$error":"#REF!"}},{"$f":"'Pob x Genero'!#REF!","v":{"$error":"#REF!"}},{"$f":"'Pob x Genero'!#REF!","v":{"$error":"#REF!"}},"Hombre","00-04",{"$f":"'Pob x Genero'!#REF!","v":{"$error":"#REF!"}},1872]
[{"$f":"'Pob x Genero'!#REF!","v":{"$error":"#REF!"}},{"$f":"'Pob x Genero'!#REF!","v":{"$error":"#REF!"}},{"$f":"'Pob x Genero'!#REF!","v":{"$error":"#REF!"}},{"$f":"'Pob x Genero'!#REF!","v":{"$error":"#REF!"}},{"$f":"'Pob x Genero'!#REF!","v":{"$error":"#REF!"}},"Hombre","00-04",{"$f":"'Pob x Genero'!#REF!","v":{"$error":"#REF!"}},1873]
[{"$f":"'Pob x Genero'!#REF!","v":{"$error":"#REF!"}},{"$f":"'Pob x Genero'!#REF!","v":{"$error":"#REF!"}},{"$f":"'Pob x Genero'!#REF!","v":{"$error":"#REF!"}},{"$f":"'Pob x Genero'!#REF!","v":{"$error":"#REF!"}},{"$f":"'Pob x Genero'!#REF!","v":{"$error":"#REF!"}},"Hombre","00-04",{"$f":"'Pob x Genero'!#REF!","v":{"$error":"#REF!"}},1874]
[{"$f":"'Pob x Genero'!#REF!","v":{"$error":"#REF!"}},{"$f":"'Pob x Genero'!#REF!","v":{"$error":"#REF!"}},{"$f":"'Pob x Genero'!#REF!","v":{"$error":"#REF!"}},{"$f":"'Pob x Genero'!#REF!","v":{"$error":"#REF!"}},{"$f":"'Pob x Genero'!#REF!","v":{"$error":"#REF!"}},"Hombre","00-04",{"$f":"'Pob x Genero'!#REF!","v":{"$error":"#REF!"}},1875]
[{"$f":"'Pob x Genero'!#REF!","v":{"$error":"#REF!"}},{"$f":"'Pob x Genero'!#REF!","v":{"$error":"#REF!"}},{"$f":"'Pob x Genero'!#REF!","v":{"$error":"#REF!"}},{"$f":"'Pob x Genero'!#REF!","v":{"$error":"#REF!"}},{"$f":"'Pob x Genero'!#REF!","v":{"$error":"#REF!"}},"Hombre","00-04",{"$f":"'Pob x Genero'!#REF!","v":{"$error":"#REF!"}},1876]
[{"$f":"'Pob x Genero'!#REF!","v":{"$error":"#REF!"}},{"$f":"'Pob x Genero'!#REF!","v":{"$error":"#REF!"}},{"$f":"'Pob x Genero'!#REF!","v":{"$error":"#REF!"}},{"$f":"'Pob x Genero'!#REF!","v":{"$error":"#REF!"}},{"$f":"'Pob x Genero'!#REF!","v":{"$error":"#REF!"}},"Hombre","00-04",{"$f":"'Pob x Genero'!#REF!","v":{"$error":"#REF!"}},1877]
[{"$f":"'Pob x Genero'!#REF!","v":{"$error":"#REF!"}},{"$f":"'Pob x Genero'!#REF!","v":{"$error":"#REF!"}},{"$f":"'Pob x Genero'!#REF!","v":{"$error":"#REF!"}},{"$f":"'Pob x Genero'!#REF!","v":{"$error":"#REF!"}},{"$f":"'Pob x Genero'!#REF!","v":{"$error":"#REF!"}},"Hombre","00-04",{"$f":"'Pob x Genero'!#REF!","v":{"$error":"#REF!"}},1878]
[{"$f":"'Pob x Genero'!#REF!","v":{"$error":"#REF!"}},{"$f":"'Pob x Genero'!#REF!","v":{"$error":"#REF!"}},{"$f":"'Pob x Genero'!#REF!","v":{"$error":"#REF!"}},{"$f":"'Pob x Genero'!#REF!","v":{"$error":"#REF!"}},{"$f":"'Pob x Genero'!#REF!","v":{"$error":"#REF!"}},"Hombre","00-04",{"$f":"'Pob x Genero'!#REF!","v":{"$error":"#REF!"}},1879]
[{"$f":"'Pob x Genero'!#REF!","v":{"$error":"#REF!"}},{"$f":"'Pob x Genero'!#REF!","v":{"$error":"#REF!"}},{"$f":"'Pob x Genero'!#REF!","v":{"$error":"#REF!"}},{"$f":"'Pob x Genero'!#REF!","v":{"$error":"#REF!"}},{"$f":"'Pob x Genero'!#REF!","v":{"$error":"#REF!"}},"Hombre","00-04",{"$f":"'Pob x Genero'!#REF!","v":{"$error":"#REF!"}},1880]
[{"$f":"'Pob x Genero'!#REF!","v":{"$error":"#REF!"}},{"$f":"'Pob x Genero'!#REF!","v":{"$error":"#REF!"}},{"$f":"'Pob x Genero'!#REF!","v":{"$error":"#REF!"}},{"$f":"'Pob x Genero'!#REF!","v":{"$error":"#REF!"}},{"$f":"'Pob x Genero'!#REF!","v":{"$error":"#REF!"}},"Hombre","00-04",{"$f":"'Pob x Genero'!#REF!","v":{"$error":"#REF!"}},1881]
[{"$f":"'Pob x Genero'!#REF!","v":{"$error":"#REF!"}},{"$f":"'Pob x Genero'!#REF!","v":{"$error":"#REF!"}},{"$f":"'Pob x Genero'!#REF!","v":{"$error":"#REF!"}},{"$f":"'Pob x Genero'!#REF!","v":{"$error":"#REF!"}},{"$f":"'Pob x Genero'!#REF!","v":{"$error":"#REF!"}},"Hombre","00-04",{"$f":"'Pob x Genero'!#REF!","v":{"$error":"#REF!"}},1882]
[{"$f":"'Pob x Genero'!#REF!","v":{"$error":"#REF!"}},{"$f":"'Pob x Genero'!#REF!","v":{"$error":"#REF!"}},{"$f":"'Pob x Genero'!#REF!","v":{"$error":"#REF!"}},{"$f":"'Pob x Genero'!#REF!","v":{"$error":"#REF!"}},{"$f":"'Pob x Genero'!#REF!","v":{"$error":"#REF!"}},"Hombre","00-04",{"$f":"'Pob x Genero'!#REF!","v":{"$error":"#REF!"}},1883]
[{"$f":"'Pob x Genero'!#REF!","v":{"$error":"#REF!"}},{"$f":"'Pob x Genero'!#REF!","v":{"$error":"#REF!"}},{"$f":"'Pob x Genero'!#REF!","v":{"$error":"#REF!"}},{"$f":"'Pob x Genero'!#REF!","v":{"$error":"#REF!"}},{"$f":"'Pob x Genero'!#REF!","v":{"$error":"#REF!"}},"Hombre","00-04",{"$f":"'Pob x Genero'!#REF!","v":{"$error":"#REF!"}},1884]
[{"$f":"'Pob x Genero'!#REF!","v":{"$error":"#REF!"}},{"$f":"'Pob x Genero'!#REF!","v":{"$error":"#REF!"}},{"$f":"'Pob x Genero'!#REF!","v":{"$error":"#REF!"}},{"$f":"'Pob x Genero'!#REF!","v":{"$error":"#REF!"}},{"$f":"'Pob x Genero'!#REF!","v":{"$error":"#REF!"}},"Hombre","00-04",{"$f":"'Pob x Genero'!#REF!","v":{"$error":"#REF!"}},1885]
[{"$f":"'Pob x Genero'!#REF!","v":{"$error":"#REF!"}},{"$f":"'Pob x Genero'!#REF!","v":{"$error":"#REF!"}},{"$f":"'Pob x Genero'!#REF!","v":{"$error":"#REF!"}},{"$f":"'Pob x Genero'!#REF!","v":{"$error":"#REF!"}},{"$f":"'Pob x Genero'!#REF!","v":{"$error":"#REF!"}},"Hombre","00-04",{"$f":"'Pob x Genero'!#REF!","v":{"$error":"#REF!"}},1886]
[{"$f":"'Pob x Genero'!#REF!","v":{"$error":"#REF!"}},{"$f":"'Pob x Genero'!#REF!","v":{"$error":"#REF!"}},{"$f":"'Pob x Genero'!#REF!","v":{"$error":"#REF!"}},{"$f":"'Pob x Genero'!#REF!","v":{"$error":"#REF!"}},{"$f":"'Pob x Genero'!#REF!","v":{"$error":"#REF!"}},"Hombre","00-04",{"$f":"'Pob x Genero'!#REF!","v":{"$error":"#REF!"}},1887]
[{"$f":"'Pob x Genero'!#REF!","v":{"$error":"#REF!"}},{"$f":"'Pob x Genero'!#REF!","v":{"$error":"#REF!"}},{"$f":"'Pob x Genero'!#REF!","v":{"$error":"#REF!"}},{"$f":"'Pob x Genero'!#REF!","v":{"$error":"#REF!"}},{"$f":"'Pob x Genero'!#REF!","v":{"$error":"#REF!"}},"Hombre","00-04",{"$f":"'Pob x Genero'!#REF!","v":{"$error":"#REF!"}},1888]
[{"$f":"'Pob x Genero'!#REF!","v":{"$error":"#REF!"}},{"$f":"'Pob x Genero'!#REF!","v":{"$error":"#REF!"}},{"$f":"'Pob x Genero'!#REF!","v":{"$error":"#REF!"}},{"$f":"'Pob x Genero'!#REF!","v":{"$error":"#REF!"}},{"$f":"'Pob x Genero'!#REF!","v":{"$error":"#REF!"}},"Hombre","00-04",{"$f":"'Pob x Genero'!#REF!","v":{"$error":"#REF!"}},1889]
[{"$f":"'Pob x Genero'!#REF!","v":{"$error":"#REF!"}},{"$f":"'Pob x Genero'!#REF!","v":{"$error":"#REF!"}},{"$f":"'Pob x Genero'!#REF!","v":{"$error":"#REF!"}},{"$f":"'Pob x Genero'!#REF!","v":{"$error":"#REF!"}},{"$f":"'Pob x Genero'!#REF!","v":{"$error":"#REF!"}},"Hombre","00-04",{"$f":"'Pob x Genero'!#REF!","v":{"$error":"#REF!"}},1890]
[{"$f":"'Pob x Genero'!#REF!","v":{"$error":"#REF!"}},{"$f":"'Pob x Genero'!#REF!","v":{"$error":"#REF!"}},{"$f":"'Pob x Genero'!#REF!","v":{"$error":"#REF!"}},{"$f":"'Pob x Genero'!#REF!","v":{"$error":"#REF!"}},{"$f":"'Pob x Genero'!#REF!","v":{"$error":"#REF!"}},"Hombre","00-04",{"$f":"'Pob x Genero'!#REF!","v":{"$error":"#REF!"}},1891]
["010101","AMAZONAS","AMAZONAS","CHACHAPOYAS","CHACHAPOYAS","Hombre",{"$f":"'Pob x Genero'!CU7","v":"05-09"},{"$f":"'Pob x Genero'!#REF!","v":{"$error":"#REF!"}},1]
["010102","AMAZONAS","AMAZONAS","CHACHAPOYAS","ASUNCION","Hombre",{"$f":"G1893","v":"05-09"},{"$f":"'Pob x Genero'!#REF!","v":{"$error":"#REF!"}},2]
["010103","AMAZONAS","AMAZONAS","CHACHAPOYAS","BALSAS","Hombre","05-09",{"$f":"'Pob x Genero'!#REF!","v":{"$error":"#REF!"}},3]
["010104","AMAZONAS","AMAZONAS","CHACHAPOYAS","CHETO","Hombre","05-09",{"$f":"'Pob x Genero'!#REF!","v":{"$error":"#REF!"}},4]
["010105","AMAZONAS","AMAZONAS","CHACHAPOYAS","CHILIQUIN","Hombre","05-09",{"$f":"'Pob x Genero'!#REF!","v":{"$error":"#REF!"}},5]
["010106","AMAZONAS","AMAZONAS","CHACHAPOYAS","CHUQUIBAMBA","Hombre","05-09",{"$f":"'Pob x Genero'!#REF!","v":{"$error":"#REF!"}},6]
["010107","AMAZONAS","AMAZONAS","CHACHAPOYAS","GRANADA","Hombre","05-09",{"$f":"'Pob x Genero'!#REF!","v":{"$error":"#REF!"}},7]
["010108","AMAZONAS","AMAZONAS","CHACHAPOYAS","HUANCAS","Hombre","05-09",{"$f":"'Pob x Genero'!#REF!","v":{"$error":"#REF!"}},8]
["010109","AMAZONAS","AMAZONAS","CHACHAPOYAS","LA JALCA","Hombre","05-09",{"$f":"'Pob x Genero'!#REF!","v":{"$error":"#REF!"}},9]
["010110","AMAZONAS","AMAZONAS","CHACHAPOYAS","LEIMEBAMBA","Hombre","05-09",{"$f":"'Pob x Genero'!#REF!","v":{"$error":"#REF!"}},10]
["010111","AMAZONAS","AMAZONAS","CHACHAPOYAS","LEVANTO","Hombre","05-09",{"$f":"'Pob x Genero'!#REF!","v":{"$error":"#REF!"}},11]
["010112","AMAZONAS","AMAZONAS","CHACHAPOYAS","MAGDALENA","Hombre","05-09",{"$f":"'Pob x Genero'!#REF!","v":{"$error":"#REF!"}},12]
["010113","AMAZONAS","AMAZONAS","CHACHAPOYAS","MARISCAL CASTILLA","Hombre","05-09",{"$f":"'Pob x Genero'!#REF!","v":{"$error":"#REF!"}},13]
["010114","AMAZONAS","AMAZONAS","CHACHAPOYAS","MOLINOPAMPA","Hombre","05-09",{"$f":"'Pob x Genero'!#REF!","v":{"$error":"#REF!"}},14]
["010115","AMAZONAS","AMAZONAS","CHACHAPOYAS","MONTEVIDEO","Hombre","05-09",{"$f":"'Pob x Genero'!#REF!","v":{"$error":"#REF!"}},15]
["010116","AMAZONAS","AMAZONAS","CHACHAPOYAS","OLLEROS","Hombre","05-09",{"$f":"'Pob x Genero'!#REF!","v":{"$error":"#REF!"}},16]
["010117","AMAZONAS","AMAZONAS","CHACHAPOYAS","QUINJALCA","Hombre","05-09",{"$f":"'Pob x Genero'!#REF!","v":{"$error":"#REF!"}},17]
["010118","AMAZONAS","AMAZONAS","CHACHAPOYAS","SAN FRANCISCO DE DAGUAS","Hombre","05-09",{"$f":"'Pob x Genero'!#REF!","v":{"$error":"#REF!"}},18]
["010119","AMAZONAS","AMAZONAS","CHACHAPOYAS","SAN ISIDRO DE MAINO","Hombre","05-09",{"$f":"'Pob x Genero'!#REF!","v":{"$error":"#REF!"}},19]
["010120","AMAZONAS","AMAZONAS","CHACHAPOYAS","SOLOCO","Hombre","05-09",{"$f":"'Pob x Genero'!#REF!","v":{"$error":"#REF!"}},20]
["010121","AMAZONAS","AMAZONAS","CHACHAPOYAS","SONCHE","Hombre","05-09",{"$f":"'Pob x Genero'!#REF!","v":{"$error":"#REF!"}},21]
["010201","AMAZONAS","AMAZONAS","BAGUA","BAGUA","Hombre","05-09",{"$f":"'Pob x Genero'!#REF!","v":{"$error":"#REF!"}},22]
["010202","AMAZONAS","AMAZONAS","BAGUA","ARAMANGO","Hombre","05-09",{"$f":"'Pob x Genero'!#REF!","v":{"$error":"#REF!"}},23]
["010203","AMAZONAS","AMAZONAS","BAGUA","COPALLIN","Hombre","05-09",{"$f":"'Pob x Genero'!#REF!","v":{"$error":"#REF!"}},24]
["010204","AMAZONAS","AMAZONAS","BAGUA","EL PARCO","Hombre","05-09",{"$f":"'Pob x Genero'!#REF!","v":{"$error":"#REF!"}},25]
["010205","AMAZONAS","AMAZONAS","BAGUA","IMAZA","Hombre","05-09",{"$f":"'Pob x Genero'!#REF!","v":{"$error":"#REF!"}},26]
["010206","AMAZONAS","AMAZONAS","BAGUA","LA PECA","Hombre","05-09",{"$f":"'Pob x Genero'!#REF!","v":{"$error":"#REF!"}},27]
["010301","AMAZONAS","AMAZONAS","BONGARA","JUMBILLA","Hombre","05-09",{"$f":"'Pob x Genero'!#REF!","v":{"$error":"#REF!"}},28]
["010302","AMAZONAS","AMAZONAS","BONGARA","CHISQUILLA","Hombre","05-09",{"$f":"'Pob x Genero'!#REF!","v":{"$error":"#REF!"}},29]
["010303","AMAZONAS","AMAZONAS","BONGARA","CHURUJA","Hombre","05-09",{"$f":"'Pob x Genero'!#REF!","v":{"$error":"#REF!"}},30]
["010304","AMAZONAS","AMAZONAS","BONGARA","COROSHA","Hombre","05-09",{"$f":"'Pob x Genero'!#REF!","v":{"$error":"#REF!"}},31]
["010305","AMAZONAS","AMAZONAS","BONGARA","CUISPES","Hombre","05-09",{"$f":"'Pob x Genero'!#REF!","v":{"$error":"#REF!"}},32]
["010306","AMAZONAS","AMAZONAS","BONGARA","FLORIDA","Hombre","05-09",{"$f":"'Pob x Genero'!#REF!","v":{"$error":"#REF!"}},33]
["010307","AMAZONAS","AMAZONAS","BONGARA","JAZAN","Hombre","05-09",{"$f":"'Pob x Genero'!#REF!","v":{"$error":"#REF!"}},34]
["010308","AMAZONAS","AMAZONAS","BONGARA","RECTA","Hombre","05-09",{"$f":"'Pob x Genero'!#REF!","v":{"$error":"#REF!"}},35]
["010309","AMAZONAS","AMAZONAS","BONGARA","SAN CARLOS","Hombre","05-09",{"$f":"'Pob x Genero'!#REF!","v":{"$error":"#REF!"}},36]
["010310","AMAZONAS","AMAZONAS","BONGARA","SHIPASBAMBA","Hombre","05-09",{"$f":"'Pob x Genero'!#REF!","v":{"$error":"#REF!"}},37]
["010311","AMAZONAS","AMAZONAS","BONGARA","VALERA","Hombre","05-09",{"$f":"'Pob x Genero'!#REF!","v":{"$error":"#REF!"}},38]
["010312","AMAZONAS","AMAZONAS","BONGARA","YAMBRASBAMBA","Hombre","05-09",{"$f":"'Pob x Genero'!#REF!","v":{"$error":"#REF!"}},39]
["010401","AMAZONAS","AMAZONAS","CONDORCANQUI","NIEVA","Hombre","05-09",{"$f":"'Pob x Genero'!#REF!","v":{"$error":"#REF!"}},40]
["010402","AMAZONAS","AMAZONAS","CONDORCANQUI","EL CENEPA","Hombre","05-09",{"$f":"'Pob x Genero'!#REF!","v":{"$error":"#REF!"}},41]
["010403","AMAZONAS","AMAZONAS","CONDORCANQUI","RIO SANTIAGO","Hombre","05-09",{"$f":"'Pob x Genero'!#REF!","v":{"$error":"#REF!"}},42]
["010501","AMAZONAS","AMAZONAS","LUYA","LAMUD","Hombre","05-09",{"$f":"'Pob x Genero'!#REF!","v":{"$error":"#REF!"}},43]
["010502","AMAZONAS","AMAZONAS","LUYA","CAMPORREDONDO","Hombre","05-09",{"$f":"'Pob x Genero'!#REF!","v":{"$error":"#REF!"}},44]
["010503","AMAZONAS","AMAZONAS","LUYA","COCABAMBA","Hombre","05-09",{"$f":"'Pob x Genero'!#REF!","v":{"$error":"#REF!"}},45]
["010504","AMAZONAS","AMAZONAS","LUYA","COLCAMAR","Hombre","05-09",{"$f":"'Pob x Genero'!#REF!","v":{"$error":"#REF!"}},46]
["010505","AMAZONAS","AMAZONAS","LUYA","CONILA","Hombre","05-09",{"$f":"'Pob x Genero'!#REF!","v":{"$error":"#REF!"}},47]
["010506","AMAZONAS","AMAZONAS","LUYA","INGUILPATA","Hombre","05-09",{"$f":"'Pob x Genero'!#REF!","v":{"$error":"#REF!"}},48]
["010507","AMAZONAS","AMAZONAS","LUYA","LONGUITA","Hombre","05-09",{"$f":"'Pob x Genero'!#REF!","v":{"$error":"#REF!"}},49]
["010508","AMAZONAS","AMAZONAS","LUYA","LONYA CHICO","Hombre","05-09",{"$f":"'Pob x Genero'!#REF!","v":{"$error":"#REF!"}},50]
["010509","AMAZONAS","AMAZONAS","LUYA","LUYA","Hombre","05-09",{"$f":"'Pob x Genero'!#REF!","v":{"$error":"#REF!"}},51]
["010510","AMAZONAS","AMAZONAS","LUYA","LUYA VIEJO","Hombre","05-09",{"$f":"'Pob x Genero'!#REF!","v":{"$error":"#REF!"}},52]
["010511","AMAZONAS","AMAZONAS","LUYA","MARIA","Hombre","05-09",{"$f":"'Pob x Genero'!#REF!","v":{"$error":"#REF!"}},53]
["010512","AMAZONAS","AMAZONAS","LUYA","OCALLI","Hombre","05-09",{"$f":"'Pob x Genero'!#REF!","v":{"$error":"#REF!"}},54]
["010513","AMAZONAS","AMAZONAS","LUYA","OCUMAL","Hombre","05-09",{"$f":"'Pob x Genero'!#REF!","v":{"$error":"#REF!"}},55]
["010514","AMAZONAS","AMAZONAS","LUYA","PISUQUIA","Hombre","05-09",{"$f":"'Pob x Genero'!#REF!","v":{"$error":"#REF!"}},56]
["010515","AMAZONAS","AMAZONAS","LUYA","PROVIDENCIA","Hombre","05-09",{"$f":"'Pob x Genero'!#REF!","v":{"$error":"#REF!"}},57]
["010516","AMAZONAS","AMAZONAS","LUYA","SAN CRISTOBAL","Hombre","05-09",{"$f":"'Pob x Genero'!#REF!","v":{"$error":"#REF!"}},58]
["010517","AMAZONAS","AMAZONAS","LUYA","SAN FRANCISCO DEL YESO","Hombre","05-09",{"$f":"'Pob x Genero'!#REF!","v":{"$error":"#REF!"}},59]
["010518","AMAZONAS","AMAZONAS","LUYA","SAN JERONIMO","Hombre","05-09",{"$f":"'Pob x Genero'!#REF!","v":{"$error":"#REF!"}},60]
["010519","AMAZONAS","AMAZONAS","LUYA","SAN JUAN DE LOPECANCHA","Hombre","05-09",{"$f":"'Pob x Genero'!#REF!","v":{"$error":"#REF!"}},61]
["010520","AMAZONAS","AMAZONAS","LUYA","SANTA CATALINA","Hombre","05-09",{"$f":"'Pob x Genero'!#REF!","v":{"$error":"#REF!"}},62]
["010521","AMAZONAS","AMAZONAS","LUYA","SANTO TOMAS","Hombre","05-09",{"$f":"'Pob x Genero'!#REF!","v":{"$error":"#REF!"}},63]
["010522","AMAZONAS","AMAZONAS","LUYA","TINGO","Hombre","05-09",{"$f":"'Pob x Genero'!#REF!","v":{"$error":"#REF!"}},64]
["010523","AMAZONAS","AMAZONAS","LUYA","TRITA","Hombre","05-09",{"$f":"'Pob x Genero'!#REF!","v":{"$error":"#REF!"}},65]
["010601","AMAZONAS","AMAZONAS","RODRIGUEZ DE MENDOZA","SAN NICOLAS","Hombre",{"$f":"G1957","v":"05-09"},{"$f":"'Pob x Genero'!#REF!","v":{"$error":"#REF!"}},66]
["010602","AMAZONAS","AMAZONAS","RODRIGUEZ DE MENDOZA","CHIRIMOTO","Hombre","05-09",{"$f":"'Pob x Genero'!#REF!","v":{"$error":"#REF!"}},67]
["010603","AMAZONAS","AMAZONAS","RODRIGUEZ DE MENDOZA","COCHAMAL","Hombre","05-09",{"$f":"'Pob x Genero'!#REF!","v":{"$error":"#REF!"}},68]
["010604","AMAZONAS","AMAZONAS","RODRIGUEZ DE MENDOZA","HUAMBO","Hombre","05-09",{"$f":"'Pob x Genero'!#REF!","v":{"$error":"#REF!"}},69]
["010605","AMAZONAS","AMAZONAS","RODRIGUEZ DE MENDOZA","LIMABAMBA","Hombre","05-09",{"$f":"'Pob x Genero'!#REF!","v":{"$error":"#REF!"}},70]
["010606","AMAZONAS","AMAZONAS","RODRIGUEZ DE MENDOZA","LONGAR","Hombre","05-09",{"$f":"'Pob x Genero'!#REF!","v":{"$error":"#REF!"}},71]
["010607","AMAZONAS","AMAZONAS","RODRIGUEZ DE MENDOZA","MARISCAL BENAVIDES","Hombre","05-09",{"$f":"'Pob x Genero'!#REF!","v":{"$error":"#REF!"}},72]
["010608","AMAZONAS","AMAZONAS","RODRIGUEZ DE MENDOZA","MILPUC","Hombre","05-09",{"$f":"'Pob x Genero'!#REF!","v":{"$error":"#REF!"}},73]
["010609","AMAZONAS","AMAZONAS","RODRIGUEZ DE MENDOZA","OMIA","Hombre","05-09",{"$f":"'Pob x Genero'!#REF!","v":{"$error":"#REF!"}},74]
["010610","AMAZONAS","AMAZONAS","RODRIGUEZ DE MENDOZA","SANTA ROSA","Hombre","05-09",{"$f":"'Pob x Genero'!#REF!","v":{"$error":"#REF!"}},75]
["010611","AMAZONAS","AMAZONAS","RODRIGUEZ DE MENDOZA","TOTORA","Hombre","05-09",{"$f":"'Pob x Genero'!#REF!","v":{"$error":"#REF!"}},76]
["010612","AMAZONAS","AMAZONAS","RODRIGUEZ DE MENDOZA","VISTA ALEGRE","Hombre","05-09",{"$f":"'Pob x Genero'!#REF!","v":{"$error":"#REF!"}},77]
["010701","AMAZONAS","AMAZONAS","UTCUBAMBA","BAGUA GRANDE","Hombre","05-09",{"$f":"'Pob x Genero'!#REF!","v":{"$error":"#REF!"}},78]
["010702","AMAZONAS","AMAZONAS","UTCUBAMBA","CAJARURO","Hombre","05-09",{"$f":"'Pob x Genero'!#REF!","v":{"$error":"#REF!"}},79]
["010703","AMAZONAS","AMAZONAS","UTCUBAMBA","CUMBA","Hombre","05-09",{"$f":"'Pob x Genero'!#REF!","v":{"$error":"#REF!"}},80]
["010704","AMAZONAS","AMAZONAS","UTCUBAMBA","EL MILAGRO","Hombre","05-09",{"$f":"'Pob x Genero'!#REF!","v":{"$error":"#REF!"}},81]
["010705","AMAZONAS","AMAZONAS","UTCUBAMBA","JAMALCA","Hombre","05-09",{"$f":"'Pob x Genero'!#REF!","v":{"$error":"#REF!"}},82]
["010706","AMAZONAS","AMAZONAS","UTCUBAMBA","LONYA GRANDE","Hombre","05-09",{"$f":"'Pob x Genero'!#REF!","v":{"$error":"#REF!"}},83]
["010707","AMAZONAS","AMAZONAS","UTCUBAMBA","YAMON","Hombre","05-09",{"$f":"'Pob x Genero'!#REF!","v":{"$error":"#REF!"}},84]
["020101","ANCASH","ANCASH","HUARAZ","HUARAZ","Hombre","05-09",{"$f":"'Pob x Genero'!#REF!","v":{"$error":"#REF!"}},85]
["020102","ANCASH","ANCASH","HUARAZ","COCHABAMBA","Hombre","05-09",{"$f":"'Pob x Genero'!#REF!","v":{"$error":"#REF!"}},86]
["020103","ANCASH","ANCASH","HUARAZ","COLCABAMBA","Hombre","05-09",{"$f":"'Pob x Genero'!#REF!","v":{"$error":"#REF!"}},87]
["020104","ANCASH","ANCASH","HUARAZ","HUANCHAY","Hombre","05-09",{"$f":"'Pob x Genero'!#REF!","v":{"$error":"#REF!"}},88]
["020105","ANCASH","ANCASH","HUARAZ","INDEPENDENCIA","Hombre","05-09",{"$f":"'Pob x Genero'!#REF!","v":{"$error":"#REF!"}},89]
["020106","ANCASH","ANCASH","HUARAZ","JANGAS","Hombre","05-09",{"$f":"'Pob x Genero'!#REF!","v":{"$error":"#REF!"}},90]
["020107","ANCASH","ANCASH","HUARAZ","LA LIBERTAD","Hombre","05-09",{"$f":"'Pob x Genero'!#REF!","v":{"$error":"#REF!"}},91]
["020108","ANCASH","ANCASH","HUARAZ","OLLEROS","Hombre","05-09",{"$f":"'Pob x Genero'!#REF!","v":{"$error":"#REF!"}},92]
["020109","ANCASH","ANCASH","HUARAZ","PAMPAS","Hombre","05-09",{"$f":"'Pob x Genero'!#REF!","v":{"$error":"#REF!"}},93]
["020110","ANCASH","ANCASH","HUARAZ","PARIACOTO","Hombre","05-09",{"$f":"'Pob x Genero'!#REF!","v":{"$error":"#REF!"}},94]
["020111","ANCASH","ANCASH","HUARAZ","PIRA","Hombre","05-09",{"$f":"'Pob x Genero'!#REF!","v":{"$error":"#REF!"}},95]
["020112","ANCASH","ANCASH","HUARAZ","TARICA","Hombre","05-09",{"$f":"'Pob x Genero'!#REF!","v":{"$error":"#REF!"}},96]
["020201","ANCASH","ANCASH","AIJA","AIJA","Hombre","05-09",{"$f":"'Pob x Genero'!#REF!","v":{"$error":"#REF!"}},97]
["020202","ANCASH","ANCASH","AIJA","CORIS","Hombre","05-09",{"$f":"'Pob x Genero'!#REF!","v":{"$error":"#REF!"}},98]
["020203","ANCASH","ANCASH","AIJA","HUACLLAN","Hombre","05-09",{"$f":"'Pob x Genero'!#REF!","v":{"$error":"#REF!"}},99]
["020204","ANCASH","ANCASH","AIJA","LA MERCED","Hombre","05-09",{"$f":"'Pob x Genero'!#REF!","v":{"$error":"#REF!"}},100]
["020205","ANCASH","ANCASH","AIJA","SUCCHA","Hombre","05-09",{"$f":"'Pob x Genero'!#REF!","v":{"$error":"#REF!"}},101]
["020301","ANCASH","ANCASH","ANTONIO RAYMONDI","LLAMELLIN","Hombre","05-09",{"$f":"'Pob x Genero'!#REF!","v":{"$error":"#REF!"}},102]
["020302","ANCASH","ANCASH","ANTONIO RAYMONDI","ACZO","Hombre","05-09",{"$f":"'Pob x Genero'!#REF!","v":{"$error":"#REF!"}},103]
["020303","ANCASH","ANCASH","ANTONIO RAYMONDI","CHACCHO","Hombre","05-09",{"$f":"'Pob x Genero'!#REF!","v":{"$error":"#REF!"}},104]
["020304","ANCASH","ANCASH","ANTONIO RAYMONDI","CHINGAS","Hombre","05-09",{"$f":"'Pob x Genero'!#REF!","v":{"$error":"#REF!"}},105]
["020305","ANCASH","ANCASH","ANTONIO RAYMONDI","MIRGAS","Hombre","05-09",{"$f":"'Pob x Genero'!#REF!","v":{"$error":"#REF!"}},106]
["020306","ANCASH","ANCASH","ANTONIO RAYMONDI","SAN JUAN DE RONTOY","Hombre","05-09",{"$f":"'Pob x Genero'!#REF!","v":{"$error":"#REF!"}},107]
["020401","ANCASH","ANCASH","ASUNCION","CHACAS","Hombre","05-09",{"$f":"'Pob x Genero'!#REF!","v":{"$error":"#REF!"}},108]
["020610","ANCASH","ANCASH","CARHUAZ","TINCO","Hombre","05-09",{"$f":"'Pob x Genero'!#REF!","v":{"$error":"#REF!"}},134]
["021005","ANCASH","ANCASH","HUARI","HUACACHI","Hombre","05-09",{"$f":"'Pob x Genero'!#REF!","v":{"$error":"#REF!"}},154]
["021405","ANCASH","ANCASH","OCROS","COCHAS","Hombre","05-09",{"$f":"'Pob x Genero'!#REF!","v":{"$error":"#REF!"}},193]
["021904","ANCASH","ANCASH","SIHUAS","CASHAPAMPA","Hombre","05-09",{"$f":"'Pob x Genero'!#REF!","v":{"$error":"#REF!"}},236]
["030210","APURIMAC","APURIMAC","ANDAHUAYLAS","PAMPACHIRI","Hombre","05-09",{"$f":"'Pob x Genero'!#REF!","v":{"$error":"#REF!"}},269]
["030301","APURIMAC","APURIMAC","ANTABAMBA","ANTABAMBA","Hombre","05-09",{"$f":"'Pob x Genero'!#REF!","v":{"$error":"#REF!"}},280]
["030702","APURIMAC","APURIMAC","GRAU","CURPAHUASI","Hombre","05-09",{"$f":"'Pob x Genero'!#REF!","v":{"$error":"#REF!"}},323]
["040127","AREQUIPA","AREQUIPA","AREQUIPA","YARABAMBA","Hombre","05-09",{"$f":"'Pob x Genero'!CU35","v":48},362]
["040208","AREQUIPA","AREQUIPA","CAMANA","SAMUEL PASTOR","Hombre","05-09",{"$f":"'Pob x Genero'!CU45","v":782},372]
["040603","AREQUIPA","AREQUIPA","CONDESUYOS","CAYARANI","Hombre","05-09",{"$f":"'Pob x Genero'!CU95","v":117},422]
["050105","AYACUCHO","AYACUCHO","HUAMANGA","CHIARA","Hombre","05-09",{"$f":"'Pob x Genero'!#REF!","v":{"$error":"#REF!"}},449]
["050509","AYACUCHO","AYACUCHO","LA MAR","SAMUGARI","Hombre","05-09",{"$f":"'Pob x Genero'!#REF!","v":{"$error":"#REF!"}},492]
["050804","AYACUCHO","AYACUCHO","PAUCAR DEL SARA SARA","LAMPA","Hombre","05-09",{"$f":"'Pob x Genero'!#REF!","v":{"$error":"#REF!"}},531]
["050810","AYACUCHO","AYACUCHO","PAUCAR DEL SARA SARA","SARA SARA","Hombre","05-09",{"$f":"'Pob x Genero'!#REF!","v":{"$error":"#REF!"}},537]
["060107","CAJAMARCA","CAJAMARCA","CAJAMARCA","LLACANORA","Hombre","05-09",{"$f":"'Pob x Genero'!#REF!","v":{"$error":"#REF!"}},575]
["060503","CAJAMARCA","CAJAMARCA","CONTUMAZA","CUPISNIQUE","Hombre","05-09",{"$f":"'Pob x Genero'!#REF!","v":{"$error":"#REF!"}},618]
["061001","CAJAMARCA","CAJAMARCA","SAN MARCOS","PEDRO GALVEZ","Hombre","05-09",{"$f":"'Pob x Genero'!#REF!","v":{"$error":"#REF!"}},661]
["061007","CAJAMARCA","CAJAMARCA","SAN MARCOS","JOSE SABOGAL","Hombre","05-09",{"$f":"'Pob x Genero'!#REF!","v":{"$error":"#REF!"}},667]
["080108","CUSCO","CUSCO","CUSCO","WANCHAQ","Hombre","05-09",{"$f":"'Pob x Genero'!#REF!","v":{"$error":"#REF!"}},710]
["080606","CUSCO","CUSCO","CANCHIS","SAN PABLO","Hombre","05-09",{"$f":"'Pob x Genero'!#REF!","v":{"$error":"#REF!"}},748]
["081003","CUSCO","CUSCO","PARURO","CCAPI","Hombre","05-09",{"$f":"'Pob x Genero'!#REF!","v":{"$error":"#REF!"}},787]
["081104","CUSCO","CUSCO","PAUCARTAMBO","COLQUEPATA","Hombre","05-09",{"$f":"'Pob x Genero'!#REF!","v":{"$error":"#REF!"}},797]
["090118","HUANCAVELICA","HUANCAVELICA","HUANCAVELICA","ASCENSION","Hombre","05-09",{"$f":"'Pob x Genero'!#REF!","v":{"$error":"#REF!"}},836]
["090406","HUANCAVELICA","HUANCAVELICA","CASTROVIRREYNA","COCAS","Hombre","05-09",{"$f":"'Pob x Genero'!#REF!","v":{"$error":"#REF!"}},863]
["090722","HUANCAVELICA","HUANCAVELICA","TAYACAJA","PICHOS","Hombre","05-09",{"$f":"'Pob x Genero'!#REF!","v":{"$error":"#REF!"}},917]
["100502","HUANUCO","HUANUCO","HUAMALIES","ARANCAY","Hombre","05-09",{"$f":"'Pob x Genero'!#REF!","v":{"$error":"#REF!"}},956]
["100508","HUANUCO","HUANUCO","HUAMALIES","PUNCHAO","Hombre",{"$f":"G2853","v":"05-09"},{"$f":"'Pob x Genero'!#REF!","v":{"$error":"#REF!"}},962]
["110101","ICA","ICA","ICA","ICA","Hombre","05-09",{"$f":"'Pob x Genero'!#REF!","v":{"$error":"#REF!"}},1005]
["120101","JUNIN","JUNIN","HUANCAYO","HUANCAYO","Hombre","05-09",{"$f":"'Pob x Genero'!#REF!","v":{"$error":"#REF!"}},1048]
["120211","JUNIN","JUNIN","CONCEPCION","MITO","Hombre","05-09",{"$f":"'Pob x Genero'!#REF!","v":{"$error":"#REF!"}},1086]
["120302","JUNIN","JUNIN","CHANCHAMAYO","PERENE","Hombre","05-09",{"$f":"'Pob x Genero'!#REF!","v":{"$error":"#REF!"}},1092]
["120501","JUNIN","JUNIN","JUNIN","JUNIN","Hombre","05-09",{"$f":"'Pob x Genero'!#REF!","v":{"$error":"#REF!"}},1131]
["130103","LA LIBERTAD","LA LIBERTAD","TRUJILLO","FLORENCIA DE MORA","Hombre","05-09",{"$f":"'Pob x Genero'!#REF!","v":{"$error":"#REF!"}},1174]
["130501","LA LIBERTAD","LA LIBERTAD","JULCAN","JULCAN","Hombre","05-09",{"$f":"'Pob x Genero'!#REF!","v":{"$error":"#REF!"}},1201]
["131103","LA LIBERTAD","LA LIBERTAD","GRAN CHIMU","MARMOT","Hombre","05-09",{"$f":"'Pob x Genero'!#REF!","v":{"$error":"#REF!"}},1251]
["140106","LAMBAYEQUE","LAMBAYEQUE","CHICLAYO","LA VICTORIA","Hombre","05-09",{"$f":"'Pob x Genero'!#REF!","v":{"$error":"#REF!"}},1261]
["150107","DIRIS ESTE","LIMA","LIMA","CHACLACAYO","Hombre","05-09",{"$f":"'Pob x Genero'!#REF!","v":{"$error":"#REF!"}},1300]
["150143","DIRIS SUR","LIMA","LIMA","VILLA MARIA DEL TRIUNFO","Hombre","05-09",{"$f":"'Pob x Genero'!#REF!","v":{"$error":"#REF!"}},1336]
["150612","LIMA","LIMA","HUARAL","VEINTISIETE DE NOVIEMBRE","Hombre","05-09",{"$f":"'Pob x Genero'!#REF!","v":{"$error":"#REF!"}},1381]
["150706","LIMA","LIMA","HUAROCHIRI","CUENCA","Hombre","05-09",{"$f":"'Pob x Genero'!#REF!","v":{"$error":"#REF!"}},1387]
["150905","LIMA","LIMA","OYON","NAVAN","Hombre","05-09",{"$f":"'Pob x Genero'!#REF!","v":{"$error":"#REF!"}},1430]
["160105","LORETO","LORETO","MAYNAS","LAS AMAZONAS","Hombre","05-09",{"$f":"'Pob x Genero'!#REF!","v":{"$error":"#REF!"}},1469]
["160403","LORETO","LORETO","MARISCAL RAMON CASTILLA","YAVARI","Hombre","05-09",{"$f":"'Pob x Genero'!#REF!","v":{"$error":"#REF!"}},1489]
["190101","PASCO","PASCO","PASCO","CHAUPIMARCA","Hombre","05-09",{"$f":"'Pob x Genero'!#REF!","v":{"$error":"#REF!"}},1550]
["190107","PASCO","PASCO","PASCO","PAUCARTAMBO","Hombre","05-09",{"$f":"'Pob x Genero'!#REF!","v":{"$error":"#REF!"}},1556]
["200301","PIURA","PIURA","HUANCABAMBA","HUANCABAMBA","Hombre","05-09",{"$f":"'Pob x Genero'!#REF!","v":{"$error":"#REF!"}},1599]
["200801","PIURA","PIURA","SECHURA","SECHURA","Hombre","05-09",{"$f":"'Pob x Genero'!#REF!","v":{"$error":"#REF!"}},1638]
["210301","PUNO","PUNO","CARABAYA","MACUSANI","Hombre","05-09",{"$f":"'Pob x Genero'!#REF!","v":{"$error":"#REF!"}},1674]
["210403","PUNO","PUNO","CHUCUITO","HUACULLANI","Hombre","05-09",{"$f":"'Pob x Genero'!#REF!","v":{"$error":"#REF!"}},1686]
["210903","PUNO","PUNO","MOHO","HUAYRAPATA","Hombre","05-09",{"$f":"'Pob x Genero'!#REF!","v":{"$error":"#REF!"}},1725]
["220303","SAN MARTIN","SAN MARTIN","EL DORADO","SAN MARTIN","Hombre","05-09",{"$f":"'Pob x Genero'!#REF!","v":{"$error":"#REF!"}},1768]
["220805","SAN MARTIN","SAN MARTIN","RIOJA","PARDO MIGUEL","Hombre","05-09",{"$f":"'Pob x Genero'!#REF!","v":{"$error":"#REF!"}},1807]
["221002","SAN MARTIN","SAN MARTIN","TOCACHE","NUEVO PROGRESO","Hombre","05-09",{"$f":"'Pob x Genero'!#REF!","v":{"$error":"#REF!"}},1827]
["230404","TACNA","TACNA","TARATA","ESTIQUE-PAMPA","Hombre","05-09",{"$f":"'Pob x Genero'!#REF!","v":{"$error":"#REF!"}},1855]
["010103","AMAZONAS","AMAZONAS","CHACHAPOYAS","BALSAS","Hombre","10-14",{"$f":"'Pob x Genero'!#REF!","v":{"$error":"#REF!"}},3]
["010504","AMAZONAS","AMAZONAS","LUYA","COLCAMAR","Hombre","10-14",{"$f":"'Pob x Genero'!#REF!","v":{"$error":"#REF!"}},46]
["010606","AMAZONAS","AMAZONAS","RODRIGUEZ DE MENDOZA","LONGAR","Hombre","10-14",{"$f":"'Pob x Genero'!#REF!","v":{"$error":"#REF!"}},71]
["020106","ANCASH","ANCASH","HUARAZ","JANGAS","Hombre","10-14",{"$f":"'Pob x Genero'!#REF!","v":{"$error":"#REF!"}},90]
["020609","ANCASH","ANCASH","CARHUAZ","SHILLA","Hombre","10-14",{"$f":"'Pob x Genero'!#REF!","v":{"$error":"#REF!"}},133]
["021202","ANCASH","ANCASH","HUAYLAS","HUALLANCA","Hombre","10-14",{"$f":"'Pob x Genero'!#REF!","v":{"$error":"#REF!"}},172]
["021602","ANCASH","ANCASH","POMABAMBA","HUAYLLAN","Hombre","10-14",{"$f":"'Pob x Genero'!#REF!","v":{"$error":"#REF!"}},211]
["021801","ANCASH","ANCASH","SANTA","CHIMBOTE","Hombre","10-14",{"$f":"'Pob x Genero'!#REF!","v":{"$error":"#REF!"}},224]
["030109","APURIMAC","APURIMAC","ABANCAY","TAMBURCO","Hombre","10-14",{"$f":"'Pob x Genero'!#REF!","v":{"$error":"#REF!"}},259]
["030416","APURIMAC","APURIMAC","AYMARAES","TORAYA","Hombre","10-14",{"$f":"'Pob x Genero'!#REF!","v":{"$error":"#REF!"}},302]
["040106","AREQUIPA","AREQUIPA","AREQUIPA","CHIGUATA","Hombre","10-14",{"$f":"'Pob x Genero'!CV14","v":115},341]
["040308","AREQUIPA","AREQUIPA","CARAVELI","CHAPARRA","Hombre","10-14",{"$f":"'Pob x Genero'!CV53","v":136},380]
["040510","AREQUIPA","AREQUIPA","CAYLLOMA","LARI","Hombre","10-14",{"$f":"'Pob x Genero'!CV82","v":38},409]
["040701","AREQUIPA","AREQUIPA","ISLAY","MOLLENDO","Hombre","10-14",{"$f":"'Pob x Genero'!CV101","v":946},428]
["050301","AYACUCHO","AYACUCHO","HUANCA SANCOS","SANCOS","Hombre","10-14",{"$f":"'Pob x Genero'!#REF!","v":{"$error":"#REF!"}},467]
["050612","AYACUCHO","AYACUCHO","LUCANAS","OCAÑA","Hombre","10-14",{"$f":"'Pob x Genero'!#REF!","v":{"$error":"#REF!"}},510]
["050907","AYACUCHO","AYACUCHO","SUCRE","PAICO","Hombre","10-14",{"$f":"'Pob x Genero'!#REF!","v":{"$error":"#REF!"}},544]
["051010","AYACUCHO","AYACUCHO","VICTOR FAJARDO","HUAYA","Hombre","10-14",{"$f":"'Pob x Genero'!#REF!","v":{"$error":"#REF!"}},558]
["060401","CAJAMARCA","CAJAMARCA","CHOTA","CHOTA","Hombre","10-14",{"$f":"'Pob x Genero'!#REF!","v":{"$error":"#REF!"}},597]
["060613","CAJAMARCA","CAJAMARCA","CUTERVO","SANTO TOMAS","Hombre","10-14",{"$f":"'Pob x Genero'!#REF!","v":{"$error":"#REF!"}},636]
["060805","CAJAMARCA","CAJAMARCA","JAEN","HUABAL","Hombre","10-14",{"$f":"'Pob x Genero'!#REF!","v":{"$error":"#REF!"}},646]
["070102","CALLAO","CALLAO","CALLAO","BELLAVISTA","Hombre","10-14",{"$f":"'Pob x Genero'!#REF!","v":{"$error":"#REF!"}},697]
["080401","CUSCO","CUSCO","CALCA","CALCA","Hombre","10-14",{"$f":"'Pob x Genero'!#REF!","v":{"$error":"#REF!"}},727]
["080808","CUSCO","CUSCO","ESPINAR","ALTO PICHIGUA","Hombre","10-14",{"$f":"'Pob x Genero'!#REF!","v":{"$error":"#REF!"}},766]
["081206","CUSCO","CUSCO","QUISPICANCHI","CUSIPATA","Hombre","10-14",{"$f":"'Pob x Genero'!#REF!","v":{"$error":"#REF!"}},805]
["081304","CUSCO","CUSCO","URUBAMBA","MACHUPICCHU","Hombre","10-14",{"$f":"'Pob x Genero'!#REF!","v":{"$error":"#REF!"}},815]
["090305","HUANCAVELICA","HUANCAVELICA","ANGARAES","CHINCHO","Hombre","10-14",{"$f":"'Pob x Genero'!#REF!","v":{"$error":"#REF!"}},850]
["090611","HUANCAVELICA","HUANCAVELICA","HUAYTARA","SAN FRANCISCO DE SANGAYAICO","Hombre","10-14",{"$f":"'Pob x Genero'!#REF!","v":{"$error":"#REF!"}},892]
["100202","HUANUCO","HUANUCO","AMBO","CAYNA","Hombre","10-14",{"$f":"'Pob x Genero'!#REF!","v":{"$error":"#REF!"}},935]
["100208","HUANUCO","HUANUCO","AMBO","TOMAY KICHWA","Hombre","10-14",{"$f":"'Pob x Genero'!#REF!","v":{"$error":"#REF!"}},941]
["100804","HUANUCO","HUANUCO","PACHITEA","UMARI","Hombre","10-14",{"$f":"'Pob x Genero'!#REF!","v":{"$error":"#REF!"}},984]
["110401","ICA","ICA","PALPA","PALPA","Hombre","10-14",{"$f":"'Pob x Genero'!#REF!","v":{"$error":"#REF!"}},1035]
["120120","JUNIN","JUNIN","HUANCAYO","HUASICANCHA","Hombre","10-14",{"$f":"'Pob x Genero'!#REF!","v":{"$error":"#REF!"}},1061]
["120132","JUNIN","JUNIN","HUANCAYO","SAÑO","Hombre","10-14",{"$f":"'Pob x Genero'!#REF!","v":{"$error":"#REF!"}},1071]
["120414","JUNIN","JUNIN","JAUJA","LLOCLLAPAMPA","Hombre","10-14",{"$f":"'Pob x Genero'!#REF!","v":{"$error":"#REF!"}},1110]
["120604","JUNIN","JUNIN","SATIPO","MAZAMARI","Hombre","10-14",{"$f":"'Pob x Genero'!#REF!","v":{"$error":"#REF!"}},1138]
["130208","LA LIBERTAD","LA LIBERTAD","ASCOPE","CASA GRANDE","Hombre","10-14",{"$f":"'Pob x Genero'!#REF!","v":{"$error":"#REF!"}},1191]
["130811","LA LIBERTAD","LA LIBERTAD","PATAZ","SANTIAGO DE CHALLAS","Hombre","10-14",{"$f":"'Pob x Genero'!#REF!","v":{"$error":"#REF!"}},1230]
["130908","LA LIBERTAD","LA LIBERTAD","SANCHEZ CARRION","SARTIMBAMBA","Hombre","10-14",{"$f":"'Pob x Genero'!#REF!","v":{"$error":"#REF!"}},1240]
["140204","LAMBAYEQUE","LAMBAYEQUE","FERREÑAFE","MANUEL ANTONIO MESONES MURO","Hombre","10-14",{"$f":"'Pob x Genero'!#REF!","v":{"$error":"#REF!"}},1279]
["150130","DIRIS CENTRO","LIMA","LIMA","SAN BORJA","Hombre","10-14",{"$f":"'Pob x Genero'!#REF!","v":{"$error":"#REF!"}},1323]
["150507","LIMA","LIMA","CAÑETE","IMPERIAL","Hombre","10-14",{"$f":"'Pob x Genero'!#REF!","v":{"$error":"#REF!"}},1360]
["150513","LIMA","LIMA","CAÑETE","SAN ANTONIO","Hombre","10-14",{"$f":"'Pob x Genero'!#REF!","v":{"$error":"#REF!"}},1366]
["150728","LIMA","LIMA","HUAROCHIRI","SANTA EULALIA","Hombre","10-14",{"$f":"'Pob x Genero'!#REF!","v":{"$error":"#REF!"}},1409]
["151017","LIMA","LIMA","YAUYOS","HUAÑEC","Hombre","10-14",{"$f":"'Pob x Genero'!#REF!","v":{"$error":"#REF!"}},1448]
["160201","LORETO","LORETO","ALTO AMAZONAS","YURIMAGUAS","Hombre","10-14",{"$f":"'Pob x Genero'!#REF!","v":{"$error":"#REF!"}},1476]
["160506","LORETO","LORETO","REQUENA","PUINAHUA","Hombre","10-14",{"$f":"'Pob x Genero'!#REF!","v":{"$error":"#REF!"}},1496]
["180107","MOQUEGUA","MOQUEGUA","MARISCAL NIETO","SAN ANTONIO","Hombre","10-14",{"$f":"'Pob x Genero'!#REF!","v":{"$error":"#REF!"}},1535]
["190304","PASCO","PASCO","OXAPAMPA","PALCAZU","Hombre","10-14",{"$f":"'Pob x Genero'!#REF!","v":{"$error":"#REF!"}},1574]
["200501","PIURA","PIURA","PAITA","PAITA","Hombre","10-14",{"$f":"'Pob x Genero'!#REF!","v":{"$error":"#REF!"}},1617]
["200606","PIURA","PIURA","SULLANA","MIGUEL CHECA","Hombre","10-14",{"$f":"'Pob x Genero'!#REF!","v":{"$error":"#REF!"}},1629]
["210207","PUNO","PUNO","AZANGARO","JOSE DOMINGO CHOQUEHUANCA","Hombre","10-14",{"$f":"'Pob x Genero'!#REF!","v":{"$error":"#REF!"}},1665]
["210701","PUNO","PUNO","LAMPA","LAMPA","Hombre","10-14",{"$f":"'Pob x Genero'!#REF!","v":{"$error":"#REF!"}},1704]
["211207","PUNO","PUNO","SANDIA","SAN JUAN DEL ORO","Hombre","10-14",{"$f":"'Pob x Genero'!#REF!","v":{"$error":"#REF!"}},1743]
["220205","SAN MARTIN","SAN MARTIN","BELLAVISTA","SAN PABLO","Hombre","10-14",{"$f":"'Pob x Genero'!#REF!","v":{"$error":"#REF!"}},1764]
["220604","SAN MARTIN","SAN MARTIN","MARISCAL CACERES","PACHIZA","Hombre","10-14",{"$f":"'Pob x Genero'!#REF!","v":{"$error":"#REF!"}},1791]
["230103","TACNA","TACNA","TACNA","CALANA","Hombre","10-14",{"$f":"'Pob x Genero'!#REF!","v":{"$error":"#REF!"}},1834]
["250101","UCAYALI","UCAYALI","CORONEL PORTILLO","CALLERIA","Hombre","10-14",{"$f":"'Pob x Genero'!#REF!","v":{"$error":"#REF!"}},1873]
["010121","AMAZONAS","AMAZONAS","CHACHAPOYAS","SONCHE","Hombre","15-19",{"$f":"'Pob x Genero'!#REF!","v":{"$error":"#REF!"}},21]
["010516","AMAZONAS","AMAZONAS","LUYA","SAN CRISTOBAL","Hombre","15-19",{"$f":"'Pob x Genero'!#REF!","v":{"$error":"#REF!"}},58]
["010604","AMAZONAS","AMAZONAS","RODRIGUEZ DE MENDOZA","HUAMBO","Hombre","15-19",{"$f":"'Pob x Genero'!#REF!","v":{"$error":"#REF!"}},69]
["020401","ANCASH","ANCASH","ASUNCION","CHACAS","Hombre","15-19",{"$f":"'Pob x Genero'!#REF!","v":{"$error":"#REF!"}},108]
["021002","ANCASH","ANCASH","HUARI","ANRA","Hombre","15-19",{"$f":"'Pob x Genero'!#REF!","v":{"$error":"#REF!"}},151]
["021402","ANCASH","ANCASH","OCROS","ACAS","Hombre","15-19",{"$f":"'Pob x Genero'!#REF!","v":{"$error":"#REF!"}},190]
["021602","ANCASH","ANCASH","POMABAMBA","HUAYLLAN","Hombre","15-19",{"$f":"'Pob x Genero'!#REF!","v":{"$error":"#REF!"}},211]
["021906","ANCASH","ANCASH","SIHUAS","HUAYLLABAMBA","Hombre","15-19",{"$f":"'Pob x Genero'!#REF!","v":{"$error":"#REF!"}},238]
["030218","APURIMAC","APURIMAC","ANDAHUAYLAS","TURPO","Hombre","15-19",{"$f":"'Pob x Genero'!#REF!","v":{"$error":"#REF!"}},277]
["030611","APURIMAC","APURIMAC","CHINCHEROS","LOS CHANKAS","Hombre","15-19",{"$f":"'Pob x Genero'!#REF!","v":{"$error":"#REF!"}},320]
["040111","AREQUIPA","AREQUIPA","AREQUIPA","MOLLEBAYA","Hombre","15-19",{"$f":"'Pob x Genero'!CW19","v":285},346]
["040129","AREQUIPA","AREQUIPA","AREQUIPA","JOSE LUIS BUSTAMANTE Y RIVERO","Hombre","15-19",{"$f":"'Pob x Genero'!CW37","v":2947},364]
["040508","AREQUIPA","AREQUIPA","CAYLLOMA","HUANCA","Hombre","15-19",{"$f":"'Pob x Genero'!CW80","v":28},407]
["050102","AYACUCHO","AYACUCHO","HUAMANGA","ACOCRO","Hombre","15-19",{"$f":"'Pob x Genero'!#REF!","v":{"$error":"#REF!"}},446]
["050506","AYACUCHO","AYACUCHO","LA MAR","LUIS CARRANZA","Hombre","15-19",{"$f":"'Pob x Genero'!#REF!","v":{"$error":"#REF!"}},489]
["050601","AYACUCHO","AYACUCHO","LUCANAS","PUQUIO","Hombre","15-19",{"$f":"'Pob x Genero'!#REF!","v":{"$error":"#REF!"}},499]
["050806","AYACUCHO","AYACUCHO","PAUCAR DEL SARA SARA","OYOLO","Hombre","15-19",{"$f":"'Pob x Genero'!#REF!","v":{"$error":"#REF!"}},533]
["060108","CAJAMARCA","CAJAMARCA","CAJAMARCA","LOS BAÑOS DEL INCA","Hombre","15-19",{"$f":"'Pob x Genero'!#REF!","v":{"$error":"#REF!"}},576]
["060419","CAJAMARCA","CAJAMARCA","CHOTA","CHALAMARCA","Hombre","15-19",{"$f":"'Pob x Genero'!#REF!","v":{"$error":"#REF!"}},615]
["060602","CAJAMARCA","CAJAMARCA","CUTERVO","CALLAYUC","Hombre","15-19",{"$f":"'Pob x Genero'!#REF!","v":{"$error":"#REF!"}},625]
["061204","CAJAMARCA","CAJAMARCA","SAN PABLO","TUMBADEN","Hombre","15-19",{"$f":"'Pob x Genero'!#REF!","v":{"$error":"#REF!"}},684]
["070107","CALLAO","CALLAO","CALLAO                        ","MI PERU","Hombre","15-19",{"$f":"'Pob x Genero'!#REF!","v":{"$error":"#REF!"}},702]
["080603","CUSCO","CUSCO","CANCHIS","COMBAPATA","Hombre","15-19",{"$f":"'Pob x Genero'!#REF!","v":{"$error":"#REF!"}},745]
["080918","CUSCO","CUSCO","LA CONVENCION","UNION ASHÁNINKA","Hombre","15-19",{"$f":"'Pob x Genero'!#REF!","v":{"$error":"#REF!"}},784]
["081006","CUSCO","CUSCO","PARURO","OMACHA","Hombre","15-19",{"$f":"'Pob x Genero'!#REF!","v":{"$error":"#REF!"}},790]
["090119","HUANCAVELICA","HUANCAVELICA","HUANCAVELICA","HUANDO","Hombre","15-19",{"$f":"'Pob x Genero'!#REF!","v":{"$error":"#REF!"}},837]
["090501","HUANCAVELICA","HUANCAVELICA","CHURCAMPA","CHURCAMPA","Hombre","15-19",{"$f":"'Pob x Genero'!#REF!","v":{"$error":"#REF!"}},871]
["090719","HUANCAVELICA","HUANCAVELICA","TAYACAJA","QUICHUAS","Hombre","15-19",{"$f":"'Pob x Genero'!#REF!","v":{"$error":"#REF!"}},914]
["090725","HUANCAVELICA","HUANCAVELICA","TAYACAJA","COCHABAMBA","Hombre","15-19",{"$f":"'Pob x Genero'!#REF!","v":{"$error":"#REF!"}},920]
["100607","HUANUCO","HUANUCO","LEONCIO PRADO","PUCAYACU","Hombre","15-19",{"$f":"'Pob x Genero'!#REF!","v":{"$error":"#REF!"}},972]
["101105","HUANUCO","HUANUCO","YAROWILCA","JACAS CHICO","Hombre","15-19",{"$f":"'Pob x Genero'!#REF!","v":{"$error":"#REF!"}},1001]
["110501","ICA","ICA","PISCO","PISCO","Hombre","15-19",{"$f":"'Pob x Genero'!#REF!","v":{"$error":"#REF!"}},1040]
["120105","JUNIN","JUNIN","HUANCAYO","CHACAPAMPA","Hombre","15-19",{"$f":"'Pob x Genero'!#REF!","v":{"$error":"#REF!"}},1050]
["120214","JUNIN","JUNIN","CONCEPCION","SAN JOSE DE QUERO","Hombre","15-19",{"$f":"'Pob x Genero'!#REF!","v":{"$error":"#REF!"}},1089]
["120429","JUNIN","JUNIN","JAUJA","SAN PEDRO DE CHUNAN","Hombre","15-19",{"$f":"'Pob x Genero'!#REF!","v":{"$error":"#REF!"}},1125]
["120908","JUNIN","JUNIN","CHUPACA","TRES DE DICIEMBRE","Hombre","15-19",{"$f":"'Pob x Genero'!#REF!","v":{"$error":"#REF!"}},1170]
["130606","LA LIBERTAD","LA LIBERTAD","OTUZCO","LA CUESTA","Hombre","15-19",{"$f":"'Pob x Genero'!#REF!","v":{"$error":"#REF!"}},1209]
["130701","LA LIBERTAD","LA LIBERTAD","PACASMAYO","SAN PEDRO DE LLOC","Hombre","15-19",{"$f":"'Pob x Genero'!#REF!","v":{"$error":"#REF!"}},1215]
["140103","LAMBAYEQUE","LAMBAYEQUE","CHICLAYO","ETEN","Hombre","15-19",{"$f":"'Pob x Genero'!#REF!","v":{"$error":"#REF!"}},1258]
["140203","LAMBAYEQUE","LAMBAYEQUE","FERREÑAFE","INCAHUASI","Hombre","15-19",{"$f":"'Pob x Genero'!#REF!","v":{"$error":"#REF!"}},1278]
["150203","LIMA","LIMA","BARRANCA","PATIVILCA","Hombre","15-19",{"$f":"'Pob x Genero'!#REF!","v":{"$error":"#REF!"}},1339]
["150304","LIMA","LIMA","CAJATAMBO","HUANCAPON","Hombre","15-19",{"$f":"'Pob x Genero'!#REF!","v":{"$error":"#REF!"}},1345]
["150703","LIMA","LIMA","HUAROCHIRI","CALLAHUANCA","Hombre","15-19",{"$f":"'Pob x Genero'!#REF!","v":{"$error":"#REF!"}},1384]
["150902","LIMA","LIMA","OYON","ANDAJES","Hombre","15-19",{"$f":"'Pob x Genero'!#REF!","v":{"$error":"#REF!"}},1427]
["151032","LIMA","LIMA","YAUYOS","VIÑAC","Hombre","15-19",{"$f":"'Pob x Genero'!#REF!","v":{"$error":"#REF!"}},1463]
["160603","LORETO","LORETO","UCAYALI","PADRE MARQUEZ","Hombre","15-19",{"$f":"'Pob x Genero'!#REF!","v":{"$error":"#REF!"}},1504]
["160801","LORETO","LORETO","PUTUMAYO","PUTUMAYO","Hombre","15-19",{"$f":"'Pob x Genero'!#REF!","v":{"$error":"#REF!"}},1514]
["190104","PASCO","PASCO","PASCO","HUAYLLAY","Hombre","15-19",{"$f":"'Pob x Genero'!#REF!","v":{"$error":"#REF!"}},1553]
["200210","PIURA","PIURA","AYABACA","SUYO","Hombre","15-19",{"$f":"'Pob x Genero'!#REF!","v":{"$error":"#REF!"}},1598]
["200703","PIURA","PIURA","TALARA","LA BREA","Hombre","15-19",{"$f":"'Pob x Genero'!#REF!","v":{"$error":"#REF!"}},1634]
["200803","PIURA","PIURA","SECHURA","BERNAL","Hombre","15-19",{"$f":"'Pob x Genero'!#REF!","v":{"$error":"#REF!"}},1640]
["210310","PUNO","PUNO","CARABAYA","USICAYOS","Hombre","15-19",{"$f":"'Pob x Genero'!#REF!","v":{"$error":"#REF!"}},1683]
["210809","PUNO","PUNO","MELGAR","UMACHIRI","Hombre","15-19",{"$f":"'Pob x Genero'!#REF!","v":{"$error":"#REF!"}},1722]
["211305","PUNO","PUNO","YUNGUYO","OLLARAYA","Hombre","15-19",{"$f":"'Pob x Genero'!#REF!","v":{"$error":"#REF!"}},1751]
["220305","SAN MARTIN","SAN MARTIN","EL DORADO","SHATOJA","Hombre","15-19",{"$f":"'Pob x Genero'!#REF!","v":{"$error":"#REF!"}},1770]
["220807","SAN MARTIN","SAN MARTIN","RIOJA","SAN FERNANDO","Hombre","15-19",{"$f":"'Pob x Genero'!#REF!","v":{"$error":"#REF!"}},1809]
["230401","TACNA","TACNA","TARATA","TARATA","Hombre","15-19",{"$f":"'Pob x Genero'!#REF!","v":{"$error":"#REF!"}},1852]
["250401","UCAYALI","UCAYALI","PURUS","PURUS","Hombre","15-19",{"$f":"'Pob x Genero'!#REF!","v":{"$error":"#REF!"}},1891]
["010113","AMAZONAS","AMAZONAS","CHACHAPOYAS","MARISCAL CASTILLA","Hombre","20-24",{"$f":"'Pob x Genero'!#REF!","v":{"$error":"#REF!"}},13]
["010506","AMAZONAS","AMAZONAS","LUYA","INGUILPATA","Hombre","20-24",{"$f":"'Pob x Genero'!#REF!","v":{"$error":"#REF!"}},48]
["020103","ANCASH","ANCASH","HUARAZ","COLCABAMBA","Hombre","20-24",{"$f":"'Pob x Genero'!#REF!","v":{"$error":"#REF!"}},87]
["020606","ANCASH","ANCASH","CARHUAZ","MARCARA","Hombre",{"$f":"G7694","v":"20-24"},{"$f":"'Pob x Genero'!#REF!","v":{"$error":"#REF!"}},130]
["020906","ANCASH","ANCASH","CORONGO","YANAC","Hombre","20-24",{"$f":"'Pob x Genero'!#REF!","v":{"$error":"#REF!"}},148]
["021204","ANCASH","ANCASH","HUAYLAS","HUAYLAS","Hombre","20-24",{"$f":"'Pob x Genero'!#REF!","v":{"$error":"#REF!"}},174]
["021704","ANCASH","ANCASH","RECUAY","HUAYLLAPAMPA","Hombre","20-24",{"$f":"'Pob x Genero'!#REF!","v":{"$error":"#REF!"}},217]
["030106","APURIMAC","APURIMAC","ABANCAY","LAMBRAMA","Hombre","20-24",{"$f":"'Pob x Genero'!#REF!","v":{"$error":"#REF!"}},256]
["030409","APURIMAC","APURIMAC","AYMARAES","LUCRE","Hombre","20-24",{"$f":"'Pob x Genero'!#REF!","v":{"$error":"#REF!"}},295]
["030712","APURIMAC","APURIMAC","GRAU","VILCABAMBA","Hombre","20-24",{"$f":"'Pob x Genero'!#REF!","v":{"$error":"#REF!"}},333]
["040108","AREQUIPA","AREQUIPA","AREQUIPA","LA JOYA","Hombre","20-24",{"$f":"'Pob x Genero'!CX16","v":1763},343]
["040401","AREQUIPA","AREQUIPA","CASTILLA","APLAO","Hombre",{"$f":"G7950","v":"20-24"},{"$f":"'Pob x Genero'!CX59","v":324},386]
["040606","AREQUIPA","AREQUIPA","CONDESUYOS","RIO GRANDE","Hombre","20-24",{"$f":"'Pob x Genero'!CX98","v":120},425]
["050204","AYACUCHO","AYACUCHO","CANGALLO","MARIA PARADO DE BELLIDO","Hombre","20-24",{"$f":"'Pob x Genero'!#REF!","v":{"$error":"#REF!"}},464]
["050503","AYACUCHO","AYACUCHO","LA MAR","AYNA","Hombre","20-24",{"$f":"'Pob x Genero'!#REF!","v":{"$error":"#REF!"}},486]
["050614","AYACUCHO","AYACUCHO","LUCANAS","SAISA","Hombre","20-24",{"$f":"'Pob x Genero'!#REF!","v":{"$error":"#REF!"}},512]
["051007","AYACUCHO","AYACUCHO","VICTOR FAJARDO","COLCA","Hombre","20-24",{"$f":"'Pob x Genero'!#REF!","v":{"$error":"#REF!"}},555]
["060310","CAJAMARCA","CAJAMARCA","CELENDIN","SUCRE","Hombre","20-24",{"$f":"'Pob x Genero'!#REF!","v":{"$error":"#REF!"}},594]
["060404","CAJAMARCA","CAJAMARCA","CHOTA","CHIGUIRIP","Hombre","20-24",{"$f":"'Pob x Genero'!#REF!","v":{"$error":"#REF!"}},600]
["060701","CAJAMARCA","CAJAMARCA","HUALGAYOC","BAMBAMARCA","Hombre","20-24",{"$f":"'Pob x Genero'!#REF!","v":{"$error":"#REF!"}},639]
["061201","CAJAMARCA","CAJAMARCA","SAN PABLO","SAN PABLO","Hombre","20-24",{"$f":"'Pob x Genero'!#REF!","v":{"$error":"#REF!"}},681]
["080303","CUSCO","CUSCO","ANTA","CACHIMAYO","Hombre","20-24",{"$f":"'Pob x Genero'!#REF!","v":{"$error":"#REF!"}},720]
["080805","CUSCO","CUSCO","ESPINAR","PALLPATA","Hombre","20-24",{"$f":"'Pob x Genero'!#REF!","v":{"$error":"#REF!"}},763]
["080908","CUSCO","CUSCO","LA CONVENCION","SANTA TERESA","Hombre","20-24",{"$f":"'Pob x Genero'!#REF!","v":{"$error":"#REF!"}},774]
["081212","CUSCO","CUSCO","QUISPICANCHI","QUIQUIJANA","Hombre","20-24",{"$f":"'Pob x Genero'!#REF!","v":{"$error":"#REF!"}},811]
["090305","HUANCAVELICA","HUANCAVELICA","ANGARAES","CHINCHO","Hombre","20-24",{"$f":"'Pob x Genero'!#REF!","v":{"$error":"#REF!"}},850]
["090608","HUANCAVELICA","HUANCAVELICA","HUAYTARA","QUERCO","Hombre","20-24",{"$f":"'Pob x Genero'!#REF!","v":{"$error":"#REF!"}},889]
["090702","HUANCAVELICA","HUANCAVELICA","TAYACAJA","ACOSTAMBO","Hombre","20-24",{"$f":"'Pob x Genero'!#REF!","v":{"$error":"#REF!"}},899]
["100505","HUANUCO","HUANUCO","HUAMALIES","JIRCAN","Hombre","20-24",{"$f":"'Pob x Genero'!#REF!","v":{"$error":"#REF!"}},959]
["100705","HUANUCO","HUANUCO","MARAÑON","SANTA ROSA DE ALTO YANAJANCA","Hombre","20-24",{"$f":"'Pob x Genero'!#REF!","v":{"$error":"#REF!"}},980]
["110201","ICA","ICA","CHINCHA","CHINCHA ALTA","Hombre","20-24",{"$f":"'Pob x Genero'!#REF!","v":{"$error":"#REF!"}},1019]
["120116","JUNIN","JUNIN","HUANCAYO","HUACRAPUQUIO","Hombre","20-24",{"$f":"'Pob x Genero'!#REF!","v":{"$error":"#REF!"}},1058]
["120128","JUNIN","JUNIN","HUANCAYO","QUILCAS","Hombre","20-24",{"$f":"'Pob x Genero'!#REF!","v":{"$error":"#REF!"}},1068]
["120416","JUNIN","JUNIN","JAUJA","MASMA","Hombre","20-24",{"$f":"'Pob x Genero'!#REF!","v":{"$error":"#REF!"}},1112]
["120702","JUNIN","JUNIN","TARMA","ACOBAMBA","Hombre","20-24",{"$f":"'Pob x Genero'!#REF!","v":{"$error":"#REF!"}},1145]
["130205","LA LIBERTAD","LA LIBERTAD","ASCOPE","PAIJAN","Hombre","20-24",{"$f":"'Pob x Genero'!#REF!","v":{"$error":"#REF!"}},1188]
["130303","LA LIBERTAD","LA LIBERTAD","BOLIVAR","CONDORMARCA","Hombre","20-24",{"$f":"'Pob x Genero'!#REF!","v":{"$error":"#REF!"}},1194]
["130905","LA LIBERTAD","LA LIBERTAD","SANCHEZ CARRION","MARCABAL","Hombre","20-24",{"$f":"'Pob x Genero'!#REF!","v":{"$error":"#REF!"}},1237]
["140110","LAMBAYEQUE","LAMBAYEQUE","CHICLAYO","OYOTUN","Hombre","20-24",{"$f":"'Pob x Genero'!#REF!","v":{"$error":"#REF!"}},1265]
["150121","DIRIS CENTRO","LIMA","LIMA","PUEBLO LIBRE","Hombre","20-24",{"$f":"'Pob x Genero'!#REF!","v":{"$error":"#REF!"}},1314]
["150131","DIRIS CENTRO","LIMA","LIMA","SAN ISIDRO","Hombre","20-24",{"$f":"'Pob x Genero'!#REF!","v":{"$error":"#REF!"}},1324]
["150510","LIMA","LIMA","CAÑETE","NUEVO IMPERIAL","Hombre","20-24",{"$f":"'Pob x Genero'!#REF!","v":{"$error":"#REF!"}},1363]
["150719","LIMA","LIMA","HUAROCHIRI","SAN JUAN DE IRIS","Hombre","20-24",{"$f":"'Pob x Genero'!#REF!","v":{"$error":"#REF!"}},1400]
["151013","LIMA","LIMA","YAUYOS","HUAMPARA","Hombre","20-24",{"$f":"'Pob x Genero'!#REF!","v":{"$error":"#REF!"}},1444]
["160302","LORETO","LORETO","LORETO","PARINARI","Hombre","20-24",{"$f":"'Pob x Genero'!#REF!","v":{"$error":"#REF!"}},1483]
["160503","LORETO","LORETO","REQUENA","CAPELO","Hombre","20-24",{"$f":"'Pob x Genero'!#REF!","v":{"$error":"#REF!"}},1493]
["180104","MOQUEGUA","MOQUEGUA","MARISCAL NIETO","SAMEGUA","Hombre","20-24",{"$f":"'Pob x Genero'!#REF!","v":{"$error":"#REF!"}},1532]
["190104","PASCO","PASCO","PASCO","HUAYLLAY","Hombre","20-24",{"$f":"'Pob x Genero'!#REF!","v":{"$error":"#REF!"}},1553]
["200407","PIURA","PIURA","MORROPON","SAN JUAN DE BIGOTE","Hombre","20-24",{"$f":"'Pob x Genero'!#REF!","v":{"$error":"#REF!"}},1613]
["200503","PIURA","PIURA","PAITA","ARENAL","Hombre","20-24",{"$f":"'Pob x Genero'!#REF!","v":{"$error":"#REF!"}},1619]
["210204","PUNO","PUNO","AZANGARO","ASILLO","Hombre","20-24",{"$f":"'Pob x Genero'!#REF!","v":{"$error":"#REF!"}},1662]
["210606","PUNO","PUNO","HUANCANE","ROSASPATA","Hombre","20-24",{"$f":"'Pob x Genero'!#REF!","v":{"$error":"#REF!"}},1701]
["211202","PUNO","PUNO","SANDIA","CUYOCUYO","Hombre","20-24",{"$f":"'Pob x Genero'!#REF!","v":{"$error":"#REF!"}},1738]
["211303","PUNO","PUNO","YUNGUYO","COPANI","Hombre","20-24",{"$f":"'Pob x Genero'!#REF!","v":{"$error":"#REF!"}},1749]
["220601","SAN MARTIN","SAN MARTIN","MARISCAL CACERES","JUANJUI","Hombre","20-24",{"$f":"'Pob x Genero'!#REF!","v":{"$error":"#REF!"}},1788]
["221002","SAN MARTIN","SAN MARTIN","TOCACHE","NUEVO PROGRESO","Hombre","20-24",{"$f":"'Pob x Genero'!#REF!","v":{"$error":"#REF!"}},1827]
["250101","UCAYALI","UCAYALI","CORONEL PORTILLO","CALLERIA","Hombre","20-24",{"$f":"'Pob x Genero'!#REF!","v":{"$error":"#REF!"}},1873]
["010117","AMAZONAS","AMAZONAS","CHACHAPOYAS","QUINJALCA","Hombre","25-29",{"$f":"'Pob x Genero'!#REF!","v":{"$error":"#REF!"}},17]
["010206","AMAZONAS","AMAZONAS","BAGUA","LA PECA","Hombre","25-29",{"$f":"'Pob x Genero'!#REF!","v":{"$error":"#REF!"}},27]
["010601","AMAZONAS","AMAZONAS","RODRIGUEZ DE MENDOZA","SAN NICOLAS","Hombre",{"$f":"G9521","v":"25-29"},{"$f":"'Pob x Genero'!#REF!","v":{"$error":"#REF!"}},66]
["020304","ANCASH","ANCASH","ANTONIO RAYMONDI","CHINGAS","Hombre","25-29",{"$f":"'Pob x Genero'!#REF!","v":{"$error":"#REF!"}},105]
["020611","ANCASH","ANCASH","CARHUAZ","YUNGAR","Hombre","25-29",{"$f":"'Pob x Genero'!#REF!","v":{"$error":"#REF!"}},135]
["021004","ANCASH","ANCASH","HUARI","CHAVIN DE HUANTAR","Hombre","25-29",{"$f":"'Pob x Genero'!#REF!","v":{"$error":"#REF!"}},153]
["021404","ANCASH","ANCASH","OCROS","CARHUAPAMPA","Hombre","25-29",{"$f":"'Pob x Genero'!#REF!","v":{"$error":"#REF!"}},192]
["021903","ANCASH","ANCASH","SIHUAS","ALFONSO UGARTE","Hombre","25-29",{"$f":"'Pob x Genero'!#REF!","v":{"$error":"#REF!"}},235]
["030215","APURIMAC","APURIMAC","ANDAHUAYLAS","SANTA MARIA DE CHICMO","Hombre","25-29",{"$f":"'Pob x Genero'!#REF!","v":{"$error":"#REF!"}},274]
["030402","APURIMAC","APURIMAC","AYMARAES","CAPAYA","Hombre","25-29",{"$f":"'Pob x Genero'!#REF!","v":{"$error":"#REF!"}},288]
["030701","APURIMAC","APURIMAC","GRAU","CHUQUIBAMBILLA","Hombre",{"$f":"G9777","v":"25-29"},{"$f":"'Pob x Genero'!#REF!","v":{"$error":"#REF!"}},322]
["040126","AREQUIPA","AREQUIPA","AREQUIPA","YANAHUARA","Hombre","25-29",{"$f":"'Pob x Genero'!CY34","v":987},361]
["040505","AREQUIPA","AREQUIPA","CAYLLOMA","CAYLLOMA","Hombre","25-29",{"$f":"'Pob x Genero'!CY77","v":205},404]
["040810","AREQUIPA","AREQUIPA","LA UNION","TOMEPAMPA","Hombre","25-29",{"$f":"'Pob x Genero'!CY116","v":15},443]
["050403","AYACUCHO","AYACUCHO","HUANTA","HUAMANGUILLA","Hombre","25-29",{"$f":"'Pob x Genero'!#REF!","v":{"$error":"#REF!"}},473]
["050508","AYACUCHO","AYACUCHO","LA MAR","TAMBO","Hombre","25-29",{"$f":"'Pob x Genero'!#REF!","v":{"$error":"#REF!"}},491]
["050803","AYACUCHO","AYACUCHO","PAUCAR DEL SARA SARA","CORCULLA","Hombre","25-29",{"$f":"'Pob x Genero'!#REF!","v":{"$error":"#REF!"}},530]
["060105","CAJAMARCA","CAJAMARCA","CAJAMARCA","ENCAÑADA","Hombre","25-29",{"$f":"'Pob x Genero'!#REF!","v":{"$error":"#REF!"}},573]
["060412","CAJAMARCA","CAJAMARCA","CHOTA","MIRACOSTA","Hombre","25-29",{"$f":"'Pob x Genero'!#REF!","v":{"$error":"#REF!"}},608]
["060502","CAJAMARCA","CAJAMARCA","CONTUMAZA","CHILETE","Hombre","25-29",{"$f":"'Pob x Genero'!#REF!","v":{"$error":"#REF!"}},617]
["060907","CAJAMARCA","CAJAMARCA","SAN IGNACIO","TABACONAS","Hombre","25-29",{"$f":"'Pob x Genero'!#REF!","v":{"$error":"#REF!"}},660]
["070104","CALLAO","CALLAO","CALLAO","LA PERLA","Hombre","25-29",{"$f":"'Pob x Genero'!#REF!","v":{"$error":"#REF!"}},699]
["080107","CUSCO","CUSCO","CUSCO","SAYLLA","Hombre","25-29",{"$f":"'Pob x Genero'!#REF!","v":{"$error":"#REF!"}},709]
["080803","CUSCO","CUSCO","ESPINAR","COPORAQUE","Hombre","25-29",{"$f":"'Pob x Genero'!#REF!","v":{"$error":"#REF!"}},761]
["081002","CUSCO","CUSCO","PARURO","ACCHA","Hombre","25-29",{"$f":"'Pob x Genero'!#REF!","v":{"$error":"#REF!"}},786]
["090111","HUANCAVELICA","HUANCAVELICA","HUANCAVELICA","MARISCAL CACERES","Hombre","25-29",{"$f":"'Pob x Genero'!#REF!","v":{"$error":"#REF!"}},829]
["090411","HUANCAVELICA","HUANCAVELICA","CASTROVIRREYNA","SANTA ANA","Hombre","25-29",{"$f":"'Pob x Genero'!#REF!","v":{"$error":"#REF!"}},868]
["090508","HUANCAVELICA","HUANCAVELICA","CHURCAMPA","SAN MIGUEL DE MAYOCC","Hombre","25-29",{"$f":"'Pob x Genero'!#REF!","v":{"$error":"#REF!"}},878]
["090719","HUANCAVELICA","HUANCAVELICA","TAYACAJA","QUICHUAS","Hombre","25-29",{"$f":"'Pob x Genero'!#REF!","v":{"$error":"#REF!"}},914]
["100501","HUANUCO","HUANUCO","HUAMALIES","LLATA","Hombre","25-29",{"$f":"'Pob x Genero'!#REF!","v":{"$error":"#REF!"}},955]
["101102","HUANUCO","HUANUCO","YAROWILCA","CAHUAC","Hombre","25-29",{"$f":"'Pob x Genero'!#REF!","v":{"$error":"#REF!"}},998]
["101108","HUANUCO","HUANUCO","YAROWILCA","CHORAS","Hombre","25-29",{"$f":"'Pob x Genero'!#REF!","v":{"$error":"#REF!"}},1004]
["110504","ICA","ICA","PISCO","INDEPENDENCIA","Hombre","25-29",{"$f":"'Pob x Genero'!#REF!","v":{"$error":"#REF!"}},1043]
["120403","JUNIN","JUNIN","JAUJA","APATA","Hombre","25-29",{"$f":"'Pob x Genero'!#REF!","v":{"$error":"#REF!"}},1099]
["120428","JUNIN","JUNIN","JAUJA","SAN LORENZO","Hombre","25-29",{"$f":"'Pob x Genero'!#REF!","v":{"$error":"#REF!"}},1124]
["120905","JUNIN","JUNIN","CHUPACA","HUAMANCACA CHICO","Hombre","25-29",{"$f":"'Pob x Genero'!#REF!","v":{"$error":"#REF!"}},1167]
["130102","LA LIBERTAD","LA LIBERTAD","TRUJILLO","EL PORVENIR","Hombre","25-29",{"$f":"'Pob x Genero'!#REF!","v":{"$error":"#REF!"}},1173]
["130502","LA LIBERTAD","LA LIBERTAD","JULCAN","CALAMARCA","Hombre","25-29",{"$f":"'Pob x Genero'!#REF!","v":{"$error":"#REF!"}},1202]
["131202","LA LIBERTAD","LA LIBERTAD","VIRU","CHAO","Hombre","25-29",{"$f":"'Pob x Genero'!#REF!","v":{"$error":"#REF!"}},1254]
["140312","LAMBAYEQUE","LAMBAYEQUE","LAMBAYEQUE","TUCUME","Hombre","25-29",{"$f":"'Pob x Genero'!#REF!","v":{"$error":"#REF!"}},1293]
["150106","DIRIS NORTE","LIMA","LIMA","CARABAYLLO","Hombre","25-29",{"$f":"'Pob x Genero'!#REF!","v":{"$error":"#REF!"}},1299]
["150301","LIMA","LIMA","CAJATAMBO","CAJATAMBO","Hombre","25-29",{"$f":"'Pob x Genero'!#REF!","v":{"$error":"#REF!"}},1342]
["150706","LIMA","LIMA","HUAROCHIRI","CUENCA","Hombre","25-29",{"$f":"'Pob x Genero'!#REF!","v":{"$error":"#REF!"}},1387]
["150810","LIMA","LIMA","HUAURA","SANTA MARIA","Hombre","25-29",{"$f":"'Pob x Genero'!#REF!","v":{"$error":"#REF!"}},1423]
["151031","LIMA","LIMA","YAUYOS","TUPE","Hombre","25-29",{"$f":"'Pob x Genero'!#REF!","v":{"$error":"#REF!"}},1462]
["160104","LORETO","LORETO","MAYNAS","INDIANA","Hombre","25-29",{"$f":"'Pob x Genero'!#REF!","v":{"$error":"#REF!"}},1468]
["160704","LORETO","LORETO","DATEM DEL MARAÑON","MORONA","Hombre","25-29",{"$f":"'Pob x Genero'!#REF!","v":{"$error":"#REF!"}},1511]
["180205","MOQUEGUA","MOQUEGUA","GENERAL SANCHEZ CERRO","LA CAPILLA","Hombre","25-29",{"$f":"'Pob x Genero'!#REF!","v":{"$error":"#REF!"}},1540]
["200204","PIURA","PIURA","AYABACA","LAGUNAS","Hombre","25-29",{"$f":"'Pob x Genero'!#REF!","v":{"$error":"#REF!"}},1592]
["200210","PIURA","PIURA","AYABACA","SUYO","Hombre","25-29",{"$f":"'Pob x Genero'!#REF!","v":{"$error":"#REF!"}},1598]
["200706","PIURA","PIURA","TALARA","MANCORA","Hombre","25-29",{"$f":"'Pob x Genero'!#REF!","v":{"$error":"#REF!"}},1637]
["210302","PUNO","PUNO","CARABAYA","AJOYANI","Hombre","25-29",{"$f":"'Pob x Genero'!#REF!","v":{"$error":"#REF!"}},1675]
["210805","PUNO","PUNO","MELGAR","MACARI","Hombre","25-29",{"$f":"'Pob x Genero'!#REF!","v":{"$error":"#REF!"}},1718]
["220104","SAN MARTIN","SAN MARTIN","MOYOBAMBA","JEPELACIO","Hombre","25-29",{"$f":"'Pob x Genero'!#REF!","v":{"$error":"#REF!"}},1757]
["220302","SAN MARTIN","SAN MARTIN","EL DORADO","AGUA BLANCA","Hombre","25-29",{"$f":"'Pob x Genero'!#REF!","v":{"$error":"#REF!"}},1767]
["220804","SAN MARTIN","SAN MARTIN","RIOJA","NUEVA CAJAMARCA","Hombre","25-29",{"$f":"'Pob x Genero'!#REF!","v":{"$error":"#REF!"}},1806]
["221003","SAN MARTIN","SAN MARTIN","TOCACHE","POLVORA","Hombre","25-29",{"$f":"'Pob x Genero'!#REF!","v":{"$error":"#REF!"}},1828]
["250304","UCAYALI","UCAYALI","PADRE ABAD","NESHUYA","Hombre","25-29",{"$f":"'Pob x Genero'!#REF!","v":{"$error":"#REF!"}},1887]
["010102","AMAZONAS","AMAZONAS","CHACHAPOYAS","ASUNCION","Hombre",{"$f":"G11348","v":"30-34"},{"$f":"'Pob x Genero'!#REF!","v":{"$error":"#REF!"}},2]
["010503","AMAZONAS","AMAZONAS","LUYA","COCABAMBA","Hombre","30-34",{"$f":"'Pob x Genero'!#REF!","v":{"$error":"#REF!"}},45]
["010707","AMAZONAS","AMAZONAS","UTCUBAMBA","YAMON","Hombre","30-34",{"$f":"'Pob x Genero'!#REF!","v":{"$error":"#REF!"}},84]
["020513","ANCASH","ANCASH","BOLOGNESI","PACLLON","Hombre","30-34",{"$f":"'Pob x Genero'!#REF!","v":{"$error":"#REF!"}},122]
["020608","ANCASH","ANCASH","CARHUAZ","SAN MIGUEL DE ACO","Hombre","30-34",{"$f":"'Pob x Genero'!#REF!","v":{"$error":"#REF!"}},132]
["021201","ANCASH","ANCASH","HUAYLAS","CARAZ","Hombre","30-34",{"$f":"'Pob x Genero'!#REF!","v":{"$error":"#REF!"}},171]
["021701","ANCASH","ANCASH","RECUAY","RECUAY","Hombre","30-34",{"$f":"'Pob x Genero'!#REF!","v":{"$error":"#REF!"}},214]
["030103","APURIMAC","APURIMAC","ABANCAY","CIRCA","Hombre","30-34",{"$f":"'Pob x Genero'!#REF!","v":{"$error":"#REF!"}},253]
["030216","APURIMAC","APURIMAC","ANDAHUAYLAS","TALAVERA","Hombre","30-34",{"$f":"'Pob x Genero'!#REF!","v":{"$error":"#REF!"}},275]
["030415","APURIMAC","APURIMAC","AYMARAES","TINTAY","Hombre","30-34",{"$f":"'Pob x Genero'!#REF!","v":{"$error":"#REF!"}},301]
["040105","AREQUIPA","AREQUIPA","AREQUIPA","CHARACATO","Hombre","30-34",{"$f":"'Pob x Genero'!CZ13","v":760},340]
["040311","AREQUIPA","AREQUIPA","CARAVELI","LOMAS","Hombre","30-34",{"$f":"'Pob x Genero'!CZ56","v":68},383]
["040511","AREQUIPA","AREQUIPA","CAYLLOMA","LLUTA","Hombre","30-34",{"$f":"'Pob x Genero'!CZ83","v":34},410]
["040608","AREQUIPA","AREQUIPA","CONDESUYOS","YANAQUIHUA","Hombre","30-34",{"$f":"'Pob x Genero'!CZ100","v":162},427]
["050304","AYACUCHO","AYACUCHO","HUANCA SANCOS","SANTIAGO DE LUCANAMARCA","Hombre","30-34",{"$f":"'Pob x Genero'!#REF!","v":{"$error":"#REF!"}},470]
["050611","AYACUCHO","AYACUCHO","LUCANAS","LUCANAS","Hombre","30-34",{"$f":"'Pob x Genero'!#REF!","v":{"$error":"#REF!"}},509]
["050911","AYACUCHO","AYACUCHO","SUCRE","SORAS","Hombre","30-34",{"$f":"'Pob x Genero'!#REF!","v":{"$error":"#REF!"}},548]
["051103","AYACUCHO","AYACUCHO","VILCAS HUAMAN","CARHUANCA","Hombre","30-34",{"$f":"'Pob x Genero'!#REF!","v":{"$error":"#REF!"}},563]
["060312","CAJAMARCA","CAJAMARCA","CELENDIN","LA LIBERTAD DE PALLAN","Hombre","30-34",{"$f":"'Pob x Genero'!#REF!","v":{"$error":"#REF!"}},596]
["060701","CAJAMARCA","CAJAMARCA","HUALGAYOC","BAMBAMARCA","Hombre","30-34",{"$f":"'Pob x Genero'!#REF!","v":{"$error":"#REF!"}},639]
["061111","CAJAMARCA","CAJAMARCA","SAN MIGUEL","SAN SILVESTRE DE COCHAN","Hombre","30-34",{"$f":"'Pob x Genero'!#REF!","v":{"$error":"#REF!"}},678]
["080207","CUSCO","CUSCO","ACOMAYO","SANGARARA","Hombre","30-34",{"$f":"'Pob x Genero'!#REF!","v":{"$error":"#REF!"}},717]
["080606","CUSCO","CUSCO","CANCHIS","SAN PABLO","Hombre","30-34",{"$f":"'Pob x Genero'!#REF!","v":{"$error":"#REF!"}},748]
["080807","CUSCO","CUSCO","ESPINAR","SUYCKUTAMBO","Hombre","30-34",{"$f":"'Pob x Genero'!#REF!","v":{"$error":"#REF!"}},765]
["081209","CUSCO","CUSCO","QUISPICANCHI","MARCAPATA","Hombre","30-34",{"$f":"'Pob x Genero'!#REF!","v":{"$error":"#REF!"}},808]
["090302","HUANCAVELICA","HUANCAVELICA","ANGARAES","ANCHONGA","Hombre","30-34",{"$f":"'Pob x Genero'!#REF!","v":{"$error":"#REF!"}},847]
["090308","HUANCAVELICA","HUANCAVELICA","ANGARAES","HUAYLLAY GRANDE","Hombre","30-34",{"$f":"'Pob x Genero'!#REF!","v":{"$error":"#REF!"}},853]
["090704","HUANCAVELICA","HUANCAVELICA","TAYACAJA","AHUAYCHA","Hombre","30-34",{"$f":"'Pob x Genero'!#REF!","v":{"$error":"#REF!"}},901]
["100201","HUANUCO","HUANUCO","AMBO","AMBO","Hombre","30-34",{"$f":"'Pob x Genero'!#REF!","v":{"$error":"#REF!"}},934]
["100608","HUANUCO","HUANUCO","LEONCIO PRADO","CASTILLO GRANDE","Hombre","30-34",{"$f":"'Pob x Genero'!#REF!","v":{"$error":"#REF!"}},973]
["100803","HUANUCO","HUANUCO","PACHITEA","MOLINO","Hombre","30-34",{"$f":"'Pob x Genero'!#REF!","v":{"$error":"#REF!"}},983]
["110402","ICA","ICA","PALPA","LLIPATA","Hombre","30-34",{"$f":"'Pob x Genero'!#REF!","v":{"$error":"#REF!"}},1036]
["120124","JUNIN","JUNIN","HUANCAYO","PARIAHUANCA","Hombre","30-34",{"$f":"'Pob x Genero'!#REF!","v":{"$error":"#REF!"}},1064]
["120407","JUNIN","JUNIN","JAUJA","EL MANTARO","Hombre","30-34",{"$f":"'Pob x Genero'!#REF!","v":{"$error":"#REF!"}},1103]
["120608","JUNIN","JUNIN","SATIPO","RIO TAMBO","Hombre","30-34",{"$f":"'Pob x Genero'!#REF!","v":{"$error":"#REF!"}},1142]
["120709","JUNIN","JUNIN","TARMA","TAPO","Hombre","30-34",{"$f":"'Pob x Genero'!#REF!","v":{"$error":"#REF!"}},1152]
["130206","LA LIBERTAD","LA LIBERTAD","ASCOPE","RAZURI","Hombre","30-34",{"$f":"'Pob x Genero'!#REF!","v":{"$error":"#REF!"}},1189]
["130810","LA LIBERTAD","LA LIBERTAD","PATAZ","PIAS","Hombre","30-34",{"$f":"'Pob x Genero'!#REF!","v":{"$error":"#REF!"}},1229]
["140117","LAMBAYEQUE","LAMBAYEQUE","CHICLAYO","PATAPO","Hombre","30-34",{"$f":"'Pob x Genero'!#REF!","v":{"$error":"#REF!"}},1272]
["140203","LAMBAYEQUE","LAMBAYEQUE","FERREÑAFE","INCAHUASI","Hombre","30-34",{"$f":"'Pob x Genero'!#REF!","v":{"$error":"#REF!"}},1278]
["150128","DIRIS NORTE","LIMA","LIMA","RIMAC","Hombre","30-34",{"$f":"'Pob x Genero'!#REF!","v":{"$error":"#REF!"}},1321]
["150605","LIMA","LIMA","HUARAL","CHANCAY","Hombre","30-34",{"$f":"'Pob x Genero'!#REF!","v":{"$error":"#REF!"}},1374]
["150717","LIMA","LIMA","HUAROCHIRI","SAN BARTOLOME","Hombre","30-34",{"$f":"'Pob x Genero'!#REF!","v":{"$error":"#REF!"}},1398]
["150727","LIMA","LIMA","HUAROCHIRI","SANTA CRUZ DE COCACHACRA","Hombre","30-34",{"$f":"'Pob x Genero'!#REF!","v":{"$error":"#REF!"}},1408]
["151016","LIMA","LIMA","YAUYOS","HUANTAN","Hombre","30-34",{"$f":"'Pob x Genero'!#REF!","v":{"$error":"#REF!"}},1447]
["160202","LORETO","LORETO","ALTO AMAZONAS","BALSAPUERTO","Hombre","30-34",{"$f":"'Pob x Genero'!#REF!","v":{"$error":"#REF!"}},1477]
["170303","MADRE DE DIOS","MADRE DE DIOS","TAHUAMANU","TAHUAMANU","Hombre","30-34",{"$f":"'Pob x Genero'!#REF!","v":{"$error":"#REF!"}},1528]
["190205","PASCO","PASCO","DANIEL ALCIDES CARRION","SAN PEDRO DE PILLAO","Hombre","30-34",{"$f":"'Pob x Genero'!#REF!","v":{"$error":"#REF!"}},1567]
["190307","PASCO","PASCO","OXAPAMPA","VILLA RICA","Hombre","30-34",{"$f":"'Pob x Genero'!#REF!","v":{"$error":"#REF!"}},1577]
["200410","PIURA","PIURA","MORROPON","YAMANGO","Hombre","30-34",{"$f":"'Pob x Genero'!#REF!","v":{"$error":"#REF!"}},1616]
["210204","PUNO","PUNO","AZANGARO","ASILLO","Hombre","30-34",{"$f":"'Pob x Genero'!#REF!","v":{"$error":"#REF!"}},1662]
["210602","PUNO","PUNO","HUANCANE","COJATA","Hombre","30-34",{"$f":"'Pob x Genero'!#REF!","v":{"$error":"#REF!"}},1697]
["210608","PUNO","PUNO","HUANCANE","VILQUE CHICO","Hombre","30-34",{"$f":"'Pob x Genero'!#REF!","v":{"$error":"#REF!"}},1703]
["211210","PUNO","PUNO","SANDIA","SAN PEDRO DE PUTINA PUNCO","Hombre","30-34",{"$f":"'Pob x Genero'!#REF!","v":{"$error":"#REF!"}},1746]
["220509","SAN MARTIN","SAN MARTIN","LAMAS","SHANAO","Hombre","30-34",{"$f":"'Pob x Genero'!#REF!","v":{"$error":"#REF!"}},1785]
["220904","SAN MARTIN","SAN MARTIN","SAN MARTIN","CHAZUTA","Hombre","30-34",{"$f":"'Pob x Genero'!#REF!","v":{"$error":"#REF!"}},1815]
["240201","TUMBES","TUMBES","CONTRALMIRANTE VILLAR","ZORRITOS","Hombre","30-34",{"$f":"'Pob x Genero'!#REF!","v":{"$error":"#REF!"}},1866]
["240304","TUMBES","TUMBES","ZARUMILLA","PAPAYAL","Hombre","30-34",{"$f":"'Pob x Genero'!#REF!","v":{"$error":"#REF!"}},1872]
["010203","AMAZONAS","AMAZONAS","BAGUA","COPALLIN","Hombre","35-39",{"$f":"'Pob x Genero'!#REF!","v":{"$error":"#REF!"}},24]
["010521","AMAZONAS","AMAZONAS","LUYA","SANTO TOMAS","Hombre","35-39",{"$f":"'Pob x Genero'!#REF!","v":{"$error":"#REF!"}},63]
["010612","AMAZONAS","AMAZONAS","RODRIGUEZ DE MENDOZA","VISTA ALEGRE","Hombre","35-39",{"$f":"'Pob x Genero'!#REF!","v":{"$error":"#REF!"}},77]
["020502","ANCASH","ANCASH","BOLOGNESI","ABELARDO PARDO LEZAMETA","Hombre","35-39",{"$f":"'Pob x Genero'!#REF!","v":{"$error":"#REF!"}},111]
["021001","ANCASH","ANCASH","HUARI","HUARI","Hombre","35-39",{"$f":"'Pob x Genero'!#REF!","v":{"$error":"#REF!"}},150]
["021401","ANCASH","ANCASH","OCROS","OCROS","Hombre","35-39",{"$f":"'Pob x Genero'!#REF!","v":{"$error":"#REF!"}},189]
["021603","ANCASH","ANCASH","POMABAMBA","PAROBAMBA","Hombre","35-39",{"$f":"'Pob x Genero'!#REF!","v":{"$error":"#REF!"}},212]
["030211","APURIMAC","APURIMAC","ANDAHUAYLAS","POMACOCHA","Hombre","35-39",{"$f":"'Pob x Genero'!#REF!","v":{"$error":"#REF!"}},270]
["030301","APURIMAC","APURIMAC","ANTABAMBA","ANTABAMBA","Hombre","35-39",{"$f":"'Pob x Genero'!#REF!","v":{"$error":"#REF!"}},280]
["030610","APURIMAC","APURIMAC","CHINCHEROS","EL PORVENIR","Hombre","35-39",{"$f":"'Pob x Genero'!#REF!","v":{"$error":"#REF!"}},319]
["040123","AREQUIPA","AREQUIPA","AREQUIPA","TIABAYA","Hombre","35-39",{"$f":"'Pob x Genero'!DA31","v":779},358]
["040412","AREQUIPA","AREQUIPA","CASTILLA","UÑON","Hombre","35-39",{"$f":"'Pob x Genero'!DA70","v":11},397]
["040507","AREQUIPA","AREQUIPA","CAYLLOMA","HUAMBO","Hombre","35-39",{"$f":"'Pob x Genero'!DA79","v":21},406]
["050101","AYACUCHO","AYACUCHO","HUAMANGA","AYACUCHO","Hombre","35-39",{"$f":"'Pob x Genero'!#REF!","v":{"$error":"#REF!"}},445]
["050505","AYACUCHO","AYACUCHO","LA MAR","CHUNGUI","Hombre","35-39",{"$f":"'Pob x Genero'!#REF!","v":{"$error":"#REF!"}},488]
["050708","AYACUCHO","AYACUCHO","PARINACOCHAS","UPAHUACHO","Hombre","35-39",{"$f":"'Pob x Genero'!#REF!","v":{"$error":"#REF!"}},527]
["051002","AYACUCHO","AYACUCHO","VICTOR FAJARDO","ALCAMENCA","Hombre","35-39",{"$f":"'Pob x Genero'!#REF!","v":{"$error":"#REF!"}},550]
["060107","CAJAMARCA","CAJAMARCA","CAJAMARCA","LLACANORA","Hombre","35-39",{"$f":"'Pob x Genero'!#REF!","v":{"$error":"#REF!"}},575]
["060418","CAJAMARCA","CAJAMARCA","CHOTA","TOCMOCHE","Hombre","35-39",{"$f":"'Pob x Genero'!#REF!","v":{"$error":"#REF!"}},614]
["060904","CAJAMARCA","CAJAMARCA","SAN IGNACIO","LA COIPA","Hombre","35-39",{"$f":"'Pob x Genero'!#REF!","v":{"$error":"#REF!"}},657]
["070101","CALLAO","CALLAO","CALLAO","CALLAO","Hombre","35-39",{"$f":"'Pob x Genero'!#REF!","v":{"$error":"#REF!"}},696]
["080101","CUSCO","CUSCO","CUSCO","CUSCO","Hombre","35-39",{"$f":"'Pob x Genero'!#REF!","v":{"$error":"#REF!"}},703]
["080602","CUSCO","CUSCO","CANCHIS","CHECACUPE","Hombre","35-39",{"$f":"'Pob x Genero'!#REF!","v":{"$error":"#REF!"}},744]
["080917","CUSCO","CUSCO","LA CONVENCION","MANITEA","Hombre","35-39",{"$f":"'Pob x Genero'!#REF!","v":{"$error":"#REF!"}},783]
["090108","HUANCAVELICA","HUANCAVELICA","HUANCAVELICA","IZCUCHACA","Hombre","35-39",{"$f":"'Pob x Genero'!#REF!","v":{"$error":"#REF!"}},826]
["090201","HUANCAVELICA","HUANCAVELICA","ACOBAMBA","ACOBAMBA","Hombre","35-39",{"$f":"'Pob x Genero'!#REF!","v":{"$error":"#REF!"}},838]
["090413","HUANCAVELICA","HUANCAVELICA","CASTROVIRREYNA","TICRAPO","Hombre","35-39",{"$f":"'Pob x Genero'!#REF!","v":{"$error":"#REF!"}},870]
["090718","HUANCAVELICA","HUANCAVELICA","TAYACAJA","TINTAY PUNCU","Hombre","35-39",{"$f":"'Pob x Genero'!#REF!","v":{"$error":"#REF!"}},913]
["100402","HUANUCO","HUANUCO","HUACAYBAMBA","CANCHABAMBA","Hombre","35-39",{"$f":"'Pob x Genero'!#REF!","v":{"$error":"#REF!"}},952]
["100508","HUANUCO","HUANUCO","HUAMALIES","PUNCHAO","Hombre",{"$f":"G14199","v":"35-39"},{"$f":"'Pob x Genero'!#REF!","v":{"$error":"#REF!"}},962]
["110205","ICA","ICA","CHINCHA","EL CARMEN","Hombre","35-39",{"$f":"'Pob x Genero'!#REF!","v":{"$error":"#REF!"}},1023]
["110405","ICA","ICA","PALPA","TIBILLO","Hombre","35-39",{"$f":"'Pob x Genero'!#REF!","v":{"$error":"#REF!"}},1039]
["120207","JUNIN","JUNIN","CONCEPCION","HEROINAS TOLEDO","Hombre","35-39",{"$f":"'Pob x Genero'!#REF!","v":{"$error":"#REF!"}},1082]
["120425","JUNIN","JUNIN","JAUJA","PARCO","Hombre","35-39",{"$f":"'Pob x Genero'!#REF!","v":{"$error":"#REF!"}},1121]
["120501","JUNIN","JUNIN","JUNIN","JUNIN","Hombre","35-39",{"$f":"'Pob x Genero'!#REF!","v":{"$error":"#REF!"}},1131]
["130105","LA LIBERTAD","LA LIBERTAD","TRUJILLO","LA ESPERANZA","Hombre","35-39",{"$f":"'Pob x Genero'!#REF!","v":{"$error":"#REF!"}},1176]
["130605","LA LIBERTAD","LA LIBERTAD","OTUZCO","HUARANCHAL","Hombre","35-39",{"$f":"'Pob x Genero'!#REF!","v":{"$error":"#REF!"}},1208]
["131103","LA LIBERTAD","LA LIBERTAD","GRAN CHIMU","MARMOT","Hombre","35-39",{"$f":"'Pob x Genero'!#REF!","v":{"$error":"#REF!"}},1251]
["140102","LAMBAYEQUE","LAMBAYEQUE","CHICLAYO","CHONGOYAPE","Hombre","35-39",{"$f":"'Pob x Genero'!#REF!","v":{"$error":"#REF!"}},1257]
["150118","DIRIS ESTE","LIMA","LIMA","LURIGANCHO","Hombre","35-39",{"$f":"'Pob x Genero'!#REF!","v":{"$error":"#REF!"}},1311]
["150202","LIMA","LIMA","BARRANCA","PARAMONGA","Hombre","35-39",{"$f":"'Pob x Genero'!#REF!","v":{"$error":"#REF!"}},1338]
["150608","LIMA","LIMA","HUARAL","PACARAOS","Hombre","35-39",{"$f":"'Pob x Genero'!#REF!","v":{"$error":"#REF!"}},1377]
["150706","LIMA","LIMA","HUAROCHIRI","CUENCA","Hombre","35-39",{"$f":"'Pob x Genero'!#REF!","v":{"$error":"#REF!"}},1387]
["150901","LIMA","LIMA","OYON","OYON","Hombre","35-39",{"$f":"'Pob x Genero'!#REF!","v":{"$error":"#REF!"}},1426]
["151033","LIMA","LIMA","YAUYOS","VITIS","Hombre","35-39",{"$f":"'Pob x Genero'!#REF!","v":{"$error":"#REF!"}},1464]
["160606","LORETO","LORETO","UCAYALI","VARGAS GUERRA","Hombre","35-39",{"$f":"'Pob x Genero'!#REF!","v":{"$error":"#REF!"}},1507]
["180211","MOQUEGUA","MOQUEGUA","GENERAL SANCHEZ CERRO","YUNGA","Hombre","35-39",{"$f":"'Pob x Genero'!#REF!","v":{"$error":"#REF!"}},1546]
["190103","PASCO","PASCO","PASCO","HUARIACA","Hombre","35-39",{"$f":"'Pob x Genero'!#REF!","v":{"$error":"#REF!"}},1552]
["200207","PIURA","PIURA","AYABACA","PAIMAS","Hombre","35-39",{"$f":"'Pob x Genero'!#REF!","v":{"$error":"#REF!"}},1595]
["200501","PIURA","PIURA","PAITA","PAITA","Hombre","35-39",{"$f":"'Pob x Genero'!#REF!","v":{"$error":"#REF!"}},1617]
["210303","PUNO","PUNO","CARABAYA","AYAPATA","Hombre","35-39",{"$f":"'Pob x Genero'!#REF!","v":{"$error":"#REF!"}},1676]
["210309","PUNO","PUNO","CARABAYA","SAN GABAN","Hombre","35-39",{"$f":"'Pob x Genero'!#REF!","v":{"$error":"#REF!"}},1682]
["210808","PUNO","PUNO","MELGAR","SANTA ROSA","Hombre","35-39",{"$f":"'Pob x Genero'!#REF!","v":{"$error":"#REF!"}},1721]
["220205","SAN MARTIN","SAN MARTIN","BELLAVISTA","SAN PABLO","Hombre","35-39",{"$f":"'Pob x Genero'!#REF!","v":{"$error":"#REF!"}},1764]
["220710","SAN MARTIN","SAN MARTIN","PICOTA","TRES UNIDOS","Hombre","35-39",{"$f":"'Pob x Genero'!#REF!","v":{"$error":"#REF!"}},1802]
["220901","SAN MARTIN","SAN MARTIN","SAN MARTIN","TARAPOTO","Hombre","35-39",{"$f":"'Pob x Genero'!#REF!","v":{"$error":"#REF!"}},1812]
["230303","TACNA","TACNA","JORGE BASADRE","ITE","Hombre","35-39",{"$f":"'Pob x Genero'!#REF!","v":{"$error":"#REF!"}},1851]
["250307","UCAYALI","UCAYALI","PADRE ABAD","BOQUERON","Hombre","35-39",{"$f":"'Pob x Genero'!#REF!","v":{"$error":"#REF!"}},1890]
["010504","AMAZONAS","AMAZONAS","LUYA","COLCAMAR","Hombre","40-44",{"$f":"'Pob x Genero'!#REF!","v":{"$error":"#REF!"}},46]
["010703","AMAZONAS","AMAZONAS","UTCUBAMBA","CUMBA","Hombre","40-44",{"$f":"'Pob x Genero'!#REF!","v":{"$error":"#REF!"}},80]
["020102","ANCASH","ANCASH","HUARAZ","COCHABAMBA","Hombre","40-44",{"$f":"'Pob x Genero'!#REF!","v":{"$error":"#REF!"}},86]
["020605","ANCASH","ANCASH","CARHUAZ","ATAQUERO","Hombre","40-44",{"$f":"'Pob x Genero'!#REF!","v":{"$error":"#REF!"}},129]
["021103","ANCASH","ANCASH","HUARMEY","CULEBRAS","Hombre","40-44",{"$f":"'Pob x Genero'!#REF!","v":{"$error":"#REF!"}},168]
["021501","ANCASH","ANCASH","PALLASCA","CABANA","Hombre","40-44",{"$f":"'Pob x Genero'!#REF!","v":{"$error":"#REF!"}},199]
["021703","ANCASH","ANCASH","RECUAY","COTAPARACO","Hombre","40-44",{"$f":"'Pob x Genero'!#REF!","v":{"$error":"#REF!"}},216]
["030105","APURIMAC","APURIMAC","ABANCAY","HUANIPACA","Hombre","40-44",{"$f":"'Pob x Genero'!#REF!","v":{"$error":"#REF!"}},255]
["030412","APURIMAC","APURIMAC","AYMARAES","SAÑAYCA","Hombre","40-44",{"$f":"'Pob x Genero'!#REF!","v":{"$error":"#REF!"}},298]
["040102","AREQUIPA","AREQUIPA","AREQUIPA","ALTO SELVA ALEGRE","Hombre","40-44",{"$f":"'Pob x Genero'!DB10","v":3343},337]
["040117","AREQUIPA","AREQUIPA","AREQUIPA","SACHACA","Hombre","40-44",{"$f":"'Pob x Genero'!DB25","v":1061},352]
["040313","AREQUIPA","AREQUIPA","CARAVELI","YAUCA","Hombre","40-44",{"$f":"'Pob x Genero'!DB58","v":86},385]
["040605","AREQUIPA","AREQUIPA","CONDESUYOS","IRAY","Hombre","40-44",{"$f":"'Pob x Genero'!DB97","v":18},424]
["050301","AYACUCHO","AYACUCHO","HUANCA SANCOS","SANCOS","Hombre","40-44",{"$f":"'Pob x Genero'!#REF!","v":{"$error":"#REF!"}},467]
["050608","AYACUCHO","AYACUCHO","LUCANAS","LARAMATE","Hombre","40-44",{"$f":"'Pob x Genero'!#REF!","v":{"$error":"#REF!"}},506]
["050810","AYACUCHO","AYACUCHO","PAUCAR DEL SARA SARA","SARA SARA","Hombre","40-44",{"$f":"'Pob x Genero'!#REF!","v":{"$error":"#REF!"}},537]
["051006","AYACUCHO","AYACUCHO","VICTOR FAJARDO","CAYARA","Hombre","40-44",{"$f":"'Pob x Genero'!#REF!","v":{"$error":"#REF!"}},554]
["060309","CAJAMARCA","CAJAMARCA","CELENDIN","SOROCHUCO","Hombre","40-44",{"$f":"'Pob x Genero'!#REF!","v":{"$error":"#REF!"}},593]
["060613","CAJAMARCA","CAJAMARCA","CUTERVO","SANTO TOMAS","Hombre","40-44",{"$f":"'Pob x Genero'!#REF!","v":{"$error":"#REF!"}},636]
["061105","CAJAMARCA","CAJAMARCA","SAN MIGUEL","EL PRADO","Hombre","40-44",{"$f":"'Pob x Genero'!#REF!","v":{"$error":"#REF!"}},672]
["061113","CAJAMARCA","CAJAMARCA","SAN MIGUEL","UNION AGUA BLANCA","Hombre","40-44",{"$f":"'Pob x Genero'!#REF!","v":{"$error":"#REF!"}},680]
["080306","CUSCO","CUSCO","ANTA","LIMATAMBO","Hombre","40-44",{"$f":"'Pob x Genero'!#REF!","v":{"$error":"#REF!"}},723]
["080804","CUSCO","CUSCO","ESPINAR","OCORURO","Hombre","40-44",{"$f":"'Pob x Genero'!#REF!","v":{"$error":"#REF!"}},762]
["081202","CUSCO","CUSCO","QUISPICANCHI","ANDAHUAYLILLAS","Hombre","40-44",{"$f":"'Pob x Genero'!#REF!","v":{"$error":"#REF!"}},801]
["090107","HUANCAVELICA","HUANCAVELICA","HUANCAVELICA","HUAYLLAHUARA","Hombre","40-44",{"$f":"'Pob x Genero'!#REF!","v":{"$error":"#REF!"}},825]
["090304","HUANCAVELICA","HUANCAVELICA","ANGARAES","CCOCHACCASA","Hombre","40-44",{"$f":"'Pob x Genero'!#REF!","v":{"$error":"#REF!"}},849]
["090611","HUANCAVELICA","HUANCAVELICA","HUAYTARA","SAN FRANCISCO DE SANGAYAICO","Hombre","40-44",{"$f":"'Pob x Genero'!#REF!","v":{"$error":"#REF!"}},892]
["100111","HUANUCO","HUANUCO","HUANUCO","PILLCO MARCA","Hombre","40-44",{"$f":"'Pob x Genero'!#REF!","v":{"$error":"#REF!"}},931]
["100605","HUANUCO","HUANUCO","LEONCIO PRADO","LUYANDO","Hombre","40-44",{"$f":"'Pob x Genero'!#REF!","v":{"$error":"#REF!"}},970]
["100703","HUANUCO","HUANUCO","MARAÑON","SAN BUENAVENTURA","Hombre","40-44",{"$f":"'Pob x Genero'!#REF!","v":{"$error":"#REF!"}},978]
["110114","ICA","ICA","ICA","YAUCA DEL ROSARIO","Hombre","40-44",{"$f":"'Pob x Genero'!#REF!","v":{"$error":"#REF!"}},1018]
["120120","JUNIN","JUNIN","HUANCAYO","HUASICANCHA","Hombre","40-44",{"$f":"'Pob x Genero'!#REF!","v":{"$error":"#REF!"}},1061]
["120404","JUNIN","JUNIN","JAUJA","ATAURA","Hombre","40-44",{"$f":"'Pob x Genero'!#REF!","v":{"$error":"#REF!"}},1100]
["120417","JUNIN","JUNIN","JAUJA","MASMA CHICCHE","Hombre","40-44",{"$f":"'Pob x Genero'!#REF!","v":{"$error":"#REF!"}},1113]
["120705","JUNIN","JUNIN","TARMA","LA UNION","Hombre","40-44",{"$f":"'Pob x Genero'!#REF!","v":{"$error":"#REF!"}},1148]
["130204","LA LIBERTAD","LA LIBERTAD","ASCOPE","MAGDALENA DE CAO","Hombre","40-44",{"$f":"'Pob x Genero'!#REF!","v":{"$error":"#REF!"}},1187]
["130807","LA LIBERTAD","LA LIBERTAD","PATAZ","ONGON","Hombre","40-44",{"$f":"'Pob x Genero'!#REF!","v":{"$error":"#REF!"}},1226]
["130904","LA LIBERTAD","LA LIBERTAD","SANCHEZ CARRION","CURGOS","Hombre","40-44",{"$f":"'Pob x Genero'!#REF!","v":{"$error":"#REF!"}},1236]
["140111","LAMBAYEQUE","LAMBAYEQUE","CHICLAYO","PICSI","Hombre","40-44",{"$f":"'Pob x Genero'!#REF!","v":{"$error":"#REF!"}},1266]
["150124","DIRIS SUR","LIMA","LIMA","PUCUSANA","Hombre","40-44",{"$f":"'Pob x Genero'!#REF!","v":{"$error":"#REF!"}},1317]
["150503","LIMA","LIMA","CAÑETE","CALANGO","Hombre","40-44",{"$f":"'Pob x Genero'!#REF!","v":{"$error":"#REF!"}},1356]
["150714","LIMA","LIMA","HUAROCHIRI","RICARDO PALMA","Hombre","40-44",{"$f":"'Pob x Genero'!#REF!","v":{"$error":"#REF!"}},1395]
["150724","LIMA","LIMA","HUAROCHIRI","SAN PEDRO DE CASTA","Hombre","40-44",{"$f":"'Pob x Genero'!#REF!","v":{"$error":"#REF!"}},1405]
["151020","LIMA","LIMA","YAUYOS","MADEAN","Hombre",{"$f":"G16579","v":"40-44"},{"$f":"'Pob x Genero'!#REF!","v":{"$error":"#REF!"}},1451]
["160301","LORETO","LORETO","LORETO","NAUTA","Hombre","40-44",{"$f":"'Pob x Genero'!#REF!","v":{"$error":"#REF!"}},1482]
["170204","MADRE DE DIOS","MADRE DE DIOS","MANU","HUEPETUHE","Hombre","40-44",{"$f":"'Pob x Genero'!#REF!","v":{"$error":"#REF!"}},1525]
["180103","MOQUEGUA","MOQUEGUA","MARISCAL NIETO","CUCHUMBAYA","Hombre","40-44",{"$f":"'Pob x Genero'!#REF!","v":{"$error":"#REF!"}},1531]
["190304","PASCO","PASCO","OXAPAMPA","PALCAZU","Hombre","40-44",{"$f":"'Pob x Genero'!#REF!","v":{"$error":"#REF!"}},1574]
["200306","PIURA","PIURA","HUANCABAMBA","SAN MIGUEL DE EL FAIQUE","Hombre","40-44",{"$f":"'Pob x Genero'!#REF!","v":{"$error":"#REF!"}},1604]
["210108","PUNO","PUNO","PUNO","HUATA","Hombre","40-44",{"$f":"'Pob x Genero'!#REF!","v":{"$error":"#REF!"}},1651]
["210203","PUNO","PUNO","AZANGARO","ARAPA","Hombre","40-44",{"$f":"'Pob x Genero'!#REF!","v":{"$error":"#REF!"}},1661]
["210605","PUNO","PUNO","HUANCANE","PUSI","Hombre","40-44",{"$f":"'Pob x Genero'!#REF!","v":{"$error":"#REF!"}},1700]
["211203","PUNO","PUNO","SANDIA","LIMBANI","Hombre","40-44",{"$f":"'Pob x Genero'!#REF!","v":{"$error":"#REF!"}},1739]
["220505","SAN MARTIN","SAN MARTIN","LAMAS","CUÑUMBUQUI","Hombre","40-44",{"$f":"'Pob x Genero'!#REF!","v":{"$error":"#REF!"}},1781]
["220909","SAN MARTIN","SAN MARTIN","SAN MARTIN","LA BANDA DE SHILCAYO","Hombre","40-44",{"$f":"'Pob x Genero'!#REF!","v":{"$error":"#REF!"}},1820]
["221005","SAN MARTIN","SAN MARTIN","TOCACHE","UCHIZA","Hombre","40-44",{"$f":"'Pob x Genero'!#REF!","v":{"$error":"#REF!"}},1830]
["240301","TUMBES","TUMBES","ZARUMILLA","ZARUMILLA","Hombre","40-44",{"$f":"'Pob x Genero'!#REF!","v":{"$error":"#REF!"}},1869]
["010101","AMAZONAS","AMAZONAS","CHACHAPOYAS","CHACHAPOYAS","Hombre",{"$f":"'Pob x Genero'!DC7","v":"45-49"},{"$f":"'Pob x Genero'!#REF!","v":{"$error":"#REF!"}},1]
["010517","AMAZONAS","AMAZONAS","LUYA","SAN FRANCISCO DEL YESO","Hombre","45-49",{"$f":"'Pob x Genero'!#REF!","v":{"$error":"#REF!"}},59]
["010523","AMAZONAS","AMAZONAS","LUYA","TRITA","Hombre","45-49",{"$f":"'Pob x Genero'!#REF!","v":{"$error":"#REF!"}},65]
["020401","ANCASH","ANCASH","ASUNCION","CHACAS","Hombre","45-49",{"$f":"'Pob x Genero'!#REF!","v":{"$error":"#REF!"}},108]
["020905","ANCASH","ANCASH","CORONGO","LA PAMPA","Hombre","45-49",{"$f":"'Pob x Genero'!#REF!","v":{"$error":"#REF!"}},147]
["021306","ANCASH","ANCASH","MARISCAL LUZURIAGA","LLUMPA","Hombre","45-49",{"$f":"'Pob x Genero'!#REF!","v":{"$error":"#REF!"}},186]
["021407","ANCASH","ANCASH","OCROS","LLIPA","Hombre","45-49",{"$f":"'Pob x Genero'!#REF!","v":{"$error":"#REF!"}},195]
["021902","ANCASH","ANCASH","SIHUAS","ACOBAMBA","Hombre","45-49",{"$f":"'Pob x Genero'!#REF!","v":{"$error":"#REF!"}},234]
["030214","APURIMAC","APURIMAC","ANDAHUAYLAS","SAN MIGUEL DE CHACCRAMPA","Hombre","45-49",{"$f":"'Pob x Genero'!#REF!","v":{"$error":"#REF!"}},273]
["030607","APURIMAC","APURIMAC","CHINCHEROS","URANMARCA","Hombre","45-49",{"$f":"'Pob x Genero'!#REF!","v":{"$error":"#REF!"}},316]
["040104","AREQUIPA","AREQUIPA","AREQUIPA","CERRO COLORADO","Hombre","45-49",{"$f":"'Pob x Genero'!DC12","v":7550},339]
["040129","AREQUIPA","AREQUIPA","AREQUIPA","JOSE LUIS BUSTAMANTE Y RIVERO","Hombre","45-49",{"$f":"'Pob x Genero'!DC37","v":2954},364]
["040504","AREQUIPA","AREQUIPA","CAYLLOMA","CALLALLI","Hombre","45-49",{"$f":"'Pob x Genero'!DC76","v":68},403]
["040809","AREQUIPA","AREQUIPA","LA UNION","TAURIA","Hombre","45-49",{"$f":"'Pob x Genero'!DC115","v":7},442]
["050404","AYACUCHO","AYACUCHO","HUANTA","IGUAIN","Hombre","45-49",{"$f":"'Pob x Genero'!#REF!","v":{"$error":"#REF!"}},474]
["050507","AYACUCHO","AYACUCHO","LA MAR","SANTA ROSA","Hombre","45-49",{"$f":"'Pob x Genero'!#REF!","v":{"$error":"#REF!"}},490]
["050806","AYACUCHO","AYACUCHO","PAUCAR DEL SARA SARA","OYOLO","Hombre","45-49",{"$f":"'Pob x Genero'!#REF!","v":{"$error":"#REF!"}},533]
["060104","CAJAMARCA","CAJAMARCA","CAJAMARCA","COSPAN","Hombre","45-49",{"$f":"'Pob x Genero'!#REF!","v":{"$error":"#REF!"}},572]
["060415","CAJAMARCA","CAJAMARCA","CHOTA","QUEROCOTO","Hombre","45-49",{"$f":"'Pob x Genero'!#REF!","v":{"$error":"#REF!"}},611]
["060604","CAJAMARCA","CAJAMARCA","CUTERVO","CUJILLO","Hombre","45-49",{"$f":"'Pob x Genero'!#REF!","v":{"$error":"#REF!"}},627]
["060906","CAJAMARCA","CAJAMARCA","SAN IGNACIO","SAN JOSE DE LOURDES","Hombre","45-49",{"$f":"'Pob x Genero'!#REF!","v":{"$error":"#REF!"}},659]
["070103","CALLAO","CALLAO","CALLAO","CARMEN DE LA LEGUA REYNOSO","Hombre","45-49",{"$f":"'Pob x Genero'!#REF!","v":{"$error":"#REF!"}},698]
["080507","CUSCO","CUSCO","CANAS","QUEHUE","Hombre","45-49",{"$f":"'Pob x Genero'!#REF!","v":{"$error":"#REF!"}},741]
["080914","CUSCO","CUSCO","LA CONVENCION","MEGANTONI","Hombre","45-49",{"$f":"'Pob x Genero'!#REF!","v":{"$error":"#REF!"}},780]
["081301","CUSCO","CUSCO","URUBAMBA","URUBAMBA","Hombre","45-49",{"$f":"'Pob x Genero'!#REF!","v":{"$error":"#REF!"}},812]
["090110","HUANCAVELICA","HUANCAVELICA","HUANCAVELICA","MANTA","Hombre","45-49",{"$f":"'Pob x Genero'!#REF!","v":{"$error":"#REF!"}},828]
["090410","HUANCAVELICA","HUANCAVELICA","CASTROVIRREYNA","SAN JUAN","Hombre","45-49",{"$f":"'Pob x Genero'!#REF!","v":{"$error":"#REF!"}},867]
["090715","HUANCAVELICA","HUANCAVELICA","TAYACAJA","SALCAHUASI","Hombre","45-49",{"$f":"'Pob x Genero'!#REF!","v":{"$error":"#REF!"}},910]
["100317","HUANUCO","HUANUCO","DOS DE MAYO","RIPAN","Hombre","45-49",{"$f":"'Pob x Genero'!#REF!","v":{"$error":"#REF!"}},947]
["100504","HUANUCO","HUANUCO","HUAMALIES","JACAS GRANDE","Hombre","45-49",{"$f":"'Pob x Genero'!#REF!","v":{"$error":"#REF!"}},958]
["101101","HUANUCO","HUANUCO","YAROWILCA","CHAVINILLO","Hombre","45-49",{"$f":"'Pob x Genero'!#REF!","v":{"$error":"#REF!"}},997]
["110402","ICA","ICA","PALPA","LLIPATA","Hombre","45-49",{"$f":"'Pob x Genero'!#REF!","v":{"$error":"#REF!"}},1036]
["120204","JUNIN","JUNIN","CONCEPCION","CHAMBARA","Hombre","45-49",{"$f":"'Pob x Genero'!#REF!","v":{"$error":"#REF!"}},1079]
["120404","JUNIN","JUNIN","JAUJA","ATAURA","Hombre","45-49",{"$f":"'Pob x Genero'!#REF!","v":{"$error":"#REF!"}},1100]
["120427","JUNIN","JUNIN","JAUJA","RICRAN","Hombre","45-49",{"$f":"'Pob x Genero'!#REF!","v":{"$error":"#REF!"}},1123]
["120904","JUNIN","JUNIN","CHUPACA","HUACHAC","Hombre","45-49",{"$f":"'Pob x Genero'!#REF!","v":{"$error":"#REF!"}},1166]
["130601","LA LIBERTAD","LA LIBERTAD","OTUZCO","OTUZCO","Hombre","45-49",{"$f":"'Pob x Genero'!#REF!","v":{"$error":"#REF!"}},1205]
["130701","LA LIBERTAD","LA LIBERTAD","PACASMAYO","SAN PEDRO DE LLOC","Hombre","45-49",{"$f":"'Pob x Genero'!#REF!","v":{"$error":"#REF!"}},1215]
["131201","LA LIBERTAD","LA LIBERTAD","VIRU","VIRU","Hombre","45-49",{"$f":"'Pob x Genero'!#REF!","v":{"$error":"#REF!"}},1253]
["140311","LAMBAYEQUE","LAMBAYEQUE","LAMBAYEQUE","SAN JOSE","Hombre","45-49",{"$f":"'Pob x Genero'!#REF!","v":{"$error":"#REF!"}},1292]
["150142","DIRIS SUR","LIMA","LIMA","VILLA EL SALVADOR","Hombre","45-49",{"$f":"'Pob x Genero'!#REF!","v":{"$error":"#REF!"}},1335]
["150605","LIMA","LIMA","HUARAL","CHANCAY","Hombre","45-49",{"$f":"'Pob x Genero'!#REF!","v":{"$error":"#REF!"}},1374]
["150611","LIMA","LIMA","HUARAL","SUMBILCA","Hombre","45-49",{"$f":"'Pob x Genero'!#REF!","v":{"$error":"#REF!"}},1380]
["151007","LIMA","LIMA","YAUYOS","CARANIA","Hombre","45-49",{"$f":"'Pob x Genero'!#REF!","v":{"$error":"#REF!"}},1438]
["151030","LIMA","LIMA","YAUYOS","TOMAS","Hombre","45-49",{"$f":"'Pob x Genero'!#REF!","v":{"$error":"#REF!"}},1461]
["160603","LORETO","LORETO","UCAYALI","PADRE MARQUEZ","Hombre","45-49",{"$f":"'Pob x Genero'!#REF!","v":{"$error":"#REF!"}},1504]
["160703","LORETO","LORETO","DATEM DEL MARAÑON","MANSERICHE","Hombre","45-49",{"$f":"'Pob x Genero'!#REF!","v":{"$error":"#REF!"}},1510]
["180206","MOQUEGUA","MOQUEGUA","GENERAL SANCHEZ CERRO","LLOQUE","Hombre","45-49",{"$f":"'Pob x Genero'!#REF!","v":{"$error":"#REF!"}},1541]
["200203","PIURA","PIURA","AYABACA","JILILI","Hombre","45-49",{"$f":"'Pob x Genero'!#REF!","v":{"$error":"#REF!"}},1591]
["200607","PIURA","PIURA","SULLANA","QUERECOTILLO","Hombre","45-49",{"$f":"'Pob x Genero'!#REF!","v":{"$error":"#REF!"}},1630]
["200803","PIURA","PIURA","SECHURA","BERNAL","Hombre","45-49",{"$f":"'Pob x Genero'!#REF!","v":{"$error":"#REF!"}},1640]
["210306","PUNO","PUNO","CARABAYA","CRUCERO","Hombre","45-49",{"$f":"'Pob x Genero'!#REF!","v":{"$error":"#REF!"}},1679]
["210904","PUNO","PUNO","MOHO","TILALI","Hombre","45-49",{"$f":"'Pob x Genero'!#REF!","v":{"$error":"#REF!"}},1726]
["220201","SAN MARTIN","SAN MARTIN","BELLAVISTA","BELLAVISTA","Hombre","45-49",{"$f":"'Pob x Genero'!#REF!","v":{"$error":"#REF!"}},1760]
["220707","SAN MARTIN","SAN MARTIN","PICOTA","SAN HILARION","Hombre","45-49",{"$f":"'Pob x Genero'!#REF!","v":{"$error":"#REF!"}},1799]
["220803","SAN MARTIN","SAN MARTIN","RIOJA","ELIAS SOPLIN VARGAS","Hombre","45-49",{"$f":"'Pob x Genero'!#REF!","v":{"$error":"#REF!"}},1805]
["230206","TACNA","TACNA","CANDARAVE","QUILAHUANI","Hombre","45-49",{"$f":"'Pob x Genero'!#REF!","v":{"$error":"#REF!"}},1848]
["250107","UCAYALI","UCAYALI","CORONEL PORTILLO","MANANTAY","Hombre","45-49",{"$f":"'Pob x Genero'!#REF!","v":{"$error":"#REF!"}},1879]
["010311","AMAZONAS","AMAZONAS","BONGARA","VALERA","Hombre","50-54",{"$f":"'Pob x Genero'!#REF!","v":{"$error":"#REF!"}},38]
["010502","AMAZONAS","AMAZONAS","LUYA","CAMPORREDONDO","Hombre","50-54",{"$f":"'Pob x Genero'!#REF!","v":{"$error":"#REF!"}},44]
["010706","AMAZONAS","AMAZONAS","UTCUBAMBA","LONYA GRANDE","Hombre","50-54",{"$f":"'Pob x Genero'!#REF!","v":{"$error":"#REF!"}},83]
["020602","ANCASH","ANCASH","CARHUAZ","ACOPAMPA","Hombre","50-54",{"$f":"'Pob x Genero'!#REF!","v":{"$error":"#REF!"}},126]
["020803","ANCASH","ANCASH","CASMA","COMANDANTE NOEL","Hombre","50-54",{"$f":"'Pob x Genero'!#REF!","v":{"$error":"#REF!"}},141]
["021204","ANCASH","ANCASH","HUAYLAS","HUAYLAS","Hombre","50-54",{"$f":"'Pob x Genero'!#REF!","v":{"$error":"#REF!"}},174]
["021604","ANCASH","ANCASH","POMABAMBA","QUINUABAMBA","Hombre","50-54",{"$f":"'Pob x Genero'!#REF!","v":{"$error":"#REF!"}},213]
["030102","APURIMAC","APURIMAC","ABANCAY","CHACOCHE","Hombre","50-54",{"$f":"'Pob x Genero'!#REF!","v":{"$error":"#REF!"}},252]
["030217","APURIMAC","APURIMAC","ANDAHUAYLAS","TUMAY HUARACA","Hombre","50-54",{"$f":"'Pob x Genero'!#REF!","v":{"$error":"#REF!"}},276]
["030712","APURIMAC","APURIMAC","GRAU","VILCABAMBA","Hombre","50-54",{"$f":"'Pob x Genero'!#REF!","v":{"$error":"#REF!"}},333]
["040104","AREQUIPA","AREQUIPA","AREQUIPA","CERRO COLORADO","Hombre","50-54",{"$f":"'Pob x Genero'!DD12","v":6100},339]
["040310","AREQUIPA","AREQUIPA","CARAVELI","JAQUI","Hombre","50-54",{"$f":"'Pob x Genero'!DD55","v":57},382]
["040602","AREQUIPA","AREQUIPA","CONDESUYOS","ANDARAY","Hombre","50-54",{"$f":"'Pob x Genero'!DD94","v":23},421]
["050201","AYACUCHO","AYACUCHO","CANGALLO","CANGALLO","Hombre","50-54",{"$f":"'Pob x Genero'!#REF!","v":{"$error":"#REF!"}},461]
["050303","AYACUCHO","AYACUCHO","HUANCA SANCOS","SACSAMARCA","Hombre","50-54",{"$f":"'Pob x Genero'!#REF!","v":{"$error":"#REF!"}},469]
["050610","AYACUCHO","AYACUCHO","LUCANAS","LLAUTA","Hombre","50-54",{"$f":"'Pob x Genero'!#REF!","v":{"$error":"#REF!"}},508]
["051003","AYACUCHO","AYACUCHO","VICTOR FAJARDO","APONGO","Hombre","50-54",{"$f":"'Pob x Genero'!#REF!","v":{"$error":"#REF!"}},551]
["060306","CAJAMARCA","CAJAMARCA","CELENDIN","JOSE GALVEZ","Hombre","50-54",{"$f":"'Pob x Genero'!#REF!","v":{"$error":"#REF!"}},590]
["060418","CAJAMARCA","CAJAMARCA","CHOTA","TOCMOCHE","Hombre","50-54",{"$f":"'Pob x Genero'!#REF!","v":{"$error":"#REF!"}},614]
["060615","CAJAMARCA","CAJAMARCA","CUTERVO","TORIBIO CASANOVA","Hombre","50-54",{"$f":"'Pob x Genero'!#REF!","v":{"$error":"#REF!"}},638]
["061110","CAJAMARCA","CAJAMARCA","SAN MIGUEL","SAN GREGORIO","Hombre","50-54",{"$f":"'Pob x Genero'!#REF!","v":{"$error":"#REF!"}},677]
["080303","CUSCO","CUSCO","ANTA","CACHIMAYO","Hombre","50-54",{"$f":"'Pob x Genero'!#REF!","v":{"$error":"#REF!"}},720]
["080801","CUSCO","CUSCO","ESPINAR","ESPINAR","Hombre","50-54",{"$f":"'Pob x Genero'!#REF!","v":{"$error":"#REF!"}},759]
["080901","CUSCO","CUSCO","LA CONVENCION","SANTA ANA","Hombre","50-54",{"$f":"'Pob x Genero'!#REF!","v":{"$error":"#REF!"}},767]
["081208","CUSCO","CUSCO","QUISPICANCHI","LUCRE","Hombre","50-54",{"$f":"'Pob x Genero'!#REF!","v":{"$error":"#REF!"}},807]
["090301","HUANCAVELICA","HUANCAVELICA","ANGARAES","LIRCAY","Hombre","50-54",{"$f":"'Pob x Genero'!#REF!","v":{"$error":"#REF!"}},846]
["090608","HUANCAVELICA","HUANCAVELICA","HUAYTARA","QUERCO","Hombre","50-54",{"$f":"'Pob x Genero'!#REF!","v":{"$error":"#REF!"}},889]
["090705","HUANCAVELICA","HUANCAVELICA","TAYACAJA","COLCABAMBA","Hombre","50-54",{"$f":"'Pob x Genero'!#REF!","v":{"$error":"#REF!"}},902]
["100113","HUANUCO","HUANUCO","HUANUCO","SAN PABLO DE PILLAO","Hombre","50-54",{"$f":"'Pob x Genero'!#REF!","v":{"$error":"#REF!"}},933]
["100701","HUANUCO","HUANUCO","MARAÑON","HUACRACHUCO","Hombre","50-54",{"$f":"'Pob x Genero'!#REF!","v":{"$error":"#REF!"}},976]
["110111","ICA","ICA","ICA","SANTIAGO","Hombre","50-54",{"$f":"'Pob x Genero'!#REF!","v":{"$error":"#REF!"}},1015]
["120111","JUNIN","JUNIN","HUANCAYO","CHUPURO","Hombre","50-54",{"$f":"'Pob x Genero'!#REF!","v":{"$error":"#REF!"}},1054]
["120212","JUNIN","JUNIN","CONCEPCION","NUEVE DE JULIO","Hombre","50-54",{"$f":"'Pob x Genero'!#REF!","v":{"$error":"#REF!"}},1087]
["120406","JUNIN","JUNIN","JAUJA","CURICACA","Hombre","50-54",{"$f":"'Pob x Genero'!#REF!","v":{"$error":"#REF!"}},1102]
["120702","JUNIN","JUNIN","TARMA","ACOBAMBA","Hombre","50-54",{"$f":"'Pob x Genero'!#REF!","v":{"$error":"#REF!"}},1145]
["130201","LA LIBERTAD","LA LIBERTAD","ASCOPE","ASCOPE","Hombre",{"$f":"G20093","v":"50-54"},{"$f":"'Pob x Genero'!#REF!","v":{"$error":"#REF!"}},1184]
["130207","LA LIBERTAD","LA LIBERTAD","ASCOPE","SANTIAGO DE CAO","Hombre","50-54",{"$f":"'Pob x Genero'!#REF!","v":{"$error":"#REF!"}},1190]
["130908","LA LIBERTAD","LA LIBERTAD","SANCHEZ CARRION","SARTIMBAMBA","Hombre","50-54",{"$f":"'Pob x Genero'!#REF!","v":{"$error":"#REF!"}},1240]
["140116","LAMBAYEQUE","LAMBAYEQUE","CHICLAYO","CAYALTI","Hombre","50-54",{"$f":"'Pob x Genero'!#REF!","v":{"$error":"#REF!"}},1271]
["150117","DIRIS NORTE","LIMA","LIMA","LOS OLIVOS","Hombre","50-54",{"$f":"'Pob x Genero'!#REF!","v":{"$error":"#REF!"}},1310]
["150127","DIRIS SUR","LIMA","LIMA","PUNTA NEGRA","Hombre","50-54",{"$f":"'Pob x Genero'!#REF!","v":{"$error":"#REF!"}},1320]
["150606","LIMA","LIMA","HUARAL","IHUARI","Hombre","50-54",{"$f":"'Pob x Genero'!#REF!","v":{"$error":"#REF!"}},1375]
["150720","LIMA","LIMA","HUAROCHIRI","SAN JUAN DE TANTARANCHE","Hombre","50-54",{"$f":"'Pob x Genero'!#REF!","v":{"$error":"#REF!"}},1401]
["151009","LIMA","LIMA","YAUYOS","CHOCOS","Hombre","50-54",{"$f":"'Pob x Genero'!#REF!","v":{"$error":"#REF!"}},1440]
["160206","LORETO","LORETO","ALTO AMAZONAS","LAGUNAS","Hombre","50-54",{"$f":"'Pob x Genero'!#REF!","v":{"$error":"#REF!"}},1479]
["160403","LORETO","LORETO","MARISCAL RAMON CASTILLA","YAVARI","Hombre","50-54",{"$f":"'Pob x Genero'!#REF!","v":{"$error":"#REF!"}},1489]
["170303","MADRE DE DIOS","MADRE DE DIOS","TAHUAMANU","TAHUAMANU","Hombre","50-54",{"$f":"'Pob x Genero'!#REF!","v":{"$error":"#REF!"}},1528]
["190208","PASCO","PASCO","DANIEL ALCIDES CARRION","VILCABAMBA","Hombre","50-54",{"$f":"'Pob x Genero'!#REF!","v":{"$error":"#REF!"}},1570]
["200403","PIURA","PIURA","MORROPON","CHALACO","Hombre","50-54",{"$f":"'Pob x Genero'!#REF!","v":{"$error":"#REF!"}},1609]
["200409","PIURA","PIURA","MORROPON","SANTO DOMINGO","Hombre","50-54",{"$f":"'Pob x Genero'!#REF!","v":{"$error":"#REF!"}},1615]
["210115","PUNO","PUNO","PUNO","VILQUE","Hombre","50-54",{"$f":"'Pob x Genero'!#REF!","v":{"$error":"#REF!"}},1658]
["210308","PUNO","PUNO","CARABAYA","OLLACHEA","Hombre","50-54",{"$f":"'Pob x Genero'!#REF!","v":{"$error":"#REF!"}},1681]
["211104","PUNO","PUNO","SAN ROMAN","CARACOTO","Hombre","50-54",{"$f":"'Pob x Genero'!#REF!","v":{"$error":"#REF!"}},1735]
["220502","SAN MARTIN","SAN MARTIN","LAMAS","ALONSO DE ALVARADO","Hombre","50-54",{"$f":"'Pob x Genero'!#REF!","v":{"$error":"#REF!"}},1778]
["220508","SAN MARTIN","SAN MARTIN","LAMAS","SAN ROQUE DE CUMBAZA","Hombre","50-54",{"$f":"'Pob x Genero'!#REF!","v":{"$error":"#REF!"}},1784]
["221002","SAN MARTIN","SAN MARTIN","TOCACHE","NUEVO PROGRESO","Hombre","50-54",{"$f":"'Pob x Genero'!#REF!","v":{"$error":"#REF!"}},1827]
["240201","TUMBES","TUMBES","CONTRALMIRANTE VILLAR","ZORRITOS","Hombre","50-54",{"$f":"'Pob x Genero'!#REF!","v":{"$error":"#REF!"}},1866]
["010113","AMAZONAS","AMAZONAS","CHACHAPOYAS","MARISCAL CASTILLA","Hombre","55-59",{"$f":"'Pob x Genero'!#REF!","v":{"$error":"#REF!"}},13]
["010202","AMAZONAS","AMAZONAS","BAGUA","ARAMANGO","Hombre","55-59",{"$f":"'Pob x Genero'!#REF!","v":{"$error":"#REF!"}},23]
["010520","AMAZONAS","AMAZONAS","LUYA","SANTA CATALINA","Hombre","55-59",{"$f":"'Pob x Genero'!#REF!","v":{"$error":"#REF!"}},62]
["020501","ANCASH","ANCASH","BOLOGNESI","CHIQUIAN","Hombre","55-59",{"$f":"'Pob x Genero'!#REF!","v":{"$error":"#REF!"}},110]
["020901","ANCASH","ANCASH","CORONGO","CORONGO","Hombre","55-59",{"$f":"'Pob x Genero'!#REF!","v":{"$error":"#REF!"}},143]
["021302","ANCASH","ANCASH","MARISCAL LUZURIAGA","CASCA","Hombre","55-59",{"$f":"'Pob x Genero'!#REF!","v":{"$error":"#REF!"}},182]
["021404","ANCASH","ANCASH","OCROS","CARHUAPAMPA","Hombre","55-59",{"$f":"'Pob x Genero'!#REF!","v":{"$error":"#REF!"}},192]
["021808","ANCASH","ANCASH","SANTA","SANTA","Hombre","55-59",{"$f":"'Pob x Genero'!#REF!","v":{"$error":"#REF!"}},231]
["030204","APURIMAC","APURIMAC","ANDAHUAYLAS","HUANCARAMA","Hombre","55-59",{"$f":"'Pob x Genero'!#REF!","v":{"$error":"#REF!"}},263]
["030603","APURIMAC","APURIMAC","CHINCHEROS","COCHARCAS","Hombre","55-59",{"$f":"'Pob x Genero'!#REF!","v":{"$error":"#REF!"}},312]
["030609","APURIMAC","APURIMAC","CHINCHEROS","ROCCHACC","Hombre","55-59",{"$f":"'Pob x Genero'!#REF!","v":{"$error":"#REF!"}},318]
["040126","AREQUIPA","AREQUIPA","AREQUIPA","YANAHUARA","Hombre","55-59",{"$f":"'Pob x Genero'!DE34","v":761},361]
["040501","AREQUIPA","AREQUIPA","CAYLLOMA","CHIVAY","Hombre","55-59",{"$f":"'Pob x Genero'!DE73","v":151},400]
["040517","AREQUIPA","AREQUIPA","CAYLLOMA","TISCO","Hombre","55-59",{"$f":"'Pob x Genero'!DE89","v":57},416]
["050104","AYACUCHO","AYACUCHO","HUAMANGA","CARMEN ALTO","Hombre","55-59",{"$f":"'Pob x Genero'!#REF!","v":{"$error":"#REF!"}},448]
["050504","AYACUCHO","AYACUCHO","LA MAR","CHILCAS","Hombre","55-59",{"$f":"'Pob x Genero'!#REF!","v":{"$error":"#REF!"}},487]
["050707","AYACUCHO","AYACUCHO","PARINACOCHAS","SAN FRANCISCO DE RAVACAYCO","Hombre","55-59",{"$f":"'Pob x Genero'!#REF!","v":{"$error":"#REF!"}},526]
["060101","CAJAMARCA","CAJAMARCA","CAJAMARCA","CAJAMARCA","Hombre","55-59",{"$f":"'Pob x Genero'!#REF!","v":{"$error":"#REF!"}},569]
["060405","CAJAMARCA","CAJAMARCA","CHOTA","CHIMBAN","Hombre","55-59",{"$f":"'Pob x Genero'!#REF!","v":{"$error":"#REF!"}},601]
["060502","CAJAMARCA","CAJAMARCA","CONTUMAZA","CHILETE","Hombre","55-59",{"$f":"'Pob x Genero'!#REF!","v":{"$error":"#REF!"}},617]
["060903","CAJAMARCA","CAJAMARCA","SAN IGNACIO","HUARANGO","Hombre","55-59",{"$f":"'Pob x Genero'!#REF!","v":{"$error":"#REF!"}},656]
["061311","CAJAMARCA","CAJAMARCA","SANTA CRUZ","YAUYUCAN","Hombre","55-59",{"$f":"'Pob x Genero'!#REF!","v":{"$error":"#REF!"}},695]
["080502","CUSCO","CUSCO","CANAS","CHECCA","Hombre","55-59",{"$f":"'Pob x Genero'!#REF!","v":{"$error":"#REF!"}},736]
["080601","CUSCO","CUSCO","CANCHIS","SICUANI","Hombre","55-59",{"$f":"'Pob x Genero'!#REF!","v":{"$error":"#REF!"}},743]
["081002","CUSCO","CUSCO","PARURO","ACCHA","Hombre","55-59",{"$f":"'Pob x Genero'!#REF!","v":{"$error":"#REF!"}},786]
["090107","HUANCAVELICA","HUANCAVELICA","HUANCAVELICA","HUAYLLAHUARA","Hombre","55-59",{"$f":"'Pob x Genero'!#REF!","v":{"$error":"#REF!"}},825]
["090407","HUANCAVELICA","HUANCAVELICA","CASTROVIRREYNA","HUACHOS","Hombre","55-59",{"$f":"'Pob x Genero'!#REF!","v":{"$error":"#REF!"}},864]
["090608","HUANCAVELICA","HUANCAVELICA","HUAYTARA","QUERCO","Hombre","55-59",{"$f":"'Pob x Genero'!#REF!","v":{"$error":"#REF!"}},889]
["090717","HUANCAVELICA","HUANCAVELICA","TAYACAJA","SURCUBAMBA","Hombre","55-59",{"$f":"'Pob x Genero'!#REF!","v":{"$error":"#REF!"}},912]
["100401","HUANUCO","HUANUCO","HUACAYBAMBA","HUACAYBAMBA","Hombre","55-59",{"$f":"'Pob x Genero'!#REF!","v":{"$error":"#REF!"}},951]
["101005","HUANUCO","HUANUCO","LAURICOCHA","RONDOS","Hombre","55-59",{"$f":"'Pob x Genero'!#REF!","v":{"$error":"#REF!"}},994]
["110304","ICA","ICA","NAZCA","MARCONA","Hombre","55-59",{"$f":"'Pob x Genero'!#REF!","v":{"$error":"#REF!"}},1033]
["110503","ICA","ICA","PISCO","HUMAY","Hombre","55-59",{"$f":"'Pob x Genero'!#REF!","v":{"$error":"#REF!"}},1042]
["120206","JUNIN","JUNIN","CONCEPCION","COMAS","Hombre","55-59",{"$f":"'Pob x Genero'!#REF!","v":{"$error":"#REF!"}},1081]
["120424","JUNIN","JUNIN","JAUJA","PANCAN","Hombre","55-59",{"$f":"'Pob x Genero'!#REF!","v":{"$error":"#REF!"}},1120]
["120901","JUNIN","JUNIN","CHUPACA","CHUPACA","Hombre","55-59",{"$f":"'Pob x Genero'!#REF!","v":{"$error":"#REF!"}},1163]
["130106","LA LIBERTAD","LA LIBERTAD","TRUJILLO","LAREDO","Hombre","55-59",{"$f":"'Pob x Genero'!#REF!","v":{"$error":"#REF!"}},1177]
["130604","LA LIBERTAD","LA LIBERTAD","OTUZCO","CHARAT","Hombre","55-59",{"$f":"'Pob x Genero'!#REF!","v":{"$error":"#REF!"}},1207]
["131102","LA LIBERTAD","LA LIBERTAD","GRAN CHIMU","LUCMA","Hombre","55-59",{"$f":"'Pob x Genero'!#REF!","v":{"$error":"#REF!"}},1250]
["140308","LAMBAYEQUE","LAMBAYEQUE","LAMBAYEQUE","OLMOS","Hombre","55-59",{"$f":"'Pob x Genero'!#REF!","v":{"$error":"#REF!"}},1289]
["150106","DIRIS NORTE","LIMA","LIMA","CARABAYLLO","Hombre","55-59",{"$f":"'Pob x Genero'!#REF!","v":{"$error":"#REF!"}},1299]
["150509","LIMA","LIMA","CAÑETE","MALA","Hombre","55-59",{"$f":"'Pob x Genero'!#REF!","v":{"$error":"#REF!"}},1362]
["150607","LIMA","LIMA","HUARAL","LAMPIAN","Hombre","55-59",{"$f":"'Pob x Genero'!#REF!","v":{"$error":"#REF!"}},1376]
["150806","LIMA","LIMA","HUAURA","HUAURA","Hombre","55-59",{"$f":"'Pob x Genero'!#REF!","v":{"$error":"#REF!"}},1419]
["151027","LIMA","LIMA","YAUYOS","SAN PEDRO DE PILAS","Hombre","55-59",{"$f":"'Pob x Genero'!#REF!","v":{"$error":"#REF!"}},1458]
["160104","LORETO","LORETO","MAYNAS","INDIANA","Hombre","55-59",{"$f":"'Pob x Genero'!#REF!","v":{"$error":"#REF!"}},1468]
["160802","LORETO","LORETO","PUTUMAYO","ROSA PANDURO","Hombre","55-59",{"$f":"'Pob x Genero'!#REF!","v":{"$error":"#REF!"}},1515]
["180210","MOQUEGUA","MOQUEGUA","GENERAL SANCHEZ CERRO","UBINAS","Hombre","55-59",{"$f":"'Pob x Genero'!#REF!","v":{"$error":"#REF!"}},1545]
["200115","PIURA","PIURA","PIURA","VEINTISEIS DE OCTUBRE","Hombre","55-59",{"$f":"'Pob x Genero'!#REF!","v":{"$error":"#REF!"}},1588]
["200206","PIURA","PIURA","AYABACA","PACAIPAMPA","Hombre","55-59",{"$f":"'Pob x Genero'!#REF!","v":{"$error":"#REF!"}},1594]
["200702","PIURA","PIURA","TALARA","EL ALTO","Hombre","55-59",{"$f":"'Pob x Genero'!#REF!","v":{"$error":"#REF!"}},1633]
["210210","PUNO","PUNO","AZANGARO","SAMAN","Hombre","55-59",{"$f":"'Pob x Genero'!#REF!","v":{"$error":"#REF!"}},1668]
["210801","PUNO","PUNO","MELGAR","AYAVIRI","Hombre","55-59",{"$f":"'Pob x Genero'!#REF!","v":{"$error":"#REF!"}},1714]
["210902","PUNO","PUNO","MOHO","CONIMA","Hombre","55-59",{"$f":"'Pob x Genero'!#REF!","v":{"$error":"#REF!"}},1724]
["220204","SAN MARTIN","SAN MARTIN","BELLAVISTA","HUALLAGA","Hombre","55-59",{"$f":"'Pob x Genero'!#REF!","v":{"$error":"#REF!"}},1763]
["220801","SAN MARTIN","SAN MARTIN","RIOJA","RIOJA","Hombre","55-59",{"$f":"'Pob x Genero'!#REF!","v":{"$error":"#REF!"}},1803]
["230202","TACNA","TACNA","CANDARAVE","CAIRANI","Hombre","55-59",{"$f":"'Pob x Genero'!#REF!","v":{"$error":"#REF!"}},1844]
["250204","UCAYALI","UCAYALI","ATALAYA","YURUA","Hombre","55-59",{"$f":"'Pob x Genero'!#REF!","v":{"$error":"#REF!"}},1883]
["010102","AMAZONAS","AMAZONAS","CHACHAPOYAS","ASUNCION","Hombre",{"$f":"G22694","v":"60-64"},{"$f":"'Pob x Genero'!#REF!","v":{"$error":"#REF!"}},2]
["010402","AMAZONAS","AMAZONAS","CONDORCANQUI","EL CENEPA","Hombre","60-64",{"$f":"'Pob x Genero'!#REF!","v":{"$error":"#REF!"}},41]
["010523","AMAZONAS","AMAZONAS","LUYA","TRITA","Hombre","60-64",{"$f":"'Pob x Genero'!#REF!","v":{"$error":"#REF!"}},65]
["020513","ANCASH","ANCASH","BOLOGNESI","PACLLON","Hombre","60-64",{"$f":"'Pob x Genero'!#REF!","v":{"$error":"#REF!"}},122]
["020604","ANCASH","ANCASH","CARHUAZ","ANTA","Hombre","60-64",{"$f":"'Pob x Genero'!#REF!","v":{"$error":"#REF!"}},128]
["021102","ANCASH","ANCASH","HUARMEY","COCHAPETI","Hombre","60-64",{"$f":"'Pob x Genero'!#REF!","v":{"$error":"#REF!"}},167]
["021601","ANCASH","ANCASH","POMABAMBA","POMABAMBA","Hombre","60-64",{"$f":"'Pob x Genero'!#REF!","v":{"$error":"#REF!"}},210]
["022008","ANCASH","ANCASH","YUNGAY","YANAMA","Hombre","60-64",{"$f":"'Pob x Genero'!#REF!","v":{"$error":"#REF!"}},250]
["030405","APURIMAC","APURIMAC","AYMARAES","COLCABAMBA","Hombre","60-64",{"$f":"'Pob x Genero'!#REF!","v":{"$error":"#REF!"}},291]
["030411","APURIMAC","APURIMAC","AYMARAES","SAN JUAN DE CHACÑA","Hombre","60-64",{"$f":"'Pob x Genero'!#REF!","v":{"$error":"#REF!"}},297]
["040101","AREQUIPA","AREQUIPA","AREQUIPA","AREQUIPA","Hombre","60-64",{"$f":"'Pob x Genero'!DF9","v":1657},336]
["040307","AREQUIPA","AREQUIPA","CARAVELI","CHALA","Hombre","60-64",{"$f":"'Pob x Genero'!DF52","v":166},379]
["040504","AREQUIPA","AREQUIPA","CAYLLOMA","CALLALLI","Hombre","60-64",{"$f":"'Pob x Genero'!DF76","v":52},403]
["040604","AREQUIPA","AREQUIPA","CONDESUYOS","CHICHAS","Hombre","60-64",{"$f":"'Pob x Genero'!DF96","v":22},423]
["050206","AYACUCHO","AYACUCHO","CANGALLO","TOTOS","Hombre","60-64",{"$f":"'Pob x Genero'!#REF!","v":{"$error":"#REF!"}},466]
["050607","AYACUCHO","AYACUCHO","LUCANAS","HUAC-HUAS","Hombre","60-64",{"$f":"'Pob x Genero'!#REF!","v":{"$error":"#REF!"}},505]
["050901","AYACUCHO","AYACUCHO","SUCRE","QUEROBAMBA","Hombre","60-64",{"$f":"'Pob x Genero'!#REF!","v":{"$error":"#REF!"}},538]
["060302","CAJAMARCA","CAJAMARCA","CELENDIN","CHUMUCH","Hombre","60-64",{"$f":"'Pob x Genero'!#REF!","v":{"$error":"#REF!"}},586]
["060308","CAJAMARCA","CAJAMARCA","CELENDIN","OXAMARCA","Hombre","60-64",{"$f":"'Pob x Genero'!#REF!","v":{"$error":"#REF!"}},592]
["060612","CAJAMARCA","CAJAMARCA","CUTERVO","SANTO DOMINGO DE LA CAPILLA","Hombre","60-64",{"$f":"'Pob x Genero'!#REF!","v":{"$error":"#REF!"}},635]
["061107","CAJAMARCA","CAJAMARCA","SAN MIGUEL","LLAPA","Hombre","60-64",{"$f":"'Pob x Genero'!#REF!","v":{"$error":"#REF!"}},674]
["061307","CAJAMARCA","CAJAMARCA","SANTA CRUZ","PULAN","Hombre","60-64",{"$f":"'Pob x Genero'!#REF!","v":{"$error":"#REF!"}},691]
["080305","CUSCO","CUSCO","ANTA","HUAROCONDO","Hombre","60-64",{"$f":"'Pob x Genero'!#REF!","v":{"$error":"#REF!"}},722]
["080803","CUSCO","CUSCO","ESPINAR","COPORAQUE","Hombre","60-64",{"$f":"'Pob x Genero'!#REF!","v":{"$error":"#REF!"}},761]
["081205","CUSCO","CUSCO","QUISPICANCHI","CCATCA","Hombre","60-64",{"$f":"'Pob x Genero'!#REF!","v":{"$error":"#REF!"}},804]
["090206","HUANCAVELICA","HUANCAVELICA","ACOBAMBA","PAUCARA","Hombre","60-64",{"$f":"'Pob x Genero'!#REF!","v":{"$error":"#REF!"}},843]
["090506","HUANCAVELICA","HUANCAVELICA","CHURCAMPA","LOCROJA","Hombre","60-64",{"$f":"'Pob x Genero'!#REF!","v":{"$error":"#REF!"}},876]
["090610","HUANCAVELICA","HUANCAVELICA","HUAYTARA","SAN ANTONIO DE CUSICANCHA","Hombre","60-64",{"$f":"'Pob x Genero'!#REF!","v":{"$error":"#REF!"}},891]
["100110","HUANUCO","HUANUCO","HUANUCO","YARUMAYO","Hombre","60-64",{"$f":"'Pob x Genero'!#REF!","v":{"$error":"#REF!"}},930]
["100608","HUANUCO","HUANUCO","LEONCIO PRADO","CASTILLO GRANDE","Hombre","60-64",{"$f":"'Pob x Genero'!#REF!","v":{"$error":"#REF!"}},973]
["110107","ICA","ICA","ICA","PUEBLO NUEVO","Hombre","60-64",{"$f":"'Pob x Genero'!#REF!","v":{"$error":"#REF!"}},1011]
["110113","ICA","ICA","ICA","TATE","Hombre","60-64",{"$f":"'Pob x Genero'!#REF!","v":{"$error":"#REF!"}},1017]
["120119","JUNIN","JUNIN","HUANCAYO","HUANCAN","Hombre","60-64",{"$f":"'Pob x Genero'!#REF!","v":{"$error":"#REF!"}},1060]
["120403","JUNIN","JUNIN","JAUJA","APATA","Hombre","60-64",{"$f":"'Pob x Genero'!#REF!","v":{"$error":"#REF!"}},1099]
["120608","JUNIN","JUNIN","SATIPO","RIO TAMBO","Hombre","60-64",{"$f":"'Pob x Genero'!#REF!","v":{"$error":"#REF!"}},1142]
["120902","JUNIN","JUNIN","CHUPACA","AHUAC","Hombre","60-64",{"$f":"'Pob x Genero'!#REF!","v":{"$error":"#REF!"}},1164]
["130203","LA LIBERTAD","LA LIBERTAD","ASCOPE","CHOCOPE","Hombre","60-64",{"$f":"'Pob x Genero'!#REF!","v":{"$error":"#REF!"}},1186]
["130810","LA LIBERTAD","LA LIBERTAD","PATAZ","PIAS","Hombre","60-64",{"$f":"'Pob x Genero'!#REF!","v":{"$error":"#REF!"}},1229]
["140113","LAMBAYEQUE","LAMBAYEQUE","CHICLAYO","REQUE","Hombre","60-64",{"$f":"'Pob x Genero'!#REF!","v":{"$error":"#REF!"}},1268]
["150114","DIRIS ESTE","LIMA","LIMA","LA MOLINA","Hombre","60-64",{"$f":"'Pob x Genero'!#REF!","v":{"$error":"#REF!"}},1307]
["150124","DIRIS SUR","LIMA","LIMA","PUCUSANA","Hombre","60-64",{"$f":"'Pob x Genero'!#REF!","v":{"$error":"#REF!"}},1317]
["150502","LIMA","LIMA","CAÑETE","ASIA","Hombre","60-64",{"$f":"'Pob x Genero'!#REF!","v":{"$error":"#REF!"}},1355]
["150717","LIMA","LIMA","HUAROCHIRI","SAN BARTOLOME","Hombre","60-64",{"$f":"'Pob x Genero'!#REF!","v":{"$error":"#REF!"}},1398]
["151006","LIMA","LIMA","YAUYOS","CACRA","Hombre","60-64",{"$f":"'Pob x Genero'!#REF!","v":{"$error":"#REF!"}},1437]
["151012","LIMA","LIMA","YAUYOS","HONGOS","Hombre","60-64",{"$f":"'Pob x Genero'!#REF!","v":{"$error":"#REF!"}},1443]
["160601","LORETO","LORETO","UCAYALI","CONTAMANA","Hombre","60-64",{"$f":"'Pob x Genero'!#REF!","v":{"$error":"#REF!"}},1502]
["170203","MADRE DE DIOS","MADRE DE DIOS","MANU","MADRE DE DIOS","Hombre","60-64",{"$f":"'Pob x Genero'!#REF!","v":{"$error":"#REF!"}},1524]
["190201","PASCO","PASCO","DANIEL ALCIDES CARRION","YANAHUANCA","Hombre","60-64",{"$f":"'Pob x Genero'!#REF!","v":{"$error":"#REF!"}},1563]
["190303","PASCO","PASCO","OXAPAMPA","HUANCABAMBA","Hombre","60-64",{"$f":"'Pob x Genero'!#REF!","v":{"$error":"#REF!"}},1573]
["200307","PIURA","PIURA","HUANCABAMBA","SONDOR","Hombre","60-64",{"$f":"'Pob x Genero'!#REF!","v":{"$error":"#REF!"}},1605]
["210111","PUNO","PUNO","PUNO","PICHACANI","Hombre","60-64",{"$f":"'Pob x Genero'!#REF!","v":{"$error":"#REF!"}},1654]
["210503","PUNO","PUNO","EL COLLAO","PILCUYO","Hombre","60-64",{"$f":"'Pob x Genero'!#REF!","v":{"$error":"#REF!"}},1693]
["211101","PUNO","PUNO","SAN ROMAN","JULIACA","Hombre","60-64",{"$f":"'Pob x Genero'!#REF!","v":{"$error":"#REF!"}},1732]
["211206","PUNO","PUNO","SANDIA","QUIACA","Hombre","60-64",{"$f":"'Pob x Genero'!#REF!","v":{"$error":"#REF!"}},1742]
["220603","SAN MARTIN","SAN MARTIN","MARISCAL CACERES","HUICUNGO","Hombre","60-64",{"$f":"'Pob x Genero'!#REF!","v":{"$error":"#REF!"}},1790]
["220912","SAN MARTIN","SAN MARTIN","SAN MARTIN","SAN ANTONIO","Hombre","60-64",{"$f":"'Pob x Genero'!#REF!","v":{"$error":"#REF!"}},1823]
["240103","TUMBES","TUMBES","TUMBES","LA CRUZ","Hombre","60-64",{"$f":"'Pob x Genero'!#REF!","v":{"$error":"#REF!"}},1862]
["240203","TUMBES","TUMBES","CONTRALMIRANTE VILLAR","CANOAS DE PUNTA SAL","Hombre","60-64",{"$f":"'Pob x Genero'!#REF!","v":{"$error":"#REF!"}},1868]
["010120","AMAZONAS","AMAZONAS","CHACHAPOYAS","SOLOCO","Hombre","65-69",{"$f":"'Pob x Genero'!#REF!","v":{"$error":"#REF!"}},20]
["010510","AMAZONAS","AMAZONAS","LUYA","LUYA VIEJO","Hombre","65-69",{"$f":"'Pob x Genero'!#REF!","v":{"$error":"#REF!"}},52]
["020201","ANCASH","ANCASH","AIJA","AIJA","Hombre","65-69",{"$f":"'Pob x Genero'!#REF!","v":{"$error":"#REF!"}},97]
["020306","ANCASH","ANCASH","ANTONIO RAYMONDI","SAN JUAN DE RONTOY","Hombre","65-69",{"$f":"'Pob x Genero'!#REF!","v":{"$error":"#REF!"}},107]
["020904","ANCASH","ANCASH","CORONGO","CUSCA","Hombre","65-69",{"$f":"'Pob x Genero'!#REF!","v":{"$error":"#REF!"}},146]
["021401","ANCASH","ANCASH","OCROS","OCROS","Hombre","65-69",{"$f":"'Pob x Genero'!#REF!","v":{"$error":"#REF!"}},189]
["021507","ANCASH","ANCASH","PALLASCA","LLAPO","Hombre","65-69",{"$f":"'Pob x Genero'!#REF!","v":{"$error":"#REF!"}},205]
["030207","APURIMAC","APURIMAC","ANDAHUAYLAS","KISHUARA","Hombre","65-69",{"$f":"'Pob x Genero'!#REF!","v":{"$error":"#REF!"}},266]
["030217","APURIMAC","APURIMAC","ANDAHUAYLAS","TUMAY HUARACA","Hombre","65-69",{"$f":"'Pob x Genero'!#REF!","v":{"$error":"#REF!"}},276]
["030606","APURIMAC","APURIMAC","CHINCHEROS","ONGOY","Hombre","65-69",{"$f":"'Pob x Genero'!#REF!","v":{"$error":"#REF!"}},315]
["040105","AREQUIPA","AREQUIPA","AREQUIPA","CHARACATO","Hombre","65-69",{"$f":"'Pob x Genero'!DG13","v":269},340]
["040411","AREQUIPA","AREQUIPA","CASTILLA","TIPAN","Hombre","65-69",{"$f":"'Pob x Genero'!DG69","v":10},396]
["040503","AREQUIPA","AREQUIPA","CAYLLOMA","CABANACONDE","Hombre","65-69",{"$f":"'Pob x Genero'!DG75","v":66},402]
["050101","AYACUCHO","AYACUCHO","HUAMANGA","AYACUCHO","Hombre","65-69",{"$f":"'Pob x Genero'!#REF!","v":{"$error":"#REF!"}},445]
["050501","AYACUCHO","AYACUCHO","LA MAR","SAN MIGUEL","Hombre","65-69",{"$f":"'Pob x Genero'!#REF!","v":{"$error":"#REF!"}},484]
["050706","AYACUCHO","AYACUCHO","PARINACOCHAS","PUYUSCA","Hombre","65-69",{"$f":"'Pob x Genero'!#REF!","v":{"$error":"#REF!"}},525]
["050805","AYACUCHO","AYACUCHO","PAUCAR DEL SARA SARA","MARCABAMBA","Hombre","65-69",{"$f":"'Pob x Genero'!#REF!","v":{"$error":"#REF!"}},532]
["060103","CAJAMARCA","CAJAMARCA","CAJAMARCA","CHETILLA","Hombre","65-69",{"$f":"'Pob x Genero'!#REF!","v":{"$error":"#REF!"}},571]
["060418","CAJAMARCA","CAJAMARCA","CHOTA","TOCMOCHE","Hombre","65-69",{"$f":"'Pob x Genero'!#REF!","v":{"$error":"#REF!"}},614]
["060812","CAJAMARCA","CAJAMARCA","JAEN","SANTA ROSA","Hombre","65-69",{"$f":"'Pob x Genero'!#REF!","v":{"$error":"#REF!"}},653]
["061111","CAJAMARCA","CAJAMARCA","SAN MIGUEL","SAN SILVESTRE DE COCHAN","Hombre","65-69",{"$f":"'Pob x Genero'!#REF!","v":{"$error":"#REF!"}},678]
["070106","CALLAO","CALLAO","CALLAO","VENTANILLA","Hombre","65-69",{"$f":"'Pob x Genero'!#REF!","v":{"$error":"#REF!"}},701]
["080506","CUSCO","CUSCO","CANAS","PAMPAMARCA","Hombre","65-69",{"$f":"'Pob x Genero'!#REF!","v":{"$error":"#REF!"}},740]
["080913","CUSCO","CUSCO","LA CONVENCION","VILLA KINTIARINA","Hombre","65-69",{"$f":"'Pob x Genero'!#REF!","v":{"$error":"#REF!"}},779]
["081302","CUSCO","CUSCO","URUBAMBA","CHINCHERO","Hombre","65-69",{"$f":"'Pob x Genero'!#REF!","v":{"$error":"#REF!"}},813]
["090109","HUANCAVELICA","HUANCAVELICA","HUANCAVELICA","LARIA","Hombre","65-69",{"$f":"'Pob x Genero'!#REF!","v":{"$error":"#REF!"}},827]
["090413","HUANCAVELICA","HUANCAVELICA","CASTROVIRREYNA","TICRAPO","Hombre","65-69",{"$f":"'Pob x Genero'!#REF!","v":{"$error":"#REF!"}},870]
["090714","HUANCAVELICA","HUANCAVELICA","TAYACAJA","SALCABAMBA","Hombre","65-69",{"$f":"'Pob x Genero'!#REF!","v":{"$error":"#REF!"}},909]
["100321","HUANUCO","HUANUCO","DOS DE MAYO","SHUNQUI","Hombre","65-69",{"$f":"'Pob x Genero'!#REF!","v":{"$error":"#REF!"}},948]
["100601","HUANUCO","HUANUCO","LEONCIO PRADO","RUPA-RUPA","Hombre","65-69",{"$f":"'Pob x Genero'!#REF!","v":{"$error":"#REF!"}},966]
["101007","HUANUCO","HUANUCO","LAURICOCHA","SAN MIGUEL DE CAURI","Hombre","65-69",{"$f":"'Pob x Genero'!#REF!","v":{"$error":"#REF!"}},996]
["110405","ICA","ICA","PALPA","TIBILLO","Hombre","65-69",{"$f":"'Pob x Genero'!#REF!","v":{"$error":"#REF!"}},1039]
["120203","JUNIN","JUNIN","CONCEPCION","ANDAMARCA","Hombre","65-69",{"$f":"'Pob x Genero'!#REF!","v":{"$error":"#REF!"}},1078]
["120421","JUNIN","JUNIN","JAUJA","MUQUIYAUYO","Hombre","65-69",{"$f":"'Pob x Genero'!#REF!","v":{"$error":"#REF!"}},1117]
["120708","JUNIN","JUNIN","TARMA","SAN PEDRO DE CAJAS","Hombre","65-69",{"$f":"'Pob x Genero'!#REF!","v":{"$error":"#REF!"}},1151]
["120903","JUNIN","JUNIN","CHUPACA","CHONGOS BAJO","Hombre","65-69",{"$f":"'Pob x Genero'!#REF!","v":{"$error":"#REF!"}},1165]
["130504","LA LIBERTAD","LA LIBERTAD","JULCAN","HUASO","Hombre","65-69",{"$f":"'Pob x Genero'!#REF!","v":{"$error":"#REF!"}},1204]
["131007","LA LIBERTAD","LA LIBERTAD","SANTIAGO DE CHUCO","SANTA CRUZ DE CHUCA","Hombre","65-69",{"$f":"'Pob x Genero'!#REF!","v":{"$error":"#REF!"}},1247]
["140305","LAMBAYEQUE","LAMBAYEQUE","LAMBAYEQUE","MOCHUMI","Hombre","65-69",{"$f":"'Pob x Genero'!#REF!","v":{"$error":"#REF!"}},1286]
["150111","DIRIS ESTE","LIMA","LIMA","EL AGUSTINO","Hombre","65-69",{"$f":"'Pob x Genero'!#REF!","v":{"$error":"#REF!"}},1304]
["150141","DIRIS CENTRO","LIMA","LIMA","SURQUILLO","Hombre","65-69",{"$f":"'Pob x Genero'!#REF!","v":{"$error":"#REF!"}},1334]
["150604","LIMA","LIMA","HUARAL","AUCALLAMA","Hombre","65-69",{"$f":"'Pob x Genero'!#REF!","v":{"$error":"#REF!"}},1373]
["150803","LIMA","LIMA","HUAURA","CALETA DE CARQUIN","Hombre","65-69",{"$f":"'Pob x Genero'!#REF!","v":{"$error":"#REF!"}},1416]
["151008","LIMA","LIMA","YAUYOS","CATAHUASI","Hombre","65-69",{"$f":"'Pob x Genero'!#REF!","v":{"$error":"#REF!"}},1439]
["151029","LIMA","LIMA","YAUYOS","TAURIPAMPA","Hombre","65-69",{"$f":"'Pob x Genero'!#REF!","v":{"$error":"#REF!"}},1460]
["160602","LORETO","LORETO","UCAYALI","INAHUAYA","Hombre","65-69",{"$f":"'Pob x Genero'!#REF!","v":{"$error":"#REF!"}},1503]
["180207","MOQUEGUA","MOQUEGUA","GENERAL SANCHEZ CERRO","MATALAQUE","Hombre","65-69",{"$f":"'Pob x Genero'!#REF!","v":{"$error":"#REF!"}},1542]
["190103","PASCO","PASCO","PASCO","HUARIACA","Hombre","65-69",{"$f":"'Pob x Genero'!#REF!","v":{"$error":"#REF!"}},1552]
["200204","PIURA","PIURA","AYABACA","LAGUNAS","Hombre","65-69",{"$f":"'Pob x Genero'!#REF!","v":{"$error":"#REF!"}},1592]
["200606","PIURA","PIURA","SULLANA","MIGUEL CHECA","Hombre","65-69",{"$f":"'Pob x Genero'!#REF!","v":{"$error":"#REF!"}},1629]
["210214","PUNO","PUNO","AZANGARO","SANTIAGO DE PUPUJA","Hombre","65-69",{"$f":"'Pob x Genero'!#REF!","v":{"$error":"#REF!"}},1672]
["210708","PUNO","PUNO","LAMPA","PUCARA","Hombre","65-69",{"$f":"'Pob x Genero'!#REF!","v":{"$error":"#REF!"}},1711]
["210808","PUNO","PUNO","MELGAR","SANTA ROSA","Hombre","65-69",{"$f":"'Pob x Genero'!#REF!","v":{"$error":"#REF!"}},1721]
["220501","SAN MARTIN","SAN MARTIN","LAMAS","LAMAS","Hombre","65-69",{"$f":"'Pob x Genero'!#REF!","v":{"$error":"#REF!"}},1777]
["220706","SAN MARTIN","SAN MARTIN","PICOTA","SAN CRISTOBAL","Hombre","65-69",{"$f":"'Pob x Genero'!#REF!","v":{"$error":"#REF!"}},1798]
["230110","TACNA","TACNA","TACNA","CORONEL GREGORIO ALBARRACIN LANCHIPA","Hombre","65-69",{"$f":"'Pob x Genero'!#REF!","v":{"$error":"#REF!"}},1841]
["230205","TACNA","TACNA","CANDARAVE","HUANUARA","Hombre","65-69",{"$f":"'Pob x Genero'!#REF!","v":{"$error":"#REF!"}},1847]
["250303","UCAYALI","UCAYALI","PADRE ABAD","CURIMANA","Hombre","65-69",{"$f":"'Pob x Genero'!#REF!","v":{"$error":"#REF!"}},1886]
["010312","AMAZONAS","AMAZONAS","BONGARA","YAMBRASBAMBA","Hombre","70-74",{"$f":"'Pob x Genero'!#REF!","v":{"$error":"#REF!"}},39]
["010611","AMAZONAS","AMAZONAS","RODRIGUEZ DE MENDOZA","TOTORA","Hombre","70-74",{"$f":"'Pob x Genero'!#REF!","v":{"$error":"#REF!"}},76]
["020102","ANCASH","ANCASH","HUARAZ","COCHABAMBA","Hombre","70-74",{"$f":"'Pob x Genero'!#REF!","v":{"$error":"#REF!"}},86]
["020601","ANCASH","ANCASH","CARHUAZ","CARHUAZ","Hombre","70-74",{"$f":"'Pob x Genero'!#REF!","v":{"$error":"#REF!"}},125]
["021204","ANCASH","ANCASH","HUAYLAS","HUAYLAS","Hombre","70-74",{"$f":"'Pob x Genero'!#REF!","v":{"$error":"#REF!"}},174]
["021508","ANCASH","ANCASH","PALLASCA","PALLASCA","Hombre","70-74",{"$f":"'Pob x Genero'!#REF!","v":{"$error":"#REF!"}},206]
["022003","ANCASH","ANCASH","YUNGAY","MANCOS","Hombre","70-74",{"$f":"'Pob x Genero'!#REF!","v":{"$error":"#REF!"}},245]
["030105","APURIMAC","APURIMAC","ABANCAY","HUANIPACA","Hombre","70-74",{"$f":"'Pob x Genero'!#REF!","v":{"$error":"#REF!"}},255]
["030408","APURIMAC","APURIMAC","AYMARAES","JUSTO APU SAHUARAURA","Hombre","70-74",{"$f":"'Pob x Genero'!#REF!","v":{"$error":"#REF!"}},294]
["030706","APURIMAC","APURIMAC","GRAU","MICAELA BASTIDAS","Hombre","70-74",{"$f":"'Pob x Genero'!#REF!","v":{"$error":"#REF!"}},327]
["040303","AREQUIPA","AREQUIPA","CARAVELI","ATICO","Hombre","70-74",{"$f":"'Pob x Genero'!DH48","v":63},375]
["040309","AREQUIPA","AREQUIPA","CARAVELI","HUANUHUANU","Hombre","70-74",{"$f":"'Pob x Genero'!DH54","v":14},381]
["040601","AREQUIPA","AREQUIPA","CONDESUYOS","CHUQUIBAMBA","Hombre","70-74",{"$f":"'Pob x Genero'!DH93","v":62},420]
["050203","AYACUCHO","AYACUCHO","CANGALLO","LOS MOROCHUCOS","Hombre","70-74",{"$f":"'Pob x Genero'!#REF!","v":{"$error":"#REF!"}},463]
["050410","AYACUCHO","AYACUCHO","HUANTA","UCHURACCAY","Hombre","70-74",{"$f":"'Pob x Genero'!#REF!","v":{"$error":"#REF!"}},480]
["050613","AYACUCHO","AYACUCHO","LUCANAS","OTOCA","Hombre","70-74",{"$f":"'Pob x Genero'!#REF!","v":{"$error":"#REF!"}},511]
["051002","AYACUCHO","AYACUCHO","VICTOR FAJARDO","ALCAMENCA","Hombre","70-74",{"$f":"'Pob x Genero'!#REF!","v":{"$error":"#REF!"}},550]
["060305","CAJAMARCA","CAJAMARCA","CELENDIN","JORGE CHAVEZ","Hombre","70-74",{"$f":"'Pob x Genero'!#REF!","v":{"$error":"#REF!"}},589]
["060419","CAJAMARCA","CAJAMARCA","CHOTA","CHALAMARCA","Hombre","70-74",{"$f":"'Pob x Genero'!#REF!","v":{"$error":"#REF!"}},615]
["061103","CAJAMARCA","CAJAMARCA","SAN MIGUEL","CALQUIS","Hombre","70-74",{"$f":"'Pob x Genero'!#REF!","v":{"$error":"#REF!"}},670]
["061109","CAJAMARCA","CAJAMARCA","SAN MIGUEL","NIEPOS","Hombre","70-74",{"$f":"'Pob x Genero'!#REF!","v":{"$error":"#REF!"}},676]
["080302","CUSCO","CUSCO","ANTA","ANCAHUASI","Hombre","70-74",{"$f":"'Pob x Genero'!#REF!","v":{"$error":"#REF!"}},719]
["080708","CUSCO","CUSCO","CHUMBIVILCAS","VELILLE","Hombre","70-74",{"$f":"'Pob x Genero'!#REF!","v":{"$error":"#REF!"}},758]
["081201","CUSCO","CUSCO","QUISPICANCHI","URCOS","Hombre","70-74",{"$f":"'Pob x Genero'!#REF!","v":{"$error":"#REF!"}},800]
["081207","CUSCO","CUSCO","QUISPICANCHI","HUARO","Hombre","70-74",{"$f":"'Pob x Genero'!#REF!","v":{"$error":"#REF!"}},806]
["090208","HUANCAVELICA","HUANCAVELICA","ACOBAMBA","ROSARIO","Hombre","70-74",{"$f":"'Pob x Genero'!#REF!","v":{"$error":"#REF!"}},845]
["090607","HUANCAVELICA","HUANCAVELICA","HUAYTARA","PILPICHACA","Hombre","70-74",{"$f":"'Pob x Genero'!#REF!","v":{"$error":"#REF!"}},888]
["100107","HUANUCO","HUANUCO","HUANUCO","SAN FRANCISCO DE CAYRAN","Hombre","70-74",{"$f":"'Pob x Genero'!#REF!","v":{"$error":"#REF!"}},927]
["100403","HUANUCO","HUANUCO","HUACAYBAMBA","COCHABAMBA","Hombre","70-74",{"$f":"'Pob x Genero'!#REF!","v":{"$error":"#REF!"}},953]
["100610","HUANUCO","HUANUCO","LEONCIO PRADO","SANTO DOMINGO DE ANDA","Hombre","70-74",{"$f":"'Pob x Genero'!#REF!","v":{"$error":"#REF!"}},975]
["110110","ICA","ICA","ICA","SAN JUAN BAUTISTA","Hombre","70-74",{"$f":"'Pob x Genero'!#REF!","v":{"$error":"#REF!"}},1014]
["120114","JUNIN","JUNIN","HUANCAYO","EL TAMBO","Hombre","70-74",{"$f":"'Pob x Genero'!#REF!","v":{"$error":"#REF!"}},1057]
["120306","JUNIN","JUNIN","CHANCHAMAYO","VITOC","Hombre","70-74",{"$f":"'Pob x Genero'!#REF!","v":{"$error":"#REF!"}},1096]
["120410","JUNIN","JUNIN","JAUJA","HUERTAS","Hombre","70-74",{"$f":"'Pob x Genero'!#REF!","v":{"$error":"#REF!"}},1106]
["120701","JUNIN","JUNIN","TARMA","TARMA","Hombre","70-74",{"$f":"'Pob x Genero'!#REF!","v":{"$error":"#REF!"}},1144]
["130112","LA LIBERTAD","LA LIBERTAD","TRUJILLO","ALTO TRUJILLO","Hombre","70-74",{"$f":"'Pob x Genero'!#REF!","v":{"$error":"#REF!"}},1183]
["130807","LA LIBERTAD","LA LIBERTAD","PATAZ","ONGON","Hombre","70-74",{"$f":"'Pob x Genero'!#REF!","v":{"$error":"#REF!"}},1226]
["131001","LA LIBERTAD","LA LIBERTAD","SANTIAGO DE CHUCO","SANTIAGO DE CHUCO","Hombre","70-74",{"$f":"'Pob x Genero'!#REF!","v":{"$error":"#REF!"}},1241]
["140115","LAMBAYEQUE","LAMBAYEQUE","CHICLAYO","SAÑA","Hombre","70-74",{"$f":"'Pob x Genero'!#REF!","v":{"$error":"#REF!"}},1270]
["150120","DIRIS CENTRO","LIMA","LIMA","MAGDALENA DEL MAR","Hombre","70-74",{"$f":"'Pob x Genero'!#REF!","v":{"$error":"#REF!"}},1313]
["150406","LIMA","LIMA","CANTA","SAN BUENAVENTURA","Hombre","70-74",{"$f":"'Pob x Genero'!#REF!","v":{"$error":"#REF!"}},1352]
["150710","LIMA","LIMA","HUAROCHIRI","LAHUAYTAMBO","Hombre","70-74",{"$f":"'Pob x Genero'!#REF!","v":{"$error":"#REF!"}},1391]
["150901","LIMA","LIMA","OYON","OYON","Hombre","70-74",{"$f":"'Pob x Genero'!#REF!","v":{"$error":"#REF!"}},1426]
["151008","LIMA","LIMA","YAUYOS","CATAHUASI","Hombre","70-74",{"$f":"'Pob x Genero'!#REF!","v":{"$error":"#REF!"}},1439]
["160301","LORETO","LORETO","LORETO","NAUTA","Hombre","70-74",{"$f":"'Pob x Genero'!#REF!","v":{"$error":"#REF!"}},1482]
["170104","MADRE DE DIOS","MADRE DE DIOS","TAMBOPATA","LABERINTO","Hombre","70-74",{"$f":"'Pob x Genero'!#REF!","v":{"$error":"#REF!"}},1521]
["170302","MADRE DE DIOS","MADRE DE DIOS","TAHUAMANU","IBERIA","Hombre","70-74",{"$f":"'Pob x Genero'!#REF!","v":{"$error":"#REF!"}},1527]
["200101","PIURA","PIURA","PIURA","PIURA","Hombre","70-74",{"$f":"'Pob x Genero'!#REF!","v":{"$error":"#REF!"}},1579]
["200402","PIURA","PIURA","MORROPON","BUENOS AIRES","Hombre","70-74",{"$f":"'Pob x Genero'!#REF!","v":{"$error":"#REF!"}},1608]
["210108","PUNO","PUNO","PUNO","HUATA","Hombre","70-74",{"$f":"'Pob x Genero'!#REF!","v":{"$error":"#REF!"}},1651]
["210407","PUNO","PUNO","CHUCUITO","ZEPITA","Hombre","70-74",{"$f":"'Pob x Genero'!#REF!","v":{"$error":"#REF!"}},1690]
["210601","PUNO","PUNO","HUANCANE","HUANCANE","Hombre","70-74",{"$f":"'Pob x Genero'!#REF!","v":{"$error":"#REF!"}},1696]
["211101","PUNO","PUNO","SAN ROMAN","JULIACA","Hombre","70-74",{"$f":"'Pob x Genero'!#REF!","v":{"$error":"#REF!"}},1732]
["220501","SAN MARTIN","SAN MARTIN","LAMAS","LAMAS","Hombre","70-74",{"$f":"'Pob x Genero'!#REF!","v":{"$error":"#REF!"}},1777]
["220905","SAN MARTIN","SAN MARTIN","SAN MARTIN","CHIPURANA","Hombre","70-74",{"$f":"'Pob x Genero'!#REF!","v":{"$error":"#REF!"}},1816]
["221001","SAN MARTIN","SAN MARTIN","TOCACHE","TOCACHE","Hombre","70-74",{"$f":"'Pob x Genero'!#REF!","v":{"$error":"#REF!"}},1826]
["240202","TUMBES","TUMBES","CONTRALMIRANTE VILLAR","CASITAS","Hombre","70-74",{"$f":"'Pob x Genero'!#REF!","v":{"$error":"#REF!"}},1867]
["010116","AMAZONAS","AMAZONAS","CHACHAPOYAS","OLLEROS","Hombre","75-79",{"$f":"'Pob x Genero'!#REF!","v":{"$error":"#REF!"}},16]
["010513","AMAZONAS","AMAZONAS","LUYA","OCUMAL","Hombre","75-79",{"$f":"'Pob x Genero'!#REF!","v":{"$error":"#REF!"}},55]
["020110","ANCASH","ANCASH","HUARAZ","PARIACOTO","Hombre","75-79",{"$f":"'Pob x Genero'!#REF!","v":{"$error":"#REF!"}},94]
["020303","ANCASH","ANCASH","ANTONIO RAYMONDI","CHACCHO","Hombre","75-79",{"$f":"'Pob x Genero'!#REF!","v":{"$error":"#REF!"}},104]
["020605","ANCASH","ANCASH","CARHUAZ","ATAQUERO","Hombre","75-79",{"$f":"'Pob x Genero'!#REF!","v":{"$error":"#REF!"}},129]
["021305","ANCASH","ANCASH","MARISCAL LUZURIAGA","LLAMA","Hombre","75-79",{"$f":"'Pob x Genero'!#REF!","v":{"$error":"#REF!"}},185]
["021801","ANCASH","ANCASH","SANTA","CHIMBOTE","Hombre","75-79",{"$f":"'Pob x Genero'!#REF!","v":{"$error":"#REF!"}},224]
["021807","ANCASH","ANCASH","SANTA","SAMANCO","Hombre","75-79",{"$f":"'Pob x Genero'!#REF!","v":{"$error":"#REF!"}},230]
["030214","APURIMAC","APURIMAC","ANDAHUAYLAS","SAN MIGUEL DE CHACCRAMPA","Hombre","75-79",{"$f":"'Pob x Genero'!#REF!","v":{"$error":"#REF!"}},273]
["030605","APURIMAC","APURIMAC","CHINCHEROS","OCOBAMBA","Hombre","75-79",{"$f":"'Pob x Genero'!#REF!","v":{"$error":"#REF!"}},314]
["040115","AREQUIPA","AREQUIPA","AREQUIPA","QUEQUEÑA","Hombre","75-79",{"$f":"'Pob x Genero'!DI23","v":85},350]
["040125","AREQUIPA","AREQUIPA","AREQUIPA","VITOR","Hombre","75-79",{"$f":"'Pob x Genero'!DI33","v":43},360]
["040414","AREQUIPA","AREQUIPA","CASTILLA","VIRACO","Hombre","75-79",{"$f":"'Pob x Genero'!DI72","v":31},399]
["050105","AYACUCHO","AYACUCHO","HUAMANGA","CHIARA","Hombre","75-79",{"$f":"'Pob x Genero'!#REF!","v":{"$error":"#REF!"}},449]
["050410","AYACUCHO","AYACUCHO","HUANTA","UCHURACCAY","Hombre","75-79",{"$f":"'Pob x Genero'!#REF!","v":{"$error":"#REF!"}},480]
["050621","AYACUCHO","AYACUCHO","LUCANAS","SANTA LUCIA","Hombre","75-79",{"$f":"'Pob x Genero'!#REF!","v":{"$error":"#REF!"}},519]
["050802","AYACUCHO","AYACUCHO","PAUCAR DEL SARA SARA","COLTA","Hombre","75-79",{"$f":"'Pob x Genero'!#REF!","v":{"$error":"#REF!"}},529]
["051108","AYACUCHO","AYACUCHO","VILCAS HUAMAN","VISCHONGO","Hombre","75-79",{"$f":"'Pob x Genero'!#REF!","v":{"$error":"#REF!"}},568]
["060406","CAJAMARCA","CAJAMARCA","CHOTA","CHOROPAMPA","Hombre","75-79",{"$f":"'Pob x Genero'!#REF!","v":{"$error":"#REF!"}},602]
["060808","CAJAMARCA","CAJAMARCA","JAEN","PUCARA","Hombre","75-79",{"$f":"'Pob x Genero'!#REF!","v":{"$error":"#REF!"}},649]
["060902","CAJAMARCA","CAJAMARCA","SAN IGNACIO","CHIRINOS","Hombre","75-79",{"$f":"'Pob x Genero'!#REF!","v":{"$error":"#REF!"}},655]
["070103","CALLAO","CALLAO","CALLAO","CARMEN DE LA LEGUA REYNOSO","Hombre","75-79",{"$f":"'Pob x Genero'!#REF!","v":{"$error":"#REF!"}},698]
["080503","CUSCO","CUSCO","CANAS","KUNTURKANKI","Hombre","75-79",{"$f":"'Pob x Genero'!#REF!","v":{"$error":"#REF!"}},737]
["080705","CUSCO","CUSCO","CHUMBIVILCAS","LIVITACA","Hombre","75-79",{"$f":"'Pob x Genero'!#REF!","v":{"$error":"#REF!"}},755]
["081001","CUSCO","CUSCO","PARURO","PARURO","Hombre","75-79",{"$f":"'Pob x Genero'!#REF!","v":{"$error":"#REF!"}},785]
["090106","HUANCAVELICA","HUANCAVELICA","HUANCAVELICA","HUACHOCOLPA","Hombre","75-79",{"$f":"'Pob x Genero'!#REF!","v":{"$error":"#REF!"}},824]
["090410","HUANCAVELICA","HUANCAVELICA","CASTROVIRREYNA","SAN JUAN","Hombre","75-79",{"$f":"'Pob x Genero'!#REF!","v":{"$error":"#REF!"}},867]
["090710","HUANCAVELICA","HUANCAVELICA","TAYACAJA","ÑAHUIMPUQUIO","Hombre","75-79",{"$f":"'Pob x Genero'!#REF!","v":{"$error":"#REF!"}},906]
["100207","HUANUCO","HUANUCO","AMBO","SAN RAFAEL","Hombre","75-79",{"$f":"'Pob x Genero'!#REF!","v":{"$error":"#REF!"}},940]
["100404","HUANUCO","HUANUCO","HUACAYBAMBA","PINRA","Hombre","75-79",{"$f":"'Pob x Genero'!#REF!","v":{"$error":"#REF!"}},954]
["101004","HUANUCO","HUANUCO","LAURICOCHA","QUEROPALCA","Hombre","75-79",{"$f":"'Pob x Genero'!#REF!","v":{"$error":"#REF!"}},993]
["110303","ICA","ICA","NAZCA","EL INGENIO","Hombre","75-79",{"$f":"'Pob x Genero'!#REF!","v":{"$error":"#REF!"}},1032]
["120136","JUNIN","JUNIN","HUANCAYO","VIQUES","Hombre","75-79",{"$f":"'Pob x Genero'!#REF!","v":{"$error":"#REF!"}},1075]
["120205","JUNIN","JUNIN","CONCEPCION","COCHAS","Hombre","75-79",{"$f":"'Pob x Genero'!#REF!","v":{"$error":"#REF!"}},1080]
["120427","JUNIN","JUNIN","JAUJA","RICRAN","Hombre","75-79",{"$f":"'Pob x Genero'!#REF!","v":{"$error":"#REF!"}},1123]
["120810","JUNIN","JUNIN","YAULI","YAULI","Hombre","75-79",{"$f":"'Pob x Genero'!#REF!","v":{"$error":"#REF!"}},1162]
["130501","LA LIBERTAD","LA LIBERTAD","JULCAN","JULCAN","Hombre","75-79",{"$f":"'Pob x Genero'!#REF!","v":{"$error":"#REF!"}},1201]
["130809","LA LIBERTAD","LA LIBERTAD","PATAZ","PATAZ","Hombre","75-79",{"$f":"'Pob x Genero'!#REF!","v":{"$error":"#REF!"}},1228]
["131101","LA LIBERTAD","LA LIBERTAD","GRAN CHIMU","CASCAS","Hombre","75-79",{"$f":"'Pob x Genero'!#REF!","v":{"$error":"#REF!"}},1249]
["140307","LAMBAYEQUE","LAMBAYEQUE","LAMBAYEQUE","MOTUPE","Hombre","75-79",{"$f":"'Pob x Genero'!#REF!","v":{"$error":"#REF!"}},1288]
["150138","DIRIS SUR","LIMA","LIMA","SANTA MARIA DEL MAR","Hombre","75-79",{"$f":"'Pob x Genero'!#REF!","v":{"$error":"#REF!"}},1331]
["150601","LIMA","LIMA","HUARAL","HUARAL","Hombre","75-79",{"$f":"'Pob x Genero'!#REF!","v":{"$error":"#REF!"}},1370]
["150612","LIMA","LIMA","HUARAL","VEINTISIETE DE NOVIEMBRE","Hombre","75-79",{"$f":"'Pob x Genero'!#REF!","v":{"$error":"#REF!"}},1381]
["150805","LIMA","LIMA","HUAURA","HUALMAY","Hombre","75-79",{"$f":"'Pob x Genero'!#REF!","v":{"$error":"#REF!"}},1418]
["151026","LIMA","LIMA","YAUYOS","SAN JOAQUIN","Hombre","75-79",{"$f":"'Pob x Genero'!#REF!","v":{"$error":"#REF!"}},1457]
["160510","LORETO","LORETO","REQUENA","JENARO HERRERA","Hombre","75-79",{"$f":"'Pob x Genero'!#REF!","v":{"$error":"#REF!"}},1500]
["160605","LORETO","LORETO","UCAYALI","SARAYACU","Hombre","75-79",{"$f":"'Pob x Genero'!#REF!","v":{"$error":"#REF!"}},1506]
["190204","PASCO","PASCO","DANIEL ALCIDES CARRION","PAUCAR","Hombre","75-79",{"$f":"'Pob x Genero'!#REF!","v":{"$error":"#REF!"}},1566]
["200114","PIURA","PIURA","PIURA","TAMBO GRANDE","Hombre","75-79",{"$f":"'Pob x Genero'!#REF!","v":{"$error":"#REF!"}},1587]
["200603","PIURA","PIURA","SULLANA","IGNACIO ESCUDERO","Hombre","75-79",{"$f":"'Pob x Genero'!#REF!","v":{"$error":"#REF!"}},1626]
["200705","PIURA","PIURA","TALARA","LOS ORGANOS","Hombre","75-79",{"$f":"'Pob x Genero'!#REF!","v":{"$error":"#REF!"}},1636]
["210211","PUNO","PUNO","AZANGARO","SAN ANTON","Hombre","75-79",{"$f":"'Pob x Genero'!#REF!","v":{"$error":"#REF!"}},1669]
["210710","PUNO","PUNO","LAMPA","VILAVILA","Hombre","75-79",{"$f":"'Pob x Genero'!#REF!","v":{"$error":"#REF!"}},1713]
["220103","SAN MARTIN","SAN MARTIN","MOYOBAMBA","HABANA","Hombre","75-79",{"$f":"'Pob x Genero'!#REF!","v":{"$error":"#REF!"}},1756]
["220703","SAN MARTIN","SAN MARTIN","PICOTA","CASPISAPA","Hombre",{"$f":"G30160","v":"75-79"},{"$f":"'Pob x Genero'!#REF!","v":{"$error":"#REF!"}},1795]
["220803","SAN MARTIN","SAN MARTIN","RIOJA","ELIAS SOPLIN VARGAS","Hombre","75-79",{"$f":"'Pob x Genero'!#REF!","v":{"$error":"#REF!"}},1805]
["230403","TACNA","TACNA","TARATA","ESTIQUE","Hombre","75-79",{"$f":"'Pob x Genero'!#REF!","v":{"$error":"#REF!"}},1854]
["250203","UCAYALI","UCAYALI","ATALAYA","TAHUANIA","Hombre","75-79",{"$f":"'Pob x Genero'!#REF!","v":{"$error":"#REF!"}},1882]
["010307","AMAZONAS","AMAZONAS","BONGARA","JAZAN","Hombre","80-84",{"$f":"'Pob x Genero'!#REF!","v":{"$error":"#REF!"}},34]
["010401","AMAZONAS","AMAZONAS","CONDORCANQUI","NIEVA","Hombre","80-84",{"$f":"'Pob x Genero'!#REF!","v":{"$error":"#REF!"}},40]
["010706","AMAZONAS","AMAZONAS","UTCUBAMBA","LONYA GRANDE","Hombre","80-84",{"$f":"'Pob x Genero'!#REF!","v":{"$error":"#REF!"}},83]
["020507","ANCASH","ANCASH","BOLOGNESI","COLQUIOC","Hombre","80-84",{"$f":"'Pob x Genero'!#REF!","v":{"$error":"#REF!"}},116]
["021011","ANCASH","ANCASH","HUARI","PONTO","Hombre","80-84",{"$f":"'Pob x Genero'!#REF!","v":{"$error":"#REF!"}},160]
["021505","ANCASH","ANCASH","PALLASCA","HUANDOVAL","Hombre","80-84",{"$f":"'Pob x Genero'!#REF!","v":{"$error":"#REF!"}},203]
["021511","ANCASH","ANCASH","PALLASCA","TAUCA","Hombre","80-84",{"$f":"'Pob x Genero'!#REF!","v":{"$error":"#REF!"}},209]
["030101","APURIMAC","APURIMAC","ABANCAY","ABANCAY","Hombre","80-84",{"$f":"'Pob x Genero'!#REF!","v":{"$error":"#REF!"}},251]
["030404","APURIMAC","APURIMAC","AYMARAES","CHAPIMARCA","Hombre","80-84",{"$f":"'Pob x Genero'!#REF!","v":{"$error":"#REF!"}},290]
["030708","APURIMAC","APURIMAC","GRAU","PROGRESO","Hombre","80-84",{"$f":"'Pob x Genero'!#REF!","v":{"$error":"#REF!"}},329]
["040104","AREQUIPA","AREQUIPA","AREQUIPA","CERRO COLORADO","Hombre","80-84",{"$f":"'Pob x Genero'!DJ12","v":814},339]
["040306","AREQUIPA","AREQUIPA","CARAVELI","CAHUACHO","Hombre","80-84",{"$f":"'Pob x Genero'!DJ51","v":17},378]
["040505","AREQUIPA","AREQUIPA","CAYLLOMA","CAYLLOMA","Hombre","80-84",{"$f":"'Pob x Genero'!DJ77","v":16},404]
["050115","AYACUCHO","AYACUCHO","HUAMANGA","JESUS NAZARENO","Hombre","80-84",{"$f":"'Pob x Genero'!#REF!","v":{"$error":"#REF!"}},459]
["050515","AYACUCHO","AYACUCHO","LA MAR","PATIBAMBA","Hombre","80-84",{"$f":"'Pob x Genero'!#REF!","v":{"$error":"#REF!"}},498]
["050606","AYACUCHO","AYACUCHO","LUCANAS","CHIPAO","Hombre","80-84",{"$f":"'Pob x Genero'!#REF!","v":{"$error":"#REF!"}},504]
["050910","AYACUCHO","AYACUCHO","SUCRE","SANTIAGO DE PAUCARAY","Hombre","80-84",{"$f":"'Pob x Genero'!#REF!","v":{"$error":"#REF!"}},547]
["060305","CAJAMARCA","CAJAMARCA","CELENDIN","JORGE CHAVEZ","Hombre","80-84",{"$f":"'Pob x Genero'!#REF!","v":{"$error":"#REF!"}},589]
["060605","CAJAMARCA","CAJAMARCA","CUTERVO","LA RAMADA","Hombre","80-84",{"$f":"'Pob x Genero'!#REF!","v":{"$error":"#REF!"}},628]
["060611","CAJAMARCA","CAJAMARCA","CUTERVO","SANTA CRUZ","Hombre","80-84",{"$f":"'Pob x Genero'!#REF!","v":{"$error":"#REF!"}},634]
["061106","CAJAMARCA","CAJAMARCA","SAN MIGUEL","LA FLORIDA","Hombre","80-84",{"$f":"'Pob x Genero'!#REF!","v":{"$error":"#REF!"}},673]
["080206","CUSCO","CUSCO","ACOMAYO","RONDOCAN","Hombre","80-84",{"$f":"'Pob x Genero'!#REF!","v":{"$error":"#REF!"}},716]
["080508","CUSCO","CUSCO","CANAS","TUPAC AMARU","Hombre","80-84",{"$f":"'Pob x Genero'!#REF!","v":{"$error":"#REF!"}},742]
["080806","CUSCO","CUSCO","ESPINAR","PICHIGUA","Hombre","80-84",{"$f":"'Pob x Genero'!#REF!","v":{"$error":"#REF!"}},764]
["081204","CUSCO","CUSCO","QUISPICANCHI","CCARHUAYO","Hombre","80-84",{"$f":"'Pob x Genero'!#REF!","v":{"$error":"#REF!"}},803]
["090205","HUANCAVELICA","HUANCAVELICA","ACOBAMBA","MARCAS","Hombre","80-84",{"$f":"'Pob x Genero'!#REF!","v":{"$error":"#REF!"}},842]
["090507","HUANCAVELICA","HUANCAVELICA","CHURCAMPA","PAUCARBAMBA","Hombre","80-84",{"$f":"'Pob x Genero'!#REF!","v":{"$error":"#REF!"}},877]
["100103","HUANUCO","HUANUCO","HUANUCO","CHINCHAO","Hombre","80-84",{"$f":"'Pob x Genero'!#REF!","v":{"$error":"#REF!"}},923]
["100109","HUANUCO","HUANUCO","HUANUCO","SANTA MARIA DEL VALLE","Hombre","80-84",{"$f":"'Pob x Genero'!#REF!","v":{"$error":"#REF!"}},929]
["100607","HUANUCO","HUANUCO","LEONCIO PRADO","PUCAYACU","Hombre","80-84",{"$f":"'Pob x Genero'!#REF!","v":{"$error":"#REF!"}},972]
["110107","ICA","ICA","ICA","PUEBLO NUEVO","Hombre","80-84",{"$f":"'Pob x Genero'!#REF!","v":{"$error":"#REF!"}},1011]
["110301","ICA","ICA","NAZCA","NAZCA","Hombre","80-84",{"$f":"'Pob x Genero'!#REF!","v":{"$error":"#REF!"}},1030]
["120117","JUNIN","JUNIN","HUANCAYO","HUALHUAS","Hombre","80-84",{"$f":"'Pob x Genero'!#REF!","v":{"$error":"#REF!"}},1059]
["120402","JUNIN","JUNIN","JAUJA","ACOLLA","Hombre","80-84",{"$f":"'Pob x Genero'!#REF!","v":{"$error":"#REF!"}},1098]
["120607","JUNIN","JUNIN","SATIPO","RIO NEGRO","Hombre","80-84",{"$f":"'Pob x Genero'!#REF!","v":{"$error":"#REF!"}},1141]
["130109","LA LIBERTAD","LA LIBERTAD","TRUJILLO","SALAVERRY","Hombre","80-84",{"$f":"'Pob x Genero'!#REF!","v":{"$error":"#REF!"}},1180]
["130701","LA LIBERTAD","LA LIBERTAD","PACASMAYO","SAN PEDRO DE LLOC","Hombre","80-84",{"$f":"'Pob x Genero'!#REF!","v":{"$error":"#REF!"}},1215]
["130809","LA LIBERTAD","LA LIBERTAD","PATAZ","PATAZ","Hombre","80-84",{"$f":"'Pob x Genero'!#REF!","v":{"$error":"#REF!"}},1228]
["140112","LAMBAYEQUE","LAMBAYEQUE","CHICLAYO","PIMENTEL","Hombre","80-84",{"$f":"'Pob x Genero'!#REF!","v":{"$error":"#REF!"}},1267]
["150117","DIRIS NORTE","LIMA","LIMA","LOS OLIVOS","Hombre","80-84",{"$f":"'Pob x Genero'!#REF!","v":{"$error":"#REF!"}},1310]
["150403","LIMA","LIMA","CANTA","HUAMANTANGA","Hombre","80-84",{"$f":"'Pob x Genero'!#REF!","v":{"$error":"#REF!"}},1349]
["150515","LIMA","LIMA","CAÑETE","SANTA CRUZ DE FLORES","Hombre","80-84",{"$f":"'Pob x Genero'!#REF!","v":{"$error":"#REF!"}},1368]
["150716","LIMA","LIMA","HUAROCHIRI","SAN ANTONIO","Hombre","80-84",{"$f":"'Pob x Genero'!#REF!","v":{"$error":"#REF!"}},1397]
["151005","LIMA","LIMA","YAUYOS","AZANGARO","Hombre","80-84",{"$f":"'Pob x Genero'!#REF!","v":{"$error":"#REF!"}},1436]
["160206","LORETO","LORETO","ALTO AMAZONAS","LAGUNAS","Hombre","80-84",{"$f":"'Pob x Genero'!#REF!","v":{"$error":"#REF!"}},1479]
["160602","LORETO","LORETO","UCAYALI","INAHUAYA","Hombre","80-84",{"$f":"'Pob x Genero'!#REF!","v":{"$error":"#REF!"}},1503]
["170202","MADRE DE DIOS","MADRE DE DIOS","MANU","FITZCARRALD","Hombre","80-84",{"$f":"'Pob x Genero'!#REF!","v":{"$error":"#REF!"}},1523]
["190204","PASCO","PASCO","DANIEL ALCIDES CARRION","PAUCAR","Hombre","80-84",{"$f":"'Pob x Genero'!#REF!","v":{"$error":"#REF!"}},1566]
["200307","PIURA","PIURA","HUANCABAMBA","SONDOR","Hombre","80-84",{"$f":"'Pob x Genero'!#REF!","v":{"$error":"#REF!"}},1605]
["210101","PUNO","PUNO","PUNO","PUNO","Hombre","80-84",{"$f":"'Pob x Genero'!#REF!","v":{"$error":"#REF!"}},1644]
["210113","PUNO","PUNO","PUNO","SAN ANTONIO","Hombre","80-84",{"$f":"'Pob x Genero'!#REF!","v":{"$error":"#REF!"}},1656]
["210502","PUNO","PUNO","EL COLLAO","CAPAZO","Hombre","80-84",{"$f":"'Pob x Genero'!#REF!","v":{"$error":"#REF!"}},1692]
["211104","PUNO","PUNO","SAN ROMAN","CARACOTO","Hombre","80-84",{"$f":"'Pob x Genero'!#REF!","v":{"$error":"#REF!"}},1735]
["220404","SAN MARTIN","SAN MARTIN","HUALLAGA","PISCOYACU","Hombre","80-84",{"$f":"'Pob x Genero'!#REF!","v":{"$error":"#REF!"}},1774]
["220504","SAN MARTIN","SAN MARTIN","LAMAS","CAYNARACHI","Hombre","80-84",{"$f":"'Pob x Genero'!#REF!","v":{"$error":"#REF!"}},1780]
["230110","TACNA","TACNA","TACNA","CORONEL GREGORIO ALBARRACIN LANCHIPA","Hombre","80-84",{"$f":"'Pob x Genero'!#REF!","v":{"$error":"#REF!"}},1841]
["240102","TUMBES","TUMBES","TUMBES","CORRALES","Hombre","80-84",{"$f":"'Pob x Genero'!#REF!","v":{"$error":"#REF!"}},1861]
["010113","AMAZONAS","AMAZONAS","CHACHAPOYAS","MARISCAL CASTILLA","Hombre","85-+",{"$f":"'Pob x Genero'!#REF!","v":{"$error":"#REF!"}},13]
["010119","AMAZONAS","AMAZONAS","CHACHAPOYAS","SAN ISIDRO DE MAINO","Hombre","85-+",{"$f":"'Pob x Genero'!#REF!","v":{"$error":"#REF!"}},19]
["010511","AMAZONAS","AMAZONAS","LUYA","MARIA","Hombre","85-+",{"$f":"'Pob x Genero'!#REF!","v":{"$error":"#REF!"}},53]
["020204","ANCASH","ANCASH","AIJA","LA MERCED","Hombre","85-+",{"$f":"'Pob x Genero'!#REF!","v":{"$error":"#REF!"}},100]
["020801","ANCASH","ANCASH","CASMA","CASMA","Hombre","85-+",{"$f":"'Pob x Genero'!#REF!","v":{"$error":"#REF!"}},139]
["021208","ANCASH","ANCASH","HUAYLAS","SANTA CRUZ","Hombre","85-+",{"$f":"'Pob x Genero'!#REF!","v":{"$error":"#REF!"}},178]
["021308","ANCASH","ANCASH","MARISCAL LUZURIAGA","MUSGA","Hombre","85-+",{"$f":"'Pob x Genero'!#REF!","v":{"$error":"#REF!"}},188]
["021906","ANCASH","ANCASH","SIHUAS","HUAYLLABAMBA","Hombre","85-+",{"$f":"'Pob x Genero'!#REF!","v":{"$error":"#REF!"}},238]
["030210","APURIMAC","APURIMAC","ANDAHUAYLAS","PAMPACHIRI","Hombre","85-+",{"$f":"'Pob x Genero'!#REF!","v":{"$error":"#REF!"}},269]
["030505","APURIMAC","APURIMAC","COTABAMBAS","MARA","Hombre","85-+",{"$f":"'Pob x Genero'!#REF!","v":{"$error":"#REF!"}},308]
["030605","APURIMAC","APURIMAC","CHINCHEROS","OCOBAMBA","Hombre","85-+",{"$f":"'Pob x Genero'!#REF!","v":{"$error":"#REF!"}},314]
["040122","AREQUIPA","AREQUIPA","AREQUIPA","SOCABAYA","Hombre","85-+",{"$f":"'Pob x Genero'!DK30","v":344},357]
["040406","AREQUIPA","AREQUIPA","CASTILLA","CHOCO","Hombre","85-+",{"$f":"'Pob x Genero'!DK64","v":11},391]
["040801","AREQUIPA","AREQUIPA","LA UNION","COTAHUASI","Hombre","85-+",{"$f":"'Pob x Genero'!DK107","v":33},434]
["040811","AREQUIPA","AREQUIPA","LA UNION","TORO","Hombre","85-+",{"$f":"'Pob x Genero'!DK117","v":12},444]
["050413","AYACUCHO","AYACUCHO","HUANTA","PUTIS","Hombre","85-+",{"$f":"'Pob x Genero'!#REF!","v":{"$error":"#REF!"}},483]
["050707","AYACUCHO","AYACUCHO","PARINACOCHAS","SAN FRANCISCO DE RAVACAYCO","Hombre","85-+",{"$f":"'Pob x Genero'!#REF!","v":{"$error":"#REF!"}},526]
["050907","AYACUCHO","AYACUCHO","SUCRE","PAICO","Hombre","85-+",{"$f":"'Pob x Genero'!#REF!","v":{"$error":"#REF!"}},544]
["060407","CAJAMARCA","CAJAMARCA","CHOTA","COCHABAMBA","Hombre","85-+",{"$f":"'Pob x Genero'!#REF!","v":{"$error":"#REF!"}},603]
["060417","CAJAMARCA","CAJAMARCA","CHOTA","TACABAMBA","Hombre","85-+",{"$f":"'Pob x Genero'!#REF!","v":{"$error":"#REF!"}},613]
["060811","CAJAMARCA","CAJAMARCA","JAEN","SAN JOSE DEL ALTO","Hombre","85-+",{"$f":"'Pob x Genero'!#REF!","v":{"$error":"#REF!"}},652]
["061112","CAJAMARCA","CAJAMARCA","SAN MIGUEL","TONGOD","Hombre","85-+",{"$f":"'Pob x Genero'!#REF!","v":{"$error":"#REF!"}},679]
["080407","CUSCO","CUSCO","CALCA","TARAY","Hombre","85-+",{"$f":"'Pob x Genero'!#REF!","v":{"$error":"#REF!"}},733]
["080505","CUSCO","CUSCO","CANAS","LAYO","Hombre","85-+",{"$f":"'Pob x Genero'!#REF!","v":{"$error":"#REF!"}},739]
["080916","CUSCO","CUSCO","LA CONVENCION","CIELO PUNCO","Hombre","85-+",{"$f":"'Pob x Genero'!#REF!","v":{"$error":"#REF!"}},782]
["090103","HUANCAVELICA","HUANCAVELICA","HUANCAVELICA","ACORIA","Hombre","85-+",{"$f":"'Pob x Genero'!#REF!","v":{"$error":"#REF!"}},821]
["090407","HUANCAVELICA","HUANCAVELICA","CASTROVIRREYNA","HUACHOS","Hombre","85-+",{"$f":"'Pob x Genero'!#REF!","v":{"$error":"#REF!"}},864]
["090705","HUANCAVELICA","HUANCAVELICA","TAYACAJA","COLCABAMBA","Hombre","85-+",{"$f":"'Pob x Genero'!#REF!","v":{"$error":"#REF!"}},902]
["090713","HUANCAVELICA","HUANCAVELICA","TAYACAJA","QUISHUAR","Hombre","85-+",{"$f":"'Pob x Genero'!#REF!","v":{"$error":"#REF!"}},908]
["100401","HUANUCO","HUANUCO","HUACAYBAMBA","HUACAYBAMBA","Hombre","85-+",{"$f":"'Pob x Genero'!#REF!","v":{"$error":"#REF!"}},951]
["101001","HUANUCO","HUANUCO","LAURICOCHA","JESUS","Hombre","85-+",{"$f":"'Pob x Genero'!#REF!","v":{"$error":"#REF!"}},990]
["110113","ICA","ICA","ICA","TATE","Hombre","85-+",{"$f":"'Pob x Genero'!#REF!","v":{"$error":"#REF!"}},1017]
["110404","ICA","ICA","PALPA","SANTA CRUZ","Hombre","85-+",{"$f":"'Pob x Genero'!#REF!","v":{"$error":"#REF!"}},1038]
["120202","JUNIN","JUNIN","CONCEPCION","ACO","Hombre","85-+",{"$f":"'Pob x Genero'!#REF!","v":{"$error":"#REF!"}},1077]
["120424","JUNIN","JUNIN","JAUJA","PANCAN","Hombre","85-+",{"$f":"'Pob x Genero'!#REF!","v":{"$error":"#REF!"}},1120]
["120807","JUNIN","JUNIN","YAULI","SANTA BARBARA DE CARHUACAYAN","Hombre","85-+",{"$f":"'Pob x Genero'!#REF!","v":{"$error":"#REF!"}},1159]
["120908","JUNIN","JUNIN","CHUPACA","TRES DE DICIEMBRE","Hombre","85-+",{"$f":"'Pob x Genero'!#REF!","v":{"$error":"#REF!"}},1170]
["130604","LA LIBERTAD","LA LIBERTAD","OTUZCO","CHARAT","Hombre","85-+",{"$f":"'Pob x Genero'!#REF!","v":{"$error":"#REF!"}},1207]
["131006","LA LIBERTAD","LA LIBERTAD","SANTIAGO DE CHUCO","QUIRUVILCA","Hombre","85-+",{"$f":"'Pob x Genero'!#REF!","v":{"$error":"#REF!"}},1246]
["140304","LAMBAYEQUE","LAMBAYEQUE","LAMBAYEQUE","JAYANCA","Hombre","85-+",{"$f":"'Pob x Genero'!#REF!","v":{"$error":"#REF!"}},1285]
["150112","DIRIS NORTE","LIMA","LIMA","INDEPENDENCIA","Hombre","85-+",{"$f":"'Pob x Genero'!#REF!","v":{"$error":"#REF!"}},1305]
["150140","DIRIS SUR","LIMA","LIMA","SANTIAGO DE SURCO","Hombre","85-+",{"$f":"'Pob x Genero'!#REF!","v":{"$error":"#REF!"}},1333]
["150607","LIMA","LIMA","HUARAL","LAMPIAN","Hombre","85-+",{"$f":"'Pob x Genero'!#REF!","v":{"$error":"#REF!"}},1376]
["150802","LIMA","LIMA","HUAURA","AMBAR","Hombre","85-+",{"$f":"'Pob x Genero'!#REF!","v":{"$error":"#REF!"}},1415]
["151023","LIMA","LIMA","YAUYOS","PUTINZA","Hombre","85-+",{"$f":"'Pob x Genero'!#REF!","v":{"$error":"#REF!"}},1454]
["160404","LORETO","LORETO","MARISCAL RAMON CASTILLA","SAN PABLO","Hombre","85-+",{"$f":"'Pob x Genero'!#REF!","v":{"$error":"#REF!"}},1490]
["160601","LORETO","LORETO","UCAYALI","CONTAMANA","Hombre","85-+",{"$f":"'Pob x Genero'!#REF!","v":{"$error":"#REF!"}},1502]
["180206","MOQUEGUA","MOQUEGUA","GENERAL SANCHEZ CERRO","LLOQUE","Hombre","85-+",{"$f":"'Pob x Genero'!#REF!","v":{"$error":"#REF!"}},1541]
["200109","PIURA","PIURA","PIURA","LA ARENA","Hombre","85-+",{"$f":"'Pob x Genero'!#REF!","v":{"$error":"#REF!"}},1584]
["200507","PIURA","PIURA","PAITA","VICHAYAL","Hombre","85-+",{"$f":"'Pob x Genero'!#REF!","v":{"$error":"#REF!"}},1623]
["200806","PIURA","PIURA","SECHURA","RINCONADA LLICUAR","Hombre","85-+",{"$f":"'Pob x Genero'!#REF!","v":{"$error":"#REF!"}},1643]
["210213","PUNO","PUNO","AZANGARO","SAN JUAN DE SALINAS","Hombre","85-+",{"$f":"'Pob x Genero'!#REF!","v":{"$error":"#REF!"}},1671]
["210707","PUNO","PUNO","LAMPA","PARATIA","Hombre","85-+",{"$f":"'Pob x Genero'!#REF!","v":{"$error":"#REF!"}},1710]
["211307","PUNO","PUNO","YUNGUYO","UNICACHI","Hombre","85-+",{"$f":"'Pob x Genero'!#REF!","v":{"$error":"#REF!"}},1753]
["220502","SAN MARTIN","SAN MARTIN","LAMAS","ALONSO DE ALVARADO","Hombre","85-+",{"$f":"'Pob x Genero'!#REF!","v":{"$error":"#REF!"}},1778]
["220709","SAN MARTIN","SAN MARTIN","PICOTA","TINGO DE PONASA","Hombre","85-+",{"$f":"'Pob x Genero'!#REF!","v":{"$error":"#REF!"}},1801]
["230109","TACNA","TACNA","TACNA","SAMA","Hombre","85-+",{"$f":"'Pob x Genero'!#REF!","v":{"$error":"#REF!"}},1840]
["250107","UCAYALI","UCAYALI","CORONEL PORTILLO","MANANTAY","Hombre","85-+",{"$f":"'Pob x Genero'!#REF!","v":{"$error":"#REF!"}},1879]
["250306","UCAYALI","UCAYALI","PADRE ABAD","HUIPOCA","Hombre","85-+",{"$f":"'Pob x Genero'!#REF!","v":{"$error":"#REF!"}},1889]
["010401","AMAZONAS","AMAZONAS","CONDORCANQUI","NIEVA","Mujer","00-04",{"$f":"'Pob x Genero'!#REF!","v":{"$error":"#REF!"}},40]
["010610","AMAZONAS","AMAZONAS","RODRIGUEZ DE MENDOZA","SANTA ROSA","Mujer","00-04",{"$f":"'Pob x Genero'!#REF!","v":{"$error":"#REF!"}},75]
["020509","ANCASH","ANCASH","BOLOGNESI","HUASTA","Mujer","00-04",{"$f":"'Pob x Genero'!#REF!","v":{"$error":"#REF!"}},118]
["021008","ANCASH","ANCASH","HUARI","HUANTAR","Mujer","00-04",{"$f":"'Pob x Genero'!#REF!","v":{"$error":"#REF!"}},157]
["021102","ANCASH","ANCASH","HUARMEY","COCHAPETI","Mujer","00-04",{"$f":"'Pob x Genero'!#REF!","v":{"$error":"#REF!"}},167]
["021405","ANCASH","ANCASH","OCROS","COCHAS","Mujer","00-04",{"$f":"'Pob x Genero'!#REF!","v":{"$error":"#REF!"}},193]
["022002","ANCASH","ANCASH","YUNGAY","CASCAPARA","Mujer","00-04",{"$f":"'Pob x Genero'!#REF!","v":{"$error":"#REF!"}},244]
["030401","APURIMAC","APURIMAC","AYMARAES","CHALHUANCA","Mujer","00-04",{"$f":"'Pob x Genero'!#REF!","v":{"$error":"#REF!"}},287]
["030407","APURIMAC","APURIMAC","AYMARAES","HUAYLLO","Mujer","00-04",{"$f":"'Pob x Genero'!#REF!","v":{"$error":"#REF!"}},293]
["040101","AREQUIPA","AREQUIPA","AREQUIPA","AREQUIPA","Mujer","00-04",{"$f":"'Pob x Genero'!DL9","v":1423},336]
["040306","AREQUIPA","AREQUIPA","CARAVELI","CAHUACHO","Mujer","00-04",{"$f":"'Pob x Genero'!DL51","v":39},378]
["040514","AREQUIPA","AREQUIPA","CAYLLOMA","SAN ANTONIO DE CHUCA","Mujer","00-04",{"$f":"'Pob x Genero'!DL86","v":27},413]
["040604","AREQUIPA","AREQUIPA","CONDESUYOS","CHICHAS","Mujer","00-04",{"$f":"'Pob x Genero'!DL96","v":7},423]
["050202","AYACUCHO","AYACUCHO","CANGALLO","CHUSCHI","Mujer","00-04",{"$f":"'Pob x Genero'!#REF!","v":{"$error":"#REF!"}},462]
["050615","AYACUCHO","AYACUCHO","LUCANAS","SAN CRISTOBAL","Mujer","00-04",{"$f":"'Pob x Genero'!#REF!","v":{"$error":"#REF!"}},513]
["050906","AYACUCHO","AYACUCHO","SUCRE","MORCOLLA","Mujer","00-04",{"$f":"'Pob x Genero'!#REF!","v":{"$error":"#REF!"}},543]
["060202","CAJAMARCA","CAJAMARCA","CAJABAMBA","CACHACHI","Mujer","00-04",{"$f":"'Pob x Genero'!#REF!","v":{"$error":"#REF!"}},582]
["060308","CAJAMARCA","CAJAMARCA","CELENDIN","OXAMARCA","Mujer","00-04",{"$f":"'Pob x Genero'!#REF!","v":{"$error":"#REF!"}},592]
["060608","CAJAMARCA","CAJAMARCA","CUTERVO","SAN ANDRES DE CUTERVO","Mujer","00-04",{"$f":"'Pob x Genero'!#REF!","v":{"$error":"#REF!"}},631]
["061006","CAJAMARCA","CAJAMARCA","SAN MARCOS","JOSE MANUEL QUIROZ","Mujer","00-04",{"$f":"'Pob x Genero'!#REF!","v":{"$error":"#REF!"}},666]
["080202","CUSCO","CUSCO","ACOMAYO","ACOPIA","Mujer","00-04",{"$f":"'Pob x Genero'!#REF!","v":{"$error":"#REF!"}},712]
["080301","CUSCO","CUSCO","ANTA","ANTA","Mujer","00-04",{"$f":"'Pob x Genero'!#REF!","v":{"$error":"#REF!"}},718]
["080707","CUSCO","CUSCO","CHUMBIVILCAS","QUIÑOTA","Mujer","00-04",{"$f":"'Pob x Genero'!#REF!","v":{"$error":"#REF!"}},757]
["081201","CUSCO","CUSCO","QUISPICANCHI","URCOS","Mujer","00-04",{"$f":"'Pob x Genero'!#REF!","v":{"$error":"#REF!"}},800]
["090101","HUANCAVELICA","HUANCAVELICA","HUANCAVELICA","HUANCAVELICA","Mujer","00-04",{"$f":"'Pob x Genero'!#REF!","v":{"$error":"#REF!"}},819]
["090303","HUANCAVELICA","HUANCAVELICA","ANGARAES","CALLANMARCA","Mujer","00-04",{"$f":"'Pob x Genero'!#REF!","v":{"$error":"#REF!"}},848]
["090606","HUANCAVELICA","HUANCAVELICA","HUAYTARA","OCOYO","Mujer","00-04",{"$f":"'Pob x Genero'!#REF!","v":{"$error":"#REF!"}},887]
["100106","HUANUCO","HUANUCO","HUANUCO","QUISQUI","Mujer","00-04",{"$f":"'Pob x Genero'!#REF!","v":{"$error":"#REF!"}},926]
["100604","HUANUCO","HUANUCO","LEONCIO PRADO","JOSE CRESPO Y CASTILLO","Mujer","00-04",{"$f":"'Pob x Genero'!#REF!","v":{"$error":"#REF!"}},969]
["101108","HUANUCO","HUANUCO","YAROWILCA","CHORAS","Mujer","00-04",{"$f":"'Pob x Genero'!#REF!","v":{"$error":"#REF!"}},1004]
["110113","ICA","ICA","ICA","TATE","Mujer","00-04",{"$f":"'Pob x Genero'!#REF!","v":{"$error":"#REF!"}},1017]
["120113","JUNIN","JUNIN","HUANCAYO","CULLHUAS","Mujer","00-04",{"$f":"'Pob x Genero'!#REF!","v":{"$error":"#REF!"}},1056]
["120305","JUNIN","JUNIN","CHANCHAMAYO","SAN RAMON","Mujer","00-04",{"$f":"'Pob x Genero'!#REF!","v":{"$error":"#REF!"}},1095]
["120605","JUNIN","JUNIN","SATIPO","PAMPA HERMOSA","Mujer","00-04",{"$f":"'Pob x Genero'!#REF!","v":{"$error":"#REF!"}},1139]
["120609","JUNIN","JUNIN","SATIPO","VIZCATAN DEL ENE","Mujer","00-04",{"$f":"'Pob x Genero'!#REF!","v":{"$error":"#REF!"}},1143]
["130111","LA LIBERTAD","LA LIBERTAD","TRUJILLO","VICTOR LARCO HERRERA","Mujer","00-04",{"$f":"'Pob x Genero'!#REF!","v":{"$error":"#REF!"}},1182]
["130806","LA LIBERTAD","LA LIBERTAD","PATAZ","HUAYO","Mujer","00-04",{"$f":"'Pob x Genero'!#REF!","v":{"$error":"#REF!"}},1225]
["140109","LAMBAYEQUE","LAMBAYEQUE","CHICLAYO","NUEVA ARICA","Mujer","00-04",{"$f":"'Pob x Genero'!#REF!","v":{"$error":"#REF!"}},1264]
["140311","LAMBAYEQUE","LAMBAYEQUE","LAMBAYEQUE","SAN JOSE","Mujer","00-04",{"$f":"'Pob x Genero'!#REF!","v":{"$error":"#REF!"}},1292]
["150119","DIRIS SUR","LIMA","LIMA","LURIN","Mujer","00-04",{"$f":"'Pob x Genero'!#REF!","v":{"$error":"#REF!"}},1312]
["150405","LIMA","LIMA","CANTA","LACHAQUI","Mujer","00-04",{"$f":"'Pob x Genero'!#REF!","v":{"$error":"#REF!"}},1351]
["150713","LIMA","LIMA","HUAROCHIRI","MARIATANA","Mujer","00-04",{"$f":"'Pob x Genero'!#REF!","v":{"$error":"#REF!"}},1394]
["151002","LIMA","LIMA","YAUYOS","ALIS","Mujer","00-04",{"$f":"'Pob x Genero'!#REF!","v":{"$error":"#REF!"}},1433]
["151014","LIMA","LIMA","YAUYOS","HUANCAYA","Mujer","00-04",{"$f":"'Pob x Genero'!#REF!","v":{"$error":"#REF!"}},1445]
["160211","LORETO","LORETO","ALTO AMAZONAS","TENIENTE CESAR LOPEZ ROJAS","Mujer","00-04",{"$f":"'Pob x Genero'!#REF!","v":{"$error":"#REF!"}},1481]
["170103","MADRE DE DIOS","MADRE DE DIOS","TAMBOPATA","LAS PIEDRAS","Mujer","00-04",{"$f":"'Pob x Genero'!#REF!","v":{"$error":"#REF!"}},1520]
["190201","PASCO","PASCO","DANIEL ALCIDES CARRION","YANAHUANCA","Mujer","00-04",{"$f":"'Pob x Genero'!#REF!","v":{"$error":"#REF!"}},1563]
["200304","PIURA","PIURA","HUANCABAMBA","HUARMACA","Mujer","00-04",{"$f":"'Pob x Genero'!#REF!","v":{"$error":"#REF!"}},1602]
["200607","PIURA","PIURA","SULLANA","QUERECOTILLO","Mujer","00-04",{"$f":"'Pob x Genero'!#REF!","v":{"$error":"#REF!"}},1630]
["210107","PUNO","PUNO","PUNO","COATA","Mujer","00-04",{"$f":"'Pob x Genero'!#REF!","v":{"$error":"#REF!"}},1650]
["210406","PUNO","PUNO","CHUCUITO","POMATA","Mujer","00-04",{"$f":"'Pob x Genero'!#REF!","v":{"$error":"#REF!"}},1689]
["211101","PUNO","PUNO","SAN ROMAN","JULIACA","Mujer","00-04",{"$f":"'Pob x Genero'!#REF!","v":{"$error":"#REF!"}},1732]
["220206","SAN MARTIN","SAN MARTIN","BELLAVISTA","SAN RAFAEL","Mujer","00-04",{"$f":"'Pob x Genero'!#REF!","v":{"$error":"#REF!"}},1765]
["220406","SAN MARTIN","SAN MARTIN","HUALLAGA","TINGO DE SAPOSOA","Mujer","00-04",{"$f":"'Pob x Genero'!#REF!","v":{"$error":"#REF!"}},1776]
["220908","SAN MARTIN","SAN MARTIN","SAN MARTIN","JUAN GUERRA","Mujer","00-04",{"$f":"'Pob x Genero'!#REF!","v":{"$error":"#REF!"}},1819]
["230407","TACNA","TACNA","TARATA","TARUCACHI","Mujer","00-04",{"$f":"'Pob x Genero'!#REF!","v":{"$error":"#REF!"}},1858]
["010106","AMAZONAS","AMAZONAS","CHACHAPOYAS","CHUQUIBAMBA","Mujer","05-09",{"$f":"'Pob x Genero'!#REF!","v":{"$error":"#REF!"}},6]
["010206","AMAZONAS","AMAZONAS","BAGUA","LA PECA","Mujer","05-09",{"$f":"'Pob x Genero'!#REF!","v":{"$error":"#REF!"}},27]
["010512","AMAZONAS","AMAZONAS","LUYA","OCALLI","Mujer","05-09",{"$f":"'Pob x Genero'!#REF!","v":{"$error":"#REF!"}},54]
["020201","ANCASH","ANCASH","AIJA","AIJA","Mujer","05-09",{"$f":"'Pob x Genero'!#REF!","v":{"$error":"#REF!"}},97]
["020701","ANCASH","ANCASH","CARLOS FERMIN FITZCARRALD","SAN LUIS","Mujer","05-09",{"$f":"'Pob x Genero'!#REF!","v":{"$error":"#REF!"}},136]
["020804","ANCASH","ANCASH","CASMA","YAUTAN","Mujer","05-09",{"$f":"'Pob x Genero'!#REF!","v":{"$error":"#REF!"}},142]
["021210","ANCASH","ANCASH","HUAYLAS","YURACMARCA","Mujer","05-09",{"$f":"'Pob x Genero'!#REF!","v":{"$error":"#REF!"}},180]
["021710","ANCASH","ANCASH","RECUAY","TICAPAMPA","Mujer","05-09",{"$f":"'Pob x Genero'!#REF!","v":{"$error":"#REF!"}},223]
["030207","APURIMAC","APURIMAC","ANDAHUAYLAS","KISHUARA","Mujer","05-09",{"$f":"'Pob x Genero'!#REF!","v":{"$error":"#REF!"}},266]
["030213","APURIMAC","APURIMAC","ANDAHUAYLAS","SAN JERONIMO","Mujer","05-09",{"$f":"'Pob x Genero'!#REF!","v":{"$error":"#REF!"}},272]
["030606","APURIMAC","APURIMAC","CHINCHEROS","ONGOY","Mujer","05-09",{"$f":"'Pob x Genero'!#REF!","v":{"$error":"#REF!"}},315]
["040118","AREQUIPA","AREQUIPA","AREQUIPA","SAN JUAN DE SIGUAS","Mujer","05-09",{"$f":"'Pob x Genero'!DM26","v":14},353]
["040407","AREQUIPA","AREQUIPA","CASTILLA","HUANCARQUI","Mujer","05-09",{"$f":"'Pob x Genero'!DM65","v":43},392]
["040704","AREQUIPA","AREQUIPA","ISLAY","ISLAY","Mujer","05-09",{"$f":"'Pob x Genero'!DM104","v":242},431]
["040808","AREQUIPA","AREQUIPA","LA UNION","SAYLA","Mujer","05-09",{"$f":"'Pob x Genero'!DM114","v":9},441]
["050302","AYACUCHO","AYACUCHO","HUANCA SANCOS","CARAPO","Mujer","05-09",{"$f":"'Pob x Genero'!#REF!","v":{"$error":"#REF!"}},468]
["050703","AYACUCHO","AYACUCHO","PARINACOCHAS","CORONEL CASTAÑEDA","Mujer","05-09",{"$f":"'Pob x Genero'!#REF!","v":{"$error":"#REF!"}},522]
["051101","AYACUCHO","AYACUCHO","VILCAS HUAMAN","VILCAS HUAMAN","Mujer","05-09",{"$f":"'Pob x Genero'!#REF!","v":{"$error":"#REF!"}},561]
["051107","AYACUCHO","AYACUCHO","VILCAS HUAMAN","SAURAMA","Mujer","05-09",{"$f":"'Pob x Genero'!#REF!","v":{"$error":"#REF!"}},567]
["060414","CAJAMARCA","CAJAMARCA","CHOTA","PION","Mujer","05-09",{"$f":"'Pob x Genero'!#REF!","v":{"$error":"#REF!"}},610]
["060812","CAJAMARCA","CAJAMARCA","JAEN","SANTA ROSA","Mujer","05-09",{"$f":"'Pob x Genero'!#REF!","v":{"$error":"#REF!"}},653]
["061303","CAJAMARCA","CAJAMARCA","SANTA CRUZ","CATACHE","Mujer","05-09",{"$f":"'Pob x Genero'!#REF!","v":{"$error":"#REF!"}},687]
["070102","CALLAO","CALLAO","CALLAO","BELLAVISTA","Mujer","05-09",{"$f":"'Pob x Genero'!#REF!","v":{"$error":"#REF!"}},697]
["080502","CUSCO","CUSCO","CANAS","CHECCA","Mujer","05-09",{"$f":"'Pob x Genero'!#REF!","v":{"$error":"#REF!"}},736]
["080913","CUSCO","CUSCO","LA CONVENCION","VILLA KINTIARINA","Mujer","05-09",{"$f":"'Pob x Genero'!#REF!","v":{"$error":"#REF!"}},779]
["081207","CUSCO","CUSCO","QUISPICANCHI","HUARO","Mujer","05-09",{"$f":"'Pob x Genero'!#REF!","v":{"$error":"#REF!"}},806]
["090311","HUANCAVELICA","HUANCAVELICA","ANGARAES","SANTO TOMAS DE PATA","Mujer","05-09",{"$f":"'Pob x Genero'!#REF!","v":{"$error":"#REF!"}},856]
["090409","HUANCAVELICA","HUANCAVELICA","CASTROVIRREYNA","MOLLEPAMPA","Mujer","05-09",{"$f":"'Pob x Genero'!#REF!","v":{"$error":"#REF!"}},866]
["090709","HUANCAVELICA","HUANCAVELICA","TAYACAJA","HUARIBAMBA","Mujer","05-09",{"$f":"'Pob x Genero'!#REF!","v":{"$error":"#REF!"}},905]
["100208","HUANUCO","HUANUCO","AMBO","TOMAY KICHWA","Mujer","05-09",{"$f":"'Pob x Genero'!#REF!","v":{"$error":"#REF!"}},941]
["100902","HUANUCO","HUANUCO","PUERTO INCA","CODO DEL POZUZO","Mujer","05-09",{"$f":"'Pob x Genero'!#REF!","v":{"$error":"#REF!"}},986]
["101003","HUANUCO","HUANUCO","LAURICOCHA","JIVIA","Mujer","05-09",{"$f":"'Pob x Genero'!#REF!","v":{"$error":"#REF!"}},992]
["110401","ICA","ICA","PALPA","PALPA","Mujer","05-09",{"$f":"'Pob x Genero'!#REF!","v":{"$error":"#REF!"}},1035]
["120135","JUNIN","JUNIN","HUANCAYO","SANTO DOMINGO DE ACOBAMBA","Mujer","05-09",{"$f":"'Pob x Genero'!#REF!","v":{"$error":"#REF!"}},1074]
["120304","JUNIN","JUNIN","CHANCHAMAYO","SAN LUIS DE SHUARO","Mujer","05-09",{"$f":"'Pob x Genero'!#REF!","v":{"$error":"#REF!"}},1094]
["120426","JUNIN","JUNIN","JAUJA","POMACANCHA","Mujer","05-09",{"$f":"'Pob x Genero'!#REF!","v":{"$error":"#REF!"}},1122]
["120809","JUNIN","JUNIN","YAULI","SUITUCANCHA","Mujer","05-09",{"$f":"'Pob x Genero'!#REF!","v":{"$error":"#REF!"}},1161]
["130504","LA LIBERTAD","LA LIBERTAD","JULCAN","HUASO","Mujer","05-09",{"$f":"'Pob x Genero'!#REF!","v":{"$error":"#REF!"}},1204]
["131003","LA LIBERTAD","LA LIBERTAD","SANTIAGO DE CHUCO","CACHICADAN","Mujer","05-09",{"$f":"'Pob x Genero'!#REF!","v":{"$error":"#REF!"}},1243]
["140204","LAMBAYEQUE","LAMBAYEQUE","FERREÑAFE","MANUEL ANTONIO MESONES MURO","Mujer",{"$f":"G37208","v":"05-09"},{"$f":"'Pob x Genero'!#REF!","v":{"$error":"#REF!"}},1279]
["140310","LAMBAYEQUE","LAMBAYEQUE","LAMBAYEQUE","SALAS","Mujer","05-09",{"$f":"'Pob x Genero'!#REF!","v":{"$error":"#REF!"}},1291]
["150137","DIRIS ESTE","LIMA","LIMA","SANTA ANITA","Mujer","05-09",{"$f":"'Pob x Genero'!#REF!","v":{"$error":"#REF!"}},1330]
["150516","LIMA","LIMA","CAÑETE","ZUÑIGA","Mujer","05-09",{"$f":"'Pob x Genero'!#REF!","v":{"$error":"#REF!"}},1369]
["150731","LIMA","LIMA","HUAROCHIRI","SANTO DOMINGO DE LOS OLLEROS","Mujer","05-09",{"$f":"'Pob x Genero'!#REF!","v":{"$error":"#REF!"}},1412]
["151001","LIMA","LIMA","YAUYOS","YAUYOS","Mujer","05-09",{"$f":"'Pob x Genero'!#REF!","v":{"$error":"#REF!"}},1432]
["151029","LIMA","LIMA","YAUYOS","TAURIPAMPA","Mujer","05-09",{"$f":"'Pob x Genero'!#REF!","v":{"$error":"#REF!"}},1460]
["160509","LORETO","LORETO","REQUENA","TAPICHE","Mujer","05-09",{"$f":"'Pob x Genero'!#REF!","v":{"$error":"#REF!"}},1499]
["180203","MOQUEGUA","MOQUEGUA","GENERAL SANCHEZ CERRO","COALAQUE","Mujer","05-09",{"$f":"'Pob x Genero'!#REF!","v":{"$error":"#REF!"}},1538]
["190205","PASCO","PASCO","DANIEL ALCIDES CARRION","SAN PEDRO DE PILLAO","Mujer","05-09",{"$f":"'Pob x Genero'!#REF!","v":{"$error":"#REF!"}},1567]
["200111","PIURA","PIURA","PIURA","LAS LOMAS","Mujer","05-09",{"$f":"'Pob x Genero'!#REF!","v":{"$error":"#REF!"}},1586]
["200606","PIURA","PIURA","SULLANA","MIGUEL CHECA","Mujer","05-09",{"$f":"'Pob x Genero'!#REF!","v":{"$error":"#REF!"}},1629]
["210210","PUNO","PUNO","AZANGARO","SAMAN","Mujer","05-09",{"$f":"'Pob x Genero'!#REF!","v":{"$error":"#REF!"}},1668]
["210704","PUNO","PUNO","LAMPA","NICASIO","Mujer","05-09",{"$f":"'Pob x Genero'!#REF!","v":{"$error":"#REF!"}},1707]
["210807","PUNO","PUNO","MELGAR","ORURILLO","Mujer","05-09",{"$f":"'Pob x Genero'!#REF!","v":{"$error":"#REF!"}},1720]
["220102","SAN MARTIN","SAN MARTIN","MOYOBAMBA","CALZADA","Mujer","05-09",{"$f":"'Pob x Genero'!#REF!","v":{"$error":"#REF!"}},1755]
["220702","SAN MARTIN","SAN MARTIN","PICOTA","BUENOS AIRES","Mujer","05-09",{"$f":"'Pob x Genero'!#REF!","v":{"$error":"#REF!"}},1794]
["230106","TACNA","TACNA","TACNA","PACHIA","Mujer","05-09",{"$f":"'Pob x Genero'!#REF!","v":{"$error":"#REF!"}},1837]
["230201","TACNA","TACNA","CANDARAVE","CANDARAVE","Mujer","05-09",{"$f":"'Pob x Genero'!#REF!","v":{"$error":"#REF!"}},1843]
["010114","AMAZONAS","AMAZONAS","CHACHAPOYAS","MOLINOPAMPA","Mujer","10-14",{"$f":"'Pob x Genero'!#REF!","v":{"$error":"#REF!"}},14]
["010306","AMAZONAS","AMAZONAS","BONGARA","FLORIDA","Mujer","10-14",{"$f":"'Pob x Genero'!#REF!","v":{"$error":"#REF!"}},33]
["010607","AMAZONAS","AMAZONAS","RODRIGUEZ DE MENDOZA","MARISCAL BENAVIDES","Mujer","10-14",{"$f":"'Pob x Genero'!#REF!","v":{"$error":"#REF!"}},72]
["020506","ANCASH","ANCASH","BOLOGNESI","CANIS","Mujer","10-14",{"$f":"'Pob x Genero'!#REF!","v":{"$error":"#REF!"}},115]
["020508","ANCASH","ANCASH","BOLOGNESI","HUALLANCA","Mujer","10-14",{"$f":"'Pob x Genero'!#REF!","v":{"$error":"#REF!"}},117]
["021014","ANCASH","ANCASH","HUARI","SAN MARCOS","Mujer","10-14",{"$f":"'Pob x Genero'!#REF!","v":{"$error":"#REF!"}},163]
["021504","ANCASH","ANCASH","PALLASCA","HUACASCHUQUE","Mujer","10-14",{"$f":"'Pob x Genero'!#REF!","v":{"$error":"#REF!"}},202]
["021909","ANCASH","ANCASH","SIHUAS","SAN JUAN","Mujer","10-14",{"$f":"'Pob x Genero'!#REF!","v":{"$error":"#REF!"}},241]
["030101","APURIMAC","APURIMAC","ABANCAY","ABANCAY","Mujer","10-14",{"$f":"'Pob x Genero'!#REF!","v":{"$error":"#REF!"}},251]
["030416","APURIMAC","APURIMAC","AYMARAES","TORAYA","Mujer","10-14",{"$f":"'Pob x Genero'!#REF!","v":{"$error":"#REF!"}},302]
["030707","APURIMAC","APURIMAC","GRAU","PATAYPAMPA","Mujer","10-14",{"$f":"'Pob x Genero'!#REF!","v":{"$error":"#REF!"}},328]
["040207","AREQUIPA","AREQUIPA","CAMANA","QUILCA","Mujer","10-14",{"$f":"'Pob x Genero'!DN44","v":48},371]
["040511","AREQUIPA","AREQUIPA","CAYLLOMA","LLUTA","Mujer","10-14",{"$f":"'Pob x Genero'!DN83","v":30},410]
["040601","AREQUIPA","AREQUIPA","CONDESUYOS","CHUQUIBAMBA","Mujer","10-14",{"$f":"'Pob x Genero'!DN93","v":151},420]
["050111","AYACUCHO","AYACUCHO","HUAMANGA","SANTIAGO DE PISCHA","Mujer","10-14",{"$f":"'Pob x Genero'!#REF!","v":{"$error":"#REF!"}},455]
["050514","AYACUCHO","AYACUCHO","LA MAR","NINABAMBA","Mujer","10-14",{"$f":"'Pob x Genero'!#REF!","v":{"$error":"#REF!"}},497]
["050903","AYACUCHO","AYACUCHO","SUCRE","CHALCOS","Mujer","10-14",{"$f":"'Pob x Genero'!#REF!","v":{"$error":"#REF!"}},540]
["050909","AYACUCHO","AYACUCHO","SUCRE","SAN SALVADOR DE QUIJE","Mujer","10-14",{"$f":"'Pob x Genero'!#REF!","v":{"$error":"#REF!"}},546]
["060301","CAJAMARCA","CAJAMARCA","CELENDIN","CELENDIN","Mujer","10-14",{"$f":"'Pob x Genero'!#REF!","v":{"$error":"#REF!"}},585]
["060412","CAJAMARCA","CAJAMARCA","CHOTA","MIRACOSTA","Mujer","10-14",{"$f":"'Pob x Genero'!#REF!","v":{"$error":"#REF!"}},608]
["061006","CAJAMARCA","CAJAMARCA","SAN MARCOS","JOSE MANUEL QUIROZ","Mujer","10-14",{"$f":"'Pob x Genero'!#REF!","v":{"$error":"#REF!"}},666]
["061109","CAJAMARCA","CAJAMARCA","SAN MIGUEL","NIEPOS","Mujer","10-14",{"$f":"'Pob x Genero'!#REF!","v":{"$error":"#REF!"}},676]
["080205","CUSCO","CUSCO","ACOMAYO","POMACANCHI","Mujer","10-14",{"$f":"'Pob x Genero'!#REF!","v":{"$error":"#REF!"}},715]
["080601","CUSCO","CUSCO","CANCHIS","SICUANI","Mujer","10-14",{"$f":"'Pob x Genero'!#REF!","v":{"$error":"#REF!"}},743]
["081103","CUSCO","CUSCO","PAUCARTAMBO","CHALLABAMBA","Mujer","10-14",{"$f":"'Pob x Genero'!#REF!","v":{"$error":"#REF!"}},796]
["090117","HUANCAVELICA","HUANCAVELICA","HUANCAVELICA","YAULI","Mujer","10-14",{"$f":"'Pob x Genero'!#REF!","v":{"$error":"#REF!"}},835]
["090208","HUANCAVELICA","HUANCAVELICA","ACOBAMBA","ROSARIO","Mujer","10-14",{"$f":"'Pob x Genero'!#REF!","v":{"$error":"#REF!"}},845]
["090603","HUANCAVELICA","HUANCAVELICA","HUAYTARA","CORDOVA","Mujer","10-14",{"$f":"'Pob x Genero'!#REF!","v":{"$error":"#REF!"}},884]
["100108","HUANUCO","HUANUCO","HUANUCO","SAN PEDRO DE CHAULAN","Mujer","10-14",{"$f":"'Pob x Genero'!#REF!","v":{"$error":"#REF!"}},928]
["100511","HUANUCO","HUANUCO","HUAMALIES","TANTAMAYO","Mujer","10-14",{"$f":"'Pob x Genero'!#REF!","v":{"$error":"#REF!"}},965]
["100606","HUANUCO","HUANUCO","LEONCIO PRADO","MARIANO DAMASO BERAUN","Mujer","10-14",{"$f":"'Pob x Genero'!#REF!","v":{"$error":"#REF!"}},971]
["110106","ICA","ICA","ICA","PARCONA","Mujer","10-14",{"$f":"'Pob x Genero'!#REF!","v":{"$error":"#REF!"}},1010]
["120108","JUNIN","JUNIN","HUANCAYO","CHONGOS ALTO","Mujer","10-14",{"$f":"'Pob x Genero'!#REF!","v":{"$error":"#REF!"}},1053]
["120206","JUNIN","JUNIN","CONCEPCION","COMAS","Mujer","10-14",{"$f":"'Pob x Genero'!#REF!","v":{"$error":"#REF!"}},1081]
["120405","JUNIN","JUNIN","JAUJA","CANCHAYLLO","Mujer","10-14",{"$f":"'Pob x Genero'!#REF!","v":{"$error":"#REF!"}},1101]
["120606","JUNIN","JUNIN","SATIPO","PANGOA","Mujer","10-14",{"$f":"'Pob x Genero'!#REF!","v":{"$error":"#REF!"}},1140]
["130108","LA LIBERTAD","LA LIBERTAD","TRUJILLO","POROTO","Mujer","10-14",{"$f":"'Pob x Genero'!#REF!","v":{"$error":"#REF!"}},1179]
["130803","LA LIBERTAD","LA LIBERTAD","PATAZ","CHILLIA","Mujer","10-14",{"$f":"'Pob x Genero'!#REF!","v":{"$error":"#REF!"}},1222]
["130902","LA LIBERTAD","LA LIBERTAD","SANCHEZ CARRION","CHUGAY","Mujer","10-14",{"$f":"'Pob x Genero'!#REF!","v":{"$error":"#REF!"}},1234]
["140115","LAMBAYEQUE","LAMBAYEQUE","CHICLAYO","SAÑA","Mujer","10-14",{"$f":"'Pob x Genero'!#REF!","v":{"$error":"#REF!"}},1270]
["150116","DIRIS CENTRO","LIMA","LIMA","LINCE","Mujer","10-14",{"$f":"'Pob x Genero'!#REF!","v":{"$error":"#REF!"}},1309]
["150402","LIMA","LIMA","CANTA","ARAHUAY","Mujer","10-14",{"$f":"'Pob x Genero'!#REF!","v":{"$error":"#REF!"}},1348]
["150516","LIMA","LIMA","CAÑETE","ZUÑIGA","Mujer","10-14",{"$f":"'Pob x Genero'!#REF!","v":{"$error":"#REF!"}},1369]
["150715","LIMA","LIMA","HUAROCHIRI","SAN ANDRES DE TUPICOCHA","Mujer","10-14",{"$f":"'Pob x Genero'!#REF!","v":{"$error":"#REF!"}},1396]
["151004","LIMA","LIMA","YAUYOS","AYAVIRI","Mujer","10-14",{"$f":"'Pob x Genero'!#REF!","v":{"$error":"#REF!"}},1435]
["160205","LORETO","LORETO","ALTO AMAZONAS","JEBEROS","Mujer","10-14",{"$f":"'Pob x Genero'!#REF!","v":{"$error":"#REF!"}},1478]
["160804","LORETO","LORETO","PUTUMAYO","YAGUAS","Mujer","10-14",{"$f":"'Pob x Genero'!#REF!","v":{"$error":"#REF!"}},1517]
["190105","PASCO","PASCO","PASCO","NINACACA","Mujer","10-14",{"$f":"'Pob x Genero'!#REF!","v":{"$error":"#REF!"}},1554]
["190203","PASCO","PASCO","DANIEL ALCIDES CARRION","GOYLLARISQUIZGA","Mujer","10-14",{"$f":"'Pob x Genero'!#REF!","v":{"$error":"#REF!"}},1565]
["200306","PIURA","PIURA","HUANCABAMBA","SAN MIGUEL DE EL FAIQUE","Mujer","10-14",{"$f":"'Pob x Genero'!#REF!","v":{"$error":"#REF!"}},1604]
["210104","PUNO","PUNO","PUNO","ATUNCOLLA","Mujer","10-14",{"$f":"'Pob x Genero'!#REF!","v":{"$error":"#REF!"}},1647]
["210403","PUNO","PUNO","CHUCUITO","HUACULLANI","Mujer","10-14",{"$f":"'Pob x Genero'!#REF!","v":{"$error":"#REF!"}},1686]
["210704","PUNO","PUNO","LAMPA","NICASIO","Mujer","10-14",{"$f":"'Pob x Genero'!#REF!","v":{"$error":"#REF!"}},1707]
["211103","PUNO","PUNO","SAN ROMAN","CABANILLAS","Mujer","10-14",{"$f":"'Pob x Genero'!#REF!","v":{"$error":"#REF!"}},1734]
["220403","SAN MARTIN","SAN MARTIN","HUALLAGA","EL ESLABON","Mujer","10-14",{"$f":"'Pob x Genero'!#REF!","v":{"$error":"#REF!"}},1773]
["220905","SAN MARTIN","SAN MARTIN","SAN MARTIN","CHIPURANA","Mujer","10-14",{"$f":"'Pob x Genero'!#REF!","v":{"$error":"#REF!"}},1816]
["230111","TACNA","TACNA","TACNA","LA YARADA LOS PALOS","Mujer","10-14",{"$f":"'Pob x Genero'!#REF!","v":{"$error":"#REF!"}},1842]
["240101","TUMBES","TUMBES","TUMBES","TUMBES","Mujer","10-14",{"$f":"'Pob x Genero'!#REF!","v":{"$error":"#REF!"}},1860]
["010112","AMAZONAS","AMAZONAS","CHACHAPOYAS","MAGDALENA","Mujer","15-19",{"$f":"'Pob x Genero'!#REF!","v":{"$error":"#REF!"}},12]
["010509","AMAZONAS","AMAZONAS","LUYA","LUYA","Mujer","15-19",{"$f":"'Pob x Genero'!#REF!","v":{"$error":"#REF!"}},51]
["010519","AMAZONAS","AMAZONAS","LUYA","SAN JUAN DE LOPECANCHA","Mujer","15-19",{"$f":"'Pob x Genero'!#REF!","v":{"$error":"#REF!"}},61]
["020303","ANCASH","ANCASH","ANTONIO RAYMONDI","CHACCHO","Mujer","15-19",{"$f":"'Pob x Genero'!#REF!","v":{"$error":"#REF!"}},104]
["020703","ANCASH","ANCASH","CARLOS FERMIN FITZCARRALD","YAUYA","Mujer","15-19",{"$f":"'Pob x Genero'!#REF!","v":{"$error":"#REF!"}},138]
["021301","ANCASH","ANCASH","MARISCAL LUZURIAGA","PISCOBAMBA","Mujer","15-19",{"$f":"'Pob x Genero'!#REF!","v":{"$error":"#REF!"}},181]
["021707","ANCASH","ANCASH","RECUAY","PAMPAS CHICO","Mujer","15-19",{"$f":"'Pob x Genero'!#REF!","v":{"$error":"#REF!"}},220]
["021803","ANCASH","ANCASH","SANTA","COISHCO","Mujer","15-19",{"$f":"'Pob x Genero'!#REF!","v":{"$error":"#REF!"}},226]
["030403","APURIMAC","APURIMAC","AYMARAES","CARAYBAMBA","Mujer","15-19",{"$f":"'Pob x Genero'!#REF!","v":{"$error":"#REF!"}},289]
["030504","APURIMAC","APURIMAC","COTABAMBAS","HAQUIRA","Mujer","15-19",{"$f":"'Pob x Genero'!#REF!","v":{"$error":"#REF!"}},307]
["040115","AREQUIPA","AREQUIPA","AREQUIPA","QUEQUEÑA","Mujer","15-19",{"$f":"'Pob x Genero'!DO23","v":237},350]
["040121","AREQUIPA","AREQUIPA","AREQUIPA","SANTA RITA DE SIGUAS","Mujer","15-19",{"$f":"'Pob x Genero'!DO29","v":344},356]
["040410","AREQUIPA","AREQUIPA","CASTILLA","PAMPACOLCA","Mujer","15-19",{"$f":"'Pob x Genero'!DO68","v":89},395]
["040809","AREQUIPA","AREQUIPA","LA UNION","TAURIA","Mujer","15-19",{"$f":"'Pob x Genero'!DO115","v":21},442]
["050406","AYACUCHO","AYACUCHO","HUANTA","SANTILLANA","Mujer","15-19",{"$f":"'Pob x Genero'!#REF!","v":{"$error":"#REF!"}},476]
["050617","AYACUCHO","AYACUCHO","LUCANAS","SAN PEDRO","Mujer","15-19",{"$f":"'Pob x Genero'!#REF!","v":{"$error":"#REF!"}},515]
["050706","AYACUCHO","AYACUCHO","PARINACOCHAS","PUYUSCA","Mujer","15-19",{"$f":"'Pob x Genero'!#REF!","v":{"$error":"#REF!"}},525]
["060109","CAJAMARCA","CAJAMARCA","CAJAMARCA","MAGDALENA","Mujer","15-19",{"$f":"'Pob x Genero'!#REF!","v":{"$error":"#REF!"}},577]
["060410","CAJAMARCA","CAJAMARCA","CHOTA","LAJAS","Mujer","15-19",{"$f":"'Pob x Genero'!#REF!","v":{"$error":"#REF!"}},606]
["060804","CAJAMARCA","CAJAMARCA","JAEN","COLASAY","Mujer","15-19",{"$f":"'Pob x Genero'!#REF!","v":{"$error":"#REF!"}},645]
["060810","CAJAMARCA","CAJAMARCA","JAEN","SAN FELIPE","Mujer","15-19",{"$f":"'Pob x Genero'!#REF!","v":{"$error":"#REF!"}},651]
["061310","CAJAMARCA","CAJAMARCA","SANTA CRUZ","UTICYACU","Mujer","15-19",{"$f":"'Pob x Genero'!#REF!","v":{"$error":"#REF!"}},694]
["080404","CUSCO","CUSCO","CALCA","LARES","Mujer","15-19",{"$f":"'Pob x Genero'!#REF!","v":{"$error":"#REF!"}},730]
["080909","CUSCO","CUSCO","LA CONVENCION","VILCABAMBA","Mujer","15-19",{"$f":"'Pob x Genero'!#REF!","v":{"$error":"#REF!"}},775]
["081303","CUSCO","CUSCO","URUBAMBA","HUAYLLABAMBA","Mujer","15-19",{"$f":"'Pob x Genero'!#REF!","v":{"$error":"#REF!"}},814]
["090102","HUANCAVELICA","HUANCAVELICA","HUANCAVELICA","ACOBAMBILLA","Mujer","15-19",{"$f":"'Pob x Genero'!#REF!","v":{"$error":"#REF!"}},820]
["090406","HUANCAVELICA","HUANCAVELICA","CASTROVIRREYNA","COCAS","Mujer","15-19",{"$f":"'Pob x Genero'!#REF!","v":{"$error":"#REF!"}},863]
["090602","HUANCAVELICA","HUANCAVELICA","HUAYTARA","AYAVI","Mujer","15-19",{"$f":"'Pob x Genero'!#REF!","v":{"$error":"#REF!"}},883]
["100207","HUANUCO","HUANUCO","AMBO","SAN RAFAEL","Mujer","15-19",{"$f":"'Pob x Genero'!#REF!","v":{"$error":"#REF!"}},940]
["100323","HUANUCO","HUANUCO","DOS DE MAYO","YANAS","Mujer","15-19",{"$f":"'Pob x Genero'!#REF!","v":{"$error":"#REF!"}},950]
["100905","HUANUCO","HUANUCO","PUERTO INCA","YUYAPICHIS","Mujer","15-19",{"$f":"'Pob x Genero'!#REF!","v":{"$error":"#REF!"}},989]
["110303","ICA","ICA","NAZCA","EL INGENIO","Mujer","15-19",{"$f":"'Pob x Genero'!#REF!","v":{"$error":"#REF!"}},1032]
["120128","JUNIN","JUNIN","HUANCAYO","QUILCAS","Mujer","15-19",{"$f":"'Pob x Genero'!#REF!","v":{"$error":"#REF!"}},1068]
["120413","JUNIN","JUNIN","JAUJA","LEONOR ORDOÑEZ","Mujer","15-19",{"$f":"'Pob x Genero'!#REF!","v":{"$error":"#REF!"}},1109]
["120423","JUNIN","JUNIN","JAUJA","PACCHA","Mujer","15-19",{"$f":"'Pob x Genero'!#REF!","v":{"$error":"#REF!"}},1119]
["120806","JUNIN","JUNIN","YAULI","PACCHA","Mujer","15-19",{"$f":"'Pob x Genero'!#REF!","v":{"$error":"#REF!"}},1158]
["130503","LA LIBERTAD","LA LIBERTAD","JULCAN","CARABAMBA","Mujer","15-19",{"$f":"'Pob x Genero'!#REF!","v":{"$error":"#REF!"}},1203]
["130907","LA LIBERTAD","LA LIBERTAD","SANCHEZ CARRION","SARIN","Mujer","15-19",{"$f":"'Pob x Genero'!#REF!","v":{"$error":"#REF!"}},1239]
["131005","LA LIBERTAD","LA LIBERTAD","SANTIAGO DE CHUCO","MOLLEPATA","Mujer","15-19",{"$f":"'Pob x Genero'!#REF!","v":{"$error":"#REF!"}},1245]
["140307","LAMBAYEQUE","LAMBAYEQUE","LAMBAYEQUE","MOTUPE","Mujer","15-19",{"$f":"'Pob x Genero'!#REF!","v":{"$error":"#REF!"}},1288]
["150134","DIRIS CENTRO","LIMA","LIMA","SAN LUIS","Mujer","15-19",{"$f":"'Pob x Genero'!#REF!","v":{"$error":"#REF!"}},1327]
["150503","LIMA","LIMA","CAÑETE","CALANGO","Mujer","15-19",{"$f":"'Pob x Genero'!#REF!","v":{"$error":"#REF!"}},1356]
["150606","LIMA","LIMA","HUARAL","IHUARI","Mujer","15-19",{"$f":"'Pob x Genero'!#REF!","v":{"$error":"#REF!"}},1375]
["150801","LIMA","LIMA","HUAURA","HUACHO","Mujer","15-19",{"$f":"'Pob x Genero'!#REF!","v":{"$error":"#REF!"}},1414]
["151026","LIMA","LIMA","YAUYOS","SAN JOAQUIN","Mujer","15-19",{"$f":"'Pob x Genero'!#REF!","v":{"$error":"#REF!"}},1457]
["160506","LORETO","LORETO","REQUENA","PUINAHUA","Mujer","15-19",{"$f":"'Pob x Genero'!#REF!","v":{"$error":"#REF!"}},1496]
["160702","LORETO","LORETO","DATEM DEL MARAÑON","CAHUAPANAS","Mujer","15-19",{"$f":"'Pob x Genero'!#REF!","v":{"$error":"#REF!"}},1509]
["180209","MOQUEGUA","MOQUEGUA","GENERAL SANCHEZ CERRO","QUINISTAQUILLAS","Mujer","15-19",{"$f":"'Pob x Genero'!#REF!","v":{"$error":"#REF!"}},1544]
["200108","PIURA","PIURA","PIURA","EL TALLAN","Mujer","15-19",{"$f":"'Pob x Genero'!#REF!","v":{"$error":"#REF!"}},1583]
["200506","PIURA","PIURA","PAITA","TAMARINDO","Mujer","15-19",{"$f":"'Pob x Genero'!#REF!","v":{"$error":"#REF!"}},1622]
["210101","PUNO","PUNO","PUNO","PUNO","Mujer","15-19",{"$f":"'Pob x Genero'!#REF!","v":{"$error":"#REF!"}},1644]
["210212","PUNO","PUNO","AZANGARO","SAN JOSE","Mujer","15-19",{"$f":"'Pob x Genero'!#REF!","v":{"$error":"#REF!"}},1670]
["210710","PUNO","PUNO","LAMPA","VILAVILA","Mujer","15-19",{"$f":"'Pob x Genero'!#REF!","v":{"$error":"#REF!"}},1713]
["211306","PUNO","PUNO","YUNGUYO","TINICACHI","Mujer","15-19",{"$f":"'Pob x Genero'!#REF!","v":{"$error":"#REF!"}},1752]
["220604","SAN MARTIN","SAN MARTIN","MARISCAL CACERES","PACHIZA","Mujer","15-19",{"$f":"'Pob x Genero'!#REF!","v":{"$error":"#REF!"}},1791]
["221004","SAN MARTIN","SAN MARTIN","TOCACHE","SHUNTE","Mujer","15-19",{"$f":"'Pob x Genero'!#REF!","v":{"$error":"#REF!"}},1829]
["230108","TACNA","TACNA","TACNA","POCOLLAY","Mujer","15-19",{"$f":"'Pob x Genero'!#REF!","v":{"$error":"#REF!"}},1839]
["250203","UCAYALI","UCAYALI","ATALAYA","TAHUANIA","Mujer","15-19",{"$f":"'Pob x Genero'!#REF!","v":{"$error":"#REF!"}},1882]
["010303","AMAZONAS","AMAZONAS","BONGARA","CHURUJA","Mujer","20-24",{"$f":"'Pob x Genero'!#REF!","v":{"$error":"#REF!"}},30]
["010604","AMAZONAS","AMAZONAS","RODRIGUEZ DE MENDOZA","HUAMBO","Mujer","20-24",{"$f":"'Pob x Genero'!#REF!","v":{"$error":"#REF!"}},69]
["020107","ANCASH","ANCASH","HUARAZ","LA LIBERTAD","Mujer","20-24",{"$f":"'Pob x Genero'!#REF!","v":{"$error":"#REF!"}},91]
["020508","ANCASH","ANCASH","BOLOGNESI","HUALLANCA","Mujer","20-24",{"$f":"'Pob x Genero'!#REF!","v":{"$error":"#REF!"}},117]
["021007","ANCASH","ANCASH","HUARI","HUACHIS","Mujer","20-24",{"$f":"'Pob x Genero'!#REF!","v":{"$error":"#REF!"}},156]
["021501","ANCASH","ANCASH","PALLASCA","CABANA","Mujer","20-24",{"$f":"'Pob x Genero'!#REF!","v":{"$error":"#REF!"}},199]
["021507","ANCASH","ANCASH","PALLASCA","LLAPO","Mujer","20-24",{"$f":"'Pob x Genero'!#REF!","v":{"$error":"#REF!"}},205]
["022002","ANCASH","ANCASH","YUNGAY","CASCAPARA","Mujer","20-24",{"$f":"'Pob x Genero'!#REF!","v":{"$error":"#REF!"}},244]
["030307","APURIMAC","APURIMAC","ANTABAMBA","SABAINO","Mujer","20-24",{"$f":"'Pob x Genero'!#REF!","v":{"$error":"#REF!"}},286]
["030704","APURIMAC","APURIMAC","GRAU","HUAYLLATI","Mujer","20-24",{"$f":"'Pob x Genero'!#REF!","v":{"$error":"#REF!"}},325]
["030714","APURIMAC","APURIMAC","GRAU","CURASCO","Mujer","20-24",{"$f":"'Pob x Genero'!#REF!","v":{"$error":"#REF!"}},335]
["040307","AREQUIPA","AREQUIPA","CARAVELI","CHALA","Mujer","20-24",{"$f":"'Pob x Genero'!DP52","v":404},379]
["040513","AREQUIPA","AREQUIPA","CAYLLOMA","MADRIGAL","Mujer","20-24",{"$f":"'Pob x Genero'!DP85","v":26},412]
["050111","AYACUCHO","AYACUCHO","HUAMANGA","SANTIAGO DE PISCHA","Mujer","20-24",{"$f":"'Pob x Genero'!#REF!","v":{"$error":"#REF!"}},455]
["050511","AYACUCHO","AYACUCHO","LA MAR","ORONCCOY","Mujer","20-24",{"$f":"'Pob x Genero'!#REF!","v":{"$error":"#REF!"}},494]
["050606","AYACUCHO","AYACUCHO","LUCANAS","CHIPAO","Mujer","20-24",{"$f":"'Pob x Genero'!#REF!","v":{"$error":"#REF!"}},504]
["050805","AYACUCHO","AYACUCHO","PAUCAR DEL SARA SARA","MARCABAMBA","Mujer","20-24",{"$f":"'Pob x Genero'!#REF!","v":{"$error":"#REF!"}},532]
["060201","CAJAMARCA","CAJAMARCA","CAJABAMBA","CAJABAMBA","Mujer","20-24",{"$f":"'Pob x Genero'!#REF!","v":{"$error":"#REF!"}},581]
["060601","CAJAMARCA","CAJAMARCA","CUTERVO","CUTERVO","Mujer","20-24",{"$f":"'Pob x Genero'!#REF!","v":{"$error":"#REF!"}},624]
["060607","CAJAMARCA","CAJAMARCA","CUTERVO","QUEROCOTILLO","Mujer","20-24",{"$f":"'Pob x Genero'!#REF!","v":{"$error":"#REF!"}},630]
["061106","CAJAMARCA","CAJAMARCA","SAN MIGUEL","LA FLORIDA","Mujer","20-24",{"$f":"'Pob x Genero'!#REF!","v":{"$error":"#REF!"}},673]
["080207","CUSCO","CUSCO","ACOMAYO","SANGARARA","Mujer","20-24",{"$f":"'Pob x Genero'!#REF!","v":{"$error":"#REF!"}},717]
["080608","CUSCO","CUSCO","CANCHIS","TINTA","Mujer","20-24",{"$f":"'Pob x Genero'!#REF!","v":{"$error":"#REF!"}},750]
["080802","CUSCO","CUSCO","ESPINAR","CONDOROMA","Mujer","20-24",{"$f":"'Pob x Genero'!#REF!","v":{"$error":"#REF!"}},760]
["081106","CUSCO","CUSCO","PAUCARTAMBO","KOSÑIPATA","Mujer","20-24",{"$f":"'Pob x Genero'!#REF!","v":{"$error":"#REF!"}},799]
["090201","HUANCAVELICA","HUANCAVELICA","ACOBAMBA","ACOBAMBA","Mujer","20-24",{"$f":"'Pob x Genero'!#REF!","v":{"$error":"#REF!"}},838]
["090413","HUANCAVELICA","HUANCAVELICA","CASTROVIRREYNA","TICRAPO","Mujer","20-24",{"$f":"'Pob x Genero'!#REF!","v":{"$error":"#REF!"}},870]
["090724","HUANCAVELICA","HUANCAVELICA","TAYACAJA","LAMBRAS","Mujer","20-24",{"$f":"'Pob x Genero'!#REF!","v":{"$error":"#REF!"}},919]
["100109","HUANUCO","HUANUCO","HUANUCO","SANTA MARIA DEL VALLE","Mujer","20-24",{"$f":"'Pob x Genero'!#REF!","v":{"$error":"#REF!"}},929]
["100603","HUANUCO","HUANUCO","LEONCIO PRADO","HERMILIO VALDIZAN","Mujer","20-24",{"$f":"'Pob x Genero'!#REF!","v":{"$error":"#REF!"}},968]
["110101","ICA","ICA","ICA","ICA","Mujer","20-24",{"$f":"'Pob x Genero'!#REF!","v":{"$error":"#REF!"}},1005]
["120104","JUNIN","JUNIN","HUANCAYO","CARHUACALLANGA","Mujer","20-24",{"$f":"'Pob x Genero'!#REF!","v":{"$error":"#REF!"}},1049]
["120112","JUNIN","JUNIN","HUANCAYO","COLCA","Mujer","20-24",{"$f":"'Pob x Genero'!#REF!","v":{"$error":"#REF!"}},1055]
["120402","JUNIN","JUNIN","JAUJA","ACOLLA","Mujer","20-24",{"$f":"'Pob x Genero'!#REF!","v":{"$error":"#REF!"}},1098]
["120603","JUNIN","JUNIN","SATIPO","LLAYLLA","Mujer","20-24",{"$f":"'Pob x Genero'!#REF!","v":{"$error":"#REF!"}},1137]
["120806","JUNIN","JUNIN","YAULI","PACCHA","Mujer","20-24",{"$f":"'Pob x Genero'!#REF!","v":{"$error":"#REF!"}},1158]
["130704","LA LIBERTAD","LA LIBERTAD","PACASMAYO","PACASMAYO","Mujer","20-24",{"$f":"'Pob x Genero'!#REF!","v":{"$error":"#REF!"}},1218]
["130805","LA LIBERTAD","LA LIBERTAD","PATAZ","HUAYLILLAS","Mujer","20-24",{"$f":"'Pob x Genero'!#REF!","v":{"$error":"#REF!"}},1224]
["140108","LAMBAYEQUE","LAMBAYEQUE","CHICLAYO","MONSEFU","Mujer","20-24",{"$f":"'Pob x Genero'!#REF!","v":{"$error":"#REF!"}},1263]
["150113","DIRIS CENTRO","LIMA","LIMA","JESUS MARIA","Mujer","20-24",{"$f":"'Pob x Genero'!#REF!","v":{"$error":"#REF!"}},1306]
["150302","LIMA","LIMA","CAJATAMBO","COPA","Mujer","20-24",{"$f":"'Pob x Genero'!#REF!","v":{"$error":"#REF!"}},1343]
["150501","LIMA","LIMA","CAÑETE","SAN VICENTE DE CAÑETE","Mujer","20-24",{"$f":"'Pob x Genero'!#REF!","v":{"$error":"#REF!"}},1354]
["150712","LIMA","LIMA","HUAROCHIRI","LARAOS","Mujer","20-24",{"$f":"'Pob x Genero'!#REF!","v":{"$error":"#REF!"}},1393]
["151001","LIMA","LIMA","YAUYOS","YAUYOS","Mujer","20-24",{"$f":"'Pob x Genero'!#REF!","v":{"$error":"#REF!"}},1432]
["160205","LORETO","LORETO","ALTO AMAZONAS","JEBEROS","Mujer","20-24",{"$f":"'Pob x Genero'!#REF!","v":{"$error":"#REF!"}},1478]
["160706","LORETO","LORETO","DATEM DEL MARAÑON","ANDOAS","Mujer","20-24",{"$f":"'Pob x Genero'!#REF!","v":{"$error":"#REF!"}},1513]
["170102","MADRE DE DIOS","MADRE DE DIOS","TAMBOPATA","INAMBARI","Mujer","20-24",{"$f":"'Pob x Genero'!#REF!","v":{"$error":"#REF!"}},1519]
["190113","PASCO","PASCO","PASCO","YANACANCHA","Mujer","20-24",{"$f":"'Pob x Genero'!#REF!","v":{"$error":"#REF!"}},1562]
["200303","PIURA","PIURA","HUANCABAMBA","EL CARMEN DE LA FRONTERA","Mujer","20-24",{"$f":"'Pob x Genero'!#REF!","v":{"$error":"#REF!"}},1601]
["200608","PIURA","PIURA","SULLANA","SALITRAL","Mujer","20-24",{"$f":"'Pob x Genero'!#REF!","v":{"$error":"#REF!"}},1631]
["210106","PUNO","PUNO","PUNO","CHUCUITO","Mujer","20-24",{"$f":"'Pob x Genero'!#REF!","v":{"$error":"#REF!"}},1649]
["210405","PUNO","PUNO","CHUCUITO","PISACOMA","Mujer","20-24",{"$f":"'Pob x Genero'!#REF!","v":{"$error":"#REF!"}},1688]
["211005","PUNO","PUNO","SAN ANTONIO DE PUTINA","SINA","Mujer",{"$f":"G43333","v":"20-24"},{"$f":"'Pob x Genero'!#REF!","v":{"$error":"#REF!"}},1731]
["220305","SAN MARTIN","SAN MARTIN","EL DORADO","SHATOJA","Mujer","20-24",{"$f":"'Pob x Genero'!#REF!","v":{"$error":"#REF!"}},1770]
["220508","SAN MARTIN","SAN MARTIN","LAMAS","SAN ROQUE DE CUMBAZA","Mujer","20-24",{"$f":"'Pob x Genero'!#REF!","v":{"$error":"#REF!"}},1784]
["220907","SAN MARTIN","SAN MARTIN","SAN MARTIN","HUIMBAYOC","Mujer","20-24",{"$f":"'Pob x Genero'!#REF!","v":{"$error":"#REF!"}},1818]
["230406","TACNA","TACNA","TARATA","SUSAPAYA","Mujer","20-24",{"$f":"'Pob x Genero'!#REF!","v":{"$error":"#REF!"}},1857]
["010109","AMAZONAS","AMAZONAS","CHACHAPOYAS","LA JALCA","Mujer","25-29",{"$f":"'Pob x Genero'!#REF!","v":{"$error":"#REF!"}},9]
["010506","AMAZONAS","AMAZONAS","LUYA","INGUILPATA","Mujer","25-29",{"$f":"'Pob x Genero'!#REF!","v":{"$error":"#REF!"}},48]
["010701","AMAZONAS","AMAZONAS","UTCUBAMBA","BAGUA GRANDE","Mujer","25-29",{"$f":"'Pob x Genero'!#REF!","v":{"$error":"#REF!"}},78]
["020112","ANCASH","ANCASH","HUARAZ","TARICA","Mujer","25-29",{"$f":"'Pob x Genero'!#REF!","v":{"$error":"#REF!"}},96]
["020611","ANCASH","ANCASH","CARHUAZ","YUNGAR","Mujer","25-29",{"$f":"'Pob x Genero'!#REF!","v":{"$error":"#REF!"}},135]
["021208","ANCASH","ANCASH","HUAYLAS","SANTA CRUZ","Mujer","25-29",{"$f":"'Pob x Genero'!#REF!","v":{"$error":"#REF!"}},178]
["021301","ANCASH","ANCASH","MARISCAL LUZURIAGA","PISCOBAMBA","Mujer","25-29",{"$f":"'Pob x Genero'!#REF!","v":{"$error":"#REF!"}},181]
["021709","ANCASH","ANCASH","RECUAY","TAPACOCHA","Mujer","25-29",{"$f":"'Pob x Genero'!#REF!","v":{"$error":"#REF!"}},222]
["030206","APURIMAC","APURIMAC","ANDAHUAYLAS","HUAYANA","Mujer","25-29",{"$f":"'Pob x Genero'!#REF!","v":{"$error":"#REF!"}},265]
["030501","APURIMAC","APURIMAC","COTABAMBAS","TAMBOBAMBA","Mujer","25-29",{"$f":"'Pob x Genero'!#REF!","v":{"$error":"#REF!"}},304]
["030605","APURIMAC","APURIMAC","CHINCHEROS","OCOBAMBA","Mujer","25-29",{"$f":"'Pob x Genero'!#REF!","v":{"$error":"#REF!"}},314]
["040202","AREQUIPA","AREQUIPA","CAMANA","JOSE MARIA QUIMPER","Mujer","25-29",{"$f":"'Pob x Genero'!DQ39","v":251},366]
["040406","AREQUIPA","AREQUIPA","CASTILLA","CHOCO","Mujer","25-29",{"$f":"'Pob x Genero'!DQ64","v":17},391]
["040801","AREQUIPA","AREQUIPA","LA UNION","COTAHUASI","Mujer","25-29",{"$f":"'Pob x Genero'!DQ107","v":97},434]
["050403","AYACUCHO","AYACUCHO","HUANTA","HUAMANGUILLA","Mujer","25-29",{"$f":"'Pob x Genero'!#REF!","v":{"$error":"#REF!"}},473]
["050409","AYACUCHO","AYACUCHO","HUANTA","CANAYRE","Mujer","25-29",{"$f":"'Pob x Genero'!#REF!","v":{"$error":"#REF!"}},479]
["050621","AYACUCHO","AYACUCHO","LUCANAS","SANTA LUCIA","Mujer","25-29",{"$f":"'Pob x Genero'!#REF!","v":{"$error":"#REF!"}},519]
["051012","AYACUCHO","AYACUCHO","VICTOR FAJARDO","VILCANCHOS","Mujer","25-29",{"$f":"'Pob x Genero'!#REF!","v":{"$error":"#REF!"}},560]
["060407","CAJAMARCA","CAJAMARCA","CHOTA","COCHABAMBA","Mujer","25-29",{"$f":"'Pob x Genero'!#REF!","v":{"$error":"#REF!"}},603]
["060413","CAJAMARCA","CAJAMARCA","CHOTA","PACCHA","Mujer","25-29",{"$f":"'Pob x Genero'!#REF!","v":{"$error":"#REF!"}},609]
["060807","CAJAMARCA","CAJAMARCA","JAEN","POMAHUACA","Mujer","25-29",{"$f":"'Pob x Genero'!#REF!","v":{"$error":"#REF!"}},648]
["080102","CUSCO","CUSCO","CUSCO","CCORCA","Mujer","25-29",{"$f":"'Pob x Genero'!#REF!","v":{"$error":"#REF!"}},704]
["080403","CUSCO","CUSCO","CALCA","LAMAY","Mujer","25-29",{"$f":"'Pob x Genero'!#REF!","v":{"$error":"#REF!"}},729]
["080902","CUSCO","CUSCO","LA CONVENCION","ECHARATE","Mujer","25-29",{"$f":"'Pob x Genero'!#REF!","v":{"$error":"#REF!"}},768]
["080912","CUSCO","CUSCO","LA CONVENCION","VILLA VIRGEN","Mujer","25-29",{"$f":"'Pob x Genero'!#REF!","v":{"$error":"#REF!"}},778]
["081208","CUSCO","CUSCO","QUISPICANCHI","LUCRE","Mujer","25-29",{"$f":"'Pob x Genero'!#REF!","v":{"$error":"#REF!"}},807]
["090402","HUANCAVELICA","HUANCAVELICA","CASTROVIRREYNA","ARMA","Mujer","25-29",{"$f":"'Pob x Genero'!#REF!","v":{"$error":"#REF!"}},859]
["090701","HUANCAVELICA","HUANCAVELICA","TAYACAJA","PAMPAS","Mujer",{"$f":"G44391","v":"25-29"},{"$f":"'Pob x Genero'!#REF!","v":{"$error":"#REF!"}},898]
["090707","HUANCAVELICA","HUANCAVELICA","TAYACAJA","HUACHOCOLPA","Mujer","25-29",{"$f":"'Pob x Genero'!#REF!","v":{"$error":"#REF!"}},904]
["100317","HUANUCO","HUANUCO","DOS DE MAYO","RIPAN","Mujer","25-29",{"$f":"'Pob x Genero'!#REF!","v":{"$error":"#REF!"}},947]
["101003","HUANUCO","HUANUCO","LAURICOCHA","JIVIA","Mujer","25-29",{"$f":"'Pob x Genero'!#REF!","v":{"$error":"#REF!"}},992]
["110210","ICA","ICA","CHINCHA","SUNAMPE","Mujer","25-29",{"$f":"'Pob x Genero'!#REF!","v":{"$error":"#REF!"}},1028]
["110305","ICA","ICA","NAZCA","VISTA ALEGRE","Mujer","25-29",{"$f":"'Pob x Genero'!#REF!","v":{"$error":"#REF!"}},1034]
["120134","JUNIN","JUNIN","HUANCAYO","SICAYA","Mujer","25-29",{"$f":"'Pob x Genero'!#REF!","v":{"$error":"#REF!"}},1073]
["120420","JUNIN","JUNIN","JAUJA","MUQUI","Mujer","25-29",{"$f":"'Pob x Genero'!#REF!","v":{"$error":"#REF!"}},1116]
["120702","JUNIN","JUNIN","TARMA","ACOBAMBA","Mujer","25-29",{"$f":"'Pob x Genero'!#REF!","v":{"$error":"#REF!"}},1145]
["130302","LA LIBERTAD","LA LIBERTAD","BOLIVAR","BAMBAMARCA","Mujer","25-29",{"$f":"'Pob x Genero'!#REF!","v":{"$error":"#REF!"}},1193]
["130503","LA LIBERTAD","LA LIBERTAD","JULCAN","CARABAMBA","Mujer","25-29",{"$f":"'Pob x Genero'!#REF!","v":{"$error":"#REF!"}},1203]
["131002","LA LIBERTAD","LA LIBERTAD","SANTIAGO DE CHUCO","ANGASMARCA","Mujer","25-29",{"$f":"'Pob x Genero'!#REF!","v":{"$error":"#REF!"}},1242]
["140205","LAMBAYEQUE","LAMBAYEQUE","FERREÑAFE","PITIPO","Mujer","25-29",{"$f":"'Pob x Genero'!#REF!","v":{"$error":"#REF!"}},1280]
["150130","DIRIS CENTRO","LIMA","LIMA","SAN BORJA","Mujer","25-29",{"$f":"'Pob x Genero'!#REF!","v":{"$error":"#REF!"}},1323]
["150136","DIRIS CENTRO","LIMA","LIMA","SAN MIGUEL","Mujer","25-29",{"$f":"'Pob x Genero'!#REF!","v":{"$error":"#REF!"}},1329]
["150603","LIMA","LIMA","HUARAL","ATAVILLOS BAJO","Mujer","25-29",{"$f":"'Pob x Genero'!#REF!","v":{"$error":"#REF!"}},1372]
["150730","LIMA","LIMA","HUAROCHIRI","SANTIAGO DE TUNA","Mujer",{"$f":"G44904","v":"25-29"},{"$f":"'Pob x Genero'!#REF!","v":{"$error":"#REF!"}},1411]
["151002","LIMA","LIMA","YAUYOS","ALIS","Mujer","25-29",{"$f":"'Pob x Genero'!#REF!","v":{"$error":"#REF!"}},1433]
["151028","LIMA","LIMA","YAUYOS","TANTA","Mujer","25-29",{"$f":"'Pob x Genero'!#REF!","v":{"$error":"#REF!"}},1459]
["160508","LORETO","LORETO","REQUENA","SOPLIN","Mujer","25-29",{"$f":"'Pob x Genero'!#REF!","v":{"$error":"#REF!"}},1498]
["180206","MOQUEGUA","MOQUEGUA","GENERAL SANCHEZ CERRO","LLOQUE","Mujer","25-29",{"$f":"'Pob x Genero'!#REF!","v":{"$error":"#REF!"}},1541]
["200104","PIURA","PIURA","PIURA","CASTILLA","Mujer","25-29",{"$f":"'Pob x Genero'!#REF!","v":{"$error":"#REF!"}},1580]
["200502","PIURA","PIURA","PAITA","AMOTAPE","Mujer","25-29",{"$f":"'Pob x Genero'!#REF!","v":{"$error":"#REF!"}},1618]
["200605","PIURA","PIURA","SULLANA","MARCAVELICA","Mujer","25-29",{"$f":"'Pob x Genero'!#REF!","v":{"$error":"#REF!"}},1628]
["210209","PUNO","PUNO","AZANGARO","POTONI","Mujer","25-29",{"$f":"'Pob x Genero'!#REF!","v":{"$error":"#REF!"}},1667]
["210707","PUNO","PUNO","LAMPA","PARATIA","Mujer","25-29",{"$f":"'Pob x Genero'!#REF!","v":{"$error":"#REF!"}},1710]
["211303","PUNO","PUNO","YUNGUYO","COPANI","Mujer",{"$f":"G45242","v":"25-29"},{"$f":"'Pob x Genero'!#REF!","v":{"$error":"#REF!"}},1749]
["220401","SAN MARTIN","SAN MARTIN","HUALLAGA","SAPOSOA","Mujer","25-29",{"$f":"'Pob x Genero'!#REF!","v":{"$error":"#REF!"}},1771]
["220705","SAN MARTIN","SAN MARTIN","PICOTA","PUCACACA","Mujer","25-29",{"$f":"'Pob x Genero'!#REF!","v":{"$error":"#REF!"}},1797]
["230105","TACNA","TACNA","TACNA","INCLAN","Mujer","25-29",{"$f":"'Pob x Genero'!#REF!","v":{"$error":"#REF!"}},1836]
["250103","UCAYALI","UCAYALI","CORONEL PORTILLO","IPARIA","Mujer","25-29",{"$f":"'Pob x Genero'!#REF!","v":{"$error":"#REF!"}},1875]
["010115","AMAZONAS","AMAZONAS","CHACHAPOYAS","MONTEVIDEO","Mujer","30-34",{"$f":"'Pob x Genero'!#REF!","v":{"$error":"#REF!"}},15]
["010305","AMAZONAS","AMAZONAS","BONGARA","CUISPES","Mujer","30-34",{"$f":"'Pob x Genero'!#REF!","v":{"$error":"#REF!"}},32]
["010610","AMAZONAS","AMAZONAS","RODRIGUEZ DE MENDOZA","SANTA ROSA","Mujer","30-34",{"$f":"'Pob x Genero'!#REF!","v":{"$error":"#REF!"}},75]
["020505","ANCASH","ANCASH","BOLOGNESI","CAJACAY","Mujer","30-34",{"$f":"'Pob x Genero'!#REF!","v":{"$error":"#REF!"}},114]
["021004","ANCASH","ANCASH","HUARI","CHAVIN DE HUANTAR","Mujer","30-34",{"$f":"'Pob x Genero'!#REF!","v":{"$error":"#REF!"}},153]
["021103","ANCASH","ANCASH","HUARMEY","CULEBRAS","Mujer","30-34",{"$f":"'Pob x Genero'!#REF!","v":{"$error":"#REF!"}},168]
["021503","ANCASH","ANCASH","PALLASCA","CONCHUCOS","Mujer","30-34",{"$f":"'Pob x Genero'!#REF!","v":{"$error":"#REF!"}},201]
["022002","ANCASH","ANCASH","YUNGAY","CASCAPARA","Mujer","30-34",{"$f":"'Pob x Genero'!#REF!","v":{"$error":"#REF!"}},244]
["030304","APURIMAC","APURIMAC","ANTABAMBA","JUAN ESPINOZA MEDRANO","Mujer","30-34",{"$f":"'Pob x Genero'!#REF!","v":{"$error":"#REF!"}},283]
["030701","APURIMAC","APURIMAC","GRAU","CHUQUIBAMBILLA","Mujer",{"$f":"G45706","v":"30-34"},{"$f":"'Pob x Genero'!#REF!","v":{"$error":"#REF!"}},322]
["040118","AREQUIPA","AREQUIPA","AREQUIPA","SAN JUAN DE SIGUAS","Mujer","30-34",{"$f":"'Pob x Genero'!DR26","v":25},353]
["040206","AREQUIPA","AREQUIPA","CAMANA","OCOÑA","Mujer","30-34",{"$f":"'Pob x Genero'!DR43","v":144},370]
["040510","AREQUIPA","AREQUIPA","CAYLLOMA","LARI","Mujer","30-34",{"$f":"'Pob x Genero'!DR82","v":39},409]
["050108","AYACUCHO","AYACUCHO","HUAMANGA","QUINUA","Mujer","30-34",{"$f":"'Pob x Genero'!#REF!","v":{"$error":"#REF!"}},452]
["050114","AYACUCHO","AYACUCHO","HUAMANGA","VINCHOS","Mujer","30-34",{"$f":"'Pob x Genero'!#REF!","v":{"$error":"#REF!"}},458]
["050608","AYACUCHO","AYACUCHO","LUCANAS","LARAMATE","Mujer","30-34",{"$f":"'Pob x Genero'!#REF!","v":{"$error":"#REF!"}},506]
["050902","AYACUCHO","AYACUCHO","SUCRE","BELEN","Mujer","30-34",{"$f":"'Pob x Genero'!#REF!","v":{"$error":"#REF!"}},539]
["060110","CAJAMARCA","CAJAMARCA","CAJAMARCA","MATARA","Mujer",{"$f":"G45962","v":"30-34"},{"$f":"'Pob x Genero'!#REF!","v":{"$error":"#REF!"}},578]
["060304","CAJAMARCA","CAJAMARCA","CELENDIN","HUASMIN","Mujer","30-34",{"$f":"'Pob x Genero'!#REF!","v":{"$error":"#REF!"}},588]
["060703","CAJAMARCA","CAJAMARCA","HUALGAYOC","HUALGAYOC","Mujer","30-34",{"$f":"'Pob x Genero'!#REF!","v":{"$error":"#REF!"}},641]
["061005","CAJAMARCA","CAJAMARCA","SAN MARCOS","ICHOCAN","Mujer","30-34",{"$f":"'Pob x Genero'!#REF!","v":{"$error":"#REF!"}},665]
["080106","CUSCO","CUSCO","CUSCO","SANTIAGO","Mujer","30-34",{"$f":"'Pob x Genero'!#REF!","v":{"$error":"#REF!"}},708]
["080605","CUSCO","CUSCO","CANCHIS","PITUMARCA","Mujer","30-34",{"$f":"'Pob x Genero'!#REF!","v":{"$error":"#REF!"}},747]
["080707","CUSCO","CUSCO","CHUMBIVILCAS","QUIÑOTA","Mujer","30-34",{"$f":"'Pob x Genero'!#REF!","v":{"$error":"#REF!"}},757]
["081101","CUSCO","CUSCO","PAUCARTAMBO","PAUCARTAMBO","Mujer","30-34",{"$f":"'Pob x Genero'!#REF!","v":{"$error":"#REF!"}},794]
["090116","HUANCAVELICA","HUANCAVELICA","HUANCAVELICA","VILCA","Mujer",{"$f":"G46218","v":"30-34"},{"$f":"'Pob x Genero'!#REF!","v":{"$error":"#REF!"}},834]
["090507","HUANCAVELICA","HUANCAVELICA","CHURCAMPA","PAUCARBAMBA","Mujer","30-34",{"$f":"'Pob x Genero'!#REF!","v":{"$error":"#REF!"}},877]
["090602","HUANCAVELICA","HUANCAVELICA","HUAYTARA","AYAVI","Mujer","30-34",{"$f":"'Pob x Genero'!#REF!","v":{"$error":"#REF!"}},883]
["100106","HUANUCO","HUANUCO","HUANUCO","QUISQUI","Mujer","30-34",{"$f":"'Pob x Genero'!#REF!","v":{"$error":"#REF!"}},926]
["100317","HUANUCO","HUANUCO","DOS DE MAYO","RIPAN","Mujer","30-34",{"$f":"'Pob x Genero'!#REF!","v":{"$error":"#REF!"}},947]
["101107","HUANUCO","HUANUCO","YAROWILCA","PAMPAMARCA","Mujer","30-34",{"$f":"'Pob x Genero'!#REF!","v":{"$error":"#REF!"}},1003]
["110109","ICA","ICA","ICA","SAN JOSE DE LOS MOLINOS","Mujer","30-34",{"$f":"'Pob x Genero'!#REF!","v":{"$error":"#REF!"}},1013]
["120107","JUNIN","JUNIN","HUANCAYO","CHILCA","Mujer","30-34",{"$f":"'Pob x Genero'!#REF!","v":{"$error":"#REF!"}},1052]
["120207","JUNIN","JUNIN","CONCEPCION","HEROINAS TOLEDO","Mujer","30-34",{"$f":"'Pob x Genero'!#REF!","v":{"$error":"#REF!"}},1082]
["120503","JUNIN","JUNIN","JUNIN","ONDORES","Mujer","30-34",{"$f":"'Pob x Genero'!#REF!","v":{"$error":"#REF!"}},1133]
["130101","LA LIBERTAD","LA LIBERTAD","TRUJILLO","TRUJILLO","Mujer","30-34",{"$f":"'Pob x Genero'!#REF!","v":{"$error":"#REF!"}},1172]
["130111","LA LIBERTAD","LA LIBERTAD","TRUJILLO","VICTOR LARCO HERRERA","Mujer","30-34",{"$f":"'Pob x Genero'!#REF!","v":{"$error":"#REF!"}},1182]
["130802","LA LIBERTAD","LA LIBERTAD","PATAZ","BULDIBUYO","Mujer","30-34",{"$f":"'Pob x Genero'!#REF!","v":{"$error":"#REF!"}},1221]
["140112","LAMBAYEQUE","LAMBAYEQUE","CHICLAYO","PIMENTEL","Mujer","30-34",{"$f":"'Pob x Genero'!#REF!","v":{"$error":"#REF!"}},1267]
["150109","DIRIS ESTE","LIMA","LIMA","CIENEGUILLA","Mujer","30-34",{"$f":"'Pob x Genero'!#REF!","v":{"$error":"#REF!"}},1302]
["150115","DIRIS CENTRO","LIMA","LIMA","LA VICTORIA","Mujer","30-34",{"$f":"'Pob x Genero'!#REF!","v":{"$error":"#REF!"}},1308]
["150405","LIMA","LIMA","CANTA","LACHAQUI","Mujer","30-34",{"$f":"'Pob x Genero'!#REF!","v":{"$error":"#REF!"}},1351]
["150709","LIMA","LIMA","HUAROCHIRI","HUAROCHIRI","Mujer","30-34",{"$f":"'Pob x Genero'!#REF!","v":{"$error":"#REF!"}},1390]
["150807","LIMA","LIMA","HUAURA","LEONCIO PRADO","Mujer","30-34",{"$f":"'Pob x Genero'!#REF!","v":{"$error":"#REF!"}},1420]
["151007","LIMA","LIMA","YAUYOS","CARANIA","Mujer","30-34",{"$f":"'Pob x Genero'!#REF!","v":{"$error":"#REF!"}},1438]
["160202","LORETO","LORETO","ALTO AMAZONAS","BALSAPUERTO","Mujer","30-34",{"$f":"'Pob x Genero'!#REF!","v":{"$error":"#REF!"}},1477]
["160803","LORETO","LORETO","PUTUMAYO","TENIENTE MANUEL CLAVERO","Mujer","30-34",{"$f":"'Pob x Genero'!#REF!","v":{"$error":"#REF!"}},1516]
["190110","PASCO","PASCO","PASCO","TICLACAYAN","Mujer","30-34",{"$f":"'Pob x Genero'!#REF!","v":{"$error":"#REF!"}},1559]
["190303","PASCO","PASCO","OXAPAMPA","HUANCABAMBA","Mujer","30-34",{"$f":"'Pob x Genero'!#REF!","v":{"$error":"#REF!"}},1573]
["200401","PIURA","PIURA","MORROPON","CHULUCANAS","Mujer","30-34",{"$f":"'Pob x Genero'!#REF!","v":{"$error":"#REF!"}},1607]
["210103","PUNO","PUNO","PUNO","AMANTANI","Mujer","30-34",{"$f":"'Pob x Genero'!#REF!","v":{"$error":"#REF!"}},1646]
["210402","PUNO","PUNO","CHUCUITO","DESAGUADERO","Mujer","30-34",{"$f":"'Pob x Genero'!#REF!","v":{"$error":"#REF!"}},1685]
["210705","PUNO","PUNO","LAMPA","OCUVIRI","Mujer","30-34",{"$f":"'Pob x Genero'!#REF!","v":{"$error":"#REF!"}},1708]
["211102","PUNO","PUNO","SAN ROMAN","CABANA","Mujer","30-34",{"$f":"'Pob x Genero'!#REF!","v":{"$error":"#REF!"}},1733]
["220402","SAN MARTIN","SAN MARTIN","HUALLAGA","ALTO SAPOSOA","Mujer","30-34",{"$f":"'Pob x Genero'!#REF!","v":{"$error":"#REF!"}},1772]
["220904","SAN MARTIN","SAN MARTIN","SAN MARTIN","CHAZUTA","Mujer","30-34",{"$f":"'Pob x Genero'!#REF!","v":{"$error":"#REF!"}},1815]
["230403","TACNA","TACNA","TARATA","ESTIQUE","Mujer","30-34",{"$f":"'Pob x Genero'!#REF!","v":{"$error":"#REF!"}},1854]
["010102","AMAZONAS","AMAZONAS","CHACHAPOYAS","ASUNCION","Mujer",{"$f":"G47277","v":"35-39"},{"$f":"'Pob x Genero'!#REF!","v":{"$error":"#REF!"}},2]
["010111","AMAZONAS","AMAZONAS","CHACHAPOYAS","LEVANTO","Mujer","35-39",{"$f":"'Pob x Genero'!#REF!","v":{"$error":"#REF!"}},11]
["010508","AMAZONAS","AMAZONAS","LUYA","LONYA CHICO","Mujer","35-39",{"$f":"'Pob x Genero'!#REF!","v":{"$error":"#REF!"}},50]
["020109","ANCASH","ANCASH","HUARAZ","PAMPAS","Mujer","35-39",{"$f":"'Pob x Genero'!#REF!","v":{"$error":"#REF!"}},93]
["020608","ANCASH","ANCASH","CARHUAZ","SAN MIGUEL DE ACO","Mujer","35-39",{"$f":"'Pob x Genero'!#REF!","v":{"$error":"#REF!"}},132]
["021006","ANCASH","ANCASH","HUARI","HUACCHIS","Mujer","35-39",{"$f":"'Pob x Genero'!#REF!","v":{"$error":"#REF!"}},155]
["021210","ANCASH","ANCASH","HUAYLAS","YURACMARCA","Mujer","35-39",{"$f":"'Pob x Genero'!#REF!","v":{"$error":"#REF!"}},180]
["021706","ANCASH","ANCASH","RECUAY","MARCA","Mujer","35-39",{"$f":"'Pob x Genero'!#REF!","v":{"$error":"#REF!"}},219]
["030203","APURIMAC","APURIMAC","ANDAHUAYLAS","CHIARA","Mujer","35-39",{"$f":"'Pob x Genero'!#REF!","v":{"$error":"#REF!"}},262]
["030209","APURIMAC","APURIMAC","ANDAHUAYLAS","PACUCHA","Mujer","35-39",{"$f":"'Pob x Genero'!#REF!","v":{"$error":"#REF!"}},268]
["030505","APURIMAC","APURIMAC","COTABAMBAS","MARA","Mujer","35-39",{"$f":"'Pob x Genero'!#REF!","v":{"$error":"#REF!"}},308]
["040114","AREQUIPA","AREQUIPA","AREQUIPA","POLOBAYA","Mujer","35-39",{"$f":"'Pob x Genero'!DS22","v":26},349]
["040403","AREQUIPA","AREQUIPA","CASTILLA","AYO","Mujer","35-39",{"$f":"'Pob x Genero'!DS61","v":10},388]
["040704","AREQUIPA","AREQUIPA","ISLAY","ISLAY","Mujer","35-39",{"$f":"'Pob x Genero'!DS104","v":208},431]
["040810","AREQUIPA","AREQUIPA","LA UNION","TOMEPAMPA","Mujer","35-39",{"$f":"'Pob x Genero'!DS116","v":15},443]
["050405","AYACUCHO","AYACUCHO","HUANTA","LURICOCHA","Mujer","35-39",{"$f":"'Pob x Genero'!#REF!","v":{"$error":"#REF!"}},475]
["050620","AYACUCHO","AYACUCHO","LUCANAS","SANTA ANA DE HUAYCAHUACHO","Mujer","35-39",{"$f":"'Pob x Genero'!#REF!","v":{"$error":"#REF!"}},518]
["051009","AYACUCHO","AYACUCHO","VICTOR FAJARDO","HUANCARAYLLA","Mujer","35-39",{"$f":"'Pob x Genero'!#REF!","v":{"$error":"#REF!"}},557]
["051103","AYACUCHO","AYACUCHO","VILCAS HUAMAN","CARHUANCA","Mujer","35-39",{"$f":"'Pob x Genero'!#REF!","v":{"$error":"#REF!"}},563]
["060312","CAJAMARCA","CAJAMARCA","CELENDIN","LA LIBERTAD DE PALLAN","Mujer","35-39",{"$f":"'Pob x Genero'!#REF!","v":{"$error":"#REF!"}},596]
["060803","CAJAMARCA","CAJAMARCA","JAEN","CHONTALI","Mujer","35-39",{"$f":"'Pob x Genero'!#REF!","v":{"$error":"#REF!"}},644]
["061303","CAJAMARCA","CAJAMARCA","SANTA CRUZ","CATACHE","Mujer","35-39",{"$f":"'Pob x Genero'!#REF!","v":{"$error":"#REF!"}},687]
["080309","CUSCO","CUSCO","ANTA","ZURITE","Mujer","35-39",{"$f":"'Pob x Genero'!#REF!","v":{"$error":"#REF!"}},726]
["080406","CUSCO","CUSCO","CALCA","SAN SALVADOR","Mujer","35-39",{"$f":"'Pob x Genero'!#REF!","v":{"$error":"#REF!"}},732]
["080915","CUSCO","CUSCO","LA CONVENCION","KUMPIRUSHIATO","Mujer","35-39",{"$f":"'Pob x Genero'!#REF!","v":{"$error":"#REF!"}},781]
["081302","CUSCO","CUSCO","URUBAMBA","CHINCHERO","Mujer","35-39",{"$f":"'Pob x Genero'!#REF!","v":{"$error":"#REF!"}},813]
["090311","HUANCAVELICA","HUANCAVELICA","ANGARAES","SANTO TOMAS DE PATA","Mujer","35-39",{"$f":"'Pob x Genero'!#REF!","v":{"$error":"#REF!"}},856]
["090405","HUANCAVELICA","HUANCAVELICA","CASTROVIRREYNA","CHUPAMARCA","Mujer","35-39",{"$f":"'Pob x Genero'!#REF!","v":{"$error":"#REF!"}},862]
["090721","HUANCAVELICA","HUANCAVELICA","TAYACAJA","ROBLE","Mujer","35-39",{"$f":"'Pob x Genero'!#REF!","v":{"$error":"#REF!"}},916]
["100307","HUANUCO","HUANUCO","DOS DE MAYO","CHUQUIS","Mujer","35-39",{"$f":"'Pob x Genero'!#REF!","v":{"$error":"#REF!"}},943]
["100802","HUANUCO","HUANUCO","PACHITEA","CHAGLLA","Mujer","35-39",{"$f":"'Pob x Genero'!#REF!","v":{"$error":"#REF!"}},982]
["110203","ICA","ICA","CHINCHA","CHAVIN","Mujer","35-39",{"$f":"'Pob x Genero'!#REF!","v":{"$error":"#REF!"}},1021]
["110302","ICA","ICA","NAZCA","CHANGUILLO","Mujer","35-39",{"$f":"'Pob x Genero'!#REF!","v":{"$error":"#REF!"}},1031]
["120129","JUNIN","JUNIN","HUANCAYO","SAN AGUSTIN","Mujer","35-39",{"$f":"'Pob x Genero'!#REF!","v":{"$error":"#REF!"}},1069]
["120416","JUNIN","JUNIN","JAUJA","MASMA","Mujer","35-39",{"$f":"'Pob x Genero'!#REF!","v":{"$error":"#REF!"}},1112]
["120708","JUNIN","JUNIN","TARMA","SAN PEDRO DE CAJAS","Mujer","35-39",{"$f":"'Pob x Genero'!#REF!","v":{"$error":"#REF!"}},1151]
["120805","JUNIN","JUNIN","YAULI","MOROCOCHA","Mujer","35-39",{"$f":"'Pob x Genero'!#REF!","v":{"$error":"#REF!"}},1157]
["130403","LA LIBERTAD","LA LIBERTAD","CHEPEN","PUEBLO NUEVO","Mujer","35-39",{"$f":"'Pob x Genero'!#REF!","v":{"$error":"#REF!"}},1200]
["130803","LA LIBERTAD","LA LIBERTAD","PATAZ","CHILLIA","Mujer","35-39",{"$f":"'Pob x Genero'!#REF!","v":{"$error":"#REF!"}},1222]
["140206","LAMBAYEQUE","LAMBAYEQUE","FERREÑAFE","PUEBLO NUEVO","Mujer","35-39",{"$f":"'Pob x Genero'!#REF!","v":{"$error":"#REF!"}},1281]
["140306","LAMBAYEQUE","LAMBAYEQUE","LAMBAYEQUE","MORROPE","Mujer","35-39",{"$f":"'Pob x Genero'!#REF!","v":{"$error":"#REF!"}},1287]
["150133","DIRIS SUR","LIMA","LIMA","SAN JUAN DE MIRAFLORES","Mujer","35-39",{"$f":"'Pob x Genero'!#REF!","v":{"$error":"#REF!"}},1326]
["150516","LIMA","LIMA","CAÑETE","ZUÑIGA","Mujer","35-39",{"$f":"'Pob x Genero'!#REF!","v":{"$error":"#REF!"}},1369]
["150726","LIMA","LIMA","HUAROCHIRI","SANGALLAYA","Mujer","35-39",{"$f":"'Pob x Genero'!#REF!","v":{"$error":"#REF!"}},1407]
["151015","LIMA","LIMA","YAUYOS","HUANGASCAR","Mujer","35-39",{"$f":"'Pob x Genero'!#REF!","v":{"$error":"#REF!"}},1446]
["151025","LIMA","LIMA","YAUYOS","QUINOCAY","Mujer","35-39",{"$f":"'Pob x Genero'!#REF!","v":{"$error":"#REF!"}},1456]
["160505","LORETO","LORETO","REQUENA","MAQUIA","Mujer","35-39",{"$f":"'Pob x Genero'!#REF!","v":{"$error":"#REF!"}},1495]
["180207","MOQUEGUA","MOQUEGUA","GENERAL SANCHEZ CERRO","MATALAQUE","Mujer","35-39",{"$f":"'Pob x Genero'!#REF!","v":{"$error":"#REF!"}},1542]
["190306","PASCO","PASCO","OXAPAMPA","PUERTO BERMUDEZ","Mujer","35-39",{"$f":"'Pob x Genero'!#REF!","v":{"$error":"#REF!"}},1576]
["200107","PIURA","PIURA","PIURA","CURA MORI","Mujer","35-39",{"$f":"'Pob x Genero'!#REF!","v":{"$error":"#REF!"}},1582]
["200602","PIURA","PIURA","SULLANA","BELLAVISTA","Mujer","35-39",{"$f":"'Pob x Genero'!#REF!","v":{"$error":"#REF!"}},1625]
["210206","PUNO","PUNO","AZANGARO","CHUPA","Mujer","35-39",{"$f":"'Pob x Genero'!#REF!","v":{"$error":"#REF!"}},1664]
["210505","PUNO","PUNO","EL COLLAO","CONDURIRI","Mujer","35-39",{"$f":"'Pob x Genero'!#REF!","v":{"$error":"#REF!"}},1695]
["210709","PUNO","PUNO","LAMPA","SANTA LUCIA","Mujer","35-39",{"$f":"'Pob x Genero'!#REF!","v":{"$error":"#REF!"}},1712]
["211305","PUNO","PUNO","YUNGUYO","OLLARAYA","Mujer","35-39",{"$f":"'Pob x Genero'!#REF!","v":{"$error":"#REF!"}},1751]
["220702","SAN MARTIN","SAN MARTIN","PICOTA","BUENOS AIRES","Mujer","35-39",{"$f":"'Pob x Genero'!#REF!","v":{"$error":"#REF!"}},1794]
["230102","TACNA","TACNA","TACNA","ALTO DE LA ALIANZA","Mujer","35-39",{"$f":"'Pob x Genero'!#REF!","v":{"$error":"#REF!"}},1833]
["230206","TACNA","TACNA","CANDARAVE","QUILAHUANI","Mujer","35-39",{"$f":"'Pob x Genero'!#REF!","v":{"$error":"#REF!"}},1848]
["250202","UCAYALI","UCAYALI","ATALAYA","SEPAHUA","Mujer","35-39",{"$f":"'Pob x Genero'!#REF!","v":{"$error":"#REF!"}},1881]
["010302","AMAZONAS","AMAZONAS","BONGARA","CHISQUILLA","Mujer","40-44",{"$f":"'Pob x Genero'!#REF!","v":{"$error":"#REF!"}},29]
["010607","AMAZONAS","AMAZONAS","RODRIGUEZ DE MENDOZA","MARISCAL BENAVIDES","Mujer","40-44",{"$f":"'Pob x Genero'!#REF!","v":{"$error":"#REF!"}},72]
["020502","ANCASH","ANCASH","BOLOGNESI","ABELARDO PARDO LEZAMETA","Mujer","40-44",{"$f":"'Pob x Genero'!#REF!","v":{"$error":"#REF!"}},111]
["020804","ANCASH","ANCASH","CASMA","YAUTAN","Mujer","40-44",{"$f":"'Pob x Genero'!#REF!","v":{"$error":"#REF!"}},142]
["021010","ANCASH","ANCASH","HUARI","PAUCAS","Mujer","40-44",{"$f":"'Pob x Genero'!#REF!","v":{"$error":"#REF!"}},159]
["021410","ANCASH","ANCASH","OCROS","SANTIAGO DE CHILCAS","Mujer","40-44",{"$f":"'Pob x Genero'!#REF!","v":{"$error":"#REF!"}},198]
["021905","ANCASH","ANCASH","SIHUAS","CHINGALPO","Mujer","40-44",{"$f":"'Pob x Genero'!#REF!","v":{"$error":"#REF!"}},237]
["030218","APURIMAC","APURIMAC","ANDAHUAYLAS","TURPO","Mujer","40-44",{"$f":"'Pob x Genero'!#REF!","v":{"$error":"#REF!"}},277]
["030306","APURIMAC","APURIMAC","ANTABAMBA","PACHACONAS","Mujer","40-44",{"$f":"'Pob x Genero'!#REF!","v":{"$error":"#REF!"}},285]
["030707","APURIMAC","APURIMAC","GRAU","PATAYPAMPA","Mujer","40-44",{"$f":"'Pob x Genero'!#REF!","v":{"$error":"#REF!"}},328]
["040203","AREQUIPA","AREQUIPA","CAMANA","MARIANO NICOLAS VALCARCEL","Mujer","40-44",{"$f":"'Pob x Genero'!DT40","v":349},367]
["040507","AREQUIPA","AREQUIPA","CAYLLOMA","HUAMBO","Mujer","40-44",{"$f":"'Pob x Genero'!DT79","v":27},406]
["040703","AREQUIPA","AREQUIPA","ISLAY","DEAN VALDIVIA","Mujer","40-44",{"$f":"'Pob x Genero'!DT103","v":300},430]
["050110","AYACUCHO","AYACUCHO","HUAMANGA","SAN JUAN BAUTISTA","Mujer","40-44",{"$f":"'Pob x Genero'!#REF!","v":{"$error":"#REF!"}},454]
["050510","AYACUCHO","AYACUCHO","LA MAR","ANCHIHUAY","Mujer","40-44",{"$f":"'Pob x Genero'!#REF!","v":{"$error":"#REF!"}},493]
["050809","AYACUCHO","AYACUCHO","PAUCAR DEL SARA SARA","SAN JOSE DE USHUA","Mujer","40-44",{"$f":"'Pob x Genero'!#REF!","v":{"$error":"#REF!"}},536]
["050905","AYACUCHO","AYACUCHO","SUCRE","HUACAÑA","Mujer","40-44",{"$f":"'Pob x Genero'!#REF!","v":{"$error":"#REF!"}},542]
["060203","CAJAMARCA","CAJAMARCA","CAJABAMBA","CONDEBAMBA","Mujer","40-44",{"$f":"'Pob x Genero'!#REF!","v":{"$error":"#REF!"}},583]
["060508","CAJAMARCA","CAJAMARCA","CONTUMAZA","YONAN","Mujer","40-44",{"$f":"'Pob x Genero'!#REF!","v":{"$error":"#REF!"}},623]
["061002","CAJAMARCA","CAJAMARCA","SAN MARCOS","CHANCAY","Mujer","40-44",{"$f":"'Pob x Genero'!#REF!","v":{"$error":"#REF!"}},662]
["061105","CAJAMARCA","CAJAMARCA","SAN MIGUEL","EL PRADO","Mujer","40-44",{"$f":"'Pob x Genero'!#REF!","v":{"$error":"#REF!"}},672]
["080301","CUSCO","CUSCO","ANTA","ANTA","Mujer","40-44",{"$f":"'Pob x Genero'!#REF!","v":{"$error":"#REF!"}},718]
["080703","CUSCO","CUSCO","CHUMBIVILCAS","CHAMACA","Mujer","40-44",{"$f":"'Pob x Genero'!#REF!","v":{"$error":"#REF!"}},753]
["081008","CUSCO","CUSCO","PARURO","PILLPINTO","Mujer","40-44",{"$f":"'Pob x Genero'!#REF!","v":{"$error":"#REF!"}},792]
["090113","HUANCAVELICA","HUANCAVELICA","HUANCAVELICA","NUEVO OCCORO","Mujer","40-44",{"$f":"'Pob x Genero'!#REF!","v":{"$error":"#REF!"}},831]
["090204","HUANCAVELICA","HUANCAVELICA","ACOBAMBA","CAJA","Mujer","40-44",{"$f":"'Pob x Genero'!#REF!","v":{"$error":"#REF!"}},841]
["090501","HUANCAVELICA","HUANCAVELICA","CHURCAMPA","CHURCAMPA","Mujer","40-44",{"$f":"'Pob x Genero'!#REF!","v":{"$error":"#REF!"}},871]
["090723","HUANCAVELICA","HUANCAVELICA","TAYACAJA","SANTIAGO DE TUCUMA","Mujer","40-44",{"$f":"'Pob x Genero'!#REF!","v":{"$error":"#REF!"}},918]
["100507","HUANUCO","HUANUCO","HUAMALIES","MONZON","Mujer","40-44",{"$f":"'Pob x Genero'!#REF!","v":{"$error":"#REF!"}},961]
["100602","HUANUCO","HUANUCO","LEONCIO PRADO","DANIEL ALOMIA ROBLES","Mujer","40-44",{"$f":"'Pob x Genero'!#REF!","v":{"$error":"#REF!"}},967]
["110106","ICA","ICA","ICA","PARCONA","Mujer","40-44",{"$f":"'Pob x Genero'!#REF!","v":{"$error":"#REF!"}},1010]
["120113","JUNIN","JUNIN","HUANCAYO","CULLHUAS","Mujer","40-44",{"$f":"'Pob x Genero'!#REF!","v":{"$error":"#REF!"}},1056]
["120212","JUNIN","JUNIN","CONCEPCION","NUEVE DE JULIO","Mujer","40-44",{"$f":"'Pob x Genero'!#REF!","v":{"$error":"#REF!"}},1087]
["120434","JUNIN","JUNIN","JAUJA","YAUYOS","Mujer","40-44",{"$f":"'Pob x Genero'!#REF!","v":{"$error":"#REF!"}},1130]
["120602","JUNIN","JUNIN","SATIPO","COVIRIALI","Mujer","40-44",{"$f":"'Pob x Genero'!#REF!","v":{"$error":"#REF!"}},1136]
["130108","LA LIBERTAD","LA LIBERTAD","TRUJILLO","POROTO","Mujer","40-44",{"$f":"'Pob x Genero'!#REF!","v":{"$error":"#REF!"}},1179]
["130606","LA LIBERTAD","LA LIBERTAD","OTUZCO","LA CUESTA","Mujer","40-44",{"$f":"'Pob x Genero'!#REF!","v":{"$error":"#REF!"}},1209]
["140101","LAMBAYEQUE","LAMBAYEQUE","CHICLAYO","CHICLAYO","Mujer","40-44",{"$f":"'Pob x Genero'!#REF!","v":{"$error":"#REF!"}},1256]
["140111","LAMBAYEQUE","LAMBAYEQUE","CHICLAYO","PICSI","Mujer","40-44",{"$f":"'Pob x Genero'!#REF!","v":{"$error":"#REF!"}},1266]
["150112","DIRIS NORTE","LIMA","LIMA","INDEPENDENCIA","Mujer","40-44",{"$f":"'Pob x Genero'!#REF!","v":{"$error":"#REF!"}},1305]
["150303","LIMA","LIMA","CAJATAMBO","GORGOR","Mujer","40-44",{"$f":"'Pob x Genero'!#REF!","v":{"$error":"#REF!"}},1344]
["150705","LIMA","LIMA","HUAROCHIRI","CHICLA","Mujer","40-44",{"$f":"'Pob x Genero'!#REF!","v":{"$error":"#REF!"}},1386]
["150812","LIMA","LIMA","HUAURA","VEGUETA","Mujer","40-44",{"$f":"'Pob x Genero'!#REF!","v":{"$error":"#REF!"}},1425]
["151004","LIMA","LIMA","YAUYOS","AYAVIRI","Mujer","40-44",{"$f":"'Pob x Genero'!#REF!","v":{"$error":"#REF!"}},1435]
["160112","LORETO","LORETO","MAYNAS","BELEN","Mujer","40-44",{"$f":"'Pob x Genero'!#REF!","v":{"$error":"#REF!"}},1474]
["160507","LORETO","LORETO","REQUENA","SAQUENA","Mujer","40-44",{"$f":"'Pob x Genero'!#REF!","v":{"$error":"#REF!"}},1497]
["190106","PASCO","PASCO","PASCO","PALLANCHACRA","Mujer","40-44",{"$f":"'Pob x Genero'!#REF!","v":{"$error":"#REF!"}},1555]
["190112","PASCO","PASCO","PASCO","VICCO","Mujer","40-44",{"$f":"'Pob x Genero'!#REF!","v":{"$error":"#REF!"}},1561]
["200302","PIURA","PIURA","HUANCABAMBA","CANCHAQUE","Mujer","40-44",{"$f":"'Pob x Genero'!#REF!","v":{"$error":"#REF!"}},1600]
["200806","PIURA","PIURA","SECHURA","RINCONADA LLICUAR","Mujer","40-44",{"$f":"'Pob x Genero'!#REF!","v":{"$error":"#REF!"}},1643]
["210309","PUNO","PUNO","CARABAYA","SAN GABAN","Mujer","40-44",{"$f":"'Pob x Genero'!#REF!","v":{"$error":"#REF!"}},1682]
["210501","PUNO","PUNO","EL COLLAO","ILAVE","Mujer","40-44",{"$f":"'Pob x Genero'!#REF!","v":{"$error":"#REF!"}},1691]
["211004","PUNO","PUNO","SAN ANTONIO DE PUTINA","QUILCAPUNCU","Mujer","40-44",{"$f":"'Pob x Genero'!#REF!","v":{"$error":"#REF!"}},1730]
["220304","SAN MARTIN","SAN MARTIN","EL DORADO","SANTA ROSA","Mujer","40-44",{"$f":"'Pob x Genero'!#REF!","v":{"$error":"#REF!"}},1769]
["220901","SAN MARTIN","SAN MARTIN","SAN MARTIN","TARAPOTO","Mujer","40-44",{"$f":"'Pob x Genero'!#REF!","v":{"$error":"#REF!"}},1812]
["230104","TACNA","TACNA","TACNA","CIUDAD NUEVA","Mujer","40-44",{"$f":"'Pob x Genero'!#REF!","v":{"$error":"#REF!"}},1835]
["240101","TUMBES","TUMBES","TUMBES","TUMBES","Mujer","40-44",{"$f":"'Pob x Genero'!#REF!","v":{"$error":"#REF!"}},1860]
["010108","AMAZONAS","AMAZONAS","CHACHAPOYAS","HUANCAS","Mujer","45-49",{"$f":"'Pob x Genero'!#REF!","v":{"$error":"#REF!"}},8]
["010505","AMAZONAS","AMAZONAS","LUYA","CONILA","Mujer","45-49",{"$f":"'Pob x Genero'!#REF!","v":{"$error":"#REF!"}},47]
["010702","AMAZONAS","AMAZONAS","UTCUBAMBA","CAJARURO","Mujer","45-49",{"$f":"'Pob x Genero'!#REF!","v":{"$error":"#REF!"}},79]
["020111","ANCASH","ANCASH","HUARAZ","PIRA","Mujer","45-49",{"$f":"'Pob x Genero'!#REF!","v":{"$error":"#REF!"}},95]
["020610","ANCASH","ANCASH","CARHUAZ","TINCO","Mujer","45-49",{"$f":"'Pob x Genero'!#REF!","v":{"$error":"#REF!"}},134]
["021207","ANCASH","ANCASH","HUAYLAS","PUEBLO LIBRE","Mujer","45-49",{"$f":"'Pob x Genero'!#REF!","v":{"$error":"#REF!"}},177]
["021703","ANCASH","ANCASH","RECUAY","COTAPARACO","Mujer","45-49",{"$f":"'Pob x Genero'!#REF!","v":{"$error":"#REF!"}},216]
["021809","ANCASH","ANCASH","SANTA","NUEVO CHIMBOTE","Mujer","45-49",{"$f":"'Pob x Genero'!#REF!","v":{"$error":"#REF!"}},232]
["030205","APURIMAC","APURIMAC","ANDAHUAYLAS","HUANCARAY","Mujer","45-49",{"$f":"'Pob x Genero'!#REF!","v":{"$error":"#REF!"}},264]
["030417","APURIMAC","APURIMAC","AYMARAES","YANACA","Mujer","45-49",{"$f":"'Pob x Genero'!#REF!","v":{"$error":"#REF!"}},303]
["040111","AREQUIPA","AREQUIPA","AREQUIPA","MOLLEBAYA","Mujer","45-49",{"$f":"'Pob x Genero'!DU19","v":310},346]
["040313","AREQUIPA","AREQUIPA","CARAVELI","YAUCA","Mujer","45-49",{"$f":"'Pob x Genero'!DU58","v":88},385]
["040518","AREQUIPA","AREQUIPA","CAYLLOMA","TUTI","Mujer","45-49",{"$f":"'Pob x Genero'!DU90","v":23},417]
["040706","AREQUIPA","AREQUIPA","ISLAY","PUNTA DE BOMBON","Mujer","45-49",{"$f":"'Pob x Genero'!DU106","v":208},433]
["050402","AYACUCHO","AYACUCHO","HUANTA","AYAHUANCO","Mujer","45-49",{"$f":"'Pob x Genero'!#REF!","v":{"$error":"#REF!"}},472]
["050617","AYACUCHO","AYACUCHO","LUCANAS","SAN PEDRO","Mujer","45-49",{"$f":"'Pob x Genero'!#REF!","v":{"$error":"#REF!"}},515]
["050702","AYACUCHO","AYACUCHO","PARINACOCHAS","CHUMPI","Mujer","45-49",{"$f":"'Pob x Genero'!#REF!","v":{"$error":"#REF!"}},521]
["060102","CAJAMARCA","CAJAMARCA","CAJAMARCA","ASUNCION","Mujer","45-49",{"$f":"'Pob x Genero'!#REF!","v":{"$error":"#REF!"}},570]
["060406","CAJAMARCA","CAJAMARCA","CHOTA","CHOROPAMPA","Mujer","45-49",{"$f":"'Pob x Genero'!#REF!","v":{"$error":"#REF!"}},602]
["060703","CAJAMARCA","CAJAMARCA","HUALGAYOC","HUALGAYOC","Mujer","45-49",{"$f":"'Pob x Genero'!#REF!","v":{"$error":"#REF!"}},641]
["060810","CAJAMARCA","CAJAMARCA","JAEN","SAN FELIPE","Mujer","45-49",{"$f":"'Pob x Genero'!#REF!","v":{"$error":"#REF!"}},651]
["080103","CUSCO","CUSCO","CUSCO","POROY","Mujer","45-49",{"$f":"'Pob x Genero'!#REF!","v":{"$error":"#REF!"}},705]
["080402","CUSCO","CUSCO","CALCA","COYA","Mujer","45-49",{"$f":"'Pob x Genero'!#REF!","v":{"$error":"#REF!"}},728]
["080905","CUSCO","CUSCO","LA CONVENCION","OCOBAMBA","Mujer","45-49",{"$f":"'Pob x Genero'!#REF!","v":{"$error":"#REF!"}},771]
["081211","CUSCO","CUSCO","QUISPICANCHI","OROPESA","Mujer","45-49",{"$f":"'Pob x Genero'!#REF!","v":{"$error":"#REF!"}},810]
["081305","CUSCO","CUSCO","URUBAMBA","MARAS","Mujer","45-49",{"$f":"'Pob x Genero'!#REF!","v":{"$error":"#REF!"}},816]
["090401","HUANCAVELICA","HUANCAVELICA","CASTROVIRREYNA","CASTROVIRREYNA","Mujer","45-49",{"$f":"'Pob x Genero'!#REF!","v":{"$error":"#REF!"}},858]
["090616","HUANCAVELICA","HUANCAVELICA","HUAYTARA","TAMBO","Mujer","45-49",{"$f":"'Pob x Genero'!#REF!","v":{"$error":"#REF!"}},897]
["100207","HUANUCO","HUANUCO","AMBO","SAN RAFAEL","Mujer","45-49",{"$f":"'Pob x Genero'!#REF!","v":{"$error":"#REF!"}},940]
["100316","HUANUCO","HUANUCO","DOS DE MAYO","QUIVILLA","Mujer","45-49",{"$f":"'Pob x Genero'!#REF!","v":{"$error":"#REF!"}},946]
["100901","HUANUCO","HUANUCO","PUERTO INCA","PUERTO INCA","Mujer","45-49",{"$f":"'Pob x Genero'!#REF!","v":{"$error":"#REF!"}},985]
["110107","ICA","ICA","ICA","PUEBLO NUEVO","Mujer","45-49",{"$f":"'Pob x Genero'!#REF!","v":{"$error":"#REF!"}},1011]
["120126","JUNIN","JUNIN","HUANCAYO","PUCARA","Mujer","45-49",{"$f":"'Pob x Genero'!#REF!","v":{"$error":"#REF!"}},1066]
["120201","JUNIN","JUNIN","CONCEPCION","CONCEPCION","Mujer","45-49",{"$f":"'Pob x Genero'!#REF!","v":{"$error":"#REF!"}},1076]
["120419","JUNIN","JUNIN","JAUJA","MONOBAMBA","Mujer","45-49",{"$f":"'Pob x Genero'!#REF!","v":{"$error":"#REF!"}},1115]
["120703","JUNIN","JUNIN","TARMA","HUARICOLCA","Mujer","45-49",{"$f":"'Pob x Genero'!#REF!","v":{"$error":"#REF!"}},1146]
["130305","LA LIBERTAD","LA LIBERTAD","BOLIVAR","UCHUMARCA","Mujer","45-49",{"$f":"'Pob x Genero'!#REF!","v":{"$error":"#REF!"}},1196]
["130903","LA LIBERTAD","LA LIBERTAD","SANCHEZ CARRION","COCHORCO","Mujer","45-49",{"$f":"'Pob x Genero'!#REF!","v":{"$error":"#REF!"}},1235]
["131001","LA LIBERTAD","LA LIBERTAD","SANTIAGO DE CHUCO","SANTIAGO DE CHUCO","Mujer","45-49",{"$f":"'Pob x Genero'!#REF!","v":{"$error":"#REF!"}},1241]
["140303","LAMBAYEQUE","LAMBAYEQUE","LAMBAYEQUE","ILLIMO","Mujer","45-49",{"$f":"'Pob x Genero'!#REF!","v":{"$error":"#REF!"}},1284]
["150138","DIRIS SUR","LIMA","LIMA","SANTA MARIA DEL MAR","Mujer","45-49",{"$f":"'Pob x Genero'!#REF!","v":{"$error":"#REF!"}},1331]
["150512","LIMA","LIMA","CAÑETE","QUILMANA","Mujer","45-49",{"$f":"'Pob x Genero'!#REF!","v":{"$error":"#REF!"}},1365]
["150602","LIMA","LIMA","HUARAL","ATAVILLOS ALTO","Mujer","45-49",{"$f":"'Pob x Genero'!#REF!","v":{"$error":"#REF!"}},1371]
["150729","LIMA","LIMA","HUAROCHIRI","SANTIAGO DE ANCHUCAYA","Mujer","45-49",{"$f":"'Pob x Genero'!#REF!","v":{"$error":"#REF!"}},1410]
["151022","LIMA","LIMA","YAUYOS","OMAS","Mujer","45-49",{"$f":"'Pob x Genero'!#REF!","v":{"$error":"#REF!"}},1453]
["160303","LORETO","LORETO","LORETO","TIGRE","Mujer","45-49",{"$f":"'Pob x Genero'!#REF!","v":{"$error":"#REF!"}},1484]
["180102","MOQUEGUA","MOQUEGUA","MARISCAL NIETO","CARUMAS","Mujer","45-49",{"$f":"'Pob x Genero'!#REF!","v":{"$error":"#REF!"}},1530]
["180205","MOQUEGUA","MOQUEGUA","GENERAL SANCHEZ CERRO","LA CAPILLA","Mujer","45-49",{"$f":"'Pob x Genero'!#REF!","v":{"$error":"#REF!"}},1540]
["200101","PIURA","PIURA","PIURA","PIURA","Mujer","45-49",{"$f":"'Pob x Genero'!#REF!","v":{"$error":"#REF!"}},1579]
["200506","PIURA","PIURA","PAITA","TAMARINDO","Mujer","45-49",{"$f":"'Pob x Genero'!#REF!","v":{"$error":"#REF!"}},1622]
["200706","PIURA","PIURA","TALARA","MANCORA","Mujer","45-49",{"$f":"'Pob x Genero'!#REF!","v":{"$error":"#REF!"}},1637]
["210208","PUNO","PUNO","AZANGARO","MUÑANI","Mujer","45-49",{"$f":"'Pob x Genero'!#REF!","v":{"$error":"#REF!"}},1666]
["210706","PUNO","PUNO","LAMPA","PALCA","Mujer","45-49",{"$f":"'Pob x Genero'!#REF!","v":{"$error":"#REF!"}},1709]
["211302","PUNO","PUNO","YUNGUYO","ANAPIA","Mujer","45-49",{"$f":"'Pob x Genero'!#REF!","v":{"$error":"#REF!"}},1748]
["220402","SAN MARTIN","SAN MARTIN","HUALLAGA","ALTO SAPOSOA","Mujer","45-49",{"$f":"'Pob x Genero'!#REF!","v":{"$error":"#REF!"}},1772]
["221004","SAN MARTIN","SAN MARTIN","TOCACHE","SHUNTE","Mujer","45-49",{"$f":"'Pob x Genero'!#REF!","v":{"$error":"#REF!"}},1829]
["230104","TACNA","TACNA","TACNA","CIUDAD NUEVA","Mujer","45-49",{"$f":"'Pob x Genero'!#REF!","v":{"$error":"#REF!"}},1835]
["250106","UCAYALI","UCAYALI","CORONEL PORTILLO","NUEVA REQUENA","Mujer","45-49",{"$f":"'Pob x Genero'!#REF!","v":{"$error":"#REF!"}},1878]
["010205","AMAZONAS","AMAZONAS","BAGUA","IMAZA","Mujer","50-54",{"$f":"'Pob x Genero'!#REF!","v":{"$error":"#REF!"}},26]
["010601","AMAZONAS","AMAZONAS","RODRIGUEZ DE MENDOZA","SAN NICOLAS","Mujer",{"$f":"G53014","v":"50-54"},{"$f":"'Pob x Genero'!#REF!","v":{"$error":"#REF!"}},66]
["010609","AMAZONAS","AMAZONAS","RODRIGUEZ DE MENDOZA","OMIA","Mujer","50-54",{"$f":"'Pob x Genero'!#REF!","v":{"$error":"#REF!"}},74]
["020504","ANCASH","ANCASH","BOLOGNESI","AQUIA","Mujer","50-54",{"$f":"'Pob x Genero'!#REF!","v":{"$error":"#REF!"}},113]
["021007","ANCASH","ANCASH","HUARI","HUACHIS","Mujer","50-54",{"$f":"'Pob x Genero'!#REF!","v":{"$error":"#REF!"}},156]
["021407","ANCASH","ANCASH","OCROS","LLIPA","Mujer","50-54",{"$f":"'Pob x Genero'!#REF!","v":{"$error":"#REF!"}},195]
["021706","ANCASH","ANCASH","RECUAY","MARCA","Mujer","50-54",{"$f":"'Pob x Genero'!#REF!","v":{"$error":"#REF!"}},219]
["022001","ANCASH","ANCASH","YUNGAY","YUNGAY","Mujer","50-54",{"$f":"'Pob x Genero'!#REF!","v":{"$error":"#REF!"}},243]
["030303","APURIMAC","APURIMAC","ANTABAMBA","HUAQUIRCA","Mujer","50-54",{"$f":"'Pob x Genero'!#REF!","v":{"$error":"#REF!"}},282]
["030704","APURIMAC","APURIMAC","GRAU","HUAYLLATI","Mujer","50-54",{"$f":"'Pob x Genero'!#REF!","v":{"$error":"#REF!"}},325]
["040129","AREQUIPA","AREQUIPA","AREQUIPA","JOSE LUIS BUSTAMANTE Y RIVERO","Mujer","50-54",{"$f":"'Pob x Genero'!DV37","v":2705},364]
["040208","AREQUIPA","AREQUIPA","CAMANA","SAMUEL PASTOR","Mujer","50-54",{"$f":"'Pob x Genero'!DV45","v":526},372]
["040513","AREQUIPA","AREQUIPA","CAYLLOMA","MADRIGAL","Mujer","50-54",{"$f":"'Pob x Genero'!DV85","v":22},412]
["050107","AYACUCHO","AYACUCHO","HUAMANGA","PACAYCASA","Mujer","50-54",{"$f":"'Pob x Genero'!#REF!","v":{"$error":"#REF!"}},451]
["050507","AYACUCHO","AYACUCHO","LA MAR","SANTA ROSA","Mujer","50-54",{"$f":"'Pob x Genero'!#REF!","v":{"$error":"#REF!"}},490]
["050609","AYACUCHO","AYACUCHO","LUCANAS","LEONCIO PRADO","Mujer","50-54",{"$f":"'Pob x Genero'!#REF!","v":{"$error":"#REF!"}},507]
["050901","AYACUCHO","AYACUCHO","SUCRE","QUEROBAMBA","Mujer","50-54",{"$f":"'Pob x Genero'!#REF!","v":{"$error":"#REF!"}},538]
["060201","CAJAMARCA","CAJAMARCA","CAJABAMBA","CAJABAMBA","Mujer","50-54",{"$f":"'Pob x Genero'!#REF!","v":{"$error":"#REF!"}},581]
["060505","CAJAMARCA","CAJAMARCA","CONTUMAZA","SAN BENITO","Mujer","50-54",{"$f":"'Pob x Genero'!#REF!","v":{"$error":"#REF!"}},620]
["060906","CAJAMARCA","CAJAMARCA","SAN IGNACIO","SAN JOSE DE LOURDES","Mujer","50-54",{"$f":"'Pob x Genero'!#REF!","v":{"$error":"#REF!"}},659]
["061308","CAJAMARCA","CAJAMARCA","SANTA CRUZ","SAUCEPAMPA","Mujer","50-54",{"$f":"'Pob x Genero'!#REF!","v":{"$error":"#REF!"}},692]
["080105","CUSCO","CUSCO","CUSCO","SAN SEBASTIAN","Mujer","50-54",{"$f":"'Pob x Genero'!#REF!","v":{"$error":"#REF!"}},707]
["080604","CUSCO","CUSCO","CANCHIS","MARANGANI","Mujer","50-54",{"$f":"'Pob x Genero'!#REF!","v":{"$error":"#REF!"}},746]
["081005","CUSCO","CUSCO","PARURO","HUANOQUITE","Mujer","50-54",{"$f":"'Pob x Genero'!#REF!","v":{"$error":"#REF!"}},789]
["081102","CUSCO","CUSCO","PAUCARTAMBO","CAICAY","Mujer","50-54",{"$f":"'Pob x Genero'!#REF!","v":{"$error":"#REF!"}},795]
["090208","HUANCAVELICA","HUANCAVELICA","ACOBAMBA","ROSARIO","Mujer","50-54",{"$f":"'Pob x Genero'!#REF!","v":{"$error":"#REF!"}},845]
["090506","HUANCAVELICA","HUANCAVELICA","CHURCAMPA","LOCROJA","Mujer","50-54",{"$f":"'Pob x Genero'!#REF!","v":{"$error":"#REF!"}},876]
["090720","HUANCAVELICA","HUANCAVELICA","TAYACAJA","ANDAYMARCA","Mujer","50-54",{"$f":"'Pob x Genero'!#REF!","v":{"$error":"#REF!"}},915]
["100105","HUANUCO","HUANUCO","HUANUCO","MARGOS","Mujer","50-54",{"$f":"'Pob x Genero'!#REF!","v":{"$error":"#REF!"}},925]
["100705","HUANUCO","HUANUCO","MARAÑON","SANTA ROSA DE ALTO YANAJANCA","Mujer","50-54",{"$f":"'Pob x Genero'!#REF!","v":{"$error":"#REF!"}},980]
["110102","ICA","ICA","ICA","LA TINGUIÑA","Mujer","50-54",{"$f":"'Pob x Genero'!#REF!","v":{"$error":"#REF!"}},1006]
["110506","ICA","ICA","PISCO","SAN ANDRES","Mujer","50-54",{"$f":"'Pob x Genero'!#REF!","v":{"$error":"#REF!"}},1045]
["120209","JUNIN","JUNIN","CONCEPCION","MARISCAL CASTILLA","Mujer","50-54",{"$f":"'Pob x Genero'!#REF!","v":{"$error":"#REF!"}},1084]
["120304","JUNIN","JUNIN","CHANCHAMAYO","SAN LUIS DE SHUARO","Mujer","50-54",{"$f":"'Pob x Genero'!#REF!","v":{"$error":"#REF!"}},1094]
["120503","JUNIN","JUNIN","JUNIN","ONDORES","Mujer","50-54",{"$f":"'Pob x Genero'!#REF!","v":{"$error":"#REF!"}},1133]
["120909","JUNIN","JUNIN","CHUPACA","YANACANCHA","Mujer","50-54",{"$f":"'Pob x Genero'!#REF!","v":{"$error":"#REF!"}},1171]
["130614","LA LIBERTAD","LA LIBERTAD","OTUZCO","USQUIL","Mujer","50-54",{"$f":"'Pob x Genero'!#REF!","v":{"$error":"#REF!"}},1214]
["130801","LA LIBERTAD","LA LIBERTAD","PATAZ","TAYABAMBA","Mujer","50-54",{"$f":"'Pob x Genero'!#REF!","v":{"$error":"#REF!"}},1220]
["140108","LAMBAYEQUE","LAMBAYEQUE","CHICLAYO","MONSEFU","Mujer","50-54",{"$f":"'Pob x Genero'!#REF!","v":{"$error":"#REF!"}},1263]
["140305","LAMBAYEQUE","LAMBAYEQUE","LAMBAYEQUE","MOCHUMI","Mujer","50-54",{"$f":"'Pob x Genero'!#REF!","v":{"$error":"#REF!"}},1286]
["150204","LIMA","LIMA","BARRANCA","SUPE","Mujer","50-54",{"$f":"'Pob x Genero'!#REF!","v":{"$error":"#REF!"}},1340]
["150404","LIMA","LIMA","CANTA","HUAROS","Mujer","50-54",{"$f":"'Pob x Genero'!#REF!","v":{"$error":"#REF!"}},1350]
["150708","LIMA","LIMA","HUAROCHIRI","HUANZA","Mujer","50-54",{"$f":"'Pob x Genero'!#REF!","v":{"$error":"#REF!"}},1389]
["150903","LIMA","LIMA","OYON","CAUJUL","Mujer","50-54",{"$f":"'Pob x Genero'!#REF!","v":{"$error":"#REF!"}},1428]
["160107","LORETO","LORETO","MAYNAS","NAPO","Mujer","50-54",{"$f":"'Pob x Genero'!#REF!","v":{"$error":"#REF!"}},1471]
["160702","LORETO","LORETO","DATEM DEL MARAÑON","CAHUAPANAS","Mujer","50-54",{"$f":"'Pob x Genero'!#REF!","v":{"$error":"#REF!"}},1509]
["170102","MADRE DE DIOS","MADRE DE DIOS","TAMBOPATA","INAMBARI","Mujer","50-54",{"$f":"'Pob x Genero'!#REF!","v":{"$error":"#REF!"}},1519]
["190109","PASCO","PASCO","PASCO","SIMON BOLIVAR","Mujer","50-54",{"$f":"'Pob x Genero'!#REF!","v":{"$error":"#REF!"}},1558]
["200308","PIURA","PIURA","HUANCABAMBA","SONDORILLO","Mujer","50-54",{"$f":"'Pob x Genero'!#REF!","v":{"$error":"#REF!"}},1606]
["200802","PIURA","PIURA","SECHURA","BELLAVISTA DE LA UNION","Mujer","50-54",{"$f":"'Pob x Genero'!#REF!","v":{"$error":"#REF!"}},1639]
["210102","PUNO","PUNO","PUNO","ACORA","Mujer","50-54",{"$f":"'Pob x Genero'!#REF!","v":{"$error":"#REF!"}},1645]
["210405","PUNO","PUNO","CHUCUITO","PISACOMA","Mujer","50-54",{"$f":"'Pob x Genero'!#REF!","v":{"$error":"#REF!"}},1688]
["211001","PUNO","PUNO","SAN ANTONIO DE PUTINA","PUTINA","Mujer","50-54",{"$f":"'Pob x Genero'!#REF!","v":{"$error":"#REF!"}},1727]
["220106","SAN MARTIN","SAN MARTIN","MOYOBAMBA","YANTALO","Mujer","50-54",{"$f":"'Pob x Genero'!#REF!","v":{"$error":"#REF!"}},1759]
["220405","SAN MARTIN","SAN MARTIN","HUALLAGA","SACANCHE","Mujer","50-54",{"$f":"'Pob x Genero'!#REF!","v":{"$error":"#REF!"}},1775]
["220903","SAN MARTIN","SAN MARTIN","SAN MARTIN","CACATACHI","Mujer","50-54",{"$f":"'Pob x Genero'!#REF!","v":{"$error":"#REF!"}},1814]
["230402","TACNA","TACNA","TARATA","HEROES ALBARRACIN","Mujer","50-54",{"$f":"'Pob x Genero'!#REF!","v":{"$error":"#REF!"}},1853]
["010105","AMAZONAS","AMAZONAS","CHACHAPOYAS","CHILIQUIN","Mujer","55-59",{"$f":"'Pob x Genero'!#REF!","v":{"$error":"#REF!"}},5]
["010121","AMAZONAS","AMAZONAS","CHACHAPOYAS","SONCHE","Mujer","55-59",{"$f":"'Pob x Genero'!#REF!","v":{"$error":"#REF!"}},21]
["010511","AMAZONAS","AMAZONAS","LUYA","MARIA","Mujer","55-59",{"$f":"'Pob x Genero'!#REF!","v":{"$error":"#REF!"}},53]
["020108","ANCASH","ANCASH","HUARAZ","OLLEROS","Mujer","55-59",{"$f":"'Pob x Genero'!#REF!","v":{"$error":"#REF!"}},92]
["020607","ANCASH","ANCASH","CARHUAZ","PARIAHUANCA","Mujer","55-59",{"$f":"'Pob x Genero'!#REF!","v":{"$error":"#REF!"}},131]
["021204","ANCASH","ANCASH","HUAYLAS","HUAYLAS","Mujer","55-59",{"$f":"'Pob x Genero'!#REF!","v":{"$error":"#REF!"}},174]
["021508","ANCASH","ANCASH","PALLASCA","PALLASCA","Mujer","55-59",{"$f":"'Pob x Genero'!#REF!","v":{"$error":"#REF!"}},206]
["021709","ANCASH","ANCASH","RECUAY","TAPACOCHA","Mujer","55-59",{"$f":"'Pob x Genero'!#REF!","v":{"$error":"#REF!"}},222]
["030202","APURIMAC","APURIMAC","ANDAHUAYLAS","ANDARAPA","Mujer","55-59",{"$f":"'Pob x Genero'!#REF!","v":{"$error":"#REF!"}},261]
["030414","APURIMAC","APURIMAC","AYMARAES","TAPAIRIHUA","Mujer","55-59",{"$f":"'Pob x Genero'!#REF!","v":{"$error":"#REF!"}},300]
["040106","AREQUIPA","AREQUIPA","AREQUIPA","CHIGUATA","Mujer","55-59",{"$f":"'Pob x Genero'!DW14","v":87},341]
["040113","AREQUIPA","AREQUIPA","AREQUIPA","POCSI","Mujer","55-59",{"$f":"'Pob x Genero'!DW21","v":17},348]
["040402","AREQUIPA","AREQUIPA","CASTILLA","ANDAGUA","Mujer","55-59",{"$f":"'Pob x Genero'!DW60","v":28},387]
["040703","AREQUIPA","AREQUIPA","ISLAY","DEAN VALDIVIA","Mujer","55-59",{"$f":"'Pob x Genero'!DW103","v":191},430]
["050303","AYACUCHO","AYACUCHO","HUANCA SANCOS","SACSAMARCA","Mujer","55-59",{"$f":"'Pob x Genero'!#REF!","v":{"$error":"#REF!"}},469]
["050511","AYACUCHO","AYACUCHO","LA MAR","ORONCCOY","Mujer","55-59",{"$f":"'Pob x Genero'!#REF!","v":{"$error":"#REF!"}},494]
["050619","AYACUCHO","AYACUCHO","LUCANAS","SANCOS","Mujer","55-59",{"$f":"'Pob x Genero'!#REF!","v":{"$error":"#REF!"}},517]
["051008","AYACUCHO","AYACUCHO","VICTOR FAJARDO","HUAMANQUIQUIA","Mujer","55-59",{"$f":"'Pob x Genero'!#REF!","v":{"$error":"#REF!"}},556]
["060403","CAJAMARCA","CAJAMARCA","CHOTA","CHADIN","Mujer","55-59",{"$f":"'Pob x Genero'!#REF!","v":{"$error":"#REF!"}},599]
["060615","CAJAMARCA","CAJAMARCA","CUTERVO","TORIBIO CASANOVA","Mujer","55-59",{"$f":"'Pob x Genero'!#REF!","v":{"$error":"#REF!"}},638]
["060806","CAJAMARCA","CAJAMARCA","JAEN","LAS PIRIAS","Mujer","55-59",{"$f":"'Pob x Genero'!#REF!","v":{"$error":"#REF!"}},647]
["061302","CAJAMARCA","CAJAMARCA","SANTA CRUZ","ANDABAMBA","Mujer","55-59",{"$f":"'Pob x Genero'!#REF!","v":{"$error":"#REF!"}},686]
["080308","CUSCO","CUSCO","ANTA","PUCYURA","Mujer","55-59",{"$f":"'Pob x Genero'!#REF!","v":{"$error":"#REF!"}},725]
["080902","CUSCO","CUSCO","LA CONVENCION","ECHARATE","Mujer","55-59",{"$f":"'Pob x Genero'!#REF!","v":{"$error":"#REF!"}},768]
["080916","CUSCO","CUSCO","LA CONVENCION","CIELO PUNCO","Mujer","55-59",{"$f":"'Pob x Genero'!#REF!","v":{"$error":"#REF!"}},782]
["081301","CUSCO","CUSCO","URUBAMBA","URUBAMBA","Mujer","55-59",{"$f":"'Pob x Genero'!#REF!","v":{"$error":"#REF!"}},812]
["090310","HUANCAVELICA","HUANCAVELICA","ANGARAES","SAN ANTONIO DE ANTAPARCO","Mujer","55-59",{"$f":"'Pob x Genero'!#REF!","v":{"$error":"#REF!"}},855]
["090613","HUANCAVELICA","HUANCAVELICA","HUAYTARA","SANTIAGO DE CHOCORVOS","Mujer","55-59",{"$f":"'Pob x Genero'!#REF!","v":{"$error":"#REF!"}},894]
["090707","HUANCAVELICA","HUANCAVELICA","TAYACAJA","HUACHOCOLPA","Mujer","55-59",{"$f":"'Pob x Genero'!#REF!","v":{"$error":"#REF!"}},904]
["100202","HUANUCO","HUANUCO","AMBO","CAYNA","Mujer","55-59",{"$f":"'Pob x Genero'!#REF!","v":{"$error":"#REF!"}},935]
["100801","HUANUCO","HUANUCO","PACHITEA","PANAO","Mujer","55-59",{"$f":"'Pob x Genero'!#REF!","v":{"$error":"#REF!"}},981]
["110206","ICA","ICA","CHINCHA","GROCIO PRADO","Mujer","55-59",{"$f":"'Pob x Genero'!#REF!","v":{"$error":"#REF!"}},1024]
["120122","JUNIN","JUNIN","HUANCAYO","INGENIO","Mujer","55-59",{"$f":"'Pob x Genero'!#REF!","v":{"$error":"#REF!"}},1063]
["120129","JUNIN","JUNIN","HUANCAYO","SAN AGUSTIN","Mujer","55-59",{"$f":"'Pob x Genero'!#REF!","v":{"$error":"#REF!"}},1069]
["120424","JUNIN","JUNIN","JAUJA","PANCAN","Mujer","55-59",{"$f":"'Pob x Genero'!#REF!","v":{"$error":"#REF!"}},1120]
["120707","JUNIN","JUNIN","TARMA","PALCAMAYO","Mujer","55-59",{"$f":"'Pob x Genero'!#REF!","v":{"$error":"#REF!"}},1150]
["130302","LA LIBERTAD","LA LIBERTAD","BOLIVAR","BAMBAMARCA","Mujer","55-59",{"$f":"'Pob x Genero'!#REF!","v":{"$error":"#REF!"}},1193]
["130402","LA LIBERTAD","LA LIBERTAD","CHEPEN","PACANGA","Mujer","55-59",{"$f":"'Pob x Genero'!#REF!","v":{"$error":"#REF!"}},1199]
["130906","LA LIBERTAD","LA LIBERTAD","SANCHEZ CARRION","SANAGORAN","Mujer","55-59",{"$f":"'Pob x Genero'!#REF!","v":{"$error":"#REF!"}},1238]
["140118","LAMBAYEQUE","LAMBAYEQUE","CHICLAYO","POMALCA","Mujer","55-59",{"$f":"'Pob x Genero'!#REF!","v":{"$error":"#REF!"}},1273]
["150126","DIRIS SUR","LIMA","LIMA","PUNTA HERMOSA","Mujer","55-59",{"$f":"'Pob x Genero'!#REF!","v":{"$error":"#REF!"}},1319]
["150136","DIRIS CENTRO","LIMA","LIMA","SAN MIGUEL","Mujer","55-59",{"$f":"'Pob x Genero'!#REF!","v":{"$error":"#REF!"}},1329]
["150515","LIMA","LIMA","CAÑETE","SANTA CRUZ DE FLORES","Mujer","55-59",{"$f":"'Pob x Genero'!#REF!","v":{"$error":"#REF!"}},1368]
["150727","LIMA","LIMA","HUAROCHIRI","SANTA CRUZ DE COCACHACRA","Mujer","55-59",{"$f":"'Pob x Genero'!#REF!","v":{"$error":"#REF!"}},1408]
["151018","LIMA","LIMA","YAUYOS","LARAOS","Mujer","55-59",{"$f":"'Pob x Genero'!#REF!","v":{"$error":"#REF!"}},1449]
["160402","LORETO","LORETO","MARISCAL RAMON CASTILLA","PEBAS","Mujer","55-59",{"$f":"'Pob x Genero'!#REF!","v":{"$error":"#REF!"}},1488]
["160504","LORETO","LORETO","REQUENA","EMILIO SAN MARTIN","Mujer","55-59",{"$f":"'Pob x Genero'!#REF!","v":{"$error":"#REF!"}},1494]
["180202","MOQUEGUA","MOQUEGUA","GENERAL SANCHEZ CERRO","CHOJATA","Mujer","55-59",{"$f":"'Pob x Genero'!#REF!","v":{"$error":"#REF!"}},1537]
["190112","PASCO","PASCO","PASCO","VICCO","Mujer","55-59",{"$f":"'Pob x Genero'!#REF!","v":{"$error":"#REF!"}},1561]
["200502","PIURA","PIURA","PAITA","AMOTAPE","Mujer","55-59",{"$f":"'Pob x Genero'!#REF!","v":{"$error":"#REF!"}},1618]
["200601","PIURA","PIURA","SULLANA","SULLANA","Mujer","55-59",{"$f":"'Pob x Genero'!#REF!","v":{"$error":"#REF!"}},1624]
["210205","PUNO","PUNO","AZANGARO","CAMINACA","Mujer","55-59",{"$f":"'Pob x Genero'!#REF!","v":{"$error":"#REF!"}},1663]
["210703","PUNO","PUNO","LAMPA","CALAPUJA","Mujer","55-59",{"$f":"'Pob x Genero'!#REF!","v":{"$error":"#REF!"}},1706]
["211210","PUNO","PUNO","SANDIA","SAN PEDRO DE PUTINA PUNCO","Mujer","55-59",{"$f":"'Pob x Genero'!#REF!","v":{"$error":"#REF!"}},1746]
["220507","SAN MARTIN","SAN MARTIN","LAMAS","RUMISAPA","Mujer","55-59",{"$f":"'Pob x Genero'!#REF!","v":{"$error":"#REF!"}},1783]
["220701","SAN MARTIN","SAN MARTIN","PICOTA","PICOTA","Mujer","55-59",{"$f":"'Pob x Genero'!#REF!","v":{"$error":"#REF!"}},1793]
["230101","TACNA","TACNA","TACNA","TACNA","Mujer","55-59",{"$f":"'Pob x Genero'!#REF!","v":{"$error":"#REF!"}},1832]
["250103","UCAYALI","UCAYALI","CORONEL PORTILLO","IPARIA","Mujer","55-59",{"$f":"'Pob x Genero'!#REF!","v":{"$error":"#REF!"}},1875]
["010108","AMAZONAS","AMAZONAS","CHACHAPOYAS","HUANCAS","Mujer","60-64",{"$f":"'Pob x Genero'!#REF!","v":{"$error":"#REF!"}},8]
["010301","AMAZONAS","AMAZONAS","BONGARA","JUMBILLA","Mujer","60-64",{"$f":"'Pob x Genero'!#REF!","v":{"$error":"#REF!"}},28]
["010606","AMAZONAS","AMAZONAS","RODRIGUEZ DE MENDOZA","LONGAR","Mujer","60-64",{"$f":"'Pob x Genero'!#REF!","v":{"$error":"#REF!"}},71]
["020501","ANCASH","ANCASH","BOLOGNESI","CHIQUIAN","Mujer","60-64",{"$f":"'Pob x Genero'!#REF!","v":{"$error":"#REF!"}},110]
["020901","ANCASH","ANCASH","CORONGO","CORONGO","Mujer","60-64",{"$f":"'Pob x Genero'!#REF!","v":{"$error":"#REF!"}},143]
["021009","ANCASH","ANCASH","HUARI","MASIN","Mujer","60-64",{"$f":"'Pob x Genero'!#REF!","v":{"$error":"#REF!"}},158]
["021409","ANCASH","ANCASH","OCROS","SAN PEDRO","Mujer","60-64",{"$f":"'Pob x Genero'!#REF!","v":{"$error":"#REF!"}},197]
["021908","ANCASH","ANCASH","SIHUAS","RAGASH","Mujer","60-64",{"$f":"'Pob x Genero'!#REF!","v":{"$error":"#REF!"}},240]
["030220","APURIMAC","APURIMAC","ANDAHUAYLAS","JOSÉ MARÍA ARGUEDAS","Mujer","60-64",{"$f":"'Pob x Genero'!#REF!","v":{"$error":"#REF!"}},279]
["030410","APURIMAC","APURIMAC","AYMARAES","POCOHUANCA","Mujer","60-64",{"$f":"'Pob x Genero'!#REF!","v":{"$error":"#REF!"}},296]
["030706","APURIMAC","APURIMAC","GRAU","MICAELA BASTIDAS","Mujer","60-64",{"$f":"'Pob x Genero'!#REF!","v":{"$error":"#REF!"}},327]
["040202","AREQUIPA","AREQUIPA","CAMANA","JOSE MARIA QUIMPER","Mujer","60-64",{"$f":"'Pob x Genero'!DX39","v":143},366]
["040510","AREQUIPA","AREQUIPA","CAYLLOMA","LARI","Mujer","60-64",{"$f":"'Pob x Genero'!DX82","v":21},409]
["050104","AYACUCHO","AYACUCHO","HUAMANGA","CARMEN ALTO","Mujer","60-64",{"$f":"'Pob x Genero'!#REF!","v":{"$error":"#REF!"}},448]
["050411","AYACUCHO","AYACUCHO","HUANTA","PUCACOLPA","Mujer","60-64",{"$f":"'Pob x Genero'!#REF!","v":{"$error":"#REF!"}},481]
["050513","AYACUCHO","AYACUCHO","LA MAR","RIO MAGDALENA","Mujer","60-64",{"$f":"'Pob x Genero'!#REF!","v":{"$error":"#REF!"}},496]
["050808","AYACUCHO","AYACUCHO","PAUCAR DEL SARA SARA","SAN JAVIER DE ALPABAMBA","Mujer","60-64",{"$f":"'Pob x Genero'!#REF!","v":{"$error":"#REF!"}},535]
["060106","CAJAMARCA","CAJAMARCA","CAJAMARCA","JESUS","Mujer","60-64",{"$f":"'Pob x Genero'!#REF!","v":{"$error":"#REF!"}},574]
["060204","CAJAMARCA","CAJAMARCA","CAJABAMBA","SITACOCHA","Mujer","60-64",{"$f":"'Pob x Genero'!#REF!","v":{"$error":"#REF!"}},584]
["060507","CAJAMARCA","CAJAMARCA","CONTUMAZA","TANTARICA","Mujer","60-64",{"$f":"'Pob x Genero'!#REF!","v":{"$error":"#REF!"}},622]
["061005","CAJAMARCA","CAJAMARCA","SAN MARCOS","ICHOCAN","Mujer","60-64",{"$f":"'Pob x Genero'!#REF!","v":{"$error":"#REF!"}},665]
["080102","CUSCO","CUSCO","CUSCO","CCORCA","Mujer","60-64",{"$f":"'Pob x Genero'!#REF!","v":{"$error":"#REF!"}},704]
["080601","CUSCO","CUSCO","CANCHIS","SICUANI","Mujer","60-64",{"$f":"'Pob x Genero'!#REF!","v":{"$error":"#REF!"}},743]
["080903","CUSCO","CUSCO","LA CONVENCION","HUAYOPATA","Mujer","60-64",{"$f":"'Pob x Genero'!#REF!","v":{"$error":"#REF!"}},769]
["081007","CUSCO","CUSCO","PARURO","PACCARITAMBO","Mujer","60-64",{"$f":"'Pob x Genero'!#REF!","v":{"$error":"#REF!"}},791]
["090116","HUANCAVELICA","HUANCAVELICA","HUANCAVELICA","VILCA","Mujer","60-64",{"$f":"'Pob x Genero'!#REF!","v":{"$error":"#REF!"}},834]
["090503","HUANCAVELICA","HUANCAVELICA","CHURCAMPA","CHINCHIHUASI","Mujer","60-64",{"$f":"'Pob x Genero'!#REF!","v":{"$error":"#REF!"}},873]
["090509","HUANCAVELICA","HUANCAVELICA","CHURCAMPA","SAN PEDRO DE CORIS","Mujer","60-64",{"$f":"'Pob x Genero'!#REF!","v":{"$error":"#REF!"}},879]
["100102","HUANUCO","HUANUCO","HUANUCO","AMARILIS","Mujer","60-64",{"$f":"'Pob x Genero'!#REF!","v":{"$error":"#REF!"}},922]
["100506","HUANUCO","HUANUCO","HUAMALIES","MIRAFLORES","Mujer","60-64",{"$f":"'Pob x Genero'!#REF!","v":{"$error":"#REF!"}},960]
["101103","HUANUCO","HUANUCO","YAROWILCA","CHACABAMBA","Mujer","60-64",{"$f":"'Pob x Genero'!#REF!","v":{"$error":"#REF!"}},999]
["110503","ICA","ICA","PISCO","HUMAY","Mujer","60-64",{"$f":"'Pob x Genero'!#REF!","v":{"$error":"#REF!"}},1042]
["120101","JUNIN","JUNIN","HUANCAYO","HUANCAYO","Mujer","60-64",{"$f":"'Pob x Genero'!#REF!","v":{"$error":"#REF!"}},1048]
["120411","JUNIN","JUNIN","JAUJA","JANJAILLO","Mujer","60-64",{"$f":"'Pob x Genero'!#REF!","v":{"$error":"#REF!"}},1107]
["120433","JUNIN","JUNIN","JAUJA","YAULI","Mujer","60-64",{"$f":"'Pob x Genero'!#REF!","v":{"$error":"#REF!"}},1129]
["120906","JUNIN","JUNIN","CHUPACA","SAN JUAN DE ISCOS","Mujer","60-64",{"$f":"'Pob x Genero'!#REF!","v":{"$error":"#REF!"}},1168]
["130107","LA LIBERTAD","LA LIBERTAD","TRUJILLO","MOCHE","Mujer","60-64",{"$f":"'Pob x Genero'!#REF!","v":{"$error":"#REF!"}},1178]
["130608","LA LIBERTAD","LA LIBERTAD","OTUZCO","MACHE","Mujer","60-64",{"$f":"'Pob x Genero'!#REF!","v":{"$error":"#REF!"}},1210]
["140104","LAMBAYEQUE","LAMBAYEQUE","CHICLAYO","ETEN PUERTO","Mujer","60-64",{"$f":"'Pob x Genero'!#REF!","v":{"$error":"#REF!"}},1259]
["150105","DIRIS CENTRO","LIMA","LIMA","BREÑA","Mujer","60-64",{"$f":"'Pob x Genero'!#REF!","v":{"$error":"#REF!"}},1298]
["150201","LIMA","LIMA","BARRANCA","BARRANCA","Mujer","60-64",{"$f":"'Pob x Genero'!#REF!","v":{"$error":"#REF!"}},1337]
["150401","LIMA","LIMA","CANTA","CANTA","Mujer","60-64",{"$f":"'Pob x Genero'!#REF!","v":{"$error":"#REF!"}},1347]
["150714","LIMA","LIMA","HUAROCHIRI","RICARDO PALMA","Mujer","60-64",{"$f":"'Pob x Genero'!#REF!","v":{"$error":"#REF!"}},1395]
["150811","LIMA","LIMA","HUAURA","SAYAN","Mujer","60-64",{"$f":"'Pob x Genero'!#REF!","v":{"$error":"#REF!"}},1424]
["160103","LORETO","LORETO","MAYNAS","FERNANDO LORES","Mujer","60-64",{"$f":"'Pob x Genero'!#REF!","v":{"$error":"#REF!"}},1467]
["160110","LORETO","LORETO","MAYNAS","TORRES CAUSANA","Mujer","60-64",{"$f":"'Pob x Genero'!#REF!","v":{"$error":"#REF!"}},1473]
["160803","LORETO","LORETO","PUTUMAYO","TENIENTE MANUEL CLAVERO","Mujer","60-64",{"$f":"'Pob x Genero'!#REF!","v":{"$error":"#REF!"}},1516]
["180302","MOQUEGUA","MOQUEGUA","ILO","EL ALGARROBAL","Mujer","60-64",{"$f":"'Pob x Genero'!#REF!","v":{"$error":"#REF!"}},1548]
["200205","PIURA","PIURA","AYABACA","MONTERO","Mujer","60-64",{"$f":"'Pob x Genero'!#REF!","v":{"$error":"#REF!"}},1593]
["200305","PIURA","PIURA","HUANCABAMBA","LALAQUIZ","Mujer","60-64",{"$f":"'Pob x Genero'!#REF!","v":{"$error":"#REF!"}},1603]
["200805","PIURA","PIURA","SECHURA","VICE","Mujer","60-64",{"$f":"'Pob x Genero'!#REF!","v":{"$error":"#REF!"}},1642]
["210308","PUNO","PUNO","CARABAYA","OLLACHEA","Mujer","60-64",{"$f":"'Pob x Genero'!#REF!","v":{"$error":"#REF!"}},1681]
["210606","PUNO","PUNO","HUANCANE","ROSASPATA","Mujer",{"$f":"G58431","v":"60-64"},{"$f":"'Pob x Genero'!#REF!","v":{"$error":"#REF!"}},1701]
["220203","SAN MARTIN","SAN MARTIN","BELLAVISTA","BAJO BIAVO","Mujer","60-64",{"$f":"'Pob x Genero'!#REF!","v":{"$error":"#REF!"}},1762]
["220402","SAN MARTIN","SAN MARTIN","HUALLAGA","ALTO SAPOSOA","Mujer","60-64",{"$f":"'Pob x Genero'!#REF!","v":{"$error":"#REF!"}},1772]
["220809","SAN MARTIN","SAN MARTIN","RIOJA","YURACYACU","Mujer","60-64",{"$f":"'Pob x Genero'!#REF!","v":{"$error":"#REF!"}},1811]
["230105","TACNA","TACNA","TACNA","INCLAN","Mujer","60-64",{"$f":"'Pob x Genero'!#REF!","v":{"$error":"#REF!"}},1836]
["010101","AMAZONAS","AMAZONAS","CHACHAPOYAS","CHACHAPOYAS","Mujer",{"$f":"'Pob x Genero'!DY7","v":"65-69"},{"$f":"'Pob x Genero'!#REF!","v":{"$error":"#REF!"}},1]
["010107","AMAZONAS","AMAZONAS","CHACHAPOYAS","GRANADA","Mujer","65-69",{"$f":"'Pob x Genero'!#REF!","v":{"$error":"#REF!"}},7]
["010508","AMAZONAS","AMAZONAS","LUYA","LONYA CHICO","Mujer","65-69",{"$f":"'Pob x Genero'!#REF!","v":{"$error":"#REF!"}},50]
["020105","ANCASH","ANCASH","HUARAZ","INDEPENDENCIA","Mujer","65-69",{"$f":"'Pob x Genero'!#REF!","v":{"$error":"#REF!"}},89]
["020606","ANCASH","ANCASH","CARHUAZ","MARCARA","Mujer",{"$f":"G58751","v":"65-69"},{"$f":"'Pob x Genero'!#REF!","v":{"$error":"#REF!"}},130]
["020702","ANCASH","ANCASH","CARLOS FERMIN FITZCARRALD","SAN NICOLAS","Mujer","65-69",{"$f":"'Pob x Genero'!#REF!","v":{"$error":"#REF!"}},137]
["021206","ANCASH","ANCASH","HUAYLAS","PAMPAROMAS","Mujer","65-69",{"$f":"'Pob x Genero'!#REF!","v":{"$error":"#REF!"}},176]
["021702","ANCASH","ANCASH","RECUAY","CATAC","Mujer","65-69",{"$f":"'Pob x Genero'!#REF!","v":{"$error":"#REF!"}},215]
["030108","APURIMAC","APURIMAC","ABANCAY","SAN PEDRO DE CACHORA","Mujer",{"$f":"G58879","v":"65-69"},{"$f":"'Pob x Genero'!#REF!","v":{"$error":"#REF!"}},258]
["030304","APURIMAC","APURIMAC","ANTABAMBA","JUAN ESPINOZA MEDRANO","Mujer","65-69",{"$f":"'Pob x Genero'!#REF!","v":{"$error":"#REF!"}},283]
["030503","APURIMAC","APURIMAC","COTABAMBAS","COYLLURQUI","Mujer","65-69",{"$f":"'Pob x Genero'!#REF!","v":{"$error":"#REF!"}},306]
["040110","AREQUIPA","AREQUIPA","AREQUIPA","MIRAFLORES","Mujer","65-69",{"$f":"'Pob x Genero'!DY18","v":1157},345]
["040312","AREQUIPA","AREQUIPA","CARAVELI","QUICACHA","Mujer","65-69",{"$f":"'Pob x Genero'!DY57","v":33},384]
["040519","AREQUIPA","AREQUIPA","CAYLLOMA","YANQUE","Mujer","65-69",{"$f":"'Pob x Genero'!DY91","v":49},418]
["040705","AREQUIPA","AREQUIPA","ISLAY","MEJIA","Mujer","65-69",{"$f":"'Pob x Genero'!DY105","v":25},432]
["050405","AYACUCHO","AYACUCHO","HUANTA","LURICOCHA","Mujer","65-69",{"$f":"'Pob x Genero'!#REF!","v":{"$error":"#REF!"}},475]
["050616","AYACUCHO","AYACUCHO","LUCANAS","SAN JUAN","Mujer",{"$f":"G59135","v":"65-69"},{"$f":"'Pob x Genero'!#REF!","v":{"$error":"#REF!"}},514]
["051005","AYACUCHO","AYACUCHO","VICTOR FAJARDO","CANARIA","Mujer","65-69",{"$f":"'Pob x Genero'!#REF!","v":{"$error":"#REF!"}},553]
["060103","CAJAMARCA","CAJAMARCA","CAJAMARCA","CHETILLA","Mujer","65-69",{"$f":"'Pob x Genero'!#REF!","v":{"$error":"#REF!"}},571]
["060405","CAJAMARCA","CAJAMARCA","CHOTA","CHIMBAN","Mujer","65-69",{"$f":"'Pob x Genero'!#REF!","v":{"$error":"#REF!"}},601]
["060702","CAJAMARCA","CAJAMARCA","HUALGAYOC","CHUGUR","Mujer","65-69",{"$f":"'Pob x Genero'!#REF!","v":{"$error":"#REF!"}},640]
["061203","CAJAMARCA","CAJAMARCA","SAN PABLO","SAN LUIS","Mujer","65-69",{"$f":"'Pob x Genero'!#REF!","v":{"$error":"#REF!"}},683]
["080305","CUSCO","CUSCO","ANTA","HUAROCONDO","Mujer","65-69",{"$f":"'Pob x Genero'!#REF!","v":{"$error":"#REF!"}},722]
["080706","CUSCO","CUSCO","CHUMBIVILCAS","LLUSCO","Mujer","65-69",{"$f":"'Pob x Genero'!#REF!","v":{"$error":"#REF!"}},756]
["080904","CUSCO","CUSCO","LA CONVENCION","MARANURA","Mujer",{"$f":"G59391","v":"65-69"},{"$f":"'Pob x Genero'!#REF!","v":{"$error":"#REF!"}},770]
["081210","CUSCO","CUSCO","QUISPICANCHI","OCONGATE","Mujer","65-69",{"$f":"'Pob x Genero'!#REF!","v":{"$error":"#REF!"}},809]
["090307","HUANCAVELICA","HUANCAVELICA","ANGARAES","HUANCA-HUANCA","Mujer","65-69",{"$f":"'Pob x Genero'!#REF!","v":{"$error":"#REF!"}},852]
["090401","HUANCAVELICA","HUANCAVELICA","CASTROVIRREYNA","CASTROVIRREYNA","Mujer","65-69",{"$f":"'Pob x Genero'!#REF!","v":{"$error":"#REF!"}},858]
["090714","HUANCAVELICA","HUANCAVELICA","TAYACAJA","SALCABAMBA","Mujer","65-69",{"$f":"'Pob x Genero'!#REF!","v":{"$error":"#REF!"}},909]
["100206","HUANUCO","HUANUCO","AMBO","SAN FRANCISCO","Mujer","65-69",{"$f":"'Pob x Genero'!#REF!","v":{"$error":"#REF!"}},939]
["100703","HUANUCO","HUANUCO","MARAÑON","SAN BUENAVENTURA","Mujer","65-69",{"$f":"'Pob x Genero'!#REF!","v":{"$error":"#REF!"}},978]
["100904","HUANUCO","HUANUCO","PUERTO INCA","TOURNAVISTA","Mujer","65-69",{"$f":"'Pob x Genero'!#REF!","v":{"$error":"#REF!"}},988]
["110505","ICA","ICA","PISCO","PARACAS","Mujer","65-69",{"$f":"'Pob x Genero'!#REF!","v":{"$error":"#REF!"}},1044]
["120125","JUNIN","JUNIN","HUANCAYO","PILCOMAYO","Mujer","65-69",{"$f":"'Pob x Genero'!#REF!","v":{"$error":"#REF!"}},1065]
["120412","JUNIN","JUNIN","JAUJA","JULCAN","Mujer","65-69",{"$f":"'Pob x Genero'!#REF!","v":{"$error":"#REF!"}},1108]
["120704","JUNIN","JUNIN","TARMA","HUASAHUASI","Mujer","65-69",{"$f":"'Pob x Genero'!#REF!","v":{"$error":"#REF!"}},1147]
["120805","JUNIN","JUNIN","YAULI","MOROCOCHA","Mujer","65-69",{"$f":"'Pob x Genero'!#REF!","v":{"$error":"#REF!"}},1157]
["130306","LA LIBERTAD","LA LIBERTAD","BOLIVAR","UCUNCHA","Mujer","65-69",{"$f":"'Pob x Genero'!#REF!","v":{"$error":"#REF!"}},1197]
["130902","LA LIBERTAD","LA LIBERTAD","SANCHEZ CARRION","CHUGAY","Mujer","65-69",{"$f":"'Pob x Genero'!#REF!","v":{"$error":"#REF!"}},1234]
["140202","LAMBAYEQUE","LAMBAYEQUE","FERREÑAFE","CAÑARIS","Mujer","65-69",{"$f":"'Pob x Genero'!#REF!","v":{"$error":"#REF!"}},1277]
["140302","LAMBAYEQUE","LAMBAYEQUE","LAMBAYEQUE","CHOCHOPE","Mujer",{"$f":"G59904","v":"65-69"},{"$f":"'Pob x Genero'!#REF!","v":{"$error":"#REF!"}},1283]
["150129","DIRIS SUR","LIMA","LIMA","SAN BARTOLO","Mujer","65-69",{"$f":"'Pob x Genero'!#REF!","v":{"$error":"#REF!"}},1322]
["150404","LIMA","LIMA","CANTA","HUAROS","Mujer","65-69",{"$f":"'Pob x Genero'!#REF!","v":{"$error":"#REF!"}},1350]
["150722","LIMA","LIMA","HUAROCHIRI","SAN MATEO","Mujer","65-69",{"$f":"'Pob x Genero'!#REF!","v":{"$error":"#REF!"}},1403]
["151015","LIMA","LIMA","YAUYOS","HUANGASCAR","Mujer","65-69",{"$f":"'Pob x Genero'!#REF!","v":{"$error":"#REF!"}},1446]
["151021","LIMA","LIMA","YAUYOS","MIRAFLORES","Mujer","65-69",{"$f":"'Pob x Genero'!#REF!","v":{"$error":"#REF!"}},1452]
["160501","LORETO","LORETO","REQUENA","REQUENA","Mujer","65-69",{"$f":"'Pob x Genero'!#REF!","v":{"$error":"#REF!"}},1491]
["180107","MOQUEGUA","MOQUEGUA","MARISCAL NIETO","SAN ANTONIO","Mujer","65-69",{"$f":"'Pob x Genero'!#REF!","v":{"$error":"#REF!"}},1535]
["190302","PASCO","PASCO","OXAPAMPA","CHONTABAMBA","Mujer","65-69",{"$f":"'Pob x Genero'!#REF!","v":{"$error":"#REF!"}},1572]
["190308","PASCO","PASCO","OXAPAMPA","CONSTITUCIÓN","Mujer","65-69",{"$f":"'Pob x Genero'!#REF!","v":{"$error":"#REF!"}},1578]
["200505","PIURA","PIURA","PAITA","LA HUACA","Mujer","65-69",{"$f":"'Pob x Genero'!#REF!","v":{"$error":"#REF!"}},1621]
["210212","PUNO","PUNO","AZANGARO","SAN JOSE","Mujer","65-69",{"$f":"'Pob x Genero'!#REF!","v":{"$error":"#REF!"}},1670]
["210607","PUNO","PUNO","HUANCANE","TARACO","Mujer","65-69",{"$f":"'Pob x Genero'!#REF!","v":{"$error":"#REF!"}},1702]
["211205","PUNO","PUNO","SANDIA","PHARA","Mujer","65-69",{"$f":"'Pob x Genero'!#REF!","v":{"$error":"#REF!"}},1741]
["211301","PUNO","PUNO","YUNGUYO","YUNGUYO","Mujer","65-69",{"$f":"'Pob x Genero'!#REF!","v":{"$error":"#REF!"}},1747]
["220603","SAN MARTIN","SAN MARTIN","MARISCAL CACERES","HUICUNGO","Mujer","65-69",{"$f":"'Pob x Genero'!#REF!","v":{"$error":"#REF!"}},1790]
["220912","SAN MARTIN","SAN MARTIN","SAN MARTIN","SAN ANTONIO","Mujer","65-69",{"$f":"'Pob x Genero'!#REF!","v":{"$error":"#REF!"}},1823]
["240303","TUMBES","TUMBES","ZARUMILLA","MATAPALO","Mujer","65-69",{"$f":"'Pob x Genero'!#REF!","v":{"$error":"#REF!"}},1871]
["250105","UCAYALI","UCAYALI","CORONEL PORTILLO","YARINACOCHA","Mujer","65-69",{"$f":"'Pob x Genero'!#REF!","v":{"$error":"#REF!"}},1877]
["010204","AMAZONAS","AMAZONAS","BAGUA","EL PARCO","Mujer","70-74",{"$f":"'Pob x Genero'!#REF!","v":{"$error":"#REF!"}},25]
["010603","AMAZONAS","AMAZONAS","RODRIGUEZ DE MENDOZA","COCHAMAL","Mujer","70-74",{"$f":"'Pob x Genero'!#REF!","v":{"$error":"#REF!"}},68]
["020101","ANCASH","ANCASH","HUARAZ","HUARAZ","Mujer","70-74",{"$f":"'Pob x Genero'!#REF!","v":{"$error":"#REF!"}},85]
["020903","ANCASH","ANCASH","CORONGO","BAMBAS","Mujer","70-74",{"$f":"'Pob x Genero'!#REF!","v":{"$error":"#REF!"}},145]
["021006","ANCASH","ANCASH","HUARI","HUACCHIS","Mujer","70-74",{"$f":"'Pob x Genero'!#REF!","v":{"$error":"#REF!"}},155]
["021406","ANCASH","ANCASH","OCROS","CONGAS","Mujer",{"$f":"G60706","v":"70-74"},{"$f":"'Pob x Genero'!#REF!","v":{"$error":"#REF!"}},194]
["021707","ANCASH","ANCASH","RECUAY","PAMPAS CHICO","Mujer","70-74",{"$f":"'Pob x Genero'!#REF!","v":{"$error":"#REF!"}},220]
["030216","APURIMAC","APURIMAC","ANDAHUAYLAS","TALAVERA","Mujer","70-74",{"$f":"'Pob x Genero'!#REF!","v":{"$error":"#REF!"}},275]
["030302","APURIMAC","APURIMAC","ANTABAMBA","EL ORO","Mujer","70-74",{"$f":"'Pob x Genero'!#REF!","v":{"$error":"#REF!"}},281]
["030703","APURIMAC","APURIMAC","GRAU","GAMARRA","Mujer","70-74",{"$f":"'Pob x Genero'!#REF!","v":{"$error":"#REF!"}},324]
["040128","AREQUIPA","AREQUIPA","AREQUIPA","YURA","Mujer","70-74",{"$f":"'Pob x Genero'!DZ36","v":343},363]
["040506","AREQUIPA","AREQUIPA","CAYLLOMA","COPORAQUE","Mujer","70-74",{"$f":"'Pob x Genero'!DZ78","v":25},405]
["040512","AREQUIPA","AREQUIPA","CAYLLOMA","MACA","Mujer","70-74",{"$f":"'Pob x Genero'!DZ84","v":19},411]
["050106","AYACUCHO","AYACUCHO","HUAMANGA","OCROS","Mujer",{"$f":"G60962","v":"70-74"},{"$f":"'Pob x Genero'!#REF!","v":{"$error":"#REF!"}},450]
["050510","AYACUCHO","AYACUCHO","LA MAR","ANCHIHUAY","Mujer","70-74",{"$f":"'Pob x Genero'!#REF!","v":{"$error":"#REF!"}},493]
["050805","AYACUCHO","AYACUCHO","PAUCAR DEL SARA SARA","MARCABAMBA","Mujer","70-74",{"$f":"'Pob x Genero'!#REF!","v":{"$error":"#REF!"}},532]
["051010","AYACUCHO","AYACUCHO","VICTOR FAJARDO","HUAYA","Mujer","70-74",{"$f":"'Pob x Genero'!#REF!","v":{"$error":"#REF!"}},558]
["060112","CAJAMARCA","CAJAMARCA","CAJAMARCA","SAN JUAN","Mujer","70-74",{"$f":"'Pob x Genero'!#REF!","v":{"$error":"#REF!"}},580]
["060504","CAJAMARCA","CAJAMARCA","CONTUMAZA","GUZMANGO","Mujer","70-74",{"$f":"'Pob x Genero'!#REF!","v":{"$error":"#REF!"}},619]
["061002","CAJAMARCA","CAJAMARCA","SAN MARCOS","CHANCAY","Mujer","70-74",{"$f":"'Pob x Genero'!#REF!","v":{"$error":"#REF!"}},662]
["070106","CALLAO","CALLAO","CALLAO","VENTANILLA","Mujer","70-74",{"$f":"'Pob x Genero'!#REF!","v":{"$error":"#REF!"}},701]
["080201","CUSCO","CUSCO","ACOMAYO","ACOMAYO","Mujer","70-74",{"$f":"'Pob x Genero'!#REF!","v":{"$error":"#REF!"}},711]
["080607","CUSCO","CUSCO","CANCHIS","SAN PEDRO","Mujer","70-74",{"$f":"'Pob x Genero'!#REF!","v":{"$error":"#REF!"}},749]
["081004","CUSCO","CUSCO","PARURO","COLCHA","Mujer","70-74",{"$f":"'Pob x Genero'!#REF!","v":{"$error":"#REF!"}},788]
["090109","HUANCAVELICA","HUANCAVELICA","HUANCAVELICA","LARIA","Mujer","70-74",{"$f":"'Pob x Genero'!#REF!","v":{"$error":"#REF!"}},827]
["090301","HUANCAVELICA","HUANCAVELICA","ANGARAES","LIRCAY","Mujer","70-74",{"$f":"'Pob x Genero'!#REF!","v":{"$error":"#REF!"}},846]
["090505","HUANCAVELICA","HUANCAVELICA","CHURCAMPA","LA MERCED","Mujer","70-74",{"$f":"'Pob x Genero'!#REF!","v":{"$error":"#REF!"}},875]
["090723","HUANCAVELICA","HUANCAVELICA","TAYACAJA","SANTIAGO DE TUCUMA","Mujer","70-74",{"$f":"'Pob x Genero'!#REF!","v":{"$error":"#REF!"}},918]
["100503","HUANUCO","HUANUCO","HUAMALIES","CHAVIN DE PARIARCA","Mujer","70-74",{"$f":"'Pob x Genero'!#REF!","v":{"$error":"#REF!"}},957]
["101007","HUANUCO","HUANUCO","LAURICOCHA","SAN MIGUEL DE CAURI","Mujer","70-74",{"$f":"'Pob x Genero'!#REF!","v":{"$error":"#REF!"}},996]
["101103","HUANUCO","HUANUCO","YAROWILCA","CHACABAMBA","Mujer","70-74",{"$f":"'Pob x Genero'!#REF!","v":{"$error":"#REF!"}},999]
["110505","ICA","ICA","PISCO","PARACAS","Mujer","70-74",{"$f":"'Pob x Genero'!#REF!","v":{"$error":"#REF!"}},1044]
["120212","JUNIN","JUNIN","CONCEPCION","NUEVE DE JULIO","Mujer","70-74",{"$f":"'Pob x Genero'!#REF!","v":{"$error":"#REF!"}},1087]
["120430","JUNIN","JUNIN","JAUJA","SAUSA","Mujer","70-74",{"$f":"'Pob x Genero'!#REF!","v":{"$error":"#REF!"}},1126]
["120502","JUNIN","JUNIN","JUNIN","CARHUAMAYO","Mujer","70-74",{"$f":"'Pob x Genero'!#REF!","v":{"$error":"#REF!"}},1132]
["130201","LA LIBERTAD","LA LIBERTAD","ASCOPE","ASCOPE","Mujer",{"$f":"G61695","v":"70-74"},{"$f":"'Pob x Genero'!#REF!","v":{"$error":"#REF!"}},1184]
["130613","LA LIBERTAD","LA LIBERTAD","OTUZCO","SINSICAP","Mujer","70-74",{"$f":"'Pob x Genero'!#REF!","v":{"$error":"#REF!"}},1213]
["131104","LA LIBERTAD","LA LIBERTAD","GRAN CHIMU","SAYAPULLO","Mujer","70-74",{"$f":"'Pob x Genero'!#REF!","v":{"$error":"#REF!"}},1252]
["140107","LAMBAYEQUE","LAMBAYEQUE","CHICLAYO","LAGUNAS","Mujer","70-74",{"$f":"'Pob x Genero'!#REF!","v":{"$error":"#REF!"}},1262]
["150108","DIRIS SUR","LIMA","LIMA","CHORRILLOS","Mujer","70-74",{"$f":"'Pob x Genero'!#REF!","v":{"$error":"#REF!"}},1301]
["150201","LIMA","LIMA","BARRANCA","BARRANCA","Mujer","70-74",{"$f":"'Pob x Genero'!#REF!","v":{"$error":"#REF!"}},1337]
["150701","LIMA","LIMA","HUAROCHIRI","MATUCANA","Mujer","70-74",{"$f":"'Pob x Genero'!#REF!","v":{"$error":"#REF!"}},1382]
["150808","LIMA","LIMA","HUAURA","PACCHO","Mujer","70-74",{"$f":"'Pob x Genero'!#REF!","v":{"$error":"#REF!"}},1421]
["150906","LIMA","LIMA","OYON","PACHANGARA","Mujer","70-74",{"$f":"'Pob x Genero'!#REF!","v":{"$error":"#REF!"}},1431]
["160108","LORETO","LORETO","MAYNAS","PUNCHANA","Mujer","70-74",{"$f":"'Pob x Genero'!#REF!","v":{"$error":"#REF!"}},1472]
["160701","LORETO","LORETO","DATEM DEL MARAÑON","BARRANCA","Mujer","70-74",{"$f":"'Pob x Genero'!#REF!","v":{"$error":"#REF!"}},1508]
["190102","PASCO","PASCO","PASCO","HUACHON","Mujer","70-74",{"$f":"'Pob x Genero'!#REF!","v":{"$error":"#REF!"}},1551]
["190108","PASCO","PASCO","PASCO","SAN FRANCISCO DE ASIS DE YARUSYACAN","Mujer","70-74",{"$f":"'Pob x Genero'!#REF!","v":{"$error":"#REF!"}},1557]
["200302","PIURA","PIURA","HUANCABAMBA","CANCHAQUE","Mujer","70-74",{"$f":"'Pob x Genero'!#REF!","v":{"$error":"#REF!"}},1600]
["200602","PIURA","PIURA","SULLANA","BELLAVISTA","Mujer","70-74",{"$f":"'Pob x Genero'!#REF!","v":{"$error":"#REF!"}},1625]
["210304","PUNO","PUNO","CARABAYA","COASA","Mujer","70-74",{"$f":"'Pob x Genero'!#REF!","v":{"$error":"#REF!"}},1677]
["210404","PUNO","PUNO","CHUCUITO","KELLUYO","Mujer","70-74",{"$f":"'Pob x Genero'!#REF!","v":{"$error":"#REF!"}},1687]
["210904","PUNO","PUNO","MOHO","TILALI","Mujer","70-74",{"$f":"'Pob x Genero'!#REF!","v":{"$error":"#REF!"}},1726]
["220304","SAN MARTIN","SAN MARTIN","EL DORADO","SANTA ROSA","Mujer","70-74",{"$f":"'Pob x Genero'!#REF!","v":{"$error":"#REF!"}},1769]
["220808","SAN MARTIN","SAN MARTIN","RIOJA","YORONGOS","Mujer","70-74",{"$f":"'Pob x Genero'!#REF!","v":{"$error":"#REF!"}},1810]
["230204","TACNA","TACNA","CANDARAVE","CURIBAYA","Mujer","70-74",{"$f":"'Pob x Genero'!#REF!","v":{"$error":"#REF!"}},1846]
["230405","TACNA","TACNA","TARATA","SITAJARA","Mujer","70-74",{"$f":"'Pob x Genero'!#REF!","v":{"$error":"#REF!"}},1856]
["010104","AMAZONAS","AMAZONAS","CHACHAPOYAS","CHETO","Mujer","75-79",{"$f":"'Pob x Genero'!#REF!","v":{"$error":"#REF!"}},4]
["010512","AMAZONAS","AMAZONAS","LUYA","OCALLI","Mujer","75-79",{"$f":"'Pob x Genero'!#REF!","v":{"$error":"#REF!"}},54]
["020101","ANCASH","ANCASH","HUARAZ","HUARAZ","Mujer","75-79",{"$f":"'Pob x Genero'!#REF!","v":{"$error":"#REF!"}},85]
["020107","ANCASH","ANCASH","HUARAZ","LA LIBERTAD","Mujer","75-79",{"$f":"'Pob x Genero'!#REF!","v":{"$error":"#REF!"}},91]
["020610","ANCASH","ANCASH","CARHUAZ","TINCO","Mujer","75-79",{"$f":"'Pob x Genero'!#REF!","v":{"$error":"#REF!"}},134]
["021203","ANCASH","ANCASH","HUAYLAS","HUATA","Mujer","75-79",{"$f":"'Pob x Genero'!#REF!","v":{"$error":"#REF!"}},173]
["021509","ANCASH","ANCASH","PALLASCA","PAMPAS","Mujer","75-79",{"$f":"'Pob x Genero'!#REF!","v":{"$error":"#REF!"}},207]
["030104","APURIMAC","APURIMAC","ABANCAY","CURAHUASI","Mujer","75-79",{"$f":"'Pob x Genero'!#REF!","v":{"$error":"#REF!"}},254]
["030201","APURIMAC","APURIMAC","ANDAHUAYLAS","ANDAHUAYLAS","Mujer","75-79",{"$f":"'Pob x Genero'!#REF!","v":{"$error":"#REF!"}},260]
["030417","APURIMAC","APURIMAC","AYMARAES","YANACA","Mujer","75-79",{"$f":"'Pob x Genero'!#REF!","v":{"$error":"#REF!"}},303]
["040107","AREQUIPA","AREQUIPA","AREQUIPA","JACOBO HUNTER","Mujer","75-79",{"$f":"'Pob x Genero'!EA15","v":470},342]
["040125","AREQUIPA","AREQUIPA","AREQUIPA","VITOR","Mujer","75-79",{"$f":"'Pob x Genero'!EA33","v":35},360]
["040405","AREQUIPA","AREQUIPA","CASTILLA","CHILCAYMARCA","Mujer","75-79",{"$f":"'Pob x Genero'!EA63","v":5},390]
["040702","AREQUIPA","AREQUIPA","ISLAY","COCACHACRA","Mujer","75-79",{"$f":"'Pob x Genero'!EA102","v":79},429]
["050302","AYACUCHO","AYACUCHO","HUANCA SANCOS","CARAPO","Mujer","75-79",{"$f":"'Pob x Genero'!#REF!","v":{"$error":"#REF!"}},468]
["050613","AYACUCHO","AYACUCHO","LUCANAS","OTOCA","Mujer","75-79",{"$f":"'Pob x Genero'!#REF!","v":{"$error":"#REF!"}},511]
["050908","AYACUCHO","AYACUCHO","SUCRE","SAN PEDRO DE LARCAY","Mujer","75-79",{"$f":"'Pob x Genero'!#REF!","v":{"$error":"#REF!"}},545]
["051011","AYACUCHO","AYACUCHO","VICTOR FAJARDO","SARHUA","Mujer","75-79",{"$f":"'Pob x Genero'!#REF!","v":{"$error":"#REF!"}},559]
["060402","CAJAMARCA","CAJAMARCA","CHOTA","ANGUIA","Mujer","75-79",{"$f":"'Pob x Genero'!#REF!","v":{"$error":"#REF!"}},598]
["060614","CAJAMARCA","CAJAMARCA","CUTERVO","SOCOTA","Mujer","75-79",{"$f":"'Pob x Genero'!#REF!","v":{"$error":"#REF!"}},637]
["061113","CAJAMARCA","CAJAMARCA","SAN MIGUEL","UNION AGUA BLANCA","Mujer","75-79",{"$f":"'Pob x Genero'!#REF!","v":{"$error":"#REF!"}},680]
["061301","CAJAMARCA","CAJAMARCA","SANTA CRUZ","SANTA CRUZ","Mujer","75-79",{"$f":"'Pob x Genero'!#REF!","v":{"$error":"#REF!"}},685]
["080307","CUSCO","CUSCO","ANTA","MOLLEPATA","Mujer","75-79",{"$f":"'Pob x Genero'!#REF!","v":{"$error":"#REF!"}},724]
["080901","CUSCO","CUSCO","LA CONVENCION","SANTA ANA","Mujer","75-79",{"$f":"'Pob x Genero'!#REF!","v":{"$error":"#REF!"}},767]
["081207","CUSCO","CUSCO","QUISPICANCHI","HUARO","Mujer","75-79",{"$f":"'Pob x Genero'!#REF!","v":{"$error":"#REF!"}},806]
["090115","HUANCAVELICA","HUANCAVELICA","HUANCAVELICA","PILCHACA","Mujer","75-79",{"$f":"'Pob x Genero'!#REF!","v":{"$error":"#REF!"}},833]
["090309","HUANCAVELICA","HUANCAVELICA","ANGARAES","JULCAMARCA","Mujer","75-79",{"$f":"'Pob x Genero'!#REF!","v":{"$error":"#REF!"}},854]
["090612","HUANCAVELICA","HUANCAVELICA","HUAYTARA","SAN ISIDRO","Mujer","75-79",{"$f":"'Pob x Genero'!#REF!","v":{"$error":"#REF!"}},893]
["100203","HUANUCO","HUANUCO","AMBO","COLPAS","Mujer","75-79",{"$f":"'Pob x Genero'!#REF!","v":{"$error":"#REF!"}},936]
["100610","HUANUCO","HUANUCO","LEONCIO PRADO","SANTO DOMINGO DE ANDA","Mujer","75-79",{"$f":"'Pob x Genero'!#REF!","v":{"$error":"#REF!"}},975]
["100902","HUANUCO","HUANUCO","PUERTO INCA","CODO DEL POZUZO","Mujer","75-79",{"$f":"'Pob x Genero'!#REF!","v":{"$error":"#REF!"}},986]
["110205","ICA","ICA","CHINCHA","EL CARMEN","Mujer","75-79",{"$f":"'Pob x Genero'!#REF!","v":{"$error":"#REF!"}},1023]
["120121","JUNIN","JUNIN","HUANCAYO","HUAYUCACHI","Mujer","75-79",{"$f":"'Pob x Genero'!#REF!","v":{"$error":"#REF!"}},1062]
["120409","JUNIN","JUNIN","JAUJA","HUARIPAMPA","Mujer","75-79",{"$f":"'Pob x Genero'!#REF!","v":{"$error":"#REF!"}},1105]
["120415","JUNIN","JUNIN","JAUJA","MARCO","Mujer","75-79",{"$f":"'Pob x Genero'!#REF!","v":{"$error":"#REF!"}},1111]
["120909","JUNIN","JUNIN","CHUPACA","YANACANCHA","Mujer","75-79",{"$f":"'Pob x Genero'!#REF!","v":{"$error":"#REF!"}},1171]
["130301","LA LIBERTAD","LA LIBERTAD","BOLIVAR","BOLIVAR","Mujer","75-79",{"$f":"'Pob x Genero'!#REF!","v":{"$error":"#REF!"}},1192]
["130812","LA LIBERTAD","LA LIBERTAD","PATAZ","TAURIJA","Mujer","75-79",{"$f":"'Pob x Genero'!#REF!","v":{"$error":"#REF!"}},1231]
["131001","LA LIBERTAD","LA LIBERTAD","SANTIAGO DE CHUCO","SANTIAGO DE CHUCO","Mujer","75-79",{"$f":"'Pob x Genero'!#REF!","v":{"$error":"#REF!"}},1241]
["140119","LAMBAYEQUE","LAMBAYEQUE","CHICLAYO","PUCALA","Mujer","75-79",{"$f":"'Pob x Genero'!#REF!","v":{"$error":"#REF!"}},1274]
["150125","DIRIS NORTE","LIMA","LIMA","PUENTE PIEDRA","Mujer","75-79",{"$f":"'Pob x Genero'!#REF!","v":{"$error":"#REF!"}},1318]
["150508","LIMA","LIMA","CAÑETE","LUNAHUANA","Mujer","75-79",{"$f":"'Pob x Genero'!#REF!","v":{"$error":"#REF!"}},1361]
["150719","LIMA","LIMA","HUAROCHIRI","SAN JUAN DE IRIS","Mujer","75-79",{"$f":"'Pob x Genero'!#REF!","v":{"$error":"#REF!"}},1400]
["150729","LIMA","LIMA","HUAROCHIRI","SANTIAGO DE ANCHUCAYA","Mujer","75-79",{"$f":"'Pob x Genero'!#REF!","v":{"$error":"#REF!"}},1410]
["151028","LIMA","LIMA","YAUYOS","TANTA","Mujer","75-79",{"$f":"'Pob x Genero'!#REF!","v":{"$error":"#REF!"}},1459]
["160401","LORETO","LORETO","MARISCAL RAMON CASTILLA","RAMON CASTILLA","Mujer","75-79",{"$f":"'Pob x Genero'!#REF!","v":{"$error":"#REF!"}},1487]
["180102","MOQUEGUA","MOQUEGUA","MARISCAL NIETO","CARUMAS","Mujer","75-79",{"$f":"'Pob x Genero'!#REF!","v":{"$error":"#REF!"}},1530]
["180201","MOQUEGUA","MOQUEGUA","GENERAL SANCHEZ CERRO","OMATE","Mujer","75-79",{"$f":"'Pob x Genero'!#REF!","v":{"$error":"#REF!"}},1536]
["190305","PASCO","PASCO","OXAPAMPA","POZUZO","Mujer","75-79",{"$f":"'Pob x Genero'!#REF!","v":{"$error":"#REF!"}},1575]
["200406","PIURA","PIURA","MORROPON","SALITRAL","Mujer","75-79",{"$f":"'Pob x Genero'!#REF!","v":{"$error":"#REF!"}},1612]
["210113","PUNO","PUNO","PUNO","SAN ANTONIO","Mujer","75-79",{"$f":"'Pob x Genero'!#REF!","v":{"$error":"#REF!"}},1656]
["210208","PUNO","PUNO","AZANGARO","MUÑANI","Mujer","75-79",{"$f":"'Pob x Genero'!#REF!","v":{"$error":"#REF!"}},1666]
["210702","PUNO","PUNO","LAMPA","CABANILLA","Mujer","75-79",{"$f":"'Pob x Genero'!#REF!","v":{"$error":"#REF!"}},1705]
["211301","PUNO","PUNO","YUNGUYO","YUNGUYO","Mujer","75-79",{"$f":"'Pob x Genero'!#REF!","v":{"$error":"#REF!"}},1747]
["220510","SAN MARTIN","SAN MARTIN","LAMAS","TABALOSOS","Mujer","75-79",{"$f":"'Pob x Genero'!#REF!","v":{"$error":"#REF!"}},1786]
["220914","SAN MARTIN","SAN MARTIN","SAN MARTIN","SHAPAJA","Mujer","75-79",{"$f":"'Pob x Genero'!#REF!","v":{"$error":"#REF!"}},1825]
["221006","SAN MARTIN","SAN MARTIN","TOCACHE","SANTA LUCIA","Mujer","75-79",{"$f":"'Pob x Genero'!#REF!","v":{"$error":"#REF!"}},1831]
["250102","UCAYALI","UCAYALI","CORONEL PORTILLO","CAMPOVERDE","Mujer","75-79",{"$f":"'Pob x Genero'!#REF!","v":{"$error":"#REF!"}},1874]
["010109","AMAZONAS","AMAZONAS","CHACHAPOYAS","LA JALCA","Mujer","80-84",{"$f":"'Pob x Genero'!#REF!","v":{"$error":"#REF!"}},9]
["010522","AMAZONAS","AMAZONAS","LUYA","TINGO","Mujer","80-84",{"$f":"'Pob x Genero'!#REF!","v":{"$error":"#REF!"}},64]
["010605","AMAZONAS","AMAZONAS","RODRIGUEZ DE MENDOZA","LIMABAMBA","Mujer","80-84",{"$f":"'Pob x Genero'!#REF!","v":{"$error":"#REF!"}},70]
["020402","ANCASH","ANCASH","ASUNCION","ACOCHACA","Mujer","80-84",{"$f":"'Pob x Genero'!#REF!","v":{"$error":"#REF!"}},109]
["021003","ANCASH","ANCASH","HUARI","CAJAY","Mujer","80-84",{"$f":"'Pob x Genero'!#REF!","v":{"$error":"#REF!"}},152]
["021406","ANCASH","ANCASH","OCROS","CONGAS","Mujer",{"$f":"G64488","v":"80-84"},{"$f":"'Pob x Genero'!#REF!","v":{"$error":"#REF!"}},194]
["021502","ANCASH","ANCASH","PALLASCA","BOLOGNESI","Mujer","80-84",{"$f":"'Pob x Genero'!#REF!","v":{"$error":"#REF!"}},200]
["021907","ANCASH","ANCASH","SIHUAS","QUICHES","Mujer","80-84",{"$f":"'Pob x Genero'!#REF!","v":{"$error":"#REF!"}},239]
["030219","APURIMAC","APURIMAC","ANDAHUAYLAS","KAQUIABAMBA","Mujer","80-84",{"$f":"'Pob x Genero'!#REF!","v":{"$error":"#REF!"}},278]
["030612","APURIMAC","APURIMAC","CHINCHEROS","AHUAYRO","Mujer","80-84",{"$f":"'Pob x Genero'!#REF!","v":{"$error":"#REF!"}},321]
["040112","AREQUIPA","AREQUIPA","AREQUIPA","PAUCARPATA","Mujer","80-84",{"$f":"'Pob x Genero'!EB20","v":837},347]
["040201","AREQUIPA","AREQUIPA","CAMANA","CAMANA","Mujer","80-84",{"$f":"'Pob x Genero'!EB38","v":110},365]
["040509","AREQUIPA","AREQUIPA","CAYLLOMA","ICHUPAMPA","Mujer","80-84",{"$f":"'Pob x Genero'!EB81","v":7},408]
["050103","AYACUCHO","AYACUCHO","HUAMANGA","ACOS VINCHOS","Mujer","80-84",{"$f":"'Pob x Genero'!#REF!","v":{"$error":"#REF!"}},447]
["050412","AYACUCHO","AYACUCHO","HUANTA","CHACA","Mujer","80-84",{"$f":"'Pob x Genero'!#REF!","v":{"$error":"#REF!"}},482]
["050512","AYACUCHO","AYACUCHO","LA MAR","UNION PROGRESO","Mujer","80-84",{"$f":"'Pob x Genero'!#REF!","v":{"$error":"#REF!"}},495]
["050807","AYACUCHO","AYACUCHO","PAUCAR DEL SARA SARA","PARARCA","Mujer","80-84",{"$f":"'Pob x Genero'!#REF!","v":{"$error":"#REF!"}},534]
["060109","CAJAMARCA","CAJAMARCA","CAJAMARCA","MAGDALENA","Mujer","80-84",{"$f":"'Pob x Genero'!#REF!","v":{"$error":"#REF!"}},577]
["060501","CAJAMARCA","CAJAMARCA","CONTUMAZA","CONTUMAZA","Mujer","80-84",{"$f":"'Pob x Genero'!#REF!","v":{"$error":"#REF!"}},616]
["060612","CAJAMARCA","CAJAMARCA","CUTERVO","SANTO DOMINGO DE LA CAPILLA","Mujer","80-84",{"$f":"'Pob x Genero'!#REF!","v":{"$error":"#REF!"}},635]
["061004","CAJAMARCA","CAJAMARCA","SAN MARCOS","GREGORIO PITA","Mujer","80-84",{"$f":"'Pob x Genero'!#REF!","v":{"$error":"#REF!"}},664]
["080101","CUSCO","CUSCO","CUSCO","CUSCO","Mujer","80-84",{"$f":"'Pob x Genero'!#REF!","v":{"$error":"#REF!"}},703]
["080604","CUSCO","CUSCO","CANCHIS","MARANGANI","Mujer","80-84",{"$f":"'Pob x Genero'!#REF!","v":{"$error":"#REF!"}},746]
["081001","CUSCO","CUSCO","PARURO","PARURO","Mujer","80-84",{"$f":"'Pob x Genero'!#REF!","v":{"$error":"#REF!"}},785]
["090102","HUANCAVELICA","HUANCAVELICA","HUANCAVELICA","ACOBAMBILLA","Mujer","80-84",{"$f":"'Pob x Genero'!#REF!","v":{"$error":"#REF!"}},820]
["090115","HUANCAVELICA","HUANCAVELICA","HUANCAVELICA","PILCHACA","Mujer","80-84",{"$f":"'Pob x Genero'!#REF!","v":{"$error":"#REF!"}},833]
["090502","HUANCAVELICA","HUANCAVELICA","CHURCAMPA","ANCO","Mujer","80-84",{"$f":"'Pob x Genero'!#REF!","v":{"$error":"#REF!"}},872]
["090720","HUANCAVELICA","HUANCAVELICA","TAYACAJA","ANDAYMARCA","Mujer","80-84",{"$f":"'Pob x Genero'!#REF!","v":{"$error":"#REF!"}},915]
["100404","HUANUCO","HUANUCO","HUACAYBAMBA","PINRA","Mujer","80-84",{"$f":"'Pob x Genero'!#REF!","v":{"$error":"#REF!"}},954]
["100608","HUANUCO","HUANUCO","LEONCIO PRADO","CASTILLO GRANDE","Mujer","80-84",{"$f":"'Pob x Genero'!#REF!","v":{"$error":"#REF!"}},973]
["101106","HUANUCO","HUANUCO","YAROWILCA","OBAS","Mujer","80-84",{"$f":"'Pob x Genero'!#REF!","v":{"$error":"#REF!"}},1002]
["110502","ICA","ICA","PISCO","HUANCANO","Mujer","80-84",{"$f":"'Pob x Genero'!#REF!","v":{"$error":"#REF!"}},1041]
["120205","JUNIN","JUNIN","CONCEPCION","COCHAS","Mujer","80-84",{"$f":"'Pob x Genero'!#REF!","v":{"$error":"#REF!"}},1080]
["120412","JUNIN","JUNIN","JAUJA","JULCAN","Mujer","80-84",{"$f":"'Pob x Genero'!#REF!","v":{"$error":"#REF!"}},1108]
["120432","JUNIN","JUNIN","JAUJA","TUNAN MARCA","Mujer","80-84",{"$f":"'Pob x Genero'!#REF!","v":{"$error":"#REF!"}},1128]
["120909","JUNIN","JUNIN","CHUPACA","YANACANCHA","Mujer","80-84",{"$f":"'Pob x Genero'!#REF!","v":{"$error":"#REF!"}},1171]
["130608","LA LIBERTAD","LA LIBERTAD","OTUZCO","MACHE","Mujer","80-84",{"$f":"'Pob x Genero'!#REF!","v":{"$error":"#REF!"}},1210]
["131101","LA LIBERTAD","LA LIBERTAD","GRAN CHIMU","CASCAS","Mujer","80-84",{"$f":"'Pob x Genero'!#REF!","v":{"$error":"#REF!"}},1249]
["140106","LAMBAYEQUE","LAMBAYEQUE","CHICLAYO","LA VICTORIA","Mujer","80-84",{"$f":"'Pob x Genero'!#REF!","v":{"$error":"#REF!"}},1261]
["150104","DIRIS SUR","LIMA","LIMA","BARRANCO","Mujer","80-84",{"$f":"'Pob x Genero'!#REF!","v":{"$error":"#REF!"}},1297]
["150204","LIMA","LIMA","BARRANCA","SUPE","Mujer","80-84",{"$f":"'Pob x Genero'!#REF!","v":{"$error":"#REF!"}},1340]
["150610","LIMA","LIMA","HUARAL","SANTA CRUZ DE ANDAMARCA","Mujer","80-84",{"$f":"'Pob x Genero'!#REF!","v":{"$error":"#REF!"}},1379]
["150704","LIMA","LIMA","HUAROCHIRI","CARAMPOMA","Mujer","80-84",{"$f":"'Pob x Genero'!#REF!","v":{"$error":"#REF!"}},1385]
["150801","LIMA","LIMA","HUAURA","HUACHO","Mujer","80-84",{"$f":"'Pob x Genero'!#REF!","v":{"$error":"#REF!"}},1414]
["160102","LORETO","LORETO","MAYNAS","ALTO NANAY","Mujer","80-84",{"$f":"'Pob x Genero'!#REF!","v":{"$error":"#REF!"}},1466]
["160604","LORETO","LORETO","UCAYALI","PAMPA HERMOSA","Mujer","80-84",{"$f":"'Pob x Genero'!#REF!","v":{"$error":"#REF!"}},1505]
["160802","LORETO","LORETO","PUTUMAYO","ROSA PANDURO","Mujer","80-84",{"$f":"'Pob x Genero'!#REF!","v":{"$error":"#REF!"}},1515]
["180303","MOQUEGUA","MOQUEGUA","ILO","PACOCHA","Mujer","80-84",{"$f":"'Pob x Genero'!#REF!","v":{"$error":"#REF!"}},1549]
["200208","PIURA","PIURA","AYABACA","SAPILLICA","Mujer","80-84",{"$f":"'Pob x Genero'!#REF!","v":{"$error":"#REF!"}},1596]
["200704","PIURA","PIURA","TALARA","LOBITOS","Mujer","80-84",{"$f":"'Pob x Genero'!#REF!","v":{"$error":"#REF!"}},1635]
["210301","PUNO","PUNO","CARABAYA","MACUSANI","Mujer","80-84",{"$f":"'Pob x Genero'!#REF!","v":{"$error":"#REF!"}},1674]
["210401","PUNO","PUNO","CHUCUITO","JULI","Mujer","80-84",{"$f":"'Pob x Genero'!#REF!","v":{"$error":"#REF!"}},1684]
["211103","PUNO","PUNO","SAN ROMAN","CABANILLAS","Mujer","80-84",{"$f":"'Pob x Genero'!#REF!","v":{"$error":"#REF!"}},1734]
["220202","SAN MARTIN","SAN MARTIN","BELLAVISTA","ALTO BIAVO","Mujer","80-84",{"$f":"'Pob x Genero'!#REF!","v":{"$error":"#REF!"}},1761]
["220802","SAN MARTIN","SAN MARTIN","RIOJA","AWAJUN","Mujer","80-84",{"$f":"'Pob x Genero'!#REF!","v":{"$error":"#REF!"}},1804]
["220808","SAN MARTIN","SAN MARTIN","RIOJA","YORONGOS","Mujer","80-84",{"$f":"'Pob x Genero'!#REF!","v":{"$error":"#REF!"}},1810]
["230402","TACNA","TACNA","TARATA","HEROES ALBARRACIN","Mujer","80-84",{"$f":"'Pob x Genero'!#REF!","v":{"$error":"#REF!"}},1853]
["250304","UCAYALI","UCAYALI","PADRE ABAD","NESHUYA","Mujer","80-84",{"$f":"'Pob x Genero'!#REF!","v":{"$error":"#REF!"}},1887]
["010312","AMAZONAS","AMAZONAS","BONGARA","YAMBRASBAMBA","Mujer","85-+",{"$f":"'Pob x Genero'!#REF!","v":{"$error":"#REF!"}},39]
["010507","AMAZONAS","AMAZONAS","LUYA","LONGUITA","Mujer","85-+",{"$f":"'Pob x Genero'!#REF!","v":{"$error":"#REF!"}},49]
["020104","ANCASH","ANCASH","HUARAZ","HUANCHAY","Mujer","85-+",{"$f":"'Pob x Genero'!#REF!","v":{"$error":"#REF!"}},88]
["020607","ANCASH","ANCASH","CARHUAZ","PARIAHUANCA","Mujer","85-+",{"$f":"'Pob x Genero'!#REF!","v":{"$error":"#REF!"}},131]
["020907","ANCASH","ANCASH","CORONGO","YUPAN","Mujer","85-+",{"$f":"'Pob x Genero'!#REF!","v":{"$error":"#REF!"}},149]
["021510","ANCASH","ANCASH","PALLASCA","SANTA ROSA","Mujer","85-+",{"$f":"'Pob x Genero'!#REF!","v":{"$error":"#REF!"}},208]
["021705","ANCASH","ANCASH","RECUAY","LLACLLIN","Mujer","85-+",{"$f":"'Pob x Genero'!#REF!","v":{"$error":"#REF!"}},218]
["030107","APURIMAC","APURIMAC","ABANCAY","PICHIRHUA","Mujer","85-+",{"$f":"'Pob x Genero'!#REF!","v":{"$error":"#REF!"}},257]
["030305","APURIMAC","APURIMAC","ANTABAMBA","OROPESA","Mujer","85-+",{"$f":"'Pob x Genero'!#REF!","v":{"$error":"#REF!"}},284]
["040103","AREQUIPA","AREQUIPA","AREQUIPA","CAYMA","Mujer","85-+",{"$f":"'Pob x Genero'!EC11","v":559},338]
["040109","AREQUIPA","AREQUIPA","AREQUIPA","MARIANO MELGAR","Mujer","85-+",{"$f":"'Pob x Genero'!EC17","v":495},344]
["040402","AREQUIPA","AREQUIPA","CASTILLA","ANDAGUA","Mujer","85-+",{"$f":"'Pob x Genero'!EC60","v":17},387]
["040607","AREQUIPA","AREQUIPA","CONDESUYOS","SALAMANCA","Mujer","85-+",{"$f":"'Pob x Genero'!EC99","v":9},426]
["050303","AYACUCHO","AYACUCHO","HUANCA SANCOS","SACSAMARCA","Mujer","85-+",{"$f":"'Pob x Genero'!#REF!","v":{"$error":"#REF!"}},469]
["050404","AYACUCHO","AYACUCHO","HUANTA","IGUAIN","Mujer","85-+",{"$f":"'Pob x Genero'!#REF!","v":{"$error":"#REF!"}},474]
["050615","AYACUCHO","AYACUCHO","LUCANAS","SAN CRISTOBAL","Mujer","85-+",{"$f":"'Pob x Genero'!#REF!","v":{"$error":"#REF!"}},513]
["051008","AYACUCHO","AYACUCHO","VICTOR FAJARDO","HUAMANQUIQUIA","Mujer","85-+",{"$f":"'Pob x Genero'!#REF!","v":{"$error":"#REF!"}},556]
["060311","CAJAMARCA","CAJAMARCA","CELENDIN","UTCO","Mujer","85-+",{"$f":"'Pob x Genero'!#REF!","v":{"$error":"#REF!"}},595]
["060507","CAJAMARCA","CAJAMARCA","CONTUMAZA","TANTARICA","Mujer","85-+",{"$f":"'Pob x Genero'!#REF!","v":{"$error":"#REF!"}},622]
["060802","CAJAMARCA","CAJAMARCA","JAEN","BELLAVISTA","Mujer","85-+",{"$f":"'Pob x Genero'!#REF!","v":{"$error":"#REF!"}},643]
["061202","CAJAMARCA","CAJAMARCA","SAN PABLO","SAN BERNARDINO","Mujer","85-+",{"$f":"'Pob x Genero'!#REF!","v":{"$error":"#REF!"}},682]
["080304","CUSCO","CUSCO","ANTA","CHINCHAYPUJIO","Mujer","85-+",{"$f":"'Pob x Genero'!#REF!","v":{"$error":"#REF!"}},721]
["080806","CUSCO","CUSCO","ESPINAR","PICHIGUA","Mujer","85-+",{"$f":"'Pob x Genero'!#REF!","v":{"$error":"#REF!"}},764]
["080909","CUSCO","CUSCO","LA CONVENCION","VILCABAMBA","Mujer","85-+",{"$f":"'Pob x Genero'!#REF!","v":{"$error":"#REF!"}},775]
["081301","CUSCO","CUSCO","URUBAMBA","URUBAMBA","Mujer","85-+",{"$f":"'Pob x Genero'!#REF!","v":{"$error":"#REF!"}},812]
["090306","HUANCAVELICA","HUANCAVELICA","ANGARAES","CONGALLA","Mujer","85-+",{"$f":"'Pob x Genero'!#REF!","v":{"$error":"#REF!"}},851]
["090609","HUANCAVELICA","HUANCAVELICA","HUAYTARA","QUITO-ARMA","Mujer","85-+",{"$f":"'Pob x Genero'!#REF!","v":{"$error":"#REF!"}},890]
["090715","HUANCAVELICA","HUANCAVELICA","TAYACAJA","SALCAHUASI","Mujer","85-+",{"$f":"'Pob x Genero'!#REF!","v":{"$error":"#REF!"}},910]
["100205","HUANUCO","HUANUCO","AMBO","HUACAR","Mujer","85-+",{"$f":"'Pob x Genero'!#REF!","v":{"$error":"#REF!"}},938]
["100702","HUANUCO","HUANUCO","MARAÑON","CHOLON","Mujer","85-+",{"$f":"'Pob x Genero'!#REF!","v":{"$error":"#REF!"}},977]
["110202","ICA","ICA","CHINCHA","ALTO LARAN","Mujer","85-+",{"$f":"'Pob x Genero'!#REF!","v":{"$error":"#REF!"}},1020]
["120117","JUNIN","JUNIN","HUANCAYO","HUALHUAS","Mujer","85-+",{"$f":"'Pob x Genero'!#REF!","v":{"$error":"#REF!"}},1059]
["120305","JUNIN","JUNIN","CHANCHAMAYO","SAN RAMON","Mujer","85-+",{"$f":"'Pob x Genero'!#REF!","v":{"$error":"#REF!"}},1095]
["120411","JUNIN","JUNIN","JAUJA","JANJAILLO","Mujer","85-+",{"$f":"'Pob x Genero'!#REF!","v":{"$error":"#REF!"}},1107]
["120703","JUNIN","JUNIN","TARMA","HUARICOLCA","Mujer","85-+",{"$f":"'Pob x Genero'!#REF!","v":{"$error":"#REF!"}},1146]
["130206","LA LIBERTAD","LA LIBERTAD","ASCOPE","RAZURI","Mujer","85-+",{"$f":"'Pob x Genero'!#REF!","v":{"$error":"#REF!"}},1189]
["130304","LA LIBERTAD","LA LIBERTAD","BOLIVAR","LONGOTEA","Mujer","85-+",{"$f":"'Pob x Genero'!#REF!","v":{"$error":"#REF!"}},1195]
["131008","LA LIBERTAD","LA LIBERTAD","SANTIAGO DE CHUCO","SITABAMBA","Mujer","85-+",{"$f":"'Pob x Genero'!#REF!","v":{"$error":"#REF!"}},1248]
["140201","LAMBAYEQUE","LAMBAYEQUE","FERREÑAFE","FERREÑAFE","Mujer","85-+",{"$f":"'Pob x Genero'!#REF!","v":{"$error":"#REF!"}},1276]
["150122","DIRIS CENTRO","LIMA","LIMA","MIRAFLORES","Mujer","85-+",{"$f":"'Pob x Genero'!#REF!","v":{"$error":"#REF!"}},1315]
["150505","LIMA","LIMA","CAÑETE","CHILCA","Mujer","85-+",{"$f":"'Pob x Genero'!#REF!","v":{"$error":"#REF!"}},1358]
["150511","LIMA","LIMA","CAÑETE","PACARAN","Mujer","85-+",{"$f":"'Pob x Genero'!#REF!","v":{"$error":"#REF!"}},1364]
["150711","LIMA","LIMA","HUAROCHIRI","LANGA","Mujer","85-+",{"$f":"'Pob x Genero'!#REF!","v":{"$error":"#REF!"}},1392]
["150712","LIMA","LIMA","HUAROCHIRI","LARAOS","Mujer","85-+",{"$f":"'Pob x Genero'!#REF!","v":{"$error":"#REF!"}},1393]
["150713","LIMA","LIMA","HUAROCHIRI","MARIATANA","Mujer","85-+",{"$f":"'Pob x Genero'!#REF!","v":{"$error":"#REF!"}},1394]
["150714","LIMA","LIMA","HUAROCHIRI","RICARDO PALMA","Mujer","85-+",{"$f":"'Pob x Genero'!#REF!","v":{"$error":"#REF!"}},1395]
["150715","LIMA","LIMA","HUAROCHIRI","SAN ANDRES DE TUPICOCHA","Mujer","85-+",{"$f":"'Pob x Genero'!#REF!","v":{"$error":"#REF!"}},1396]
["150716","LIMA","LIMA","HUAROCHIRI","SAN ANTONIO","Mujer","85-+",{"$f":"'Pob x Genero'!#REF!","v":{"$error":"#REF!"}},1397]
["150717","LIMA","LIMA","HUAROCHIRI","SAN BARTOLOME","Mujer","85-+",{"$f":"'Pob x Genero'!#REF!","v":{"$error":"#REF!"}},1398]
["150718","LIMA","LIMA","HUAROCHIRI","SAN DAMIAN","Mujer","85-+",{"$f":"'Pob x Genero'!#REF!","v":{"$error":"#REF!"}},1399]
["150719","LIMA","LIMA","HUAROCHIRI","SAN JUAN DE IRIS","Mujer","85-+",{"$f":"'Pob x Genero'!#REF!","v":{"$error":"#REF!"}},1400]
["150720","LIMA","LIMA","HUAROCHIRI","SAN JUAN DE TANTARANCHE","Mujer","85-+",{"$f":"'Pob x Genero'!#REF!","v":{"$error":"#REF!"}},1401]
["150721","LIMA","LIMA","HUAROCHIRI","SAN LORENZO DE QUINTI","Mujer","85-+",{"$f":"'Pob x Genero'!#REF!","v":{"$error":"#REF!"}},1402]
["150722","LIMA","LIMA","HUAROCHIRI","SAN MATEO","Mujer","85-+",{"$f":"'Pob x Genero'!#REF!","v":{"$error":"#REF!"}},1403]
["150723","LIMA","LIMA","HUAROCHIRI","SAN MATEO DE OTAO","Mujer","85-+",{"$f":"'Pob x Genero'!#REF!","v":{"$error":"#REF!"}},1404]
["150724","LIMA","LIMA","HUAROCHIRI","SAN PEDRO DE CASTA","Mujer","85-+",{"$f":"'Pob x Genero'!#REF!","v":{"$error":"#REF!"}},1405]
["150725","LIMA","LIMA","HUAROCHIRI","SAN PEDRO DE HUANCAYRE","Mujer","85-+",{"$f":"'Pob x Genero'!#REF!","v":{"$error":"#REF!"}},1406]
["150726","LIMA","LIMA","HUAROCHIRI","SANGALLAYA","Mujer","85-+",{"$f":"'Pob x Genero'!#REF!","v":{"$error":"#REF!"}},1407]
["150727","LIMA","LIMA","HUAROCHIRI","SANTA CRUZ DE COCACHACRA","Mujer","85-+",{"$f":"'Pob x Genero'!#REF!","v":{"$error":"#REF!"}},1408]
["150728","LIMA","LIMA","HUAROCHIRI","SANTA EULALIA","Mujer","85-+",{"$f":"'Pob x Genero'!#REF!","v":{"$error":"#REF!"}},1409]
["150729","LIMA","LIMA","HUAROCHIRI","SANTIAGO DE ANCHUCAYA","Mujer","85-+",{"$f":"'Pob x Genero'!#REF!","v":{"$error":"#REF!"}},1410]
["150730","LIMA","LIMA","HUAROCHIRI","SANTIAGO DE TUNA","Mujer",{"$f":"G67596","v":"85-+"},{"$f":"'Pob x Genero'!#REF!","v":{"$error":"#REF!"}},1411]
["150731","LIMA","LIMA","HUAROCHIRI","SANTO DOMINGO DE LOS OLLEROS","Mujer","85-+",{"$f":"'Pob x Genero'!#REF!","v":{"$error":"#REF!"}},1412]
["150732","LIMA","LIMA","HUAROCHIRI","SURCO","Mujer","85-+",{"$f":"'Pob x Genero'!#REF!","v":{"$error":"#REF!"}},1413]
["150801","LIMA","LIMA","HUAURA","HUACHO","Mujer","85-+",{"$f":"'Pob x Genero'!#REF!","v":{"$error":"#REF!"}},1414]
["150802","LIMA","LIMA","HUAURA","AMBAR","Mujer","85-+",{"$f":"'Pob x Genero'!#REF!","v":{"$error":"#REF!"}},1415]
["150803","LIMA","LIMA","HUAURA","CALETA DE CARQUIN","Mujer","85-+",{"$f":"'Pob x Genero'!#REF!","v":{"$error":"#REF!"}},1416]
["150804","LIMA","LIMA","HUAURA","CHECRAS","Mujer","85-+",{"$f":"'Pob x Genero'!#REF!","v":{"$error":"#REF!"}},1417]
["150805","LIMA","LIMA","HUAURA","HUALMAY","Mujer","85-+",{"$f":"'Pob x Genero'!#REF!","v":{"$error":"#REF!"}},1418]
["150806","LIMA","LIMA","HUAURA","HUAURA","Mujer","85-+",{"$f":"'Pob x Genero'!#REF!","v":{"$error":"#REF!"}},1419]
["150807","LIMA","LIMA","HUAURA","LEONCIO PRADO","Mujer","85-+",{"$f":"'Pob x Genero'!#REF!","v":{"$error":"#REF!"}},1420]
["150808","LIMA","LIMA","HUAURA","PACCHO","Mujer","85-+",{"$f":"'Pob x Genero'!#REF!","v":{"$error":"#REF!"}},1421]
["150809","LIMA","LIMA","HUAURA","SANTA LEONOR","Mujer","85-+",{"$f":"'Pob x Genero'!#REF!","v":{"$error":"#REF!"}},1422]
["150810","LIMA","LIMA","HUAURA","SANTA MARIA","Mujer","85-+",{"$f":"'Pob x Genero'!#REF!","v":{"$error":"#REF!"}},1423]
["150811","LIMA","LIMA","HUAURA","SAYAN","Mujer","85-+",{"$f":"'Pob x Genero'!#REF!","v":{"$error":"#REF!"}},1424]
["150812","LIMA","LIMA","HUAURA","VEGUETA","Mujer","85-+",{"$f":"'Pob x Genero'!#REF!","v":{"$error":"#REF!"}},1425]
["150901","LIMA","LIMA","OYON","OYON","Mujer","85-+",{"$f":"'Pob x Genero'!#REF!","v":{"$error":"#REF!"}},1426]
["150902","LIMA","LIMA","OYON","ANDAJES","Mujer","85-+",{"$f":"'Pob x Genero'!#REF!","v":{"$error":"#REF!"}},1427]
["150903","LIMA","LIMA","OYON","CAUJUL","Mujer","85-+",{"$f":"'Pob x Genero'!#REF!","v":{"$error":"#REF!"}},1428]
["150904","LIMA","LIMA","OYON","COCHAMARCA","Mujer","85-+",{"$f":"'Pob x Genero'!#REF!","v":{"$error":"#REF!"}},1429]
["150905","LIMA","LIMA","OYON","NAVAN","Mujer","85-+",{"$f":"'Pob x Genero'!#REF!","v":{"$error":"#REF!"}},1430]
["150906","LIMA","LIMA","OYON","PACHANGARA","Mujer","85-+",{"$f":"'Pob x Genero'!#REF!","v":{"$error":"#REF!"}},1431]
["151001","LIMA","LIMA","YAUYOS","YAUYOS","Mujer","85-+",{"$f":"'Pob x Genero'!#REF!","v":{"$error":"#REF!"}},1432]
["151002","LIMA","LIMA","YAUYOS","ALIS","Mujer","85-+",{"$f":"'Pob x Genero'!#REF!","v":{"$error":"#REF!"}},1433]
["151003","LIMA","LIMA","YAUYOS","AYAUCA","Mujer","85-+",{"$f":"'Pob x Genero'!#REF!","v":{"$error":"#REF!"}},1434]
["151004","LIMA","LIMA","YAUYOS","AYAVIRI","Mujer","85-+",{"$f":"'Pob x Genero'!#REF!","v":{"$error":"#REF!"}},1435]
["151005","LIMA","LIMA","YAUYOS","AZANGARO","Mujer","85-+",{"$f":"'Pob x Genero'!#REF!","v":{"$error":"#REF!"}},1436]
["151006","LIMA","LIMA","YAUYOS","CACRA","Mujer","85-+",{"$f":"'Pob x Genero'!#REF!","v":{"$error":"#REF!"}},1437]
["151007","LIMA","LIMA","YAUYOS","CARANIA","Mujer","85-+",{"$f":"'Pob x Genero'!#REF!","v":{"$error":"#REF!"}},1438]
["151008","LIMA","LIMA","YAUYOS","CATAHUASI","Mujer","85-+",{"$f":"'Pob x Genero'!#REF!","v":{"$error":"#REF!"}},1439]
["151009","LIMA","LIMA","YAUYOS","CHOCOS","Mujer","85-+",{"$f":"'Pob x Genero'!#REF!","v":{"$error":"#REF!"}},1440]
["151010","LIMA","LIMA","YAUYOS","COCHAS","Mujer","85-+",{"$f":"'Pob x Genero'!#REF!","v":{"$error":"#REF!"}},1441]
["151011","LIMA","LIMA","YAUYOS","COLONIA","Mujer","85-+",{"$f":"'Pob x Genero'!#REF!","v":{"$error":"#REF!"}},1442]
["151012","LIMA","LIMA","YAUYOS","HONGOS","Mujer","85-+",{"$f":"'Pob x Genero'!#REF!","v":{"$error":"#REF!"}},1443]
["151013","LIMA","LIMA","YAUYOS","HUAMPARA","Mujer","85-+",{"$f":"'Pob x Genero'!#REF!","v":{"$error":"#REF!"}},1444]
["151014","LIMA","LIMA","YAUYOS","HUANCAYA","Mujer","85-+",{"$f":"'Pob x Genero'!#REF!","v":{"$error":"#REF!"}},1445]
["151015","LIMA","LIMA","YAUYOS","HUANGASCAR","Mujer","85-+",{"$f":"'Pob x Genero'!#REF!","v":{"$error":"#REF!"}},1446]
["151016","LIMA","LIMA","YAUYOS","HUANTAN","Mujer","85-+",{"$f":"'Pob x Genero'!#REF!","v":{"$error":"#REF!"}},1447]
["151017","LIMA","LIMA","YAUYOS","HUAÑEC","Mujer","85-+",{"$f":"'Pob x Genero'!#REF!","v":{"$error":"#REF!"}},1448]
["151018","LIMA","LIMA","YAUYOS","LARAOS","Mujer","85-+",{"$f":"'Pob x Genero'!#REF!","v":{"$error":"#REF!"}},1449]
["151019","LIMA","LIMA","YAUYOS","LINCHA","Mujer","85-+",{"$f":"'Pob x Genero'!#REF!","v":{"$error":"#REF!"}},1450]
["151020","LIMA","LIMA","YAUYOS","MADEAN","Mujer","85-+",{"$f":"'Pob x Genero'!#REF!","v":{"$error":"#REF!"}},1451]
["151021","LIMA","LIMA","YAUYOS","MIRAFLORES","Mujer","85-+",{"$f":"'Pob x Genero'!#REF!","v":{"$error":"#REF!"}},1452]
["151022","LIMA","LIMA","YAUYOS","OMAS","Mujer","85-+",{"$f":"'Pob x Genero'!#REF!","v":{"$error":"#REF!"}},1453]
["151023","LIMA","LIMA","YAUYOS","PUTINZA","Mujer","85-+",{"$f":"'Pob x Genero'!#REF!","v":{"$error":"#REF!"}},1454]
["151024","LIMA","LIMA","YAUYOS","QUINCHES","Mujer","85-+",{"$f":"'Pob x Genero'!#REF!","v":{"$error":"#REF!"}},1455]
["151025","LIMA","LIMA","YAUYOS","QUINOCAY","Mujer","85-+",{"$f":"'Pob x Genero'!#REF!","v":{"$error":"#REF!"}},1456]
["151026","LIMA","LIMA","YAUYOS","SAN JOAQUIN","Mujer","85-+",{"$f":"'Pob x Genero'!#REF!","v":{"$error":"#REF!"}},1457]
["151027","LIMA","LIMA","YAUYOS","SAN PEDRO DE PILAS","Mujer","85-+",{"$f":"'Pob x Genero'!#REF!","v":{"$error":"#REF!"}},1458]
["151028","LIMA","LIMA","YAUYOS","TANTA","Mujer","85-+",{"$f":"'Pob x Genero'!#REF!","v":{"$error":"#REF!"}},1459]
["151029","LIMA","LIMA","YAUYOS","TAURIPAMPA","Mujer","85-+",{"$f":"'Pob x Genero'!#REF!","v":{"$error":"#REF!"}},1460]
["151030","LIMA","LIMA","YAUYOS","TOMAS","Mujer","85-+",{"$f":"'Pob x Genero'!#REF!","v":{"$error":"#REF!"}},1461]
["151031","LIMA","LIMA","YAUYOS","TUPE","Mujer","85-+",{"$f":"'Pob x Genero'!#REF!","v":{"$error":"#REF!"}},1462]
["151032","LIMA","LIMA","YAUYOS","VIÑAC","Mujer","85-+",{"$f":"'Pob x Genero'!#REF!","v":{"$error":"#REF!"}},1463]
["151033","LIMA","LIMA","YAUYOS","VITIS","Mujer","85-+",{"$f":"'Pob x Genero'!#REF!","v":{"$error":"#REF!"}},1464]
["160101","LORETO","LORETO","MAYNAS","IQUITOS","Mujer","85-+",{"$f":"'Pob x Genero'!#REF!","v":{"$error":"#REF!"}},1465]
["160102","LORETO","LORETO","MAYNAS","ALTO NANAY","Mujer","85-+",{"$f":"'Pob x Genero'!#REF!","v":{"$error":"#REF!"}},1466]
["160103","LORETO","LORETO","MAYNAS","FERNANDO LORES","Mujer","85-+",{"$f":"'Pob x Genero'!#REF!","v":{"$error":"#REF!"}},1467]
["160104","LORETO","LORETO","MAYNAS","INDIANA","Mujer","85-+",{"$f":"'Pob x Genero'!#REF!","v":{"$error":"#REF!"}},1468]
["160105","LORETO","LORETO","MAYNAS","LAS AMAZONAS","Mujer","85-+",{"$f":"'Pob x Genero'!#REF!","v":{"$error":"#REF!"}},1469]
["160106","LORETO","LORETO","MAYNAS","MAZAN","Mujer","85-+",{"$f":"'Pob x Genero'!#REF!","v":{"$error":"#REF!"}},1470]
["160107","LORETO","LORETO","MAYNAS","NAPO","Mujer","85-+",{"$f":"'Pob x Genero'!#REF!","v":{"$error":"#REF!"}},1471]
["160108","LORETO","LORETO","MAYNAS","PUNCHANA","Mujer","85-+",{"$f":"'Pob x Genero'!#REF!","v":{"$error":"#REF!"}},1472]
["160110","LORETO","LORETO","MAYNAS","TORRES CAUSANA","Mujer","85-+",{"$f":"'Pob x Genero'!#REF!","v":{"$error":"#REF!"}},1473]
["160112","LORETO","LORETO","MAYNAS","BELEN","Mujer","85-+",{"$f":"'Pob x Genero'!#REF!","v":{"$error":"#REF!"}},1474]
["160113","LORETO","LORETO","MAYNAS","SAN JUAN BAUTISTA","Mujer",{"$f":"G67660","v":"85-+"},{"$f":"'Pob x Genero'!#REF!","v":{"$error":"#REF!"}},1475]
["160201","LORETO","LORETO","ALTO AMAZONAS","YURIMAGUAS","Mujer","85-+",{"$f":"'Pob x Genero'!#REF!","v":{"$error":"#REF!"}},1476]
["160202","LORETO","LORETO","ALTO AMAZONAS","BALSAPUERTO","Mujer","85-+",{"$f":"'Pob x Genero'!#REF!","v":{"$error":"#REF!"}},1477]
["160205","LORETO","LORETO","ALTO AMAZONAS","JEBEROS","Mujer","85-+",{"$f":"'Pob x Genero'!#REF!","v":{"$error":"#REF!"}},1478]
["160206","LORETO","LORETO","ALTO AMAZONAS","LAGUNAS","Mujer","85-+",{"$f":"'Pob x Genero'!#REF!","v":{"$error":"#REF!"}},1479]
["160210","LORETO","LORETO","ALTO AMAZONAS","SANTA CRUZ","Mujer","85-+",{"$f":"'Pob x Genero'!#REF!","v":{"$error":"#REF!"}},1480]
["160211","LORETO","LORETO","ALTO AMAZONAS","TENIENTE CESAR LOPEZ ROJAS","Mujer","85-+",{"$f":"'Pob x Genero'!#REF!","v":{"$error":"#REF!"}},1481]
["160301","LORETO","LORETO","LORETO","NAUTA","Mujer","85-+",{"$f":"'Pob x Genero'!#REF!","v":{"$error":"#REF!"}},1482]
["160302","LORETO","LORETO","LORETO","PARINARI","Mujer","85-+",{"$f":"'Pob x Genero'!#REF!","v":{"$error":"#REF!"}},1483]
["160303","LORETO","LORETO","LORETO","TIGRE","Mujer","85-+",{"$f":"'Pob x Genero'!#REF!","v":{"$error":"#REF!"}},1484]
["160304","LORETO","LORETO","LORETO","TROMPETEROS","Mujer","85-+",{"$f":"'Pob x Genero'!#REF!","v":{"$error":"#REF!"}},1485]
["160305","LORETO","LORETO","LORETO","URARINAS","Mujer","85-+",{"$f":"'Pob x Genero'!#REF!","v":{"$error":"#REF!"}},1486]
["160401","LORETO","LORETO","MARISCAL RAMON CASTILLA","RAMON CASTILLA","Mujer","85-+",{"$f":"'Pob x Genero'!#REF!","v":{"$error":"#REF!"}},1487]
["160402","LORETO","LORETO","MARISCAL RAMON CASTILLA","PEBAS","Mujer","85-+",{"$f":"'Pob x Genero'!#REF!","v":{"$error":"#REF!"}},1488]
["160403","LORETO","LORETO","MARISCAL RAMON CASTILLA","YAVARI","Mujer","85-+",{"$f":"'Pob x Genero'!#REF!","v":{"$error":"#REF!"}},1489]
["160404","LORETO","LORETO","MARISCAL RAMON CASTILLA","SAN PABLO","Mujer","85-+",{"$f":"'Pob x Genero'!#REF!","v":{"$error":"#REF!"}},1490]
["160501","LORETO","LORETO","REQUENA","REQUENA","Mujer","85-+",{"$f":"'Pob x Genero'!#REF!","v":{"$error":"#REF!"}},1491]
["160502","LORETO","LORETO","REQUENA","ALTO TAPICHE","Mujer","85-+",{"$f":"'Pob x Genero'!#REF!","v":{"$error":"#REF!"}},1492]
["160503","LORETO","LORETO","REQUENA","CAPELO","Mujer","85-+",{"$f":"'Pob x Genero'!#REF!","v":{"$error":"#REF!"}},1493]
["160504","LORETO","LORETO","REQUENA","EMILIO SAN MARTIN","Mujer","85-+",{"$f":"'Pob x Genero'!#REF!","v":{"$error":"#REF!"}},1494]
["160505","LORETO","LORETO","REQUENA","MAQUIA","Mujer","85-+",{"$f":"'Pob x Genero'!#REF!","v":{"$error":"#REF!"}},1495]
["160506","LORETO","LORETO","REQUENA","PUINAHUA","Mujer","85-+",{"$f":"'Pob x Genero'!#REF!","v":{"$error":"#REF!"}},1496]
["160507","LORETO","LORETO","REQUENA","SAQUENA","Mujer","85-+",{"$f":"'Pob x Genero'!#REF!","v":{"$error":"#REF!"}},1497]
["160508","LORETO","LORETO","REQUENA","SOPLIN","Mujer","85-+",{"$f":"'Pob x Genero'!#REF!","v":{"$error":"#REF!"}},1498]
["160509","LORETO","LORETO","REQUENA","TAPICHE","Mujer","85-+",{"$f":"'Pob x Genero'!#REF!","v":{"$error":"#REF!"}},1499]
["160510","LORETO","LORETO","REQUENA","JENARO HERRERA","Mujer","85-+",{"$f":"'Pob x Genero'!#REF!","v":{"$error":"#REF!"}},1500]
["160511","LORETO","LORETO","REQUENA","YAQUERANA","Mujer","85-+",{"$f":"'Pob x Genero'!#REF!","v":{"$error":"#REF!"}},1501]
["160601","LORETO","LORETO","UCAYALI","CONTAMANA","Mujer","85-+",{"$f":"'Pob x Genero'!#REF!","v":{"$error":"#REF!"}},1502]
["160602","LORETO","LORETO","UCAYALI","INAHUAYA","Mujer","85-+",{"$f":"'Pob x Genero'!#REF!","v":{"$error":"#REF!"}},1503]
["160603","LORETO","LORETO","UCAYALI","PADRE MARQUEZ","Mujer","85-+",{"$f":"'Pob x Genero'!#REF!","v":{"$error":"#REF!"}},1504]
["160604","LORETO","LORETO","UCAYALI","PAMPA HERMOSA","Mujer","85-+",{"$f":"'Pob x Genero'!#REF!","v":{"$error":"#REF!"}},1505]
["160605","LORETO","LORETO","UCAYALI","SARAYACU","Mujer","85-+",{"$f":"'Pob x Genero'!#REF!","v":{"$error":"#REF!"}},1506]
["160606","LORETO","LORETO","UCAYALI","VARGAS GUERRA","Mujer","85-+",{"$f":"'Pob x Genero'!#REF!","v":{"$error":"#REF!"}},1507]
["160701","LORETO","LORETO","DATEM DEL MARAÑON","BARRANCA","Mujer","85-+",{"$f":"'Pob x Genero'!#REF!","v":{"$error":"#REF!"}},1508]
["160702","LORETO","LORETO","DATEM DEL MARAÑON","CAHUAPANAS","Mujer","85-+",{"$f":"'Pob x Genero'!#REF!","v":{"$error":"#REF!"}},1509]
["160703","LORETO","LORETO","DATEM DEL MARAÑON","MANSERICHE","Mujer","85-+",{"$f":"'Pob x Genero'!#REF!","v":{"$error":"#REF!"}},1510]
["160704","LORETO","LORETO","DATEM DEL MARAÑON","MORONA","Mujer","85-+",{"$f":"'Pob x Genero'!#REF!","v":{"$error":"#REF!"}},1511]
["160705","LORETO","LORETO","DATEM DEL MARAÑON","PASTAZA","Mujer","85-+",{"$f":"'Pob x Genero'!#REF!","v":{"$error":"#REF!"}},1512]
["160706","LORETO","LORETO","DATEM DEL MARAÑON","ANDOAS","Mujer","85-+",{"$f":"'Pob x Genero'!#REF!","v":{"$error":"#REF!"}},1513]
["160801","LORETO","LORETO","PUTUMAYO","PUTUMAYO","Mujer","85-+",{"$f":"'Pob x Genero'!#REF!","v":{"$error":"#REF!"}},1514]
["160802","LORETO","LORETO","PUTUMAYO","ROSA PANDURO","Mujer","85-+",{"$f":"'Pob x Genero'!#REF!","v":{"$error":"#REF!"}},1515]
["160803","LORETO","LORETO","PUTUMAYO","TENIENTE MANUEL CLAVERO","Mujer","85-+",{"$f":"'Pob x Genero'!#REF!","v":{"$error":"#REF!"}},1516]
["160804","LORETO","LORETO","PUTUMAYO","YAGUAS","Mujer","85-+",{"$f":"'Pob x Genero'!#REF!","v":{"$error":"#REF!"}},1517]
["170101","MADRE DE DIOS","MADRE DE DIOS","TAMBOPATA","TAMBOPATA","Mujer","85-+",{"$f":"'Pob x Genero'!#REF!","v":{"$error":"#REF!"}},1518]
["170102","MADRE DE DIOS","MADRE DE DIOS","TAMBOPATA","INAMBARI","Mujer","85-+",{"$f":"'Pob x Genero'!#REF!","v":{"$error":"#REF!"}},1519]
["170103","MADRE DE DIOS","MADRE DE DIOS","TAMBOPATA","LAS PIEDRAS","Mujer","85-+",{"$f":"'Pob x Genero'!#REF!","v":{"$error":"#REF!"}},1520]
["170104","MADRE DE DIOS","MADRE DE DIOS","TAMBOPATA","LABERINTO","Mujer","85-+",{"$f":"'Pob x Genero'!#REF!","v":{"$error":"#REF!"}},1521]
["170201","MADRE DE DIOS","MADRE DE DIOS","MANU","MANU","Mujer","85-+",{"$f":"'Pob x Genero'!#REF!","v":{"$error":"#REF!"}},1522]
["170202","MADRE DE DIOS","MADRE DE DIOS","MANU","FITZCARRALD","Mujer","85-+",{"$f":"'Pob x Genero'!#REF!","v":{"$error":"#REF!"}},1523]
["170203","MADRE DE DIOS","MADRE DE DIOS","MANU","MADRE DE DIOS","Mujer","85-+",{"$f":"'Pob x Genero'!#REF!","v":{"$error":"#REF!"}},1524]
["170204","MADRE DE DIOS","MADRE DE DIOS","MANU","HUEPETUHE","Mujer","85-+",{"$f":"'Pob x Genero'!#REF!","v":{"$error":"#REF!"}},1525]
["170301","MADRE DE DIOS","MADRE DE DIOS","TAHUAMANU","IÑAPARI","Mujer","85-+",{"$f":"'Pob x Genero'!#REF!","v":{"$error":"#REF!"}},1526]
["170302","MADRE DE DIOS","MADRE DE DIOS","TAHUAMANU","IBERIA","Mujer","85-+",{"$f":"'Pob x Genero'!#REF!","v":{"$error":"#REF!"}},1527]
["170303","MADRE DE DIOS","MADRE DE DIOS","TAHUAMANU","TAHUAMANU","Mujer","85-+",{"$f":"'Pob x Genero'!#REF!","v":{"$error":"#REF!"}},1528]
["180101","MOQUEGUA","MOQUEGUA","MARISCAL NIETO","MOQUEGUA","Mujer","85-+",{"$f":"'Pob x Genero'!#REF!","v":{"$error":"#REF!"}},1529]
["180102","MOQUEGUA","MOQUEGUA","MARISCAL NIETO","CARUMAS","Mujer","85-+",{"$f":"'Pob x Genero'!#REF!","v":{"$error":"#REF!"}},1530]
["180103","MOQUEGUA","MOQUEGUA","MARISCAL NIETO","CUCHUMBAYA","Mujer","85-+",{"$f":"'Pob x Genero'!#REF!","v":{"$error":"#REF!"}},1531]
["180104","MOQUEGUA","MOQUEGUA","MARISCAL NIETO","SAMEGUA","Mujer","85-+",{"$f":"'Pob x Genero'!#REF!","v":{"$error":"#REF!"}},1532]
["180105","MOQUEGUA","MOQUEGUA","MARISCAL NIETO","SAN CRISTOBAL","Mujer","85-+",{"$f":"'Pob x Genero'!#REF!","v":{"$error":"#REF!"}},1533]
["180106","MOQUEGUA","MOQUEGUA","MARISCAL NIETO","TORATA","Mujer","85-+",{"$f":"'Pob x Genero'!#REF!","v":{"$error":"#REF!"}},1534]
["180107","MOQUEGUA","MOQUEGUA","MARISCAL NIETO","SAN ANTONIO","Mujer","85-+",{"$f":"'Pob x Genero'!#REF!","v":{"$error":"#REF!"}},1535]
["180201","MOQUEGUA","MOQUEGUA","GENERAL SANCHEZ CERRO","OMATE","Mujer","85-+",{"$f":"'Pob x Genero'!#REF!","v":{"$error":"#REF!"}},1536]
["180202","MOQUEGUA","MOQUEGUA","GENERAL SANCHEZ CERRO","CHOJATA","Mujer","85-+",{"$f":"'Pob x Genero'!#REF!","v":{"$error":"#REF!"}},1537]
["180203","MOQUEGUA","MOQUEGUA","GENERAL SANCHEZ CERRO","COALAQUE","Mujer","85-+",{"$f":"'Pob x Genero'!#REF!","v":{"$error":"#REF!"}},1538]
["180204","MOQUEGUA","MOQUEGUA","GENERAL SANCHEZ CERRO","ICHUÑA","Mujer",{"$f":"G67724","v":"85-+"},{"$f":"'Pob x Genero'!#REF!","v":{"$error":"#REF!"}},1539]
["180205","MOQUEGUA","MOQUEGUA","GENERAL SANCHEZ CERRO","LA CAPILLA","Mujer","85-+",{"$f":"'Pob x Genero'!#REF!","v":{"$error":"#REF!"}},1540]
["180206","MOQUEGUA","MOQUEGUA","GENERAL SANCHEZ CERRO","LLOQUE","Mujer","85-+",{"$f":"'Pob x Genero'!#REF!","v":{"$error":"#REF!"}},1541]
["180207","MOQUEGUA","MOQUEGUA","GENERAL SANCHEZ CERRO","MATALAQUE","Mujer","85-+",{"$f":"'Pob x Genero'!#REF!","v":{"$error":"#REF!"}},1542]
["180208","MOQUEGUA","MOQUEGUA","GENERAL SANCHEZ CERRO","PUQUINA","Mujer","85-+",{"$f":"'Pob x Genero'!#REF!","v":{"$error":"#REF!"}},1543]
["180209","MOQUEGUA","MOQUEGUA","GENERAL SANCHEZ CERRO","QUINISTAQUILLAS","Mujer","85-+",{"$f":"'Pob x Genero'!#REF!","v":{"$error":"#REF!"}},1544]
["180210","MOQUEGUA","MOQUEGUA","GENERAL SANCHEZ CERRO","UBINAS","Mujer","85-+",{"$f":"'Pob x Genero'!#REF!","v":{"$error":"#REF!"}},1545]
["180211","MOQUEGUA","MOQUEGUA","GENERAL SANCHEZ CERRO","YUNGA","Mujer","85-+",{"$f":"'Pob x Genero'!#REF!","v":{"$error":"#REF!"}},1546]
["180301","MOQUEGUA","MOQUEGUA","ILO","ILO","Mujer","85-+",{"$f":"'Pob x Genero'!#REF!","v":{"$error":"#REF!"}},1547]
["180302","MOQUEGUA","MOQUEGUA","ILO","EL ALGARROBAL","Mujer","85-+",{"$f":"'Pob x Genero'!#REF!","v":{"$error":"#REF!"}},1548]
["180303","MOQUEGUA","MOQUEGUA","ILO","PACOCHA","Mujer","85-+",{"$f":"'Pob x Genero'!#REF!","v":{"$error":"#REF!"}},1549]
["190101","PASCO","PASCO","PASCO","CHAUPIMARCA","Mujer","85-+",{"$f":"'Pob x Genero'!#REF!","v":{"$error":"#REF!"}},1550]
["190102","PASCO","PASCO","PASCO","HUACHON","Mujer","85-+",{"$f":"'Pob x Genero'!#REF!","v":{"$error":"#REF!"}},1551]
["190103","PASCO","PASCO","PASCO","HUARIACA","Mujer","85-+",{"$f":"'Pob x Genero'!#REF!","v":{"$error":"#REF!"}},1552]
["190104","PASCO","PASCO","PASCO","HUAYLLAY","Mujer","85-+",{"$f":"'Pob x Genero'!#REF!","v":{"$error":"#REF!"}},1553]
["190105","PASCO","PASCO","PASCO","NINACACA","Mujer","85-+",{"$f":"'Pob x Genero'!#REF!","v":{"$error":"#REF!"}},1554]
["190106","PASCO","PASCO","PASCO","PALLANCHACRA","Mujer","85-+",{"$f":"'Pob x Genero'!#REF!","v":{"$error":"#REF!"}},1555]
["190107","PASCO","PASCO","PASCO","PAUCARTAMBO","Mujer","85-+",{"$f":"'Pob x Genero'!#REF!","v":{"$error":"#REF!"}},1556]
["190108","PASCO","PASCO","PASCO","SAN FRANCISCO DE ASIS DE YARUSYACAN","Mujer","85-+",{"$f":"'Pob x Genero'!#REF!","v":{"$error":"#REF!"}},1557]
["190109","PASCO","PASCO","PASCO","SIMON BOLIVAR","Mujer","85-+",{"$f":"'Pob x Genero'!#REF!","v":{"$error":"#REF!"}},1558]
["190110","PASCO","PASCO","PASCO","TICLACAYAN","Mujer","85-+",{"$f":"'Pob x Genero'!#REF!","v":{"$error":"#REF!"}},1559]
["190111","PASCO","PASCO","PASCO","TINYAHUARCO","Mujer","85-+",{"$f":"'Pob x Genero'!#REF!","v":{"$error":"#REF!"}},1560]
["190112","PASCO","PASCO","PASCO","VICCO","Mujer","85-+",{"$f":"'Pob x Genero'!#REF!","v":{"$error":"#REF!"}},1561]
["190113","PASCO","PASCO","PASCO","YANACANCHA","Mujer","85-+",{"$f":"'Pob x Genero'!#REF!","v":{"$error":"#REF!"}},1562]
["190201","PASCO","PASCO","DANIEL ALCIDES CARRION","YANAHUANCA","Mujer","85-+",{"$f":"'Pob x Genero'!#REF!","v":{"$error":"#REF!"}},1563]
["190202","PASCO","PASCO","DANIEL ALCIDES CARRION","CHACAYAN","Mujer","85-+",{"$f":"'Pob x Genero'!#REF!","v":{"$error":"#REF!"}},1564]
["190203","PASCO","PASCO","DANIEL ALCIDES CARRION","GOYLLARISQUIZGA","Mujer","85-+",{"$f":"'Pob x Genero'!#REF!","v":{"$error":"#REF!"}},1565]
["190204","PASCO","PASCO","DANIEL ALCIDES CARRION","PAUCAR","Mujer","85-+",{"$f":"'Pob x Genero'!#REF!","v":{"$error":"#REF!"}},1566]
["190205","PASCO","PASCO","DANIEL ALCIDES CARRION","SAN PEDRO DE PILLAO","Mujer","85-+",{"$f":"'Pob x Genero'!#REF!","v":{"$error":"#REF!"}},1567]
["190206","PASCO","PASCO","DANIEL ALCIDES CARRION","SANTA ANA DE TUSI","Mujer","85-+",{"$f":"'Pob x Genero'!#REF!","v":{"$error":"#REF!"}},1568]
["190207","PASCO","PASCO","DANIEL ALCIDES CARRION","TAPUC","Mujer","85-+",{"$f":"'Pob x Genero'!#REF!","v":{"$error":"#REF!"}},1569]
["190208","PASCO","PASCO","DANIEL ALCIDES CARRION","VILCABAMBA","Mujer","85-+",{"$f":"'Pob x Genero'!#REF!","v":{"$error":"#REF!"}},1570]
["190301","PASCO","PASCO","OXAPAMPA","OXAPAMPA","Mujer","85-+",{"$f":"'Pob x Genero'!#REF!","v":{"$error":"#REF!"}},1571]
["190302","PASCO","PASCO","OXAPAMPA","CHONTABAMBA","Mujer","85-+",{"$f":"'Pob x Genero'!#REF!","v":{"$error":"#REF!"}},1572]
["190303","PASCO","PASCO","OXAPAMPA","HUANCABAMBA","Mujer","85-+",{"$f":"'Pob x Genero'!#REF!","v":{"$error":"#REF!"}},1573]
["190304","PASCO","PASCO","OXAPAMPA","PALCAZU","Mujer","85-+",{"$f":"'Pob x Genero'!#REF!","v":{"$error":"#REF!"}},1574]
["190305","PASCO","PASCO","OXAPAMPA","POZUZO","Mujer","85-+",{"$f":"'Pob x Genero'!#REF!","v":{"$error":"#REF!"}},1575]
["190306","PASCO","PASCO","OXAPAMPA","PUERTO BERMUDEZ","Mujer","85-+",{"$f":"'Pob x Genero'!#REF!","v":{"$error":"#REF!"}},1576]
["190307","PASCO","PASCO","OXAPAMPA","VILLA RICA","Mujer","85-+",{"$f":"'Pob x Genero'!#REF!","v":{"$error":"#REF!"}},1577]
["190308","PASCO","PASCO","OXAPAMPA","CONSTITUCIÓN","Mujer","85-+",{"$f":"'Pob x Genero'!#REF!","v":{"$error":"#REF!"}},1578]
["200101","PIURA","PIURA","PIURA","PIURA","Mujer","85-+",{"$f":"'Pob x Genero'!#REF!","v":{"$error":"#REF!"}},1579]
["200104","PIURA","PIURA","PIURA","CASTILLA","Mujer","85-+",{"$f":"'Pob x Genero'!#REF!","v":{"$error":"#REF!"}},1580]
["200105","PIURA","PIURA","PIURA","CATACAOS","Mujer","85-+",{"$f":"'Pob x Genero'!#REF!","v":{"$error":"#REF!"}},1581]
["200107","PIURA","PIURA","PIURA","CURA MORI","Mujer","85-+",{"$f":"'Pob x Genero'!#REF!","v":{"$error":"#REF!"}},1582]
["200108","PIURA","PIURA","PIURA","EL TALLAN","Mujer","85-+",{"$f":"'Pob x Genero'!#REF!","v":{"$error":"#REF!"}},1583]
["200109","PIURA","PIURA","PIURA","LA ARENA","Mujer","85-+",{"$f":"'Pob x Genero'!#REF!","v":{"$error":"#REF!"}},1584]
["200110","PIURA","PIURA","PIURA","LA UNION","Mujer","85-+",{"$f":"'Pob x Genero'!#REF!","v":{"$error":"#REF!"}},1585]
["200111","PIURA","PIURA","PIURA","LAS LOMAS","Mujer","85-+",{"$f":"'Pob x Genero'!#REF!","v":{"$error":"#REF!"}},1586]
["200114","PIURA","PIURA","PIURA","TAMBO GRANDE","Mujer","85-+",{"$f":"'Pob x Genero'!#REF!","v":{"$error":"#REF!"}},1587]
["200115","PIURA","PIURA","PIURA","VEINTISEIS DE OCTUBRE","Mujer","85-+",{"$f":"'Pob x Genero'!#REF!","v":{"$error":"#REF!"}},1588]
["200201","PIURA","PIURA","AYABACA","AYABACA","Mujer","85-+",{"$f":"'Pob x Genero'!#REF!","v":{"$error":"#REF!"}},1589]
["200202","PIURA","PIURA","AYABACA","FRIAS","Mujer","85-+",{"$f":"'Pob x Genero'!#REF!","v":{"$error":"#REF!"}},1590]
["200203","PIURA","PIURA","AYABACA","JILILI","Mujer","85-+",{"$f":"'Pob x Genero'!#REF!","v":{"$error":"#REF!"}},1591]
["200204","PIURA","PIURA","AYABACA","LAGUNAS","Mujer","85-+",{"$f":"'Pob x Genero'!#REF!","v":{"$error":"#REF!"}},1592]
["200205","PIURA","PIURA","AYABACA","MONTERO","Mujer","85-+",{"$f":"'Pob x Genero'!#REF!","v":{"$error":"#REF!"}},1593]
["200206","PIURA","PIURA","AYABACA","PACAIPAMPA","Mujer","85-+",{"$f":"'Pob x Genero'!#REF!","v":{"$error":"#REF!"}},1594]
["200207","PIURA","PIURA","AYABACA","PAIMAS","Mujer","85-+",{"$f":"'Pob x Genero'!#REF!","v":{"$error":"#REF!"}},1595]
["200208","PIURA","PIURA","AYABACA","SAPILLICA","Mujer","85-+",{"$f":"'Pob x Genero'!#REF!","v":{"$error":"#REF!"}},1596]
["200209","PIURA","PIURA","AYABACA","SICCHEZ","Mujer","85-+",{"$f":"'Pob x Genero'!#REF!","v":{"$error":"#REF!"}},1597]
["200210","PIURA","PIURA","AYABACA","SUYO","Mujer","85-+",{"$f":"'Pob x Genero'!#REF!","v":{"$error":"#REF!"}},1598]
["200301","PIURA","PIURA","HUANCABAMBA","HUANCABAMBA","Mujer","85-+",{"$f":"'Pob x Genero'!#REF!","v":{"$error":"#REF!"}},1599]
["200302","PIURA","PIURA","HUANCABAMBA","CANCHAQUE","Mujer","85-+",{"$f":"'Pob x Genero'!#REF!","v":{"$error":"#REF!"}},1600]
["200303","PIURA","PIURA","HUANCABAMBA","EL CARMEN DE LA FRONTERA","Mujer","85-+",{"$f":"'Pob x Genero'!#REF!","v":{"$error":"#REF!"}},1601]
["200304","PIURA","PIURA","HUANCABAMBA","HUARMACA","Mujer","85-+",{"$f":"'Pob x Genero'!#REF!","v":{"$error":"#REF!"}},1602]
["200305","PIURA","PIURA","HUANCABAMBA","LALAQUIZ","Mujer",{"$f":"G67788","v":"85-+"},{"$f":"'Pob x Genero'!#REF!","v":{"$error":"#REF!"}},1603]
["200306","PIURA","PIURA","HUANCABAMBA","SAN MIGUEL DE EL FAIQUE","Mujer","85-+",{"$f":"'Pob x Genero'!#REF!","v":{"$error":"#REF!"}},1604]
["200307","PIURA","PIURA","HUANCABAMBA","SONDOR","Mujer","85-+",{"$f":"'Pob x Genero'!#REF!","v":{"$error":"#REF!"}},1605]
["200308","PIURA","PIURA","HUANCABAMBA","SONDORILLO","Mujer","85-+",{"$f":"'Pob x Genero'!#REF!","v":{"$error":"#REF!"}},1606]
["200401","PIURA","PIURA","MORROPON","CHULUCANAS","Mujer","85-+",{"$f":"'Pob x Genero'!#REF!","v":{"$error":"#REF!"}},1607]
["200402","PIURA","PIURA","MORROPON","BUENOS AIRES","Mujer","85-+",{"$f":"'Pob x Genero'!#REF!","v":{"$error":"#REF!"}},1608]
["200403","PIURA","PIURA","MORROPON","CHALACO","Mujer","85-+",{"$f":"'Pob x Genero'!#REF!","v":{"$error":"#REF!"}},1609]
["200404","PIURA","PIURA","MORROPON","LA MATANZA","Mujer","85-+",{"$f":"'Pob x Genero'!#REF!","v":{"$error":"#REF!"}},1610]
["200405","PIURA","PIURA","MORROPON","MORROPON","Mujer","85-+",{"$f":"'Pob x Genero'!#REF!","v":{"$error":"#REF!"}},1611]
["200406","PIURA","PIURA","MORROPON","SALITRAL","Mujer","85-+",{"$f":"'Pob x Genero'!#REF!","v":{"$error":"#REF!"}},1612]
["200407","PIURA","PIURA","MORROPON","SAN JUAN DE BIGOTE","Mujer","85-+",{"$f":"'Pob x Genero'!#REF!","v":{"$error":"#REF!"}},1613]
["200408","PIURA","PIURA","MORROPON","SANTA CATALINA DE MOSSA","Mujer","85-+",{"$f":"'Pob x Genero'!#REF!","v":{"$error":"#REF!"}},1614]
["200409","PIURA","PIURA","MORROPON","SANTO DOMINGO","Mujer","85-+",{"$f":"'Pob x Genero'!#REF!","v":{"$error":"#REF!"}},1615]
["200410","PIURA","PIURA","MORROPON","YAMANGO","Mujer","85-+",{"$f":"'Pob x Genero'!#REF!","v":{"$error":"#REF!"}},1616]
["200501","PIURA","PIURA","PAITA","PAITA","Mujer","85-+",{"$f":"'Pob x Genero'!#REF!","v":{"$error":"#REF!"}},1617]
["200502","PIURA","PIURA","PAITA","AMOTAPE","Mujer","85-+",{"$f":"'Pob x Genero'!#REF!","v":{"$error":"#REF!"}},1618]
["200503","PIURA","PIURA","PAITA","ARENAL","Mujer","85-+",{"$f":"'Pob x Genero'!#REF!","v":{"$error":"#REF!"}},1619]
["200504","PIURA","PIURA","PAITA","COLAN","Mujer","85-+",{"$f":"'Pob x Genero'!#REF!","v":{"$error":"#REF!"}},1620]
["200505","PIURA","PIURA","PAITA","LA HUACA","Mujer","85-+",{"$f":"'Pob x Genero'!#REF!","v":{"$error":"#REF!"}},1621]
["200506","PIURA","PIURA","PAITA","TAMARINDO","Mujer","85-+",{"$f":"'Pob x Genero'!#REF!","v":{"$error":"#REF!"}},1622]
["200507","PIURA","PIURA","PAITA","VICHAYAL","Mujer","85-+",{"$f":"'Pob x Genero'!#REF!","v":{"$error":"#REF!"}},1623]
["200601","PIURA","PIURA","SULLANA","SULLANA","Mujer","85-+",{"$f":"'Pob x Genero'!#REF!","v":{"$error":"#REF!"}},1624]
["200602","PIURA","PIURA","SULLANA","BELLAVISTA","Mujer","85-+",{"$f":"'Pob x Genero'!#REF!","v":{"$error":"#REF!"}},1625]
["200603","PIURA","PIURA","SULLANA","IGNACIO ESCUDERO","Mujer","85-+",{"$f":"'Pob x Genero'!#REF!","v":{"$error":"#REF!"}},1626]
["200604","PIURA","PIURA","SULLANA","LANCONES","Mujer","85-+",{"$f":"'Pob x Genero'!#REF!","v":{"$error":"#REF!"}},1627]
["200605","PIURA","PIURA","SULLANA","MARCAVELICA","Mujer","85-+",{"$f":"'Pob x Genero'!#REF!","v":{"$error":"#REF!"}},1628]
["200606","PIURA","PIURA","SULLANA","MIGUEL CHECA","Mujer","85-+",{"$f":"'Pob x Genero'!#REF!","v":{"$error":"#REF!"}},1629]
["200607","PIURA","PIURA","SULLANA","QUERECOTILLO","Mujer","85-+",{"$f":"'Pob x Genero'!#REF!","v":{"$error":"#REF!"}},1630]
["200608","PIURA","PIURA","SULLANA","SALITRAL","Mujer","85-+",{"$f":"'Pob x Genero'!#REF!","v":{"$error":"#REF!"}},1631]
["200701","PIURA","PIURA","TALARA","PARIÑAS","Mujer","85-+",{"$f":"'Pob x Genero'!#REF!","v":{"$error":"#REF!"}},1632]
["200702","PIURA","PIURA","TALARA","EL ALTO","Mujer","85-+",{"$f":"'Pob x Genero'!#REF!","v":{"$error":"#REF!"}},1633]
["200703","PIURA","PIURA","TALARA","LA BREA","Mujer","85-+",{"$f":"'Pob x Genero'!#REF!","v":{"$error":"#REF!"}},1634]
["200704","PIURA","PIURA","TALARA","LOBITOS","Mujer","85-+",{"$f":"'Pob x Genero'!#REF!","v":{"$error":"#REF!"}},1635]
["200705","PIURA","PIURA","TALARA","LOS ORGANOS","Mujer","85-+",{"$f":"'Pob x Genero'!#REF!","v":{"$error":"#REF!"}},1636]
["200706","PIURA","PIURA","TALARA","MANCORA","Mujer","85-+",{"$f":"'Pob x Genero'!#REF!","v":{"$error":"#REF!"}},1637]
["200801","PIURA","PIURA","SECHURA","SECHURA","Mujer","85-+",{"$f":"'Pob x Genero'!#REF!","v":{"$error":"#REF!"}},1638]
["200802","PIURA","PIURA","SECHURA","BELLAVISTA DE LA UNION","Mujer","85-+",{"$f":"'Pob x Genero'!#REF!","v":{"$error":"#REF!"}},1639]
["200803","PIURA","PIURA","SECHURA","BERNAL","Mujer","85-+",{"$f":"'Pob x Genero'!#REF!","v":{"$error":"#REF!"}},1640]
["200804","PIURA","PIURA","SECHURA","CRISTO NOS VALGA","Mujer","85-+",{"$f":"'Pob x Genero'!#REF!","v":{"$error":"#REF!"}},1641]
["200805","PIURA","PIURA","SECHURA","VICE","Mujer","85-+",{"$f":"'Pob x Genero'!#REF!","v":{"$error":"#REF!"}},1642]
["200806","PIURA","PIURA","SECHURA","RINCONADA LLICUAR","Mujer","85-+",{"$f":"'Pob x Genero'!#REF!","v":{"$error":"#REF!"}},1643]
["210101","PUNO","PUNO","PUNO","PUNO","Mujer","85-+",{"$f":"'Pob x Genero'!#REF!","v":{"$error":"#REF!"}},1644]
["210102","PUNO","PUNO","PUNO","ACORA","Mujer","85-+",{"$f":"'Pob x Genero'!#REF!","v":{"$error":"#REF!"}},1645]
["210103","PUNO","PUNO","PUNO","AMANTANI","Mujer","85-+",{"$f":"'Pob x Genero'!#REF!","v":{"$error":"#REF!"}},1646]
["210104","PUNO","PUNO","PUNO","ATUNCOLLA","Mujer","85-+",{"$f":"'Pob x Genero'!#REF!","v":{"$error":"#REF!"}},1647]
["210105","PUNO","PUNO","PUNO","CAPACHICA","Mujer","85-+",{"$f":"'Pob x Genero'!#REF!","v":{"$error":"#REF!"}},1648]
["210106","PUNO","PUNO","PUNO","CHUCUITO","Mujer","85-+",{"$f":"'Pob x Genero'!#REF!","v":{"$error":"#REF!"}},1649]
["210107","PUNO","PUNO","PUNO","COATA","Mujer","85-+",{"$f":"'Pob x Genero'!#REF!","v":{"$error":"#REF!"}},1650]
["210108","PUNO","PUNO","PUNO","HUATA","Mujer","85-+",{"$f":"'Pob x Genero'!#REF!","v":{"$error":"#REF!"}},1651]
["210109","PUNO","PUNO","PUNO","MAÑAZO","Mujer","85-+",{"$f":"'Pob x Genero'!#REF!","v":{"$error":"#REF!"}},1652]
["210110","PUNO","PUNO","PUNO","PAUCARCOLLA","Mujer","85-+",{"$f":"'Pob x Genero'!#REF!","v":{"$error":"#REF!"}},1653]
["210111","PUNO","PUNO","PUNO","PICHACANI","Mujer","85-+",{"$f":"'Pob x Genero'!#REF!","v":{"$error":"#REF!"}},1654]
["210112","PUNO","PUNO","PUNO","PLATERIA","Mujer","85-+",{"$f":"'Pob x Genero'!#REF!","v":{"$error":"#REF!"}},1655]
["210113","PUNO","PUNO","PUNO","SAN ANTONIO","Mujer","85-+",{"$f":"'Pob x Genero'!#REF!","v":{"$error":"#REF!"}},1656]
["210114","PUNO","PUNO","PUNO","TIQUILLACA","Mujer","85-+",{"$f":"'Pob x Genero'!#REF!","v":{"$error":"#REF!"}},1657]
["210115","PUNO","PUNO","PUNO","VILQUE","Mujer","85-+",{"$f":"'Pob x Genero'!#REF!","v":{"$error":"#REF!"}},1658]
["210201","PUNO","PUNO","AZANGARO","AZANGARO","Mujer","85-+",{"$f":"'Pob x Genero'!#REF!","v":{"$error":"#REF!"}},1659]
["210202","PUNO","PUNO","AZANGARO","ACHAYA","Mujer","85-+",{"$f":"'Pob x Genero'!#REF!","v":{"$error":"#REF!"}},1660]
["210203","PUNO","PUNO","AZANGARO","ARAPA","Mujer","85-+",{"$f":"'Pob x Genero'!#REF!","v":{"$error":"#REF!"}},1661]
["210204","PUNO","PUNO","AZANGARO","ASILLO","Mujer","85-+",{"$f":"'Pob x Genero'!#REF!","v":{"$error":"#REF!"}},1662]
["210205","PUNO","PUNO","AZANGARO","CAMINACA","Mujer","85-+",{"$f":"'Pob x Genero'!#REF!","v":{"$error":"#REF!"}},1663]
["210206","PUNO","PUNO","AZANGARO","CHUPA","Mujer","85-+",{"$f":"'Pob x Genero'!#REF!","v":{"$error":"#REF!"}},1664]
["210207","PUNO","PUNO","AZANGARO","JOSE DOMINGO CHOQUEHUANCA","Mujer","85-+",{"$f":"'Pob x Genero'!#REF!","v":{"$error":"#REF!"}},1665]
["210208","PUNO","PUNO","AZANGARO","MUÑANI","Mujer","85-+",{"$f":"'Pob x Genero'!#REF!","v":{"$error":"#REF!"}},1666]
["210209","PUNO","PUNO","AZANGARO","POTONI","Mujer",{"$f":"G67852","v":"85-+"},{"$f":"'Pob x Genero'!#REF!","v":{"$error":"#REF!"}},1667]
["210210","PUNO","PUNO","AZANGARO","SAMAN","Mujer","85-+",{"$f":"'Pob x Genero'!#REF!","v":{"$error":"#REF!"}},1668]
["210211","PUNO","PUNO","AZANGARO","SAN ANTON","Mujer","85-+",{"$f":"'Pob x Genero'!#REF!","v":{"$error":"#REF!"}},1669]
["210212","PUNO","PUNO","AZANGARO","SAN JOSE","Mujer","85-+",{"$f":"'Pob x Genero'!#REF!","v":{"$error":"#REF!"}},1670]
["210213","PUNO","PUNO","AZANGARO","SAN JUAN DE SALINAS","Mujer","85-+",{"$f":"'Pob x Genero'!#REF!","v":{"$error":"#REF!"}},1671]
["210214","PUNO","PUNO","AZANGARO","SANTIAGO DE PUPUJA","Mujer","85-+",{"$f":"'Pob x Genero'!#REF!","v":{"$error":"#REF!"}},1672]
["210215","PUNO","PUNO","AZANGARO","TIRAPATA","Mujer","85-+",{"$f":"'Pob x Genero'!#REF!","v":{"$error":"#REF!"}},1673]
["210301","PUNO","PUNO","CARABAYA","MACUSANI","Mujer","85-+",{"$f":"'Pob x Genero'!#REF!","v":{"$error":"#REF!"}},1674]
["210302","PUNO","PUNO","CARABAYA","AJOYANI","Mujer","85-+",{"$f":"'Pob x Genero'!#REF!","v":{"$error":"#REF!"}},1675]
["210303","PUNO","PUNO","CARABAYA","AYAPATA","Mujer","85-+",{"$f":"'Pob x Genero'!#REF!","v":{"$error":"#REF!"}},1676]
["210304","PUNO","PUNO","CARABAYA","COASA","Mujer","85-+",{"$f":"'Pob x Genero'!#REF!","v":{"$error":"#REF!"}},1677]
["210305","PUNO","PUNO","CARABAYA","CORANI","Mujer","85-+",{"$f":"'Pob x Genero'!#REF!","v":{"$error":"#REF!"}},1678]
["210306","PUNO","PUNO","CARABAYA","CRUCERO","Mujer","85-+",{"$f":"'Pob x Genero'!#REF!","v":{"$error":"#REF!"}},1679]
["210307","PUNO","PUNO","CARABAYA","ITUATA","Mujer","85-+",{"$f":"'Pob x Genero'!#REF!","v":{"$error":"#REF!"}},1680]
["210308","PUNO","PUNO","CARABAYA","OLLACHEA","Mujer","85-+",{"$f":"'Pob x Genero'!#REF!","v":{"$error":"#REF!"}},1681]
["210309","PUNO","PUNO","CARABAYA","SAN GABAN","Mujer","85-+",{"$f":"'Pob x Genero'!#REF!","v":{"$error":"#REF!"}},1682]
["210310","PUNO","PUNO","CARABAYA","USICAYOS","Mujer","85-+",{"$f":"'Pob x Genero'!#REF!","v":{"$error":"#REF!"}},1683]
["210401","PUNO","PUNO","CHUCUITO","JULI","Mujer","85-+",{"$f":"'Pob x Genero'!#REF!","v":{"$error":"#REF!"}},1684]
["210402","PUNO","PUNO","CHUCUITO","DESAGUADERO","Mujer","85-+",{"$f":"'Pob x Genero'!#REF!","v":{"$error":"#REF!"}},1685]
["210403","PUNO","PUNO","CHUCUITO","HUACULLANI","Mujer","85-+",{"$f":"'Pob x Genero'!#REF!","v":{"$error":"#REF!"}},1686]
["210404","PUNO","PUNO","CHUCUITO","KELLUYO","Mujer","85-+",{"$f":"'Pob x Genero'!#REF!","v":{"$error":"#REF!"}},1687]
["210405","PUNO","PUNO","CHUCUITO","PISACOMA","Mujer","85-+",{"$f":"'Pob x Genero'!#REF!","v":{"$error":"#REF!"}},1688]
["210406","PUNO","PUNO","CHUCUITO","POMATA","Mujer","85-+",{"$f":"'Pob x Genero'!#REF!","v":{"$error":"#REF!"}},1689]
["210407","PUNO","PUNO","CHUCUITO","ZEPITA","Mujer","85-+",{"$f":"'Pob x Genero'!#REF!","v":{"$error":"#REF!"}},1690]
["210501","PUNO","PUNO","EL COLLAO","ILAVE","Mujer","85-+",{"$f":"'Pob x Genero'!#REF!","v":{"$error":"#REF!"}},1691]
["210502","PUNO","PUNO","EL COLLAO","CAPAZO","Mujer","85-+",{"$f":"'Pob x Genero'!#REF!","v":{"$error":"#REF!"}},1692]
["210503","PUNO","PUNO","EL COLLAO","PILCUYO","Mujer","85-+",{"$f":"'Pob x Genero'!#REF!","v":{"$error":"#REF!"}},1693]
["210504","PUNO","PUNO","EL COLLAO","SANTA ROSA","Mujer","85-+",{"$f":"'Pob x Genero'!#REF!","v":{"$error":"#REF!"}},1694]
["210505","PUNO","PUNO","EL COLLAO","CONDURIRI","Mujer","85-+",{"$f":"'Pob x Genero'!#REF!","v":{"$error":"#REF!"}},1695]
["210601","PUNO","PUNO","HUANCANE","HUANCANE","Mujer","85-+",{"$f":"'Pob x Genero'!#REF!","v":{"$error":"#REF!"}},1696]
["210602","PUNO","PUNO","HUANCANE","COJATA","Mujer","85-+",{"$f":"'Pob x Genero'!#REF!","v":{"$error":"#REF!"}},1697]
["210603","PUNO","PUNO","HUANCANE","HUATASANI","Mujer","85-+",{"$f":"'Pob x Genero'!#REF!","v":{"$error":"#REF!"}},1698]
["210604","PUNO","PUNO","HUANCANE","INCHUPALLA","Mujer","85-+",{"$f":"'Pob x Genero'!#REF!","v":{"$error":"#REF!"}},1699]
["210605","PUNO","PUNO","HUANCANE","PUSI","Mujer","85-+",{"$f":"'Pob x Genero'!#REF!","v":{"$error":"#REF!"}},1700]
["210606","PUNO","PUNO","HUANCANE","ROSASPATA","Mujer","85-+",{"$f":"'Pob x Genero'!#REF!","v":{"$error":"#REF!"}},1701]
["210607","PUNO","PUNO","HUANCANE","TARACO","Mujer","85-+",{"$f":"'Pob x Genero'!#REF!","v":{"$error":"#REF!"}},1702]
["210608","PUNO","PUNO","HUANCANE","VILQUE CHICO","Mujer","85-+",{"$f":"'Pob x Genero'!#REF!","v":{"$error":"#REF!"}},1703]
["210701","PUNO","PUNO","LAMPA","LAMPA","Mujer","85-+",{"$f":"'Pob x Genero'!#REF!","v":{"$error":"#REF!"}},1704]
["210702","PUNO","PUNO","LAMPA","CABANILLA","Mujer","85-+",{"$f":"'Pob x Genero'!#REF!","v":{"$error":"#REF!"}},1705]
["210703","PUNO","PUNO","LAMPA","CALAPUJA","Mujer","85-+",{"$f":"'Pob x Genero'!#REF!","v":{"$error":"#REF!"}},1706]
["210704","PUNO","PUNO","LAMPA","NICASIO","Mujer","85-+",{"$f":"'Pob x Genero'!#REF!","v":{"$error":"#REF!"}},1707]
["210705","PUNO","PUNO","LAMPA","OCUVIRI","Mujer","85-+",{"$f":"'Pob x Genero'!#REF!","v":{"$error":"#REF!"}},1708]
["210706","PUNO","PUNO","LAMPA","PALCA","Mujer","85-+",{"$f":"'Pob x Genero'!#REF!","v":{"$error":"#REF!"}},1709]
["210707","PUNO","PUNO","LAMPA","PARATIA","Mujer","85-+",{"$f":"'Pob x Genero'!#REF!","v":{"$error":"#REF!"}},1710]
["210708","PUNO","PUNO","LAMPA","PUCARA","Mujer","85-+",{"$f":"'Pob x Genero'!#REF!","v":{"$error":"#REF!"}},1711]
["210709","PUNO","PUNO","LAMPA","SANTA LUCIA","Mujer","85-+",{"$f":"'Pob x Genero'!#REF!","v":{"$error":"#REF!"}},1712]
["210710","PUNO","PUNO","LAMPA","VILAVILA","Mujer","85-+",{"$f":"'Pob x Genero'!#REF!","v":{"$error":"#REF!"}},1713]
["210801","PUNO","PUNO","MELGAR","AYAVIRI","Mujer","85-+",{"$f":"'Pob x Genero'!#REF!","v":{"$error":"#REF!"}},1714]
["210802","PUNO","PUNO","MELGAR","ANTAUTA","Mujer","85-+",{"$f":"'Pob x Genero'!#REF!","v":{"$error":"#REF!"}},1715]
["210803","PUNO","PUNO","MELGAR","CUPI","Mujer","85-+",{"$f":"'Pob x Genero'!#REF!","v":{"$error":"#REF!"}},1716]
["210804","PUNO","PUNO","MELGAR","LLALLI","Mujer","85-+",{"$f":"'Pob x Genero'!#REF!","v":{"$error":"#REF!"}},1717]
["210805","PUNO","PUNO","MELGAR","MACARI","Mujer","85-+",{"$f":"'Pob x Genero'!#REF!","v":{"$error":"#REF!"}},1718]
["210806","PUNO","PUNO","MELGAR","NUÑOA","Mujer","85-+",{"$f":"'Pob x Genero'!#REF!","v":{"$error":"#REF!"}},1719]
["210807","PUNO","PUNO","MELGAR","ORURILLO","Mujer","85-+",{"$f":"'Pob x Genero'!#REF!","v":{"$error":"#REF!"}},1720]
["210808","PUNO","PUNO","MELGAR","SANTA ROSA","Mujer","85-+",{"$f":"'Pob x Genero'!#REF!","v":{"$error":"#REF!"}},1721]
["210809","PUNO","PUNO","MELGAR","UMACHIRI","Mujer","85-+",{"$f":"'Pob x Genero'!#REF!","v":{"$error":"#REF!"}},1722]
["210901","PUNO","PUNO","MOHO","MOHO","Mujer","85-+",{"$f":"'Pob x Genero'!#REF!","v":{"$error":"#REF!"}},1723]
["210902","PUNO","PUNO","MOHO","CONIMA","Mujer","85-+",{"$f":"'Pob x Genero'!#REF!","v":{"$error":"#REF!"}},1724]
["210903","PUNO","PUNO","MOHO","HUAYRAPATA","Mujer","85-+",{"$f":"'Pob x Genero'!#REF!","v":{"$error":"#REF!"}},1725]
["210904","PUNO","PUNO","MOHO","TILALI","Mujer","85-+",{"$f":"'Pob x Genero'!#REF!","v":{"$error":"#REF!"}},1726]
["211001","PUNO","PUNO","SAN ANTONIO DE PUTINA","PUTINA","Mujer","85-+",{"$f":"'Pob x Genero'!#REF!","v":{"$error":"#REF!"}},1727]
["211002","PUNO","PUNO","SAN ANTONIO DE PUTINA","ANANEA","Mujer","85-+",{"$f":"'Pob x Genero'!#REF!","v":{"$error":"#REF!"}},1728]
["211003","PUNO","PUNO","SAN ANTONIO DE PUTINA","PEDRO VILCA APAZA","Mujer","85-+",{"$f":"'Pob x Genero'!#REF!","v":{"$error":"#REF!"}},1729]
["211004","PUNO","PUNO","SAN ANTONIO DE PUTINA","QUILCAPUNCU","Mujer","85-+",{"$f":"'Pob x Genero'!#REF!","v":{"$error":"#REF!"}},1730]
["211005","PUNO","PUNO","SAN ANTONIO DE PUTINA","SINA","Mujer",{"$f":"G67916","v":"85-+"},{"$f":"'Pob x Genero'!#REF!","v":{"$error":"#REF!"}},1731]
["211101","PUNO","PUNO","SAN ROMAN","JULIACA","Mujer","85-+",{"$f":"'Pob x Genero'!#REF!","v":{"$error":"#REF!"}},1732]
["211102","PUNO","PUNO","SAN ROMAN","CABANA","Mujer","85-+",{"$f":"'Pob x Genero'!#REF!","v":{"$error":"#REF!"}},1733]
["211103","PUNO","PUNO","SAN ROMAN","CABANILLAS","Mujer","85-+",{"$f":"'Pob x Genero'!#REF!","v":{"$error":"#REF!"}},1734]
["211104","PUNO","PUNO","SAN ROMAN","CARACOTO","Mujer","85-+",{"$f":"'Pob x Genero'!#REF!","v":{"$error":"#REF!"}},1735]
["211105","PUNO","PUNO","SAN ROMAN","SAN MIGUEL","Mujer","85-+",{"$f":"'Pob x Genero'!#REF!","v":{"$error":"#REF!"}},1736]
["211201","PUNO","PUNO","SANDIA","SANDIA","Mujer","85-+",{"$f":"'Pob x Genero'!#REF!","v":{"$error":"#REF!"}},1737]
["211202","PUNO","PUNO","SANDIA","CUYOCUYO","Mujer","85-+",{"$f":"'Pob x Genero'!#REF!","v":{"$error":"#REF!"}},1738]
["211203","PUNO","PUNO","SANDIA","LIMBANI","Mujer","85-+",{"$f":"'Pob x Genero'!#REF!","v":{"$error":"#REF!"}},1739]
["211204","PUNO","PUNO","SANDIA","PATAMBUCO","Mujer","85-+",{"$f":"'Pob x Genero'!#REF!","v":{"$error":"#REF!"}},1740]
["211205","PUNO","PUNO","SANDIA","PHARA","Mujer","85-+",{"$f":"'Pob x Genero'!#REF!","v":{"$error":"#REF!"}},1741]
["211206","PUNO","PUNO","SANDIA","QUIACA","Mujer","85-+",{"$f":"'Pob x Genero'!#REF!","v":{"$error":"#REF!"}},1742]
["211207","PUNO","PUNO","SANDIA","SAN JUAN DEL ORO","Mujer","85-+",{"$f":"'Pob x Genero'!#REF!","v":{"$error":"#REF!"}},1743]
["211208","PUNO","PUNO","SANDIA","YANAHUAYA","Mujer","85-+",{"$f":"'Pob x Genero'!#REF!","v":{"$error":"#REF!"}},1744]
["211209","PUNO","PUNO","SANDIA","ALTO INAMBARI","Mujer","85-+",{"$f":"'Pob x Genero'!#REF!","v":{"$error":"#REF!"}},1745]
["211210","PUNO","PUNO","SANDIA","SAN PEDRO DE PUTINA PUNCO","Mujer","85-+",{"$f":"'Pob x Genero'!#REF!","v":{"$error":"#REF!"}},1746]
["211301","PUNO","PUNO","YUNGUYO","YUNGUYO","Mujer","85-+",{"$f":"'Pob x Genero'!#REF!","v":{"$error":"#REF!"}},1747]
["211302","PUNO","PUNO","YUNGUYO","ANAPIA","Mujer","85-+",{"$f":"'Pob x Genero'!#REF!","v":{"$error":"#REF!"}},1748]
["211303","PUNO","PUNO","YUNGUYO","COPANI","Mujer","85-+",{"$f":"'Pob x Genero'!#REF!","v":{"$error":"#REF!"}},1749]
["211304","PUNO","PUNO","YUNGUYO","CUTURAPI","Mujer","85-+",{"$f":"'Pob x Genero'!#REF!","v":{"$error":"#REF!"}},1750]
["211305","PUNO","PUNO","YUNGUYO","OLLARAYA","Mujer","85-+",{"$f":"'Pob x Genero'!#REF!","v":{"$error":"#REF!"}},1751]
["211306","PUNO","PUNO","YUNGUYO","TINICACHI","Mujer","85-+",{"$f":"'Pob x Genero'!#REF!","v":{"$error":"#REF!"}},1752]
["211307","PUNO","PUNO","YUNGUYO","UNICACHI","Mujer","85-+",{"$f":"'Pob x Genero'!#REF!","v":{"$error":"#REF!"}},1753]
["220101","SAN MARTIN","SAN MARTIN","MOYOBAMBA","MOYOBAMBA","Mujer","85-+",{"$f":"'Pob x Genero'!#REF!","v":{"$error":"#REF!"}},1754]
["220102","SAN MARTIN","SAN MARTIN","MOYOBAMBA","CALZADA","Mujer","85-+",{"$f":"'Pob x Genero'!#REF!","v":{"$error":"#REF!"}},1755]
["220103","SAN MARTIN","SAN MARTIN","MOYOBAMBA","HABANA","Mujer","85-+",{"$f":"'Pob x Genero'!#REF!","v":{"$error":"#REF!"}},1756]
["220104","SAN MARTIN","SAN MARTIN","MOYOBAMBA","JEPELACIO","Mujer","85-+",{"$f":"'Pob x Genero'!#REF!","v":{"$error":"#REF!"}},1757]
["220105","SAN MARTIN","SAN MARTIN","MOYOBAMBA","SORITOR","Mujer","85-+",{"$f":"'Pob x Genero'!#REF!","v":{"$error":"#REF!"}},1758]
["220106","SAN MARTIN","SAN MARTIN","MOYOBAMBA","YANTALO","Mujer","85-+",{"$f":"'Pob x Genero'!#REF!","v":{"$error":"#REF!"}},1759]
["220201","SAN MARTIN","SAN MARTIN","BELLAVISTA","BELLAVISTA","Mujer","85-+",{"$f":"'Pob x Genero'!#REF!","v":{"$error":"#REF!"}},1760]
["220202","SAN MARTIN","SAN MARTIN","BELLAVISTA","ALTO BIAVO","Mujer","85-+",{"$f":"'Pob x Genero'!#REF!","v":{"$error":"#REF!"}},1761]
["220203","SAN MARTIN","SAN MARTIN","BELLAVISTA","BAJO BIAVO","Mujer","85-+",{"$f":"'Pob x Genero'!#REF!","v":{"$error":"#REF!"}},1762]
["220204","SAN MARTIN","SAN MARTIN","BELLAVISTA","HUALLAGA","Mujer","85-+",{"$f":"'Pob x Genero'!#REF!","v":{"$error":"#REF!"}},1763]
["220205","SAN MARTIN","SAN MARTIN","BELLAVISTA","SAN PABLO","Mujer","85-+",{"$f":"'Pob x Genero'!#REF!","v":{"$error":"#REF!"}},1764]
["220206","SAN MARTIN","SAN MARTIN","BELLAVISTA","SAN RAFAEL","Mujer","85-+",{"$f":"'Pob x Genero'!#REF!","v":{"$error":"#REF!"}},1765]
["220301","SAN MARTIN","SAN MARTIN","EL DORADO","SAN JOSE DE SISA","Mujer","85-+",{"$f":"'Pob x Genero'!#REF!","v":{"$error":"#REF!"}},1766]
["220302","SAN MARTIN","SAN MARTIN","EL DORADO","AGUA BLANCA","Mujer","85-+",{"$f":"'Pob x Genero'!#REF!","v":{"$error":"#REF!"}},1767]
["220303","SAN MARTIN","SAN MARTIN","EL DORADO","SAN MARTIN","Mujer","85-+",{"$f":"'Pob x Genero'!#REF!","v":{"$error":"#REF!"}},1768]
["220304","SAN MARTIN","SAN MARTIN","EL DORADO","SANTA ROSA","Mujer","85-+",{"$f":"'Pob x Genero'!#REF!","v":{"$error":"#REF!"}},1769]
["220305","SAN MARTIN","SAN MARTIN","EL DORADO","SHATOJA","Mujer","85-+",{"$f":"'Pob x Genero'!#REF!","v":{"$error":"#REF!"}},1770]
["220401","SAN MARTIN","SAN MARTIN","HUALLAGA","SAPOSOA","Mujer","85-+",{"$f":"'Pob x Genero'!#REF!","v":{"$error":"#REF!"}},1771]
["220402","SAN MARTIN","SAN MARTIN","HUALLAGA","ALTO SAPOSOA","Mujer","85-+",{"$f":"'Pob x Genero'!#REF!","v":{"$error":"#REF!"}},1772]
["220403","SAN MARTIN","SAN MARTIN","HUALLAGA","EL ESLABON","Mujer","85-+",{"$f":"'Pob x Genero'!#REF!","v":{"$error":"#REF!"}},1773]
["220404","SAN MARTIN","SAN MARTIN","HUALLAGA","PISCOYACU","Mujer","85-+",{"$f":"'Pob x Genero'!#REF!","v":{"$error":"#REF!"}},1774]
["220405","SAN MARTIN","SAN MARTIN","HUALLAGA","SACANCHE","Mujer","85-+",{"$f":"'Pob x Genero'!#REF!","v":{"$error":"#REF!"}},1775]
["220406","SAN MARTIN","SAN MARTIN","HUALLAGA","TINGO DE SAPOSOA","Mujer","85-+",{"$f":"'Pob x Genero'!#REF!","v":{"$error":"#REF!"}},1776]
["220501","SAN MARTIN","SAN MARTIN","LAMAS","LAMAS","Mujer","85-+",{"$f":"'Pob x Genero'!#REF!","v":{"$error":"#REF!"}},1777]
["220502","SAN MARTIN","SAN MARTIN","LAMAS","ALONSO DE ALVARADO","Mujer","85-+",{"$f":"'Pob x Genero'!#REF!","v":{"$error":"#REF!"}},1778]
["220503","SAN MARTIN","SAN MARTIN","LAMAS","BARRANQUITA","Mujer","85-+",{"$f":"'Pob x Genero'!#REF!","v":{"$error":"#REF!"}},1779]
["220504","SAN MARTIN","SAN MARTIN","LAMAS","CAYNARACHI","Mujer","85-+",{"$f":"'Pob x Genero'!#REF!","v":{"$error":"#REF!"}},1780]
["220505","SAN MARTIN","SAN MARTIN","LAMAS","CUÑUMBUQUI","Mujer","85-+",{"$f":"'Pob x Genero'!#REF!","v":{"$error":"#REF!"}},1781]
["220506","SAN MARTIN","SAN MARTIN","LAMAS","PINTO RECODO","Mujer","85-+",{"$f":"'Pob x Genero'!#REF!","v":{"$error":"#REF!"}},1782]
["220507","SAN MARTIN","SAN MARTIN","LAMAS","RUMISAPA","Mujer","85-+",{"$f":"'Pob x Genero'!#REF!","v":{"$error":"#REF!"}},1783]
["220508","SAN MARTIN","SAN MARTIN","LAMAS","SAN ROQUE DE CUMBAZA","Mujer","85-+",{"$f":"'Pob x Genero'!#REF!","v":{"$error":"#REF!"}},1784]
["220509","SAN MARTIN","SAN MARTIN","LAMAS","SHANAO","Mujer","85-+",{"$f":"'Pob x Genero'!#REF!","v":{"$error":"#REF!"}},1785]
["220510","SAN MARTIN","SAN MARTIN","LAMAS","TABALOSOS","Mujer","85-+",{"$f":"'Pob x Genero'!#REF!","v":{"$error":"#REF!"}},1786]
["220511","SAN MARTIN","SAN MARTIN","LAMAS","ZAPATERO","Mujer","85-+",{"$f":"'Pob x Genero'!#REF!","v":{"$error":"#REF!"}},1787]
["220601","SAN MARTIN","SAN MARTIN","MARISCAL CACERES","JUANJUI","Mujer","85-+",{"$f":"'Pob x Genero'!#REF!","v":{"$error":"#REF!"}},1788]
["220602","SAN MARTIN","SAN MARTIN","MARISCAL CACERES","CAMPANILLA","Mujer","85-+",{"$f":"'Pob x Genero'!#REF!","v":{"$error":"#REF!"}},1789]
["220603","SAN MARTIN","SAN MARTIN","MARISCAL CACERES","HUICUNGO","Mujer","85-+",{"$f":"'Pob x Genero'!#REF!","v":{"$error":"#REF!"}},1790]
["220604","SAN MARTIN","SAN MARTIN","MARISCAL CACERES","PACHIZA","Mujer","85-+",{"$f":"'Pob x Genero'!#REF!","v":{"$error":"#REF!"}},1791]
["220605","SAN MARTIN","SAN MARTIN","MARISCAL CACERES","PAJARILLO","Mujer","85-+",{"$f":"'Pob x Genero'!#REF!","v":{"$error":"#REF!"}},1792]
["220701","SAN MARTIN","SAN MARTIN","PICOTA","PICOTA","Mujer","85-+",{"$f":"'Pob x Genero'!#REF!","v":{"$error":"#REF!"}},1793]
["220702","SAN MARTIN","SAN MARTIN","PICOTA","BUENOS AIRES","Mujer","85-+",{"$f":"'Pob x Genero'!#REF!","v":{"$error":"#REF!"}},1794]
["220703","SAN MARTIN","SAN MARTIN","PICOTA","CASPISAPA","Mujer",{"$f":"G67980","v":"85-+"},{"$f":"'Pob x Genero'!#REF!","v":{"$error":"#REF!"}},1795]
["220704","SAN MARTIN","SAN MARTIN","PICOTA","PILLUANA","Mujer","85-+",{"$f":"'Pob x Genero'!#REF!","v":{"$error":"#REF!"}},1796]
["220705","SAN MARTIN","SAN MARTIN","PICOTA","PUCACACA","Mujer","85-+",{"$f":"'Pob x Genero'!#REF!","v":{"$error":"#REF!"}},1797]
["220706","SAN MARTIN","SAN MARTIN","PICOTA","SAN CRISTOBAL","Mujer","85-+",{"$f":"'Pob x Genero'!#REF!","v":{"$error":"#REF!"}},1798]
["220707","SAN MARTIN","SAN MARTIN","PICOTA","SAN HILARION","Mujer","85-+",{"$f":"'Pob x Genero'!#REF!","v":{"$error":"#REF!"}},1799]
["220708","SAN MARTIN","SAN MARTIN","PICOTA","SHAMBOYACU","Mujer","85-+",{"$f":"'Pob x Genero'!#REF!","v":{"$error":"#REF!"}},1800]
["220709","SAN MARTIN","SAN MARTIN","PICOTA","TINGO DE PONASA","Mujer","85-+",{"$f":"'Pob x Genero'!#REF!","v":{"$error":"#REF!"}},1801]
["220710","SAN MARTIN","SAN MARTIN","PICOTA","TRES UNIDOS","Mujer","85-+",{"$f":"'Pob x Genero'!#REF!","v":{"$error":"#REF!"}},1802]
["220801","SAN MARTIN","SAN MARTIN","RIOJA","RIOJA","Mujer","85-+",{"$f":"'Pob x Genero'!#REF!","v":{"$error":"#REF!"}},1803]
["220802","SAN MARTIN","SAN MARTIN","RIOJA","AWAJUN","Mujer","85-+",{"$f":"'Pob x Genero'!#REF!","v":{"$error":"#REF!"}},1804]
["220803","SAN MARTIN","SAN MARTIN","RIOJA","ELIAS SOPLIN VARGAS","Mujer","85-+",{"$f":"'Pob x Genero'!#REF!","v":{"$error":"#REF!"}},1805]
["220804","SAN MARTIN","SAN MARTIN","RIOJA","NUEVA CAJAMARCA","Mujer","85-+",{"$f":"'Pob x Genero'!#REF!","v":{"$error":"#REF!"}},1806]
["220805","SAN MARTIN","SAN MARTIN","RIOJA","PARDO MIGUEL","Mujer","85-+",{"$f":"'Pob x Genero'!#REF!","v":{"$error":"#REF!"}},1807]
["220806","SAN MARTIN","SAN MARTIN","RIOJA","POSIC","Mujer","85-+",{"$f":"'Pob x Genero'!#REF!","v":{"$error":"#REF!"}},1808]
["220807","SAN MARTIN","SAN MARTIN","RIOJA","SAN FERNANDO","Mujer","85-+",{"$f":"'Pob x Genero'!#REF!","v":{"$error":"#REF!"}},1809]
["220808","SAN MARTIN","SAN MARTIN","RIOJA","YORONGOS","Mujer","85-+",{"$f":"'Pob x Genero'!#REF!","v":{"$error":"#REF!"}},1810]
["220809","SAN MARTIN","SAN MARTIN","RIOJA","YURACYACU","Mujer","85-+",{"$f":"'Pob x Genero'!#REF!","v":{"$error":"#REF!"}},1811]
["220901","SAN MARTIN","SAN MARTIN","SAN MARTIN","TARAPOTO","Mujer","85-+",{"$f":"'Pob x Genero'!#REF!","v":{"$error":"#REF!"}},1812]
["220902","SAN MARTIN","SAN MARTIN","SAN MARTIN","ALBERTO LEVEAU","Mujer","85-+",{"$f":"'Pob x Genero'!#REF!","v":{"$error":"#REF!"}},1813]
["220903","SAN MARTIN","SAN MARTIN","SAN MARTIN","CACATACHI","Mujer","85-+",{"$f":"'Pob x Genero'!#REF!","v":{"$error":"#REF!"}},1814]
["220904","SAN MARTIN","SAN MARTIN","SAN MARTIN","CHAZUTA","Mujer","85-+",{"$f":"'Pob x Genero'!#REF!","v":{"$error":"#REF!"}},1815]
["220905","SAN MARTIN","SAN MARTIN","SAN MARTIN","CHIPURANA","Mujer","85-+",{"$f":"'Pob x Genero'!#REF!","v":{"$error":"#REF!"}},1816]
["220906","SAN MARTIN","SAN MARTIN","SAN MARTIN","EL PORVENIR","Mujer","85-+",{"$f":"'Pob x Genero'!#REF!","v":{"$error":"#REF!"}},1817]
["220907","SAN MARTIN","SAN MARTIN","SAN MARTIN","HUIMBAYOC","Mujer","85-+",{"$f":"'Pob x Genero'!#REF!","v":{"$error":"#REF!"}},1818]
["220908","SAN MARTIN","SAN MARTIN","SAN MARTIN","JUAN GUERRA","Mujer","85-+",{"$f":"'Pob x Genero'!#REF!","v":{"$error":"#REF!"}},1819]
["220909","SAN MARTIN","SAN MARTIN","SAN MARTIN","LA BANDA DE SHILCAYO","Mujer","85-+",{"$f":"'Pob x Genero'!#REF!","v":{"$error":"#REF!"}},1820]
["220910","SAN MARTIN","SAN MARTIN","SAN MARTIN","MORALES","Mujer","85-+",{"$f":"'Pob x Genero'!#REF!","v":{"$error":"#REF!"}},1821]
["220911","SAN MARTIN","SAN MARTIN","SAN MARTIN","PAPAPLAYA","Mujer","85-+",{"$f":"'Pob x Genero'!#REF!","v":{"$error":"#REF!"}},1822]
["220912","SAN MARTIN","SAN MARTIN","SAN MARTIN","SAN ANTONIO","Mujer","85-+",{"$f":"'Pob x Genero'!#REF!","v":{"$error":"#REF!"}},1823]
["220913","SAN MARTIN","SAN MARTIN","SAN MARTIN","SAUCE","Mujer","85-+",{"$f":"'Pob x Genero'!#REF!","v":{"$error":"#REF!"}},1824]
["220914","SAN MARTIN","SAN MARTIN","SAN MARTIN","SHAPAJA","Mujer","85-+",{"$f":"'Pob x Genero'!#REF!","v":{"$error":"#REF!"}},1825]
["221001","SAN MARTIN","SAN MARTIN","TOCACHE","TOCACHE","Mujer","85-+",{"$f":"'Pob x Genero'!#REF!","v":{"$error":"#REF!"}},1826]
["221002","SAN MARTIN","SAN MARTIN","TOCACHE","NUEVO PROGRESO","Mujer","85-+",{"$f":"'Pob x Genero'!#REF!","v":{"$error":"#REF!"}},1827]
["221003","SAN MARTIN","SAN MARTIN","TOCACHE","POLVORA","Mujer","85-+",{"$f":"'Pob x Genero'!#REF!","v":{"$error":"#REF!"}},1828]
["221004","SAN MARTIN","SAN MARTIN","TOCACHE","SHUNTE","Mujer","85-+",{"$f":"'Pob x Genero'!#REF!","v":{"$error":"#REF!"}},1829]
["221005","SAN MARTIN","SAN MARTIN","TOCACHE","UCHIZA","Mujer","85-+",{"$f":"'Pob x Genero'!#REF!","v":{"$error":"#REF!"}},1830]
["221006","SAN MARTIN","SAN MARTIN","TOCACHE","SANTA LUCIA","Mujer","85-+",{"$f":"'Pob x Genero'!#REF!","v":{"$error":"#REF!"}},1831]
["230101","TACNA","TACNA","TACNA","TACNA","Mujer","85-+",{"$f":"'Pob x Genero'!#REF!","v":{"$error":"#REF!"}},1832]
["230102","TACNA","TACNA","TACNA","ALTO DE LA ALIANZA","Mujer","85-+",{"$f":"'Pob x Genero'!#REF!","v":{"$error":"#REF!"}},1833]
["230103","TACNA","TACNA","TACNA","CALANA","Mujer","85-+",{"$f":"'Pob x Genero'!#REF!","v":{"$error":"#REF!"}},1834]
["230104","TACNA","TACNA","TACNA","CIUDAD NUEVA","Mujer","85-+",{"$f":"'Pob x Genero'!#REF!","v":{"$error":"#REF!"}},1835]
["230105","TACNA","TACNA","TACNA","INCLAN","Mujer","85-+",{"$f":"'Pob x Genero'!#REF!","v":{"$error":"#REF!"}},1836]
["230106","TACNA","TACNA","TACNA","PACHIA","Mujer","85-+",{"$f":"'Pob x Genero'!#REF!","v":{"$error":"#REF!"}},1837]
["230107","TACNA","TACNA","TACNA","PALCA","Mujer","85-+",{"$f":"'Pob x Genero'!#REF!","v":{"$error":"#REF!"}},1838]
["230108","TACNA","TACNA","TACNA","POCOLLAY","Mujer","85-+",{"$f":"'Pob x Genero'!#REF!","v":{"$error":"#REF!"}},1839]
["230109","TACNA","TACNA","TACNA","SAMA","Mujer","85-+",{"$f":"'Pob x Genero'!#REF!","v":{"$error":"#REF!"}},1840]
["230110","TACNA","TACNA","TACNA","CORONEL GREGORIO ALBARRACIN LANCHIPA","Mujer","85-+",{"$f":"'Pob x Genero'!#REF!","v":{"$error":"#REF!"}},1841]
["230111","TACNA","TACNA","TACNA","LA YARADA LOS PALOS","Mujer","85-+",{"$f":"'Pob x Genero'!#REF!","v":{"$error":"#REF!"}},1842]
["230201","TACNA","TACNA","CANDARAVE","CANDARAVE","Mujer","85-+",{"$f":"'Pob x Genero'!#REF!","v":{"$error":"#REF!"}},1843]
["230202","TACNA","TACNA","CANDARAVE","CAIRANI","Mujer","85-+",{"$f":"'Pob x Genero'!#REF!","v":{"$error":"#REF!"}},1844]
["230203","TACNA","TACNA","CANDARAVE","CAMILACA","Mujer","85-+",{"$f":"'Pob x Genero'!#REF!","v":{"$error":"#REF!"}},1845]
["230204","TACNA","TACNA","CANDARAVE","CURIBAYA","Mujer","85-+",{"$f":"'Pob x Genero'!#REF!","v":{"$error":"#REF!"}},1846]
["230205","TACNA","TACNA","CANDARAVE","HUANUARA","Mujer","85-+",{"$f":"'Pob x Genero'!#REF!","v":{"$error":"#REF!"}},1847]
["230206","TACNA","TACNA","CANDARAVE","QUILAHUANI","Mujer","85-+",{"$f":"'Pob x Genero'!#REF!","v":{"$error":"#REF!"}},1848]
["230301","TACNA","TACNA","JORGE BASADRE","LOCUMBA","Mujer","85-+",{"$f":"'Pob x Genero'!#REF!","v":{"$error":"#REF!"}},1849]
["230302","TACNA","TACNA","JORGE BASADRE","ILABAYA","Mujer","85-+",{"$f":"'Pob x Genero'!#REF!","v":{"$error":"#REF!"}},1850]
["230303","TACNA","TACNA","JORGE BASADRE","ITE","Mujer","85-+",{"$f":"'Pob x Genero'!#REF!","v":{"$error":"#REF!"}},1851]
["230401","TACNA","TACNA","TARATA","TARATA","Mujer","85-+",{"$f":"'Pob x Genero'!#REF!","v":{"$error":"#REF!"}},1852]
["230402","TACNA","TACNA","TARATA","HEROES ALBARRACIN","Mujer","85-+",{"$f":"'Pob x Genero'!#REF!","v":{"$error":"#REF!"}},1853]
["230403","TACNA","TACNA","TARATA","ESTIQUE","Mujer","85-+",{"$f":"'Pob x Genero'!#REF!","v":{"$error":"#REF!"}},1854]
["230404","TACNA","TACNA","TARATA","ESTIQUE-PAMPA","Mujer","85-+",{"$f":"'Pob x Genero'!#REF!","v":{"$error":"#REF!"}},1855]
["230405","TACNA","TACNA","TARATA","SITAJARA","Mujer","85-+",{"$f":"'Pob x Genero'!#REF!","v":{"$error":"#REF!"}},1856]
["230406","TACNA","TACNA","TARATA","SUSAPAYA","Mujer","85-+",{"$f":"'Pob x Genero'!#REF!","v":{"$error":"#REF!"}},1857]
["230407","TACNA","TACNA","TARATA","TARUCACHI","Mujer","85-+",{"$f":"'Pob x Genero'!#REF!","v":{"$error":"#REF!"}},1858]
["230408","TACNA","TACNA","TARATA","TICACO","Mujer",{"$f":"G68044","v":"85-+"},{"$f":"'Pob x Genero'!#REF!","v":{"$error":"#REF!"}},1859]
["240101","TUMBES","TUMBES","TUMBES","TUMBES","Mujer","85-+",{"$f":"'Pob x Genero'!#REF!","v":{"$error":"#REF!"}},1860]
["240102","TUMBES","TUMBES","TUMBES","CORRALES","Mujer","85-+",{"$f":"'Pob x Genero'!#REF!","v":{"$error":"#REF!"}},1861]
["240103","TUMBES","TUMBES","TUMBES","LA CRUZ","Mujer","85-+",{"$f":"'Pob x Genero'!#REF!","v":{"$error":"#REF!"}},1862]
["240104","TUMBES","TUMBES","TUMBES","PAMPAS DE HOSPITAL","Mujer","85-+",{"$f":"'Pob x Genero'!#REF!","v":{"$error":"#REF!"}},1863]
["240105","TUMBES","TUMBES","TUMBES","SAN JACINTO","Mujer","85-+",{"$f":"'Pob x Genero'!#REF!","v":{"$error":"#REF!"}},1864]
["240106","TUMBES","TUMBES","TUMBES","SAN JUAN DE LA VIRGEN","Mujer","85-+",{"$f":"'Pob x Genero'!#REF!","v":{"$error":"#REF!"}},1865]
["240201","TUMBES","TUMBES","CONTRALMIRANTE VILLAR","ZORRITOS","Mujer","85-+",{"$f":"'Pob x Genero'!#REF!","v":{"$error":"#REF!"}},1866]
["240202","TUMBES","TUMBES","CONTRALMIRANTE VILLAR","CASITAS","Mujer","85-+",{"$f":"'Pob x Genero'!#REF!","v":{"$error":"#REF!"}},1867]
["240203","TUMBES","TUMBES","CONTRALMIRANTE VILLAR","CANOAS DE PUNTA SAL","Mujer","85-+",{"$f":"'Pob x Genero'!#REF!","v":{"$error":"#REF!"}},1868]
["240301","TUMBES","TUMBES","ZARUMILLA","ZARUMILLA","Mujer","85-+",{"$f":"'Pob x Genero'!#REF!","v":{"$error":"#REF!"}},1869]
["240302","TUMBES","TUMBES","ZARUMILLA","AGUAS VERDES","Mujer","85-+",{"$f":"'Pob x Genero'!#REF!","v":{"$error":"#REF!"}},1870]
["240303","TUMBES","TUMBES","ZARUMILLA","MATAPALO","Mujer","85-+",{"$f":"'Pob x Genero'!#REF!","v":{"$error":"#REF!"}},1871]
["240304","TUMBES","TUMBES","ZARUMILLA","PAPAYAL","Mujer","85-+",{"$f":"'Pob x Genero'!#REF!","v":{"$error":"#REF!"}},1872]
["250101","UCAYALI","UCAYALI","CORONEL PORTILLO","CALLERIA","Mujer","85-+",{"$f":"'Pob x Genero'!#REF!","v":{"$error":"#REF!"}},1873]
["250102","UCAYALI","UCAYALI","CORONEL PORTILLO","CAMPOVERDE","Mujer","85-+",{"$f":"'Pob x Genero'!#REF!","v":{"$error":"#REF!"}},1874]
["250103","UCAYALI","UCAYALI","CORONEL PORTILLO","IPARIA","Mujer","85-+",{"$f":"'Pob x Genero'!#REF!","v":{"$error":"#REF!"}},1875]
["250104","UCAYALI","UCAYALI","CORONEL PORTILLO","MASISEA","Mujer","85-+",{"$f":"'Pob x Genero'!#REF!","v":{"$error":"#REF!"}},1876]
["250105","UCAYALI","UCAYALI","CORONEL PORTILLO","YARINACOCHA","Mujer","85-+",{"$f":"'Pob x Genero'!#REF!","v":{"$error":"#REF!"}},1877]
["250106","UCAYALI","UCAYALI","CORONEL PORTILLO","NUEVA REQUENA","Mujer","85-+",{"$f":"'Pob x Genero'!#REF!","v":{"$error":"#REF!"}},1878]
["250107","UCAYALI","UCAYALI","CORONEL PORTILLO","MANANTAY","Mujer","85-+",{"$f":"'Pob x Genero'!#REF!","v":{"$error":"#REF!"}},1879]
["250201","UCAYALI","UCAYALI","ATALAYA","RAYMONDI","Mujer","85-+",{"$f":"'Pob x Genero'!#REF!","v":{"$error":"#REF!"}},1880]
["250202","UCAYALI","UCAYALI","ATALAYA","SEPAHUA","Mujer","85-+",{"$f":"'Pob x Genero'!#REF!","v":{"$error":"#REF!"}},1881]
["250203","UCAYALI","UCAYALI","ATALAYA","TAHUANIA","Mujer","85-+",{"$f":"'Pob x Genero'!#REF!","v":{"$error":"#REF!"}},1882]
["250204","UCAYALI","UCAYALI","ATALAYA","YURUA","Mujer","85-+",{"$f":"'Pob x Genero'!#REF!","v":{"$error":"#REF!"}},1883]
["250301","UCAYALI","UCAYALI","PADRE ABAD","PADRE ABAD","Mujer","85-+",{"$f":"'Pob x Genero'!#REF!","v":{"$error":"#REF!"}},1884]
["250302","UCAYALI","UCAYALI","PADRE ABAD","IRAZOLA","Mujer","85-+",{"$f":"'Pob x Genero'!#REF!","v":{"$error":"#REF!"}},1885]
["250303","UCAYALI","UCAYALI","PADRE ABAD","CURIMANA","Mujer","85-+",{"$f":"'Pob x Genero'!#REF!","v":{"$error":"#REF!"}},1886]
["250304","UCAYALI","UCAYALI","PADRE ABAD","NESHUYA","Mujer","85-+",{"$f":"'Pob x Genero'!#REF!","v":{"$error":"#REF!"}},1887]
["250305","UCAYALI","UCAYALI","PADRE ABAD","ALEXANDER VON HUMBOLDT","Mujer","85-+",{"$f":"'Pob x Genero'!#REF!","v":{"$error":"#REF!"}},1888]
["250306","UCAYALI","UCAYALI","PADRE ABAD","HUIPOCA","Mujer","85-+",{"$f":"'Pob x Genero'!#REF!","v":{"$error":"#REF!"}},1889]
["250307","UCAYALI","UCAYALI","PADRE ABAD","BOQUERON","Mujer","85-+",{"$f":"'Pob x Genero'!#REF!","v":{"$error":"#REF!"}},1890]
["250401","UCAYALI","UCAYALI","PURUS","PURUS","Mujer","85-+",{"$f":"'Pob x Genero'!#REF!","v":{"$error":"#REF!"}},1891]